{"text_format":"1","workbook":"xlsx","n_sheets":7,"sheets":["Instructions","Locations","Floors","Org Occupancy","Location Type (FICM Codes)","Department IDs (CIP)","Usage Codes"],"not_rendered":{"charts":0,"images":2,"macros":1,"external_links":1,"defined_names":12,"comments":1,"pivot_tables":0},"unopened":[],"bounds":{"document_bytes":16777216,"sheet_cells":100000,"rows_first":2000,"rows_last":500,"rows_between":2000,"halvings":0,"cell_chars":16384,"cell_head_chars":4096},"cells_cut":0,"cells_raw":0,"read":"whole","date_system":"1900"}

{"sheet":"Instructions","index":0,"n_rows":66,"n_cols":1,"rows_kept":66,"cut":false,"hidden":false,"merged":[[2,0,3,0],[32,0,33,0],[42,0,43,0]]}
["Instructions for using the Location Import Template"]
["*Please do not change the layout of this template, the format of the columns, or add/delete columns.  You can widen columns as needed.  To use the \"Load Assignable Locations\" button the file must be saved as a Macro Enabled Worksheet."]
["This template can be used to load initial locations, organizational occupancy, and usage for new/renovated properties.  It is NOT meant for ongoing maintenance or for updating existing data within AiM."]
[]
[]
["This template contains 7 tabs:"]
["● Instructions - This tab provides guidance on how to populate the template."]
["● Locations - This tab has one row for each room in your building with its associated attributes (location type (FICM), status, net sqft, etc).  All assignable & nonassignable locations should be listed here."]
["● Floors - This tab has one row for each floor in your building.  If this is a renovation and you are replacing inactivated space, skip this tab"]
["● Org Occupancy - This tab has one row for each organization occupying the location and how the location is being used.  If a location has more than one organization occupancy; or an organizational occupancy has more than one usage these will need to be listed separately."]
["● Location Type (FICM Codes) - this tab is for reference when researching the appropriate FICM code.  As new codes are added it will be updated."]
["● Department IDs (CIP) - this tab is for reference when researching the appropriate CIP code.  As new codes are added it will be updated."]
["● Usage Codes - this tab is for reference when selecting the proper usage code.  As new codes are added it will be updated."]
[]
["Locations:"]
["Enter one row for each room you want to add to a building (If any example rows exist they should be deleted).  Below is some guidance for each column:"]
["Region - This is the 5 digit code representing your SUNY College or Campus."]
["Facility - If your institution has multiple physical campuses, the \"Facillity\" field identifies where it is."]
["Property - This is the building number the rooms are in.  Include all leading zeroes.  The column is formatted to capture leading zeroes."]
["Location - This is the room number you are adding.  Include all leading zeroes.  The column is formatted to capture leading zeroes."]
["Description - This is the description of the room."]
["Floor - Enter the floor ID for the location.  Be sure to use leading zeroes if the floor has them."]
["Location Type - This is the FICM Code that categorizes the use of the room.  A complete list can be found on the OCF website or on the included tab.  FICM is synonymous with \"Location Type\"."]
["Location Type Description - This cell will autopopulate and is based on the Location Type entered."]
["Status - In most cases the status will be \"ACTIVE\".  If the locations are for a future property under construction you may choose \"CONSTRUCTION\"."]
["Net SqFt - This column contains the total net square footage of the room."]
["Capacity - This column is for the posted fire code capacity of the room.  If you do not know then enter 0, or the value for # of workstations."]
["Workstations - This column contains the number of workstations in the room."]
["ADA Compliant - Optional field.  If the space is ADA Complaint this column should contain \"YES\" otherwise it can be left blank or enter \"NO\" if you would like to report the space as not compliant."]
["Assignable/Nonassignable - This column is driven off the Location Type and will autopopulate after a code is entered.  If you receive an #N/A after typing in the code then the code is not valid.  Please recheck the code list as you may have a typo."]
[]
["Floors:"]
["Enter one row for each floor in the building whose rooms are being loaded.  If this is a renovation, the floors should already exist and the tab should be left blank.  Below is some guidance for each column in this tab:"]
[]
["Region - This is the 5 digit code representing your SUNY Campus."]
["Facility - If your institution has multiple locations, the Facillity identifies the location of the building."]
["Property - This is the building number the rooms are in.  Include all leading zeroes.  The column is formatted to capture leading zeroes."]
["Floor - This column contains the floor number.  This can also contain Letters for floors.  For example \"M\" for mezzanine or \"B\" for Basement. Include all leading zeroes.  The column is formatted to capture leading zeroes."]
["Floor Name - This column contains the description for the floor."]
["Basement - This column should contain \"YES\" if the floor is a below ground level.  Enter \"NO\" for above ground floors."]
[]
["Org Occupancy:"]
["Make sure cell A6 is selected and then press the \"Load Assignable Locations\" button.  All Assignable Locations from the Locations worksheet will be copied over automatically.  "]
[]
["    - If the FICM Space Code is a NONASSIGNABLE code, there is no need to enter records for those locations"]
["    - If the FICM Space Code is an ASSIGNABLE code, but the space is inactive, you should use the INACTIVE department code (CIP), and \n     INACTIVE organizational code, and an INACTIVE usage."]
["    - For each room consider how many departments/organizations occupy the space."]
["    - For each department/organization, you will add one row to that location.  Example: if two\n      departments/organizations occupy the room, then you create two rows."]
["Region - This is the 5 digit code representing your SUNY Campus.  This is copied over."]
["Facility - If your institution has multiple locations, the Facillity identifies the location of the building.  This is copied over."]
["Property - This is the building number the rooms are in.  Include all leading zeroes.  The column is formatted to capture leading zeroes.  This is copied over."]
["Location - This is the room number you are adding.  Include all leading zeroes.  The column is formatted to capture leading zeroes.  This is copied over."]
["Description - This is the description of the room.  This is copied over."]
["Floor - Enter the floor ID for the location.  Be sure to use leading zeroes if the floor has them."]
["Department - This column contains the CIP code for the department that is occupying the room.  The Department (CIP) list is on the OCF Website and the URL is also available on the tab named \"Department IDs (CIP)\"."]
["Organization - This column contains the code for the organization that occupies the room.  In many cases, this is the chart of account."]
["Organization Name - This field is optional if the organizational already exists in your chart of accounts in AiM.  If you want to define a new Organization, this column is required to describe the new organization.   "]
["Occupancy Start Date - This column identifies when the organization started occupying the room."]
["Occupancy End Date -  This column identifies when the organization ended occupying the room.  Not required for new records."]
["Percent Occupancy - This column identifies how much of the room is occupied by this organization.   Percent Occupancy must total 100% for the location."]
["Usage Code - This column identifies how the organization is using the room using the NACUBO code.  Please select from the validated drop-down list in the cell or copy & paste the relevant text from column A of the worksheet named \"Usage Codes\".  Copy & Paste will work for all cells as longs as the text matches a code from the validated list."]
["    Usage Start Date-  This column indentifes when any portion of room started occupancy for a different usage."]
["    Usage End Date - This column identifies when any portion of room ended occupancy for a different usage.  Not required for new records."]
[" Usage Percent - This column identifies how much of the room was used for the different occupancy.  Usage Percentage must total 100% within each Organizational Occupancy."]
["PLEASE DOUBLE CHECK THAT ALL LEADING ZEROES FOR PROPERTY ID AND LOCATION ID ARE AS YOU WOULD LIKE THEM."]
["PLEASE SUBMIT THE COMPLETED TEMPLATE TO aimhelp@suny.edu"]

{"sheet":"Locations","index":1,"n_rows":10000,"n_cols":14,"rows_kept":4500,"cut":true,"hidden":false,"merged":[],"bounds":{"rows_first":2000,"rows_last":500,"rows_between":2000,"halvings":0}}
["Region","Facility","Property","Location","Description","Floor","Location Type","Location Type\nDescription","Status","NetSqFt","Capacity","Workstations","ADA Compliant","Assignable/Nonassignable"]
[null,null,null,null,null,null,null,{"$f":"VLOOKUP($G$2:$G$50000,'Location Type (FICM Codes)'!$A$7:$B$188,2,FALSE)","v":{"$error":"#N/A"}},null,null,null,null,null,{"$f":"VLOOKUP(G2:G10000,'Location Type (FICM Codes)'!$A$7:$C$188,3,FALSE)","v":{"$error":"#N/A"}}]
[null,null,null,null,null,null,null,{"$f":"VLOOKUP($G$2:$G$50000,'Location Type (FICM Codes)'!$A$7:$B$188,2,FALSE)","v":{"$error":"#N/A"}},null,null,null,null,null,{"$f":"VLOOKUP(G3:G10001,'Location Type (FICM Codes)'!$A$7:$C$188,3,FALSE)","v":{"$error":"#N/A"}}]
[null,null,null,null,null,null,null,{"$f":"VLOOKUP($G$2:$G$50000,'Location Type (FICM Codes)'!$A$7:$B$188,2,FALSE)","v":{"$error":"#N/A"}},null,null,null,null,null,{"$f":"VLOOKUP(G4:G10002,'Location Type (FICM Codes)'!$A$7:$C$188,3,FALSE)","v":{"$error":"#N/A"}}]
[null,null,null,null,null,null,null,{"$f":"VLOOKUP($G$2:$G$50000,'Location Type (FICM Codes)'!$A$7:$B$188,2,FALSE)","v":{"$error":"#N/A"}},null,null,null,null,null,{"$f":"VLOOKUP(G5:G10003,'Location Type (FICM Codes)'!$A$7:$C$188,3,FALSE)","v":{"$error":"#N/A"}}]
[null,null,null,null,null,null,null,{"$f":"VLOOKUP($G$2:$G$50000,'Location Type (FICM Codes)'!$A$7:$B$188,2,FALSE)","v":{"$error":"#N/A"}},null,null,null,null,null,{"$f":"VLOOKUP(G6:G10004,'Location Type (FICM Codes)'!$A$7:$C$188,3,FALSE)","v":{"$error":"#N/A"}}]
[null,null,null,null,null,null,null,{"$f":"VLOOKUP($G$2:$G$50000,'Location Type (FICM Codes)'!$A$7:$B$188,2,FALSE)","v":{"$error":"#N/A"}},null,null,null,null,null,{"$f":"VLOOKUP(G7:G10005,'Location Type (FICM Codes)'!$A$7:$C$188,3,FALSE)","v":{"$error":"#N/A"}}]
[null,null,null,null,null,null,null,{"$f":"VLOOKUP($G$2:$G$50000,'Location Type (FICM Codes)'!$A$7:$B$188,2,FALSE)","v":{"$error":"#N/A"}},null,null,null,null,null,{"$f":"VLOOKUP(G8:G10006,'Location Type (FICM Codes)'!$A$7:$C$188,3,FALSE)","v":{"$error":"#N/A"}}]
[null,null,null,null,null,null,null,{"$f":"VLOOKUP($G$2:$G$50000,'Location Type (FICM Codes)'!$A$7:$B$188,2,FALSE)","v":{"$error":"#N/A"}},null,null,null,null,null,{"$f":"VLOOKUP(G9:G10007,'Location Type (FICM Codes)'!$A$7:$C$188,3,FALSE)","v":{"$error":"#N/A"}}]
[null,null,null,null,null,null,null,{"$f":"VLOOKUP($G$2:$G$50000,'Location Type (FICM Codes)'!$A$7:$B$188,2,FALSE)","v":{"$error":"#N/A"}},null,null,null,null,null,{"$f":"VLOOKUP(G10:G10008,'Location Type (FICM Codes)'!$A$7:$C$188,3,FALSE)","v":{"$error":"#N/A"}}]
[null,null,null,null,null,null,null,{"$f":"VLOOKUP($G$2:$G$50000,'Location Type (FICM Codes)'!$A$7:$B$188,2,FALSE)","v":{"$error":"#N/A"}},null,null,null,null,null,{"$f":"VLOOKUP(G11:G10009,'Location Type (FICM Codes)'!$A$7:$C$188,3,FALSE)","v":{"$error":"#N/A"}}]
[null,null,null,null,null,null,null,{"$f":"VLOOKUP($G$2:$G$50000,'Location Type (FICM Codes)'!$A$7:$B$188,2,FALSE)","v":{"$error":"#N/A"}},null,null,null,null,null,{"$f":"VLOOKUP(G12:G10010,'Location Type (FICM Codes)'!$A$7:$C$188,3,FALSE)","v":{"$error":"#N/A"}}]
[null,null,null,null,null,null,null,{"$f":"VLOOKUP($G$2:$G$50000,'Location Type (FICM Codes)'!$A$7:$B$188,2,FALSE)","v":{"$error":"#N/A"}},null,null,null,null,null,{"$f":"VLOOKUP(G13:G10011,'Location Type (FICM Codes)'!$A$7:$C$188,3,FALSE)","v":{"$error":"#N/A"}}]
[null,null,null,null,null,null,null,{"$f":"VLOOKUP($G$2:$G$50000,'Location Type (FICM Codes)'!$A$7:$B$188,2,FALSE)","v":{"$error":"#N/A"}},null,null,null,null,null,{"$f":"VLOOKUP(G14:G10012,'Location Type (FICM Codes)'!$A$7:$C$188,3,FALSE)","v":{"$error":"#N/A"}}]
[null,null,null,null,null,null,null,{"$f":"VLOOKUP($G$2:$G$50000,'Location Type (FICM Codes)'!$A$7:$B$188,2,FALSE)","v":{"$error":"#N/A"}},null,null,null,null,null,{"$f":"VLOOKUP(G15:G10013,'Location Type (FICM Codes)'!$A$7:$C$188,3,FALSE)","v":{"$error":"#N/A"}}]
[null,null,null,null,null,null,null,{"$f":"VLOOKUP($G$2:$G$50000,'Location Type (FICM Codes)'!$A$7:$B$188,2,FALSE)","v":{"$error":"#N/A"}},null,null,null,null,null,{"$f":"VLOOKUP(G16:G10014,'Location Type (FICM Codes)'!$A$7:$C$188,3,FALSE)","v":{"$error":"#N/A"}}]
[null,null,null,null,null,null,null,{"$f":"VLOOKUP($G$2:$G$50000,'Location Type (FICM Codes)'!$A$7:$B$188,2,FALSE)","v":{"$error":"#N/A"}},null,null,null,null,null,{"$f":"VLOOKUP(G17:G10015,'Location Type (FICM Codes)'!$A$7:$C$188,3,FALSE)","v":{"$error":"#N/A"}}]
[null,null,null,null,null,null,null,{"$f":"VLOOKUP($G$2:$G$50000,'Location Type (FICM Codes)'!$A$7:$B$188,2,FALSE)","v":{"$error":"#N/A"}},null,null,null,null,null,{"$f":"VLOOKUP(G18:G10016,'Location Type (FICM Codes)'!$A$7:$C$188,3,FALSE)","v":{"$error":"#N/A"}}]
[null,null,null,null,null,null,null,{"$f":"VLOOKUP($G$2:$G$50000,'Location Type (FICM Codes)'!$A$7:$B$188,2,FALSE)","v":{"$error":"#N/A"}},null,null,null,null,null,{"$f":"VLOOKUP(G19:G10017,'Location Type (FICM Codes)'!$A$7:$C$188,3,FALSE)","v":{"$error":"#N/A"}}]
[null,null,null,null,null,null,null,{"$f":"VLOOKUP($G$2:$G$50000,'Location Type (FICM Codes)'!$A$7:$B$188,2,FALSE)","v":{"$error":"#N/A"}},null,null,null,null,null,{"$f":"VLOOKUP(G20:G10018,'Location Type (FICM Codes)'!$A$7:$C$188,3,FALSE)","v":{"$error":"#N/A"}}]
[null,null,null,null,null,null,null,{"$f":"VLOOKUP($G$2:$G$50000,'Location Type (FICM Codes)'!$A$7:$B$188,2,FALSE)","v":{"$error":"#N/A"}},null,null,null,null,null,{"$f":"VLOOKUP(G21:G10019,'Location Type (FICM Codes)'!$A$7:$C$188,3,FALSE)","v":{"$error":"#N/A"}}]
[null,null,null,null,null,null,null,{"$f":"VLOOKUP($G$2:$G$50000,'Location Type (FICM Codes)'!$A$7:$B$188,2,FALSE)","v":{"$error":"#N/A"}},null,null,null,null,null,{"$f":"VLOOKUP(G22:G10020,'Location Type (FICM Codes)'!$A$7:$C$188,3,FALSE)","v":{"$error":"#N/A"}}]
[null,null,null,null,null,null,null,{"$f":"VLOOKUP($G$2:$G$50000,'Location Type (FICM Codes)'!$A$7:$B$188,2,FALSE)","v":{"$error":"#N/A"}},null,null,null,null,null,{"$f":"VLOOKUP(G23:G10021,'Location Type (FICM Codes)'!$A$7:$C$188,3,FALSE)","v":{"$error":"#N/A"}}]
[null,null,null,null,null,null,null,{"$f":"VLOOKUP($G$2:$G$50000,'Location Type (FICM Codes)'!$A$7:$B$188,2,FALSE)","v":{"$error":"#N/A"}},null,null,null,null,null,{"$f":"VLOOKUP(G24:G10022,'Location Type (FICM Codes)'!$A$7:$C$188,3,FALSE)","v":{"$error":"#N/A"}}]
[null,null,null,null,null,null,null,{"$f":"VLOOKUP($G$2:$G$50000,'Location Type (FICM Codes)'!$A$7:$B$188,2,FALSE)","v":{"$error":"#N/A"}},null,null,null,null,null,{"$f":"VLOOKUP(G25:G10023,'Location Type (FICM Codes)'!$A$7:$C$188,3,FALSE)","v":{"$error":"#N/A"}}]
[null,null,null,null,null,null,null,{"$f":"VLOOKUP($G$2:$G$50000,'Location Type (FICM Codes)'!$A$7:$B$188,2,FALSE)","v":{"$error":"#N/A"}},null,null,null,null,null,{"$f":"VLOOKUP(G26:G10024,'Location Type (FICM Codes)'!$A$7:$C$188,3,FALSE)","v":{"$error":"#N/A"}}]
[null,null,null,null,null,null,null,{"$f":"VLOOKUP($G$2:$G$50000,'Location Type (FICM Codes)'!$A$7:$B$188,2,FALSE)","v":{"$error":"#N/A"}},null,null,null,null,null,{"$f":"VLOOKUP(G27:G10025,'Location Type (FICM Codes)'!$A$7:$C$188,3,FALSE)","v":{"$error":"#N/A"}}]
[null,null,null,null,null,null,null,{"$f":"VLOOKUP($G$2:$G$50000,'Location Type (FICM Codes)'!$A$7:$B$188,2,FALSE)","v":{"$error":"#N/A"}},null,null,null,null,null,{"$f":"VLOOKUP(G28:G10026,'Location Type (FICM Codes)'!$A$7:$C$188,3,FALSE)","v":{"$error":"#N/A"}}]
[null,null,null,null,null,null,null,{"$f":"VLOOKUP($G$2:$G$50000,'Location Type (FICM Codes)'!$A$7:$B$188,2,FALSE)","v":{"$error":"#N/A"}},null,null,null,null,null,{"$f":"VLOOKUP(G29:G10027,'Location Type (FICM Codes)'!$A$7:$C$188,3,FALSE)","v":{"$error":"#N/A"}}]
[null,null,null,null,null,null,null,{"$f":"VLOOKUP($G$2:$G$50000,'Location Type (FICM Codes)'!$A$7:$B$188,2,FALSE)","v":{"$error":"#N/A"}},null,null,null,null,null,{"$f":"VLOOKUP(G30:G10028,'Location Type (FICM Codes)'!$A$7:$C$188,3,FALSE)","v":{"$error":"#N/A"}}]
[null,null,null,null,null,null,null,{"$f":"VLOOKUP($G$2:$G$50000,'Location Type (FICM Codes)'!$A$7:$B$188,2,FALSE)","v":{"$error":"#N/A"}},null,null,null,null,null,{"$f":"VLOOKUP(G31:G10029,'Location Type (FICM Codes)'!$A$7:$C$188,3,FALSE)","v":{"$error":"#N/A"}}]
[null,null,null,null,null,null,null,{"$f":"VLOOKUP($G$2:$G$50000,'Location Type (FICM Codes)'!$A$7:$B$188,2,FALSE)","v":{"$error":"#N/A"}},null,null,null,null,null,{"$f":"VLOOKUP(G32:G10030,'Location Type (FICM Codes)'!$A$7:$C$188,3,FALSE)","v":{"$error":"#N/A"}}]
[null,null,null,null,null,null,null,{"$f":"VLOOKUP($G$2:$G$50000,'Location Type (FICM Codes)'!$A$7:$B$188,2,FALSE)","v":{"$error":"#N/A"}},null,null,null,null,null,{"$f":"VLOOKUP(G33:G10031,'Location Type (FICM Codes)'!$A$7:$C$188,3,FALSE)","v":{"$error":"#N/A"}}]
[null,null,null,null,null,null,null,{"$f":"VLOOKUP($G$2:$G$50000,'Location Type (FICM Codes)'!$A$7:$B$188,2,FALSE)","v":{"$error":"#N/A"}},null,null,null,null,null,{"$f":"VLOOKUP(G34:G10032,'Location Type (FICM Codes)'!$A$7:$C$188,3,FALSE)","v":{"$error":"#N/A"}}]
[null,null,null,null,null,null,null,{"$f":"VLOOKUP($G$2:$G$50000,'Location Type (FICM Codes)'!$A$7:$B$188,2,FALSE)","v":{"$error":"#N/A"}},null,null,null,null,null,{"$f":"VLOOKUP(G35:G10033,'Location Type (FICM Codes)'!$A$7:$C$188,3,FALSE)","v":{"$error":"#N/A"}}]
[null,null,null,null,null,null,null,{"$f":"VLOOKUP($G$2:$G$50000,'Location Type (FICM Codes)'!$A$7:$B$188,2,FALSE)","v":{"$error":"#N/A"}},null,null,null,null,null,{"$f":"VLOOKUP(G36:G10034,'Location Type (FICM Codes)'!$A$7:$C$188,3,FALSE)","v":{"$error":"#N/A"}}]
[null,null,null,null,null,null,null,{"$f":"VLOOKUP($G$2:$G$50000,'Location Type (FICM Codes)'!$A$7:$B$188,2,FALSE)","v":{"$error":"#N/A"}},null,null,null,null,null,{"$f":"VLOOKUP(G37:G10035,'Location Type (FICM Codes)'!$A$7:$C$188,3,FALSE)","v":{"$error":"#N/A"}}]
[null,null,null,null,null,null,null,{"$f":"VLOOKUP($G$2:$G$50000,'Location Type (FICM Codes)'!$A$7:$B$188,2,FALSE)","v":{"$error":"#N/A"}},null,null,null,null,null,{"$f":"VLOOKUP(G38:G10036,'Location Type (FICM Codes)'!$A$7:$C$188,3,FALSE)","v":{"$error":"#N/A"}}]
[null,null,null,null,null,null,null,{"$f":"VLOOKUP($G$2:$G$50000,'Location Type (FICM Codes)'!$A$7:$B$188,2,FALSE)","v":{"$error":"#N/A"}},null,null,null,null,null,{"$f":"VLOOKUP(G39:G10037,'Location Type (FICM Codes)'!$A$7:$C$188,3,FALSE)","v":{"$error":"#N/A"}}]
[null,null,null,null,null,null,null,{"$f":"VLOOKUP($G$2:$G$50000,'Location Type (FICM Codes)'!$A$7:$B$188,2,FALSE)","v":{"$error":"#N/A"}},null,null,null,null,null,{"$f":"VLOOKUP(G40:G10038,'Location Type (FICM Codes)'!$A$7:$C$188,3,FALSE)","v":{"$error":"#N/A"}}]
[null,null,null,null,null,null,null,{"$f":"VLOOKUP($G$2:$G$50000,'Location Type (FICM Codes)'!$A$7:$B$188,2,FALSE)","v":{"$error":"#N/A"}},null,null,null,null,null,{"$f":"VLOOKUP(G41:G10039,'Location Type (FICM Codes)'!$A$7:$C$188,3,FALSE)","v":{"$error":"#N/A"}}]
[null,null,null,null,null,null,null,{"$f":"VLOOKUP($G$2:$G$50000,'Location Type (FICM Codes)'!$A$7:$B$188,2,FALSE)","v":{"$error":"#N/A"}},null,null,null,null,null,{"$f":"VLOOKUP(G42:G10040,'Location Type (FICM Codes)'!$A$7:$C$188,3,FALSE)","v":{"$error":"#N/A"}}]
[null,null,null,null,null,null,null,{"$f":"VLOOKUP($G$2:$G$50000,'Location Type (FICM Codes)'!$A$7:$B$188,2,FALSE)","v":{"$error":"#N/A"}},null,null,null,null,null,{"$f":"VLOOKUP(G43:G10041,'Location Type (FICM Codes)'!$A$7:$C$188,3,FALSE)","v":{"$error":"#N/A"}}]
[null,null,null,null,null,null,null,{"$f":"VLOOKUP($G$2:$G$50000,'Location Type (FICM Codes)'!$A$7:$B$188,2,FALSE)","v":{"$error":"#N/A"}},null,null,null,null,null,{"$f":"VLOOKUP(G44:G10042,'Location Type (FICM Codes)'!$A$7:$C$188,3,FALSE)","v":{"$error":"#N/A"}}]
[null,null,null,null,null,null,null,{"$f":"VLOOKUP($G$2:$G$50000,'Location Type (FICM Codes)'!$A$7:$B$188,2,FALSE)","v":{"$error":"#N/A"}},null,null,null,null,null,{"$f":"VLOOKUP(G45:G10043,'Location Type (FICM Codes)'!$A$7:$C$188,3,FALSE)","v":{"$error":"#N/A"}}]
[null,null,null,null,null,null,null,{"$f":"VLOOKUP($G$2:$G$50000,'Location Type (FICM Codes)'!$A$7:$B$188,2,FALSE)","v":{"$error":"#N/A"}},null,null,null,null,null,{"$f":"VLOOKUP(G46:G10044,'Location Type (FICM Codes)'!$A$7:$C$188,3,FALSE)","v":{"$error":"#N/A"}}]
[null,null,null,null,null,null,null,{"$f":"VLOOKUP($G$2:$G$50000,'Location Type (FICM Codes)'!$A$7:$B$188,2,FALSE)","v":{"$error":"#N/A"}},null,null,null,null,null,{"$f":"VLOOKUP(G47:G10045,'Location Type (FICM Codes)'!$A$7:$C$188,3,FALSE)","v":{"$error":"#N/A"}}]
[null,null,null,null,null,null,null,{"$f":"VLOOKUP($G$2:$G$50000,'Location Type (FICM Codes)'!$A$7:$B$188,2,FALSE)","v":{"$error":"#N/A"}},null,null,null,null,null,{"$f":"VLOOKUP(G48:G10046,'Location Type (FICM Codes)'!$A$7:$C$188,3,FALSE)","v":{"$error":"#N/A"}}]
[null,null,null,null,null,null,null,{"$f":"VLOOKUP($G$2:$G$50000,'Location Type (FICM Codes)'!$A$7:$B$188,2,FALSE)","v":{"$error":"#N/A"}},null,null,null,null,null,{"$f":"VLOOKUP(G49:G10047,'Location Type (FICM Codes)'!$A$7:$C$188,3,FALSE)","v":{"$error":"#N/A"}}]
[null,null,null,null,null,null,null,{"$f":"VLOOKUP($G$2:$G$50000,'Location Type (FICM Codes)'!$A$7:$B$188,2,FALSE)","v":{"$error":"#N/A"}},null,null,null,null,null,{"$f":"VLOOKUP(G50:G10048,'Location Type (FICM Codes)'!$A$7:$C$188,3,FALSE)","v":{"$error":"#N/A"}}]
[null,null,null,null,null,null,null,{"$f":"VLOOKUP($G$2:$G$50000,'Location Type (FICM Codes)'!$A$7:$B$188,2,FALSE)","v":{"$error":"#N/A"}},null,null,null,null,null,{"$f":"VLOOKUP(G51:G10049,'Location Type (FICM Codes)'!$A$7:$C$188,3,FALSE)","v":{"$error":"#N/A"}}]
[null,null,null,null,null,null,null,{"$f":"VLOOKUP($G$2:$G$50000,'Location Type (FICM Codes)'!$A$7:$B$188,2,FALSE)","v":{"$error":"#N/A"}},null,null,null,null,null,{"$f":"VLOOKUP(G52:G10050,'Location Type (FICM Codes)'!$A$7:$C$188,3,FALSE)","v":{"$error":"#N/A"}}]
[null,null,null,null,null,null,null,{"$f":"VLOOKUP($G$2:$G$50000,'Location Type (FICM Codes)'!$A$7:$B$188,2,FALSE)","v":{"$error":"#N/A"}},null,null,null,null,null,{"$f":"VLOOKUP(G53:G10051,'Location Type (FICM Codes)'!$A$7:$C$188,3,FALSE)","v":{"$error":"#N/A"}}]
[null,null,null,null,null,null,null,{"$f":"VLOOKUP($G$2:$G$50000,'Location Type (FICM Codes)'!$A$7:$B$188,2,FALSE)","v":{"$error":"#N/A"}},null,null,null,null,null,{"$f":"VLOOKUP(G54:G10052,'Location Type (FICM Codes)'!$A$7:$C$188,3,FALSE)","v":{"$error":"#N/A"}}]
[null,null,null,null,null,null,null,{"$f":"VLOOKUP($G$2:$G$50000,'Location Type (FICM Codes)'!$A$7:$B$188,2,FALSE)","v":{"$error":"#N/A"}},null,null,null,null,null,{"$f":"VLOOKUP(G55:G10053,'Location Type (FICM Codes)'!$A$7:$C$188,3,FALSE)","v":{"$error":"#N/A"}}]
[null,null,null,null,null,null,null,{"$f":"VLOOKUP($G$2:$G$50000,'Location Type (FICM Codes)'!$A$7:$B$188,2,FALSE)","v":{"$error":"#N/A"}},null,null,null,null,null,{"$f":"VLOOKUP(G56:G10054,'Location Type (FICM Codes)'!$A$7:$C$188,3,FALSE)","v":{"$error":"#N/A"}}]
[null,null,null,null,null,null,null,{"$f":"VLOOKUP($G$2:$G$50000,'Location Type (FICM Codes)'!$A$7:$B$188,2,FALSE)","v":{"$error":"#N/A"}},null,null,null,null,null,{"$f":"VLOOKUP(G57:G10055,'Location Type (FICM Codes)'!$A$7:$C$188,3,FALSE)","v":{"$error":"#N/A"}}]
[null,null,null,null,null,null,null,{"$f":"VLOOKUP($G$2:$G$50000,'Location Type (FICM Codes)'!$A$7:$B$188,2,FALSE)","v":{"$error":"#N/A"}},null,null,null,null,null,{"$f":"VLOOKUP(G58:G10056,'Location Type (FICM Codes)'!$A$7:$C$188,3,FALSE)","v":{"$error":"#N/A"}}]
[null,null,null,null,null,null,null,{"$f":"VLOOKUP($G$2:$G$50000,'Location Type (FICM Codes)'!$A$7:$B$188,2,FALSE)","v":{"$error":"#N/A"}},null,null,null,null,null,{"$f":"VLOOKUP(G59:G10057,'Location Type (FICM Codes)'!$A$7:$C$188,3,FALSE)","v":{"$error":"#N/A"}}]
[null,null,null,null,null,null,null,{"$f":"VLOOKUP($G$2:$G$50000,'Location Type (FICM Codes)'!$A$7:$B$188,2,FALSE)","v":{"$error":"#N/A"}},null,null,null,null,null,{"$f":"VLOOKUP(G60:G10058,'Location Type (FICM Codes)'!$A$7:$C$188,3,FALSE)","v":{"$error":"#N/A"}}]
[null,null,null,null,null,null,null,{"$f":"VLOOKUP($G$2:$G$50000,'Location Type (FICM Codes)'!$A$7:$B$188,2,FALSE)","v":{"$error":"#N/A"}},null,null,null,null,null,{"$f":"VLOOKUP(G61:G10059,'Location Type (FICM Codes)'!$A$7:$C$188,3,FALSE)","v":{"$error":"#N/A"}}]
[null,null,null,null,null,null,null,{"$f":"VLOOKUP($G$2:$G$50000,'Location Type (FICM Codes)'!$A$7:$B$188,2,FALSE)","v":{"$error":"#N/A"}},null,null,null,null,null,{"$f":"VLOOKUP(G62:G10060,'Location Type (FICM Codes)'!$A$7:$C$188,3,FALSE)","v":{"$error":"#N/A"}}]
[null,null,null,null,null,null,null,{"$f":"VLOOKUP($G$2:$G$50000,'Location Type (FICM Codes)'!$A$7:$B$188,2,FALSE)","v":{"$error":"#N/A"}},null,null,null,null,null,{"$f":"VLOOKUP(G63:G10061,'Location Type (FICM Codes)'!$A$7:$C$188,3,FALSE)","v":{"$error":"#N/A"}}]
[null,null,null,null,null,null,null,{"$f":"VLOOKUP($G$2:$G$50000,'Location Type (FICM Codes)'!$A$7:$B$188,2,FALSE)","v":{"$error":"#N/A"}},null,null,null,null,null,{"$f":"VLOOKUP(G64:G10062,'Location Type (FICM Codes)'!$A$7:$C$188,3,FALSE)","v":{"$error":"#N/A"}}]
[null,null,null,null,null,null,null,{"$f":"VLOOKUP($G$2:$G$50000,'Location Type (FICM Codes)'!$A$7:$B$188,2,FALSE)","v":{"$error":"#N/A"}},null,null,null,null,null,{"$f":"VLOOKUP(G65:G10063,'Location Type (FICM Codes)'!$A$7:$C$188,3,FALSE)","v":{"$error":"#N/A"}}]
[null,null,null,null,null,null,null,{"$f":"VLOOKUP($G$2:$G$50000,'Location Type (FICM Codes)'!$A$7:$B$188,2,FALSE)","v":{"$error":"#N/A"}},null,null,null,null,null,{"$f":"VLOOKUP(G66:G10064,'Location Type (FICM Codes)'!$A$7:$C$188,3,FALSE)","v":{"$error":"#N/A"}}]
[null,null,null,null,null,null,null,{"$f":"VLOOKUP($G$2:$G$50000,'Location Type (FICM Codes)'!$A$7:$B$188,2,FALSE)","v":{"$error":"#N/A"}},null,null,null,null,null,{"$f":"VLOOKUP(G67:G10065,'Location Type (FICM Codes)'!$A$7:$C$188,3,FALSE)","v":{"$error":"#N/A"}}]
[null,null,null,null,null,null,null,{"$f":"VLOOKUP($G$2:$G$50000,'Location Type (FICM Codes)'!$A$7:$B$188,2,FALSE)","v":{"$error":"#N/A"}},null,null,null,null,null,{"$f":"VLOOKUP(G68:G10066,'Location Type (FICM Codes)'!$A$7:$C$188,3,FALSE)","v":{"$error":"#N/A"}}]
[null,null,null,null,null,null,null,{"$f":"VLOOKUP($G$2:$G$50000,'Location Type (FICM Codes)'!$A$7:$B$188,2,FALSE)","v":{"$error":"#N/A"}},null,null,null,null,null,{"$f":"VLOOKUP(G69:G10067,'Location Type (FICM Codes)'!$A$7:$C$188,3,FALSE)","v":{"$error":"#N/A"}}]
[null,null,null,null,null,null,null,{"$f":"VLOOKUP($G$2:$G$50000,'Location Type (FICM Codes)'!$A$7:$B$188,2,FALSE)","v":{"$error":"#N/A"}},null,null,null,null,null,{"$f":"VLOOKUP(G70:G10068,'Location Type (FICM Codes)'!$A$7:$C$188,3,FALSE)","v":{"$error":"#N/A"}}]
[null,null,null,null,null,null,null,{"$f":"VLOOKUP($G$2:$G$50000,'Location Type (FICM Codes)'!$A$7:$B$188,2,FALSE)","v":{"$error":"#N/A"}},null,null,null,null,null,{"$f":"VLOOKUP(G71:G10069,'Location Type (FICM Codes)'!$A$7:$C$188,3,FALSE)","v":{"$error":"#N/A"}}]
[null,null,null,null,null,null,null,{"$f":"VLOOKUP($G$2:$G$50000,'Location Type (FICM Codes)'!$A$7:$B$188,2,FALSE)","v":{"$error":"#N/A"}},null,null,null,null,null,{"$f":"VLOOKUP(G72:G10070,'Location Type (FICM Codes)'!$A$7:$C$188,3,FALSE)","v":{"$error":"#N/A"}}]
[null,null,null,null,null,null,null,{"$f":"VLOOKUP($G$2:$G$50000,'Location Type (FICM Codes)'!$A$7:$B$188,2,FALSE)","v":{"$error":"#N/A"}},null,null,null,null,null,{"$f":"VLOOKUP(G73:G10071,'Location Type (FICM Codes)'!$A$7:$C$188,3,FALSE)","v":{"$error":"#N/A"}}]
[null,null,null,null,null,null,null,{"$f":"VLOOKUP($G$2:$G$50000,'Location Type (FICM Codes)'!$A$7:$B$188,2,FALSE)","v":{"$error":"#N/A"}},null,null,null,null,null,{"$f":"VLOOKUP(G74:G10072,'Location Type (FICM Codes)'!$A$7:$C$188,3,FALSE)","v":{"$error":"#N/A"}}]
[null,null,null,null,null,null,null,{"$f":"VLOOKUP($G$2:$G$50000,'Location Type (FICM Codes)'!$A$7:$B$188,2,FALSE)","v":{"$error":"#N/A"}},null,null,null,null,null,{"$f":"VLOOKUP(G75:G10073,'Location Type (FICM Codes)'!$A$7:$C$188,3,FALSE)","v":{"$error":"#N/A"}}]
[null,null,null,null,null,null,null,{"$f":"VLOOKUP($G$2:$G$50000,'Location Type (FICM Codes)'!$A$7:$B$188,2,FALSE)","v":{"$error":"#N/A"}},null,null,null,null,null,{"$f":"VLOOKUP(G76:G10074,'Location Type (FICM Codes)'!$A$7:$C$188,3,FALSE)","v":{"$error":"#N/A"}}]
[null,null,null,null,null,null,null,{"$f":"VLOOKUP($G$2:$G$50000,'Location Type (FICM Codes)'!$A$7:$B$188,2,FALSE)","v":{"$error":"#N/A"}},null,null,null,null,null,{"$f":"VLOOKUP(G77:G10075,'Location Type (FICM Codes)'!$A$7:$C$188,3,FALSE)","v":{"$error":"#N/A"}}]
[null,null,null,null,null,null,null,{"$f":"VLOOKUP($G$2:$G$50000,'Location Type (FICM Codes)'!$A$7:$B$188,2,FALSE)","v":{"$error":"#N/A"}},null,null,null,null,null,{"$f":"VLOOKUP(G78:G10076,'Location Type (FICM Codes)'!$A$7:$C$188,3,FALSE)","v":{"$error":"#N/A"}}]
[null,null,null,null,null,null,null,{"$f":"VLOOKUP($G$2:$G$50000,'Location Type (FICM Codes)'!$A$7:$B$188,2,FALSE)","v":{"$error":"#N/A"}},null,null,null,null,null,{"$f":"VLOOKUP(G79:G10077,'Location Type (FICM Codes)'!$A$7:$C$188,3,FALSE)","v":{"$error":"#N/A"}}]
[null,null,null,null,null,null,null,{"$f":"VLOOKUP($G$2:$G$50000,'Location Type (FICM Codes)'!$A$7:$B$188,2,FALSE)","v":{"$error":"#N/A"}},null,null,null,null,null,{"$f":"VLOOKUP(G80:G10078,'Location Type (FICM Codes)'!$A$7:$C$188,3,FALSE)","v":{"$error":"#N/A"}}]
[null,null,null,null,null,null,null,{"$f":"VLOOKUP($G$2:$G$50000,'Location Type (FICM Codes)'!$A$7:$B$188,2,FALSE)","v":{"$error":"#N/A"}},null,null,null,null,null,{"$f":"VLOOKUP(G81:G10079,'Location Type (FICM Codes)'!$A$7:$C$188,3,FALSE)","v":{"$error":"#N/A"}}]
[null,null,null,null,null,null,null,{"$f":"VLOOKUP($G$2:$G$50000,'Location Type (FICM Codes)'!$A$7:$B$188,2,FALSE)","v":{"$error":"#N/A"}},null,null,null,null,null,{"$f":"VLOOKUP(G82:G10080,'Location Type (FICM Codes)'!$A$7:$C$188,3,FALSE)","v":{"$error":"#N/A"}}]
[null,null,null,null,null,null,null,{"$f":"VLOOKUP($G$2:$G$50000,'Location Type (FICM Codes)'!$A$7:$B$188,2,FALSE)","v":{"$error":"#N/A"}},null,null,null,null,null,{"$f":"VLOOKUP(G83:G10081,'Location Type (FICM Codes)'!$A$7:$C$188,3,FALSE)","v":{"$error":"#N/A"}}]
[null,null,null,null,null,null,null,{"$f":"VLOOKUP($G$2:$G$50000,'Location Type (FICM Codes)'!$A$7:$B$188,2,FALSE)","v":{"$error":"#N/A"}},null,null,null,null,null,{"$f":"VLOOKUP(G84:G10082,'Location Type (FICM Codes)'!$A$7:$C$188,3,FALSE)","v":{"$error":"#N/A"}}]
[null,null,null,null,null,null,null,{"$f":"VLOOKUP($G$2:$G$50000,'Location Type (FICM Codes)'!$A$7:$B$188,2,FALSE)","v":{"$error":"#N/A"}},null,null,null,null,null,{"$f":"VLOOKUP(G85:G10083,'Location Type (FICM Codes)'!$A$7:$C$188,3,FALSE)","v":{"$error":"#N/A"}}]
[null,null,null,null,null,null,null,{"$f":"VLOOKUP($G$2:$G$50000,'Location Type (FICM Codes)'!$A$7:$B$188,2,FALSE)","v":{"$error":"#N/A"}},null,null,null,null,null,{"$f":"VLOOKUP(G86:G10084,'Location Type (FICM Codes)'!$A$7:$C$188,3,FALSE)","v":{"$error":"#N/A"}}]
[null,null,null,null,null,null,null,{"$f":"VLOOKUP($G$2:$G$50000,'Location Type (FICM Codes)'!$A$7:$B$188,2,FALSE)","v":{"$error":"#N/A"}},null,null,null,null,null,{"$f":"VLOOKUP(G87:G10085,'Location Type (FICM Codes)'!$A$7:$C$188,3,FALSE)","v":{"$error":"#N/A"}}]
[null,null,null,null,null,null,null,{"$f":"VLOOKUP($G$2:$G$50000,'Location Type (FICM Codes)'!$A$7:$B$188,2,FALSE)","v":{"$error":"#N/A"}},null,null,null,null,null,{"$f":"VLOOKUP(G88:G10086,'Location Type (FICM Codes)'!$A$7:$C$188,3,FALSE)","v":{"$error":"#N/A"}}]
[null,null,null,null,null,null,null,{"$f":"VLOOKUP($G$2:$G$50000,'Location Type (FICM Codes)'!$A$7:$B$188,2,FALSE)","v":{"$error":"#N/A"}},null,null,null,null,null,{"$f":"VLOOKUP(G89:G10087,'Location Type (FICM Codes)'!$A$7:$C$188,3,FALSE)","v":{"$error":"#N/A"}}]
[null,null,null,null,null,null,null,{"$f":"VLOOKUP($G$2:$G$50000,'Location Type (FICM Codes)'!$A$7:$B$188,2,FALSE)","v":{"$error":"#N/A"}},null,null,null,null,null,{"$f":"VLOOKUP(G90:G10088,'Location Type (FICM Codes)'!$A$7:$C$188,3,FALSE)","v":{"$error":"#N/A"}}]
[null,null,null,null,null,null,null,{"$f":"VLOOKUP($G$2:$G$50000,'Location Type (FICM Codes)'!$A$7:$B$188,2,FALSE)","v":{"$error":"#N/A"}},null,null,null,null,null,{"$f":"VLOOKUP(G91:G10089,'Location Type (FICM Codes)'!$A$7:$C$188,3,FALSE)","v":{"$error":"#N/A"}}]
[null,null,null,null,null,null,null,{"$f":"VLOOKUP($G$2:$G$50000,'Location Type (FICM Codes)'!$A$7:$B$188,2,FALSE)","v":{"$error":"#N/A"}},null,null,null,null,null,{"$f":"VLOOKUP(G92:G10090,'Location Type (FICM Codes)'!$A$7:$C$188,3,FALSE)","v":{"$error":"#N/A"}}]
[null,null,null,null,null,null,null,{"$f":"VLOOKUP($G$2:$G$50000,'Location Type (FICM Codes)'!$A$7:$B$188,2,FALSE)","v":{"$error":"#N/A"}},null,null,null,null,null,{"$f":"VLOOKUP(G93:G10091,'Location Type (FICM Codes)'!$A$7:$C$188,3,FALSE)","v":{"$error":"#N/A"}}]
[null,null,null,null,null,null,null,{"$f":"VLOOKUP($G$2:$G$50000,'Location Type (FICM Codes)'!$A$7:$B$188,2,FALSE)","v":{"$error":"#N/A"}},null,null,null,null,null,{"$f":"VLOOKUP(G94:G10092,'Location Type (FICM Codes)'!$A$7:$C$188,3,FALSE)","v":{"$error":"#N/A"}}]
[null,null,null,null,null,null,null,{"$f":"VLOOKUP($G$2:$G$50000,'Location Type (FICM Codes)'!$A$7:$B$188,2,FALSE)","v":{"$error":"#N/A"}},null,null,null,null,null,{"$f":"VLOOKUP(G95:G10093,'Location Type (FICM Codes)'!$A$7:$C$188,3,FALSE)","v":{"$error":"#N/A"}}]
[null,null,null,null,null,null,null,{"$f":"VLOOKUP($G$2:$G$50000,'Location Type (FICM Codes)'!$A$7:$B$188,2,FALSE)","v":{"$error":"#N/A"}},null,null,null,null,null,{"$f":"VLOOKUP(G96:G10094,'Location Type (FICM Codes)'!$A$7:$C$188,3,FALSE)","v":{"$error":"#N/A"}}]
[null,null,null,null,null,null,null,{"$f":"VLOOKUP($G$2:$G$50000,'Location Type (FICM Codes)'!$A$7:$B$188,2,FALSE)","v":{"$error":"#N/A"}},null,null,null,null,null,{"$f":"VLOOKUP(G97:G10095,'Location Type (FICM Codes)'!$A$7:$C$188,3,FALSE)","v":{"$error":"#N/A"}}]
[null,null,null,null,null,null,null,{"$f":"VLOOKUP($G$2:$G$50000,'Location Type (FICM Codes)'!$A$7:$B$188,2,FALSE)","v":{"$error":"#N/A"}},null,null,null,null,null,{"$f":"VLOOKUP(G98:G10096,'Location Type (FICM Codes)'!$A$7:$C$188,3,FALSE)","v":{"$error":"#N/A"}}]
[null,null,null,null,null,null,null,{"$f":"VLOOKUP($G$2:$G$50000,'Location Type (FICM Codes)'!$A$7:$B$188,2,FALSE)","v":{"$error":"#N/A"}},null,null,null,null,null,{"$f":"VLOOKUP(G99:G10097,'Location Type (FICM Codes)'!$A$7:$C$188,3,FALSE)","v":{"$error":"#N/A"}}]
[null,null,null,null,null,null,null,{"$f":"VLOOKUP($G$2:$G$50000,'Location Type (FICM Codes)'!$A$7:$B$188,2,FALSE)","v":{"$error":"#N/A"}},null,null,null,null,null,{"$f":"VLOOKUP(G100:G10098,'Location Type (FICM Codes)'!$A$7:$C$188,3,FALSE)","v":{"$error":"#N/A"}}]
[null,null,null,null,null,null,null,{"$f":"VLOOKUP($G$2:$G$50000,'Location Type (FICM Codes)'!$A$7:$B$188,2,FALSE)","v":{"$error":"#N/A"}},null,null,null,null,null,{"$f":"VLOOKUP(G101:G10099,'Location Type (FICM Codes)'!$A$7:$C$188,3,FALSE)","v":{"$error":"#N/A"}}]
[null,null,null,null,null,null,null,{"$f":"VLOOKUP($G$2:$G$50000,'Location Type (FICM Codes)'!$A$7:$B$188,2,FALSE)","v":{"$error":"#N/A"}},null,null,null,null,null,{"$f":"VLOOKUP(G102:G10100,'Location Type (FICM Codes)'!$A$7:$C$188,3,FALSE)","v":{"$error":"#N/A"}}]
[null,null,null,null,null,null,null,{"$f":"VLOOKUP($G$2:$G$50000,'Location Type (FICM Codes)'!$A$7:$B$188,2,FALSE)","v":{"$error":"#N/A"}},null,null,null,null,null,{"$f":"VLOOKUP(G103:G10101,'Location Type (FICM Codes)'!$A$7:$C$188,3,FALSE)","v":{"$error":"#N/A"}}]
[null,null,null,null,null,null,null,{"$f":"VLOOKUP($G$2:$G$50000,'Location Type (FICM Codes)'!$A$7:$B$188,2,FALSE)","v":{"$error":"#N/A"}},null,null,null,null,null,{"$f":"VLOOKUP(G104:G10102,'Location Type (FICM Codes)'!$A$7:$C$188,3,FALSE)","v":{"$error":"#N/A"}}]
[null,null,null,null,null,null,null,{"$f":"VLOOKUP($G$2:$G$50000,'Location Type (FICM Codes)'!$A$7:$B$188,2,FALSE)","v":{"$error":"#N/A"}},null,null,null,null,null,{"$f":"VLOOKUP(G105:G10103,'Location Type (FICM Codes)'!$A$7:$C$188,3,FALSE)","v":{"$error":"#N/A"}}]
[null,null,null,null,null,null,null,{"$f":"VLOOKUP($G$2:$G$50000,'Location Type (FICM Codes)'!$A$7:$B$188,2,FALSE)","v":{"$error":"#N/A"}},null,null,null,null,null,{"$f":"VLOOKUP(G106:G10104,'Location Type (FICM Codes)'!$A$7:$C$188,3,FALSE)","v":{"$error":"#N/A"}}]
[null,null,null,null,null,null,null,{"$f":"VLOOKUP($G$2:$G$50000,'Location Type (FICM Codes)'!$A$7:$B$188,2,FALSE)","v":{"$error":"#N/A"}},null,null,null,null,null,{"$f":"VLOOKUP(G107:G10105,'Location Type (FICM Codes)'!$A$7:$C$188,3,FALSE)","v":{"$error":"#N/A"}}]
[null,null,null,null,null,null,null,{"$f":"VLOOKUP($G$2:$G$50000,'Location Type (FICM Codes)'!$A$7:$B$188,2,FALSE)","v":{"$error":"#N/A"}},null,null,null,null,null,{"$f":"VLOOKUP(G108:G10106,'Location Type (FICM Codes)'!$A$7:$C$188,3,FALSE)","v":{"$error":"#N/A"}}]
[null,null,null,null,null,null,null,{"$f":"VLOOKUP($G$2:$G$50000,'Location Type (FICM Codes)'!$A$7:$B$188,2,FALSE)","v":{"$error":"#N/A"}},null,null,null,null,null,{"$f":"VLOOKUP(G109:G10107,'Location Type (FICM Codes)'!$A$7:$C$188,3,FALSE)","v":{"$error":"#N/A"}}]
[null,null,null,null,null,null,null,{"$f":"VLOOKUP($G$2:$G$50000,'Location Type (FICM Codes)'!$A$7:$B$188,2,FALSE)","v":{"$error":"#N/A"}},null,null,null,null,null,{"$f":"VLOOKUP(G110:G10108,'Location Type (FICM Codes)'!$A$7:$C$188,3,FALSE)","v":{"$error":"#N/A"}}]
[null,null,null,null,null,null,null,{"$f":"VLOOKUP($G$2:$G$50000,'Location Type (FICM Codes)'!$A$7:$B$188,2,FALSE)","v":{"$error":"#N/A"}},null,null,null,null,null,{"$f":"VLOOKUP(G111:G10109,'Location Type (FICM Codes)'!$A$7:$C$188,3,FALSE)","v":{"$error":"#N/A"}}]
[null,null,null,null,null,null,null,{"$f":"VLOOKUP($G$2:$G$50000,'Location Type (FICM Codes)'!$A$7:$B$188,2,FALSE)","v":{"$error":"#N/A"}},null,null,null,null,null,{"$f":"VLOOKUP(G112:G10110,'Location Type (FICM Codes)'!$A$7:$C$188,3,FALSE)","v":{"$error":"#N/A"}}]
[null,null,null,null,null,null,null,{"$f":"VLOOKUP($G$2:$G$50000,'Location Type (FICM Codes)'!$A$7:$B$188,2,FALSE)","v":{"$error":"#N/A"}},null,null,null,null,null,{"$f":"VLOOKUP(G113:G10111,'Location Type (FICM Codes)'!$A$7:$C$188,3,FALSE)","v":{"$error":"#N/A"}}]
[null,null,null,null,null,null,null,{"$f":"VLOOKUP($G$2:$G$50000,'Location Type (FICM Codes)'!$A$7:$B$188,2,FALSE)","v":{"$error":"#N/A"}},null,null,null,null,null,{"$f":"VLOOKUP(G114:G10112,'Location Type (FICM Codes)'!$A$7:$C$188,3,FALSE)","v":{"$error":"#N/A"}}]
[null,null,null,null,null,null,null,{"$f":"VLOOKUP($G$2:$G$50000,'Location Type (FICM Codes)'!$A$7:$B$188,2,FALSE)","v":{"$error":"#N/A"}},null,null,null,null,null,{"$f":"VLOOKUP(G115:G10113,'Location Type (FICM Codes)'!$A$7:$C$188,3,FALSE)","v":{"$error":"#N/A"}}]
[null,null,null,null,null,null,null,{"$f":"VLOOKUP($G$2:$G$50000,'Location Type (FICM Codes)'!$A$7:$B$188,2,FALSE)","v":{"$error":"#N/A"}},null,null,null,null,null,{"$f":"VLOOKUP(G116:G10114,'Location Type (FICM Codes)'!$A$7:$C$188,3,FALSE)","v":{"$error":"#N/A"}}]
[null,null,null,null,null,null,null,{"$f":"VLOOKUP($G$2:$G$50000,'Location Type (FICM Codes)'!$A$7:$B$188,2,FALSE)","v":{"$error":"#N/A"}},null,null,null,null,null,{"$f":"VLOOKUP(G117:G10115,'Location Type (FICM Codes)'!$A$7:$C$188,3,FALSE)","v":{"$error":"#N/A"}}]
[null,null,null,null,null,null,null,{"$f":"VLOOKUP($G$2:$G$50000,'Location Type (FICM Codes)'!$A$7:$B$188,2,FALSE)","v":{"$error":"#N/A"}},null,null,null,null,null,{"$f":"VLOOKUP(G118:G10116,'Location Type (FICM Codes)'!$A$7:$C$188,3,FALSE)","v":{"$error":"#N/A"}}]
[null,null,null,null,null,null,null,{"$f":"VLOOKUP($G$2:$G$50000,'Location Type (FICM Codes)'!$A$7:$B$188,2,FALSE)","v":{"$error":"#N/A"}},null,null,null,null,null,{"$f":"VLOOKUP(G119:G10117,'Location Type (FICM Codes)'!$A$7:$C$188,3,FALSE)","v":{"$error":"#N/A"}}]
[null,null,null,null,null,null,null,{"$f":"VLOOKUP($G$2:$G$50000,'Location Type (FICM Codes)'!$A$7:$B$188,2,FALSE)","v":{"$error":"#N/A"}},null,null,null,null,null,{"$f":"VLOOKUP(G120:G10118,'Location Type (FICM Codes)'!$A$7:$C$188,3,FALSE)","v":{"$error":"#N/A"}}]
[null,null,null,null,null,null,null,{"$f":"VLOOKUP($G$2:$G$50000,'Location Type (FICM Codes)'!$A$7:$B$188,2,FALSE)","v":{"$error":"#N/A"}},null,null,null,null,null,{"$f":"VLOOKUP(G121:G10119,'Location Type (FICM Codes)'!$A$7:$C$188,3,FALSE)","v":{"$error":"#N/A"}}]
[null,null,null,null,null,null,null,{"$f":"VLOOKUP($G$2:$G$50000,'Location Type (FICM Codes)'!$A$7:$B$188,2,FALSE)","v":{"$error":"#N/A"}},null,null,null,null,null,{"$f":"VLOOKUP(G122:G10120,'Location Type (FICM Codes)'!$A$7:$C$188,3,FALSE)","v":{"$error":"#N/A"}}]
[null,null,null,null,null,null,null,{"$f":"VLOOKUP($G$2:$G$50000,'Location Type (FICM Codes)'!$A$7:$B$188,2,FALSE)","v":{"$error":"#N/A"}},null,null,null,null,null,{"$f":"VLOOKUP(G123:G10121,'Location Type (FICM Codes)'!$A$7:$C$188,3,FALSE)","v":{"$error":"#N/A"}}]
[null,null,null,null,null,null,null,{"$f":"VLOOKUP($G$2:$G$50000,'Location Type (FICM Codes)'!$A$7:$B$188,2,FALSE)","v":{"$error":"#N/A"}},null,null,null,null,null,{"$f":"VLOOKUP(G124:G10122,'Location Type (FICM Codes)'!$A$7:$C$188,3,FALSE)","v":{"$error":"#N/A"}}]
[null,null,null,null,null,null,null,{"$f":"VLOOKUP($G$2:$G$50000,'Location Type (FICM Codes)'!$A$7:$B$188,2,FALSE)","v":{"$error":"#N/A"}},null,null,null,null,null,{"$f":"VLOOKUP(G125:G10123,'Location Type (FICM Codes)'!$A$7:$C$188,3,FALSE)","v":{"$error":"#N/A"}}]
[null,null,null,null,null,null,null,{"$f":"VLOOKUP($G$2:$G$50000,'Location Type (FICM Codes)'!$A$7:$B$188,2,FALSE)","v":{"$error":"#N/A"}},null,null,null,null,null,{"$f":"VLOOKUP(G126:G10124,'Location Type (FICM Codes)'!$A$7:$C$188,3,FALSE)","v":{"$error":"#N/A"}}]
[null,null,null,null,null,null,null,{"$f":"VLOOKUP($G$2:$G$50000,'Location Type (FICM Codes)'!$A$7:$B$188,2,FALSE)","v":{"$error":"#N/A"}},null,null,null,null,null,{"$f":"VLOOKUP(G127:G10125,'Location Type (FICM Codes)'!$A$7:$C$188,3,FALSE)","v":{"$error":"#N/A"}}]
[null,null,null,null,null,null,null,{"$f":"VLOOKUP($G$2:$G$50000,'Location Type (FICM Codes)'!$A$7:$B$188,2,FALSE)","v":{"$error":"#N/A"}},null,null,null,null,null,{"$f":"VLOOKUP(G128:G10126,'Location Type (FICM Codes)'!$A$7:$C$188,3,FALSE)","v":{"$error":"#N/A"}}]
[null,null,null,null,null,null,null,{"$f":"VLOOKUP($G$2:$G$50000,'Location Type (FICM Codes)'!$A$7:$B$188,2,FALSE)","v":{"$error":"#N/A"}},null,null,null,null,null,{"$f":"VLOOKUP(G129:G10127,'Location Type (FICM Codes)'!$A$7:$C$188,3,FALSE)","v":{"$error":"#N/A"}}]
[null,null,null,null,null,null,null,{"$f":"VLOOKUP($G$2:$G$50000,'Location Type (FICM Codes)'!$A$7:$B$188,2,FALSE)","v":{"$error":"#N/A"}},null,null,null,null,null,{"$f":"VLOOKUP(G130:G10128,'Location Type (FICM Codes)'!$A$7:$C$188,3,FALSE)","v":{"$error":"#N/A"}}]
[null,null,null,null,null,null,null,{"$f":"VLOOKUP($G$2:$G$50000,'Location Type (FICM Codes)'!$A$7:$B$188,2,FALSE)","v":{"$error":"#N/A"}},null,null,null,null,null,{"$f":"VLOOKUP(G131:G10129,'Location Type (FICM Codes)'!$A$7:$C$188,3,FALSE)","v":{"$error":"#N/A"}}]
[null,null,null,null,null,null,null,{"$f":"VLOOKUP($G$2:$G$50000,'Location Type (FICM Codes)'!$A$7:$B$188,2,FALSE)","v":{"$error":"#N/A"}},null,null,null,null,null,{"$f":"VLOOKUP(G132:G10130,'Location Type (FICM Codes)'!$A$7:$C$188,3,FALSE)","v":{"$error":"#N/A"}}]
[null,null,null,null,null,null,null,{"$f":"VLOOKUP($G$2:$G$50000,'Location Type (FICM Codes)'!$A$7:$B$188,2,FALSE)","v":{"$error":"#N/A"}},null,null,null,null,null,{"$f":"VLOOKUP(G133:G10131,'Location Type (FICM Codes)'!$A$7:$C$188,3,FALSE)","v":{"$error":"#N/A"}}]
[null,null,null,null,null,null,null,{"$f":"VLOOKUP($G$2:$G$50000,'Location Type (FICM Codes)'!$A$7:$B$188,2,FALSE)","v":{"$error":"#N/A"}},null,null,null,null,null,{"$f":"VLOOKUP(G134:G10132,'Location Type (FICM Codes)'!$A$7:$C$188,3,FALSE)","v":{"$error":"#N/A"}}]
[null,null,null,null,null,null,null,{"$f":"VLOOKUP($G$2:$G$50000,'Location Type (FICM Codes)'!$A$7:$B$188,2,FALSE)","v":{"$error":"#N/A"}},null,null,null,null,null,{"$f":"VLOOKUP(G135:G10133,'Location Type (FICM Codes)'!$A$7:$C$188,3,FALSE)","v":{"$error":"#N/A"}}]
[null,null,null,null,null,null,null,{"$f":"VLOOKUP($G$2:$G$50000,'Location Type (FICM Codes)'!$A$7:$B$188,2,FALSE)","v":{"$error":"#N/A"}},null,null,null,null,null,{"$f":"VLOOKUP(G136:G10134,'Location Type (FICM Codes)'!$A$7:$C$188,3,FALSE)","v":{"$error":"#N/A"}}]
[null,null,null,null,null,null,null,{"$f":"VLOOKUP($G$2:$G$50000,'Location Type (FICM Codes)'!$A$7:$B$188,2,FALSE)","v":{"$error":"#N/A"}},null,null,null,null,null,{"$f":"VLOOKUP(G137:G10135,'Location Type (FICM Codes)'!$A$7:$C$188,3,FALSE)","v":{"$error":"#N/A"}}]
[null,null,null,null,null,null,null,{"$f":"VLOOKUP($G$2:$G$50000,'Location Type (FICM Codes)'!$A$7:$B$188,2,FALSE)","v":{"$error":"#N/A"}},null,null,null,null,null,{"$f":"VLOOKUP(G138:G10136,'Location Type (FICM Codes)'!$A$7:$C$188,3,FALSE)","v":{"$error":"#N/A"}}]
[null,null,null,null,null,null,null,{"$f":"VLOOKUP($G$2:$G$50000,'Location Type (FICM Codes)'!$A$7:$B$188,2,FALSE)","v":{"$error":"#N/A"}},null,null,null,null,null,{"$f":"VLOOKUP(G139:G10137,'Location Type (FICM Codes)'!$A$7:$C$188,3,FALSE)","v":{"$error":"#N/A"}}]
[null,null,null,null,null,null,null,{"$f":"VLOOKUP($G$2:$G$50000,'Location Type (FICM Codes)'!$A$7:$B$188,2,FALSE)","v":{"$error":"#N/A"}},null,null,null,null,null,{"$f":"VLOOKUP(G140:G10138,'Location Type (FICM Codes)'!$A$7:$C$188,3,FALSE)","v":{"$error":"#N/A"}}]
[null,null,null,null,null,null,null,{"$f":"VLOOKUP($G$2:$G$50000,'Location Type (FICM Codes)'!$A$7:$B$188,2,FALSE)","v":{"$error":"#N/A"}},null,null,null,null,null,{"$f":"VLOOKUP(G141:G10139,'Location Type (FICM Codes)'!$A$7:$C$188,3,FALSE)","v":{"$error":"#N/A"}}]
[null,null,null,null,null,null,null,{"$f":"VLOOKUP($G$2:$G$50000,'Location Type (FICM Codes)'!$A$7:$B$188,2,FALSE)","v":{"$error":"#N/A"}},null,null,null,null,null,{"$f":"VLOOKUP(G142:G10140,'Location Type (FICM Codes)'!$A$7:$C$188,3,FALSE)","v":{"$error":"#N/A"}}]
[null,null,null,null,null,null,null,{"$f":"VLOOKUP($G$2:$G$50000,'Location Type (FICM Codes)'!$A$7:$B$188,2,FALSE)","v":{"$error":"#N/A"}},null,null,null,null,null,{"$f":"VLOOKUP(G143:G10141,'Location Type (FICM Codes)'!$A$7:$C$188,3,FALSE)","v":{"$error":"#N/A"}}]
[null,null,null,null,null,null,null,{"$f":"VLOOKUP($G$2:$G$50000,'Location Type (FICM Codes)'!$A$7:$B$188,2,FALSE)","v":{"$error":"#N/A"}},null,null,null,null,null,{"$f":"VLOOKUP(G144:G10142,'Location Type (FICM Codes)'!$A$7:$C$188,3,FALSE)","v":{"$error":"#N/A"}}]
[null,null,null,null,null,null,null,{"$f":"VLOOKUP($G$2:$G$50000,'Location Type (FICM Codes)'!$A$7:$B$188,2,FALSE)","v":{"$error":"#N/A"}},null,null,null,null,null,{"$f":"VLOOKUP(G145:G10143,'Location Type (FICM Codes)'!$A$7:$C$188,3,FALSE)","v":{"$error":"#N/A"}}]
[null,null,null,null,null,null,null,{"$f":"VLOOKUP($G$2:$G$50000,'Location Type (FICM Codes)'!$A$7:$B$188,2,FALSE)","v":{"$error":"#N/A"}},null,null,null,null,null,{"$f":"VLOOKUP(G146:G10144,'Location Type (FICM Codes)'!$A$7:$C$188,3,FALSE)","v":{"$error":"#N/A"}}]
[null,null,null,null,null,null,null,{"$f":"VLOOKUP($G$2:$G$50000,'Location Type (FICM Codes)'!$A$7:$B$188,2,FALSE)","v":{"$error":"#N/A"}},null,null,null,null,null,{"$f":"VLOOKUP(G147:G10145,'Location Type (FICM Codes)'!$A$7:$C$188,3,FALSE)","v":{"$error":"#N/A"}}]
[null,null,null,null,null,null,null,{"$f":"VLOOKUP($G$2:$G$50000,'Location Type (FICM Codes)'!$A$7:$B$188,2,FALSE)","v":{"$error":"#N/A"}},null,null,null,null,null,{"$f":"VLOOKUP(G148:G10146,'Location Type (FICM Codes)'!$A$7:$C$188,3,FALSE)","v":{"$error":"#N/A"}}]
[null,null,null,null,null,null,null,{"$f":"VLOOKUP($G$2:$G$50000,'Location Type (FICM Codes)'!$A$7:$B$188,2,FALSE)","v":{"$error":"#N/A"}},null,null,null,null,null,{"$f":"VLOOKUP(G149:G10147,'Location Type (FICM Codes)'!$A$7:$C$188,3,FALSE)","v":{"$error":"#N/A"}}]
[null,null,null,null,null,null,null,{"$f":"VLOOKUP($G$2:$G$50000,'Location Type (FICM Codes)'!$A$7:$B$188,2,FALSE)","v":{"$error":"#N/A"}},null,null,null,null,null,{"$f":"VLOOKUP(G150:G10148,'Location Type (FICM Codes)'!$A$7:$C$188,3,FALSE)","v":{"$error":"#N/A"}}]
[null,null,null,null,null,null,null,{"$f":"VLOOKUP($G$2:$G$50000,'Location Type (FICM Codes)'!$A$7:$B$188,2,FALSE)","v":{"$error":"#N/A"}},null,null,null,null,null,{"$f":"VLOOKUP(G151:G10149,'Location Type (FICM Codes)'!$A$7:$C$188,3,FALSE)","v":{"$error":"#N/A"}}]
[null,null,null,null,null,null,null,{"$f":"VLOOKUP($G$2:$G$50000,'Location Type (FICM Codes)'!$A$7:$B$188,2,FALSE)","v":{"$error":"#N/A"}},null,null,null,null,null,{"$f":"VLOOKUP(G152:G10150,'Location Type (FICM Codes)'!$A$7:$C$188,3,FALSE)","v":{"$error":"#N/A"}}]
[null,null,null,null,null,null,null,{"$f":"VLOOKUP($G$2:$G$50000,'Location Type (FICM Codes)'!$A$7:$B$188,2,FALSE)","v":{"$error":"#N/A"}},null,null,null,null,null,{"$f":"VLOOKUP(G153:G10151,'Location Type (FICM Codes)'!$A$7:$C$188,3,FALSE)","v":{"$error":"#N/A"}}]
[null,null,null,null,null,null,null,{"$f":"VLOOKUP($G$2:$G$50000,'Location Type (FICM Codes)'!$A$7:$B$188,2,FALSE)","v":{"$error":"#N/A"}},null,null,null,null,null,{"$f":"VLOOKUP(G154:G10152,'Location Type (FICM Codes)'!$A$7:$C$188,3,FALSE)","v":{"$error":"#N/A"}}]
[null,null,null,null,null,null,null,{"$f":"VLOOKUP($G$2:$G$50000,'Location Type (FICM Codes)'!$A$7:$B$188,2,FALSE)","v":{"$error":"#N/A"}},null,null,null,null,null,{"$f":"VLOOKUP(G155:G10153,'Location Type (FICM Codes)'!$A$7:$C$188,3,FALSE)","v":{"$error":"#N/A"}}]
[null,null,null,null,null,null,null,{"$f":"VLOOKUP($G$2:$G$50000,'Location Type (FICM Codes)'!$A$7:$B$188,2,FALSE)","v":{"$error":"#N/A"}},null,null,null,null,null,{"$f":"VLOOKUP(G156:G10154,'Location Type (FICM Codes)'!$A$7:$C$188,3,FALSE)","v":{"$error":"#N/A"}}]
[null,null,null,null,null,null,null,{"$f":"VLOOKUP($G$2:$G$50000,'Location Type (FICM Codes)'!$A$7:$B$188,2,FALSE)","v":{"$error":"#N/A"}},null,null,null,null,null,{"$f":"VLOOKUP(G157:G10155,'Location Type (FICM Codes)'!$A$7:$C$188,3,FALSE)","v":{"$error":"#N/A"}}]
[null,null,null,null,null,null,null,{"$f":"VLOOKUP($G$2:$G$50000,'Location Type (FICM Codes)'!$A$7:$B$188,2,FALSE)","v":{"$error":"#N/A"}},null,null,null,null,null,{"$f":"VLOOKUP(G158:G10156,'Location Type (FICM Codes)'!$A$7:$C$188,3,FALSE)","v":{"$error":"#N/A"}}]
[null,null,null,null,null,null,null,{"$f":"VLOOKUP($G$2:$G$50000,'Location Type (FICM Codes)'!$A$7:$B$188,2,FALSE)","v":{"$error":"#N/A"}},null,null,null,null,null,{"$f":"VLOOKUP(G159:G10157,'Location Type (FICM Codes)'!$A$7:$C$188,3,FALSE)","v":{"$error":"#N/A"}}]
[null,null,null,null,null,null,null,{"$f":"VLOOKUP($G$2:$G$50000,'Location Type (FICM Codes)'!$A$7:$B$188,2,FALSE)","v":{"$error":"#N/A"}},null,null,null,null,null,{"$f":"VLOOKUP(G160:G10158,'Location Type (FICM Codes)'!$A$7:$C$188,3,FALSE)","v":{"$error":"#N/A"}}]
[null,null,null,null,null,null,null,{"$f":"VLOOKUP($G$2:$G$50000,'Location Type (FICM Codes)'!$A$7:$B$188,2,FALSE)","v":{"$error":"#N/A"}},null,null,null,null,null,{"$f":"VLOOKUP(G161:G10159,'Location Type (FICM Codes)'!$A$7:$C$188,3,FALSE)","v":{"$error":"#N/A"}}]
[null,null,null,null,null,null,null,{"$f":"VLOOKUP($G$2:$G$50000,'Location Type (FICM Codes)'!$A$7:$B$188,2,FALSE)","v":{"$error":"#N/A"}},null,null,null,null,null,{"$f":"VLOOKUP(G162:G10160,'Location Type (FICM Codes)'!$A$7:$C$188,3,FALSE)","v":{"$error":"#N/A"}}]
[null,null,null,null,null,null,null,{"$f":"VLOOKUP($G$2:$G$50000,'Location Type (FICM Codes)'!$A$7:$B$188,2,FALSE)","v":{"$error":"#N/A"}},null,null,null,null,null,{"$f":"VLOOKUP(G163:G10161,'Location Type (FICM Codes)'!$A$7:$C$188,3,FALSE)","v":{"$error":"#N/A"}}]
[null,null,null,null,null,null,null,{"$f":"VLOOKUP($G$2:$G$50000,'Location Type (FICM Codes)'!$A$7:$B$188,2,FALSE)","v":{"$error":"#N/A"}},null,null,null,null,null,{"$f":"VLOOKUP(G164:G10162,'Location Type (FICM Codes)'!$A$7:$C$188,3,FALSE)","v":{"$error":"#N/A"}}]
[null,null,null,null,null,null,null,{"$f":"VLOOKUP($G$2:$G$50000,'Location Type (FICM Codes)'!$A$7:$B$188,2,FALSE)","v":{"$error":"#N/A"}},null,null,null,null,null,{"$f":"VLOOKUP(G165:G10163,'Location Type (FICM Codes)'!$A$7:$C$188,3,FALSE)","v":{"$error":"#N/A"}}]
[null,null,null,null,null,null,null,{"$f":"VLOOKUP($G$2:$G$50000,'Location Type (FICM Codes)'!$A$7:$B$188,2,FALSE)","v":{"$error":"#N/A"}},null,null,null,null,null,{"$f":"VLOOKUP(G166:G10164,'Location Type (FICM Codes)'!$A$7:$C$188,3,FALSE)","v":{"$error":"#N/A"}}]
[null,null,null,null,null,null,null,{"$f":"VLOOKUP($G$2:$G$50000,'Location Type (FICM Codes)'!$A$7:$B$188,2,FALSE)","v":{"$error":"#N/A"}},null,null,null,null,null,{"$f":"VLOOKUP(G167:G10165,'Location Type (FICM Codes)'!$A$7:$C$188,3,FALSE)","v":{"$error":"#N/A"}}]
[null,null,null,null,null,null,null,{"$f":"VLOOKUP($G$2:$G$50000,'Location Type (FICM Codes)'!$A$7:$B$188,2,FALSE)","v":{"$error":"#N/A"}},null,null,null,null,null,{"$f":"VLOOKUP(G168:G10166,'Location Type (FICM Codes)'!$A$7:$C$188,3,FALSE)","v":{"$error":"#N/A"}}]
[null,null,null,null,null,null,null,{"$f":"VLOOKUP($G$2:$G$50000,'Location Type (FICM Codes)'!$A$7:$B$188,2,FALSE)","v":{"$error":"#N/A"}},null,null,null,null,null,{"$f":"VLOOKUP(G169:G10167,'Location Type (FICM Codes)'!$A$7:$C$188,3,FALSE)","v":{"$error":"#N/A"}}]
[null,null,null,null,null,null,null,{"$f":"VLOOKUP($G$2:$G$50000,'Location Type (FICM Codes)'!$A$7:$B$188,2,FALSE)","v":{"$error":"#N/A"}},null,null,null,null,null,{"$f":"VLOOKUP(G170:G10168,'Location Type (FICM Codes)'!$A$7:$C$188,3,FALSE)","v":{"$error":"#N/A"}}]
[null,null,null,null,null,null,null,{"$f":"VLOOKUP($G$2:$G$50000,'Location Type (FICM Codes)'!$A$7:$B$188,2,FALSE)","v":{"$error":"#N/A"}},null,null,null,null,null,{"$f":"VLOOKUP(G171:G10169,'Location Type (FICM Codes)'!$A$7:$C$188,3,FALSE)","v":{"$error":"#N/A"}}]
[null,null,null,null,null,null,null,{"$f":"VLOOKUP($G$2:$G$50000,'Location Type (FICM Codes)'!$A$7:$B$188,2,FALSE)","v":{"$error":"#N/A"}},null,null,null,null,null,{"$f":"VLOOKUP(G172:G10170,'Location Type (FICM Codes)'!$A$7:$C$188,3,FALSE)","v":{"$error":"#N/A"}}]
[null,null,null,null,null,null,null,{"$f":"VLOOKUP($G$2:$G$50000,'Location Type (FICM Codes)'!$A$7:$B$188,2,FALSE)","v":{"$error":"#N/A"}},null,null,null,null,null,{"$f":"VLOOKUP(G173:G10171,'Location Type (FICM Codes)'!$A$7:$C$188,3,FALSE)","v":{"$error":"#N/A"}}]
[null,null,null,null,null,null,null,{"$f":"VLOOKUP($G$2:$G$50000,'Location Type (FICM Codes)'!$A$7:$B$188,2,FALSE)","v":{"$error":"#N/A"}},null,null,null,null,null,{"$f":"VLOOKUP(G174:G10172,'Location Type (FICM Codes)'!$A$7:$C$188,3,FALSE)","v":{"$error":"#N/A"}}]
[null,null,null,null,null,null,null,{"$f":"VLOOKUP($G$2:$G$50000,'Location Type (FICM Codes)'!$A$7:$B$188,2,FALSE)","v":{"$error":"#N/A"}},null,null,null,null,null,{"$f":"VLOOKUP(G175:G10173,'Location Type (FICM Codes)'!$A$7:$C$188,3,FALSE)","v":{"$error":"#N/A"}}]
[null,null,null,null,null,null,null,{"$f":"VLOOKUP($G$2:$G$50000,'Location Type (FICM Codes)'!$A$7:$B$188,2,FALSE)","v":{"$error":"#N/A"}},null,null,null,null,null,{"$f":"VLOOKUP(G176:G10174,'Location Type (FICM Codes)'!$A$7:$C$188,3,FALSE)","v":{"$error":"#N/A"}}]
[null,null,null,null,null,null,null,{"$f":"VLOOKUP($G$2:$G$50000,'Location Type (FICM Codes)'!$A$7:$B$188,2,FALSE)","v":{"$error":"#N/A"}},null,null,null,null,null,{"$f":"VLOOKUP(G177:G10175,'Location Type (FICM Codes)'!$A$7:$C$188,3,FALSE)","v":{"$error":"#N/A"}}]
[null,null,null,null,null,null,null,{"$f":"VLOOKUP($G$2:$G$50000,'Location Type (FICM Codes)'!$A$7:$B$188,2,FALSE)","v":{"$error":"#N/A"}},null,null,null,null,null,{"$f":"VLOOKUP(G178:G10176,'Location Type (FICM Codes)'!$A$7:$C$188,3,FALSE)","v":{"$error":"#N/A"}}]
[null,null,null,null,null,null,null,{"$f":"VLOOKUP($G$2:$G$50000,'Location Type (FICM Codes)'!$A$7:$B$188,2,FALSE)","v":{"$error":"#N/A"}},null,null,null,null,null,{"$f":"VLOOKUP(G179:G10177,'Location Type (FICM Codes)'!$A$7:$C$188,3,FALSE)","v":{"$error":"#N/A"}}]
[null,null,null,null,null,null,null,{"$f":"VLOOKUP($G$2:$G$50000,'Location Type (FICM Codes)'!$A$7:$B$188,2,FALSE)","v":{"$error":"#N/A"}},null,null,null,null,null,{"$f":"VLOOKUP(G180:G10178,'Location Type (FICM Codes)'!$A$7:$C$188,3,FALSE)","v":{"$error":"#N/A"}}]
[null,null,null,null,null,null,null,{"$f":"VLOOKUP($G$2:$G$50000,'Location Type (FICM Codes)'!$A$7:$B$188,2,FALSE)","v":{"$error":"#N/A"}},null,null,null,null,null,{"$f":"VLOOKUP(G181:G10179,'Location Type (FICM Codes)'!$A$7:$C$188,3,FALSE)","v":{"$error":"#N/A"}}]
[null,null,null,null,null,null,null,{"$f":"VLOOKUP($G$2:$G$50000,'Location Type (FICM Codes)'!$A$7:$B$188,2,FALSE)","v":{"$error":"#N/A"}},null,null,null,null,null,{"$f":"VLOOKUP(G182:G10180,'Location Type (FICM Codes)'!$A$7:$C$188,3,FALSE)","v":{"$error":"#N/A"}}]
[null,null,null,null,null,null,null,{"$f":"VLOOKUP($G$2:$G$50000,'Location Type (FICM Codes)'!$A$7:$B$188,2,FALSE)","v":{"$error":"#N/A"}},null,null,null,null,null,{"$f":"VLOOKUP(G183:G10181,'Location Type (FICM Codes)'!$A$7:$C$188,3,FALSE)","v":{"$error":"#N/A"}}]
[null,null,null,null,null,null,null,{"$f":"VLOOKUP($G$2:$G$50000,'Location Type (FICM Codes)'!$A$7:$B$188,2,FALSE)","v":{"$error":"#N/A"}},null,null,null,null,null,{"$f":"VLOOKUP(G184:G10182,'Location Type (FICM Codes)'!$A$7:$C$188,3,FALSE)","v":{"$error":"#N/A"}}]
[null,null,null,null,null,null,null,{"$f":"VLOOKUP($G$2:$G$50000,'Location Type (FICM Codes)'!$A$7:$B$188,2,FALSE)","v":{"$error":"#N/A"}},null,null,null,null,null,{"$f":"VLOOKUP(G185:G10183,'Location Type (FICM Codes)'!$A$7:$C$188,3,FALSE)","v":{"$error":"#N/A"}}]
[null,null,null,null,null,null,null,{"$f":"VLOOKUP($G$2:$G$50000,'Location Type (FICM Codes)'!$A$7:$B$188,2,FALSE)","v":{"$error":"#N/A"}},null,null,null,null,null,{"$f":"VLOOKUP(G186:G10184,'Location Type (FICM Codes)'!$A$7:$C$188,3,FALSE)","v":{"$error":"#N/A"}}]
[null,null,null,null,null,null,null,{"$f":"VLOOKUP($G$2:$G$50000,'Location Type (FICM Codes)'!$A$7:$B$188,2,FALSE)","v":{"$error":"#N/A"}},null,null,null,null,null,{"$f":"VLOOKUP(G187:G10185,'Location Type (FICM Codes)'!$A$7:$C$188,3,FALSE)","v":{"$error":"#N/A"}}]
[null,null,null,null,null,null,null,{"$f":"VLOOKUP($G$2:$G$50000,'Location Type (FICM Codes)'!$A$7:$B$188,2,FALSE)","v":{"$error":"#N/A"}},null,null,null,null,null,{"$f":"VLOOKUP(G188:G10186,'Location Type (FICM Codes)'!$A$7:$C$188,3,FALSE)","v":{"$error":"#N/A"}}]
[null,null,null,null,null,null,null,{"$f":"VLOOKUP($G$2:$G$50000,'Location Type (FICM Codes)'!$A$7:$B$188,2,FALSE)","v":{"$error":"#N/A"}},null,null,null,null,null,{"$f":"VLOOKUP(G189:G10187,'Location Type (FICM Codes)'!$A$7:$C$188,3,FALSE)","v":{"$error":"#N/A"}}]
[null,null,null,null,null,null,null,{"$f":"VLOOKUP($G$2:$G$50000,'Location Type (FICM Codes)'!$A$7:$B$188,2,FALSE)","v":{"$error":"#N/A"}},null,null,null,null,null,{"$f":"VLOOKUP(G190:G10188,'Location Type (FICM Codes)'!$A$7:$C$188,3,FALSE)","v":{"$error":"#N/A"}}]
[null,null,null,null,null,null,null,{"$f":"VLOOKUP($G$2:$G$50000,'Location Type (FICM Codes)'!$A$7:$B$188,2,FALSE)","v":{"$error":"#N/A"}},null,null,null,null,null,{"$f":"VLOOKUP(G191:G10189,'Location Type (FICM Codes)'!$A$7:$C$188,3,FALSE)","v":{"$error":"#N/A"}}]
[null,null,null,null,null,null,null,{"$f":"VLOOKUP($G$2:$G$50000,'Location Type (FICM Codes)'!$A$7:$B$188,2,FALSE)","v":{"$error":"#N/A"}},null,null,null,null,null,{"$f":"VLOOKUP(G192:G10190,'Location Type (FICM Codes)'!$A$7:$C$188,3,FALSE)","v":{"$error":"#N/A"}}]
[null,null,null,null,null,null,null,{"$f":"VLOOKUP($G$2:$G$50000,'Location Type (FICM Codes)'!$A$7:$B$188,2,FALSE)","v":{"$error":"#N/A"}},null,null,null,null,null,{"$f":"VLOOKUP(G193:G10191,'Location Type (FICM Codes)'!$A$7:$C$188,3,FALSE)","v":{"$error":"#N/A"}}]
[null,null,null,null,null,null,null,{"$f":"VLOOKUP($G$2:$G$50000,'Location Type (FICM Codes)'!$A$7:$B$188,2,FALSE)","v":{"$error":"#N/A"}},null,null,null,null,null,{"$f":"VLOOKUP(G194:G10192,'Location Type (FICM Codes)'!$A$7:$C$188,3,FALSE)","v":{"$error":"#N/A"}}]
[null,null,null,null,null,null,null,{"$f":"VLOOKUP($G$2:$G$50000,'Location Type (FICM Codes)'!$A$7:$B$188,2,FALSE)","v":{"$error":"#N/A"}},null,null,null,null,null,{"$f":"VLOOKUP(G195:G10193,'Location Type (FICM Codes)'!$A$7:$C$188,3,FALSE)","v":{"$error":"#N/A"}}]
[null,null,null,null,null,null,null,{"$f":"VLOOKUP($G$2:$G$50000,'Location Type (FICM Codes)'!$A$7:$B$188,2,FALSE)","v":{"$error":"#N/A"}},null,null,null,null,null,{"$f":"VLOOKUP(G196:G10194,'Location Type (FICM Codes)'!$A$7:$C$188,3,FALSE)","v":{"$error":"#N/A"}}]
[null,null,null,null,null,null,null,{"$f":"VLOOKUP($G$2:$G$50000,'Location Type (FICM Codes)'!$A$7:$B$188,2,FALSE)","v":{"$error":"#N/A"}},null,null,null,null,null,{"$f":"VLOOKUP(G197:G10195,'Location Type (FICM Codes)'!$A$7:$C$188,3,FALSE)","v":{"$error":"#N/A"}}]
[null,null,null,null,null,null,null,{"$f":"VLOOKUP($G$2:$G$50000,'Location Type (FICM Codes)'!$A$7:$B$188,2,FALSE)","v":{"$error":"#N/A"}},null,null,null,null,null,{"$f":"VLOOKUP(G198:G10196,'Location Type (FICM Codes)'!$A$7:$C$188,3,FALSE)","v":{"$error":"#N/A"}}]
[null,null,null,null,null,null,null,{"$f":"VLOOKUP($G$2:$G$50000,'Location Type (FICM Codes)'!$A$7:$B$188,2,FALSE)","v":{"$error":"#N/A"}},null,null,null,null,null,{"$f":"VLOOKUP(G199:G10197,'Location Type (FICM Codes)'!$A$7:$C$188,3,FALSE)","v":{"$error":"#N/A"}}]
[null,null,null,null,null,null,null,{"$f":"VLOOKUP($G$2:$G$50000,'Location Type (FICM Codes)'!$A$7:$B$188,2,FALSE)","v":{"$error":"#N/A"}},null,null,null,null,null,{"$f":"VLOOKUP(G200:G10198,'Location Type (FICM Codes)'!$A$7:$C$188,3,FALSE)","v":{"$error":"#N/A"}}]
[null,null,null,null,null,null,null,{"$f":"VLOOKUP($G$2:$G$50000,'Location Type (FICM Codes)'!$A$7:$B$188,2,FALSE)","v":{"$error":"#N/A"}},null,null,null,null,null,{"$f":"VLOOKUP(G201:G10199,'Location Type (FICM Codes)'!$A$7:$C$188,3,FALSE)","v":{"$error":"#N/A"}}]
[null,null,null,null,null,null,null,{"$f":"VLOOKUP($G$2:$G$50000,'Location Type (FICM Codes)'!$A$7:$B$188,2,FALSE)","v":{"$error":"#N/A"}},null,null,null,null,null,{"$f":"VLOOKUP(G202:G10200,'Location Type (FICM Codes)'!$A$7:$C$188,3,FALSE)","v":{"$error":"#N/A"}}]
[null,null,null,null,null,null,null,{"$f":"VLOOKUP($G$2:$G$50000,'Location Type (FICM Codes)'!$A$7:$B$188,2,FALSE)","v":{"$error":"#N/A"}},null,null,null,null,null,{"$f":"VLOOKUP(G203:G10201,'Location Type (FICM Codes)'!$A$7:$C$188,3,FALSE)","v":{"$error":"#N/A"}}]
[null,null,null,null,null,null,null,{"$f":"VLOOKUP($G$2:$G$50000,'Location Type (FICM Codes)'!$A$7:$B$188,2,FALSE)","v":{"$error":"#N/A"}},null,null,null,null,null,{"$f":"VLOOKUP(G204:G10202,'Location Type (FICM Codes)'!$A$7:$C$188,3,FALSE)","v":{"$error":"#N/A"}}]
[null,null,null,null,null,null,null,{"$f":"VLOOKUP($G$2:$G$50000,'Location Type (FICM Codes)'!$A$7:$B$188,2,FALSE)","v":{"$error":"#N/A"}},null,null,null,null,null,{"$f":"VLOOKUP(G205:G10203,'Location Type (FICM Codes)'!$A$7:$C$188,3,FALSE)","v":{"$error":"#N/A"}}]
[null,null,null,null,null,null,null,{"$f":"VLOOKUP($G$2:$G$50000,'Location Type (FICM Codes)'!$A$7:$B$188,2,FALSE)","v":{"$error":"#N/A"}},null,null,null,null,null,{"$f":"VLOOKUP(G206:G10204,'Location Type (FICM Codes)'!$A$7:$C$188,3,FALSE)","v":{"$error":"#N/A"}}]
[null,null,null,null,null,null,null,{"$f":"VLOOKUP($G$2:$G$50000,'Location Type (FICM Codes)'!$A$7:$B$188,2,FALSE)","v":{"$error":"#N/A"}},null,null,null,null,null,{"$f":"VLOOKUP(G207:G10205,'Location Type (FICM Codes)'!$A$7:$C$188,3,FALSE)","v":{"$error":"#N/A"}}]
[null,null,null,null,null,null,null,{"$f":"VLOOKUP($G$2:$G$50000,'Location Type (FICM Codes)'!$A$7:$B$188,2,FALSE)","v":{"$error":"#N/A"}},null,null,null,null,null,{"$f":"VLOOKUP(G208:G10206,'Location Type (FICM Codes)'!$A$7:$C$188,3,FALSE)","v":{"$error":"#N/A"}}]
[null,null,null,null,null,null,null,{"$f":"VLOOKUP($G$2:$G$50000,'Location Type (FICM Codes)'!$A$7:$B$188,2,FALSE)","v":{"$error":"#N/A"}},null,null,null,null,null,{"$f":"VLOOKUP(G209:G10207,'Location Type (FICM Codes)'!$A$7:$C$188,3,FALSE)","v":{"$error":"#N/A"}}]
[null,null,null,null,null,null,null,{"$f":"VLOOKUP($G$2:$G$50000,'Location Type (FICM Codes)'!$A$7:$B$188,2,FALSE)","v":{"$error":"#N/A"}},null,null,null,null,null,{"$f":"VLOOKUP(G210:G10208,'Location Type (FICM Codes)'!$A$7:$C$188,3,FALSE)","v":{"$error":"#N/A"}}]
[null,null,null,null,null,null,null,{"$f":"VLOOKUP($G$2:$G$50000,'Location Type (FICM Codes)'!$A$7:$B$188,2,FALSE)","v":{"$error":"#N/A"}},null,null,null,null,null,{"$f":"VLOOKUP(G211:G10209,'Location Type (FICM Codes)'!$A$7:$C$188,3,FALSE)","v":{"$error":"#N/A"}}]
[null,null,null,null,null,null,null,{"$f":"VLOOKUP($G$2:$G$50000,'Location Type (FICM Codes)'!$A$7:$B$188,2,FALSE)","v":{"$error":"#N/A"}},null,null,null,null,null,{"$f":"VLOOKUP(G212:G10210,'Location Type (FICM Codes)'!$A$7:$C$188,3,FALSE)","v":{"$error":"#N/A"}}]
[null,null,null,null,null,null,null,{"$f":"VLOOKUP($G$2:$G$50000,'Location Type (FICM Codes)'!$A$7:$B$188,2,FALSE)","v":{"$error":"#N/A"}},null,null,null,null,null,{"$f":"VLOOKUP(G213:G10211,'Location Type (FICM Codes)'!$A$7:$C$188,3,FALSE)","v":{"$error":"#N/A"}}]
[null,null,null,null,null,null,null,{"$f":"VLOOKUP($G$2:$G$50000,'Location Type (FICM Codes)'!$A$7:$B$188,2,FALSE)","v":{"$error":"#N/A"}},null,null,null,null,null,{"$f":"VLOOKUP(G214:G10212,'Location Type (FICM Codes)'!$A$7:$C$188,3,FALSE)","v":{"$error":"#N/A"}}]
[null,null,null,null,null,null,null,{"$f":"VLOOKUP($G$2:$G$50000,'Location Type (FICM Codes)'!$A$7:$B$188,2,FALSE)","v":{"$error":"#N/A"}},null,null,null,null,null,{"$f":"VLOOKUP(G215:G10213,'Location Type (FICM Codes)'!$A$7:$C$188,3,FALSE)","v":{"$error":"#N/A"}}]
[null,null,null,null,null,null,null,{"$f":"VLOOKUP($G$2:$G$50000,'Location Type (FICM Codes)'!$A$7:$B$188,2,FALSE)","v":{"$error":"#N/A"}},null,null,null,null,null,{"$f":"VLOOKUP(G216:G10214,'Location Type (FICM Codes)'!$A$7:$C$188,3,FALSE)","v":{"$error":"#N/A"}}]
[null,null,null,null,null,null,null,{"$f":"VLOOKUP($G$2:$G$50000,'Location Type (FICM Codes)'!$A$7:$B$188,2,FALSE)","v":{"$error":"#N/A"}},null,null,null,null,null,{"$f":"VLOOKUP(G217:G10215,'Location Type (FICM Codes)'!$A$7:$C$188,3,FALSE)","v":{"$error":"#N/A"}}]
[null,null,null,null,null,null,null,{"$f":"VLOOKUP($G$2:$G$50000,'Location Type (FICM Codes)'!$A$7:$B$188,2,FALSE)","v":{"$error":"#N/A"}},null,null,null,null,null,{"$f":"VLOOKUP(G218:G10216,'Location Type (FICM Codes)'!$A$7:$C$188,3,FALSE)","v":{"$error":"#N/A"}}]
[null,null,null,null,null,null,null,{"$f":"VLOOKUP($G$2:$G$50000,'Location Type (FICM Codes)'!$A$7:$B$188,2,FALSE)","v":{"$error":"#N/A"}},null,null,null,null,null,{"$f":"VLOOKUP(G219:G10217,'Location Type (FICM Codes)'!$A$7:$C$188,3,FALSE)","v":{"$error":"#N/A"}}]
[null,null,null,null,null,null,null,{"$f":"VLOOKUP($G$2:$G$50000,'Location Type (FICM Codes)'!$A$7:$B$188,2,FALSE)","v":{"$error":"#N/A"}},null,null,null,null,null,{"$f":"VLOOKUP(G220:G10218,'Location Type (FICM Codes)'!$A$7:$C$188,3,FALSE)","v":{"$error":"#N/A"}}]
[null,null,null,null,null,null,null,{"$f":"VLOOKUP($G$2:$G$50000,'Location Type (FICM Codes)'!$A$7:$B$188,2,FALSE)","v":{"$error":"#N/A"}},null,null,null,null,null,{"$f":"VLOOKUP(G221:G10219,'Location Type (FICM Codes)'!$A$7:$C$188,3,FALSE)","v":{"$error":"#N/A"}}]
[null,null,null,null,null,null,null,{"$f":"VLOOKUP($G$2:$G$50000,'Location Type (FICM Codes)'!$A$7:$B$188,2,FALSE)","v":{"$error":"#N/A"}},null,null,null,null,null,{"$f":"VLOOKUP(G222:G10220,'Location Type (FICM Codes)'!$A$7:$C$188,3,FALSE)","v":{"$error":"#N/A"}}]
[null,null,null,null,null,null,null,{"$f":"VLOOKUP($G$2:$G$50000,'Location Type (FICM Codes)'!$A$7:$B$188,2,FALSE)","v":{"$error":"#N/A"}},null,null,null,null,null,{"$f":"VLOOKUP(G223:G10221,'Location Type (FICM Codes)'!$A$7:$C$188,3,FALSE)","v":{"$error":"#N/A"}}]
[null,null,null,null,null,null,null,{"$f":"VLOOKUP($G$2:$G$50000,'Location Type (FICM Codes)'!$A$7:$B$188,2,FALSE)","v":{"$error":"#N/A"}},null,null,null,null,null,{"$f":"VLOOKUP(G224:G10222,'Location Type (FICM Codes)'!$A$7:$C$188,3,FALSE)","v":{"$error":"#N/A"}}]
[null,null,null,null,null,null,null,{"$f":"VLOOKUP($G$2:$G$50000,'Location Type (FICM Codes)'!$A$7:$B$188,2,FALSE)","v":{"$error":"#N/A"}},null,null,null,null,null,{"$f":"VLOOKUP(G225:G10223,'Location Type (FICM Codes)'!$A$7:$C$188,3,FALSE)","v":{"$error":"#N/A"}}]
[null,null,null,null,null,null,null,{"$f":"VLOOKUP($G$2:$G$50000,'Location Type (FICM Codes)'!$A$7:$B$188,2,FALSE)","v":{"$error":"#N/A"}},null,null,null,null,null,{"$f":"VLOOKUP(G226:G10224,'Location Type (FICM Codes)'!$A$7:$C$188,3,FALSE)","v":{"$error":"#N/A"}}]
[null,null,null,null,null,null,null,{"$f":"VLOOKUP($G$2:$G$50000,'Location Type (FICM Codes)'!$A$7:$B$188,2,FALSE)","v":{"$error":"#N/A"}},null,null,null,null,null,{"$f":"VLOOKUP(G227:G10225,'Location Type (FICM Codes)'!$A$7:$C$188,3,FALSE)","v":{"$error":"#N/A"}}]
[null,null,null,null,null,null,null,{"$f":"VLOOKUP($G$2:$G$50000,'Location Type (FICM Codes)'!$A$7:$B$188,2,FALSE)","v":{"$error":"#N/A"}},null,null,null,null,null,{"$f":"VLOOKUP(G228:G10226,'Location Type (FICM Codes)'!$A$7:$C$188,3,FALSE)","v":{"$error":"#N/A"}}]
[null,null,null,null,null,null,null,{"$f":"VLOOKUP($G$2:$G$50000,'Location Type (FICM Codes)'!$A$7:$B$188,2,FALSE)","v":{"$error":"#N/A"}},null,null,null,null,null,{"$f":"VLOOKUP(G229:G10227,'Location Type (FICM Codes)'!$A$7:$C$188,3,FALSE)","v":{"$error":"#N/A"}}]
[null,null,null,null,null,null,null,{"$f":"VLOOKUP($G$2:$G$50000,'Location Type (FICM Codes)'!$A$7:$B$188,2,FALSE)","v":{"$error":"#N/A"}},null,null,null,null,null,{"$f":"VLOOKUP(G230:G10228,'Location Type (FICM Codes)'!$A$7:$C$188,3,FALSE)","v":{"$error":"#N/A"}}]
[null,null,null,null,null,null,null,{"$f":"VLOOKUP($G$2:$G$50000,'Location Type (FICM Codes)'!$A$7:$B$188,2,FALSE)","v":{"$error":"#N/A"}},null,null,null,null,null,{"$f":"VLOOKUP(G231:G10229,'Location Type (FICM Codes)'!$A$7:$C$188,3,FALSE)","v":{"$error":"#N/A"}}]
[null,null,null,null,null,null,null,{"$f":"VLOOKUP($G$2:$G$50000,'Location Type (FICM Codes)'!$A$7:$B$188,2,FALSE)","v":{"$error":"#N/A"}},null,null,null,null,null,{"$f":"VLOOKUP(G232:G10230,'Location Type (FICM Codes)'!$A$7:$C$188,3,FALSE)","v":{"$error":"#N/A"}}]
[null,null,null,null,null,null,null,{"$f":"VLOOKUP($G$2:$G$50000,'Location Type (FICM Codes)'!$A$7:$B$188,2,FALSE)","v":{"$error":"#N/A"}},null,null,null,null,null,{"$f":"VLOOKUP(G233:G10231,'Location Type (FICM Codes)'!$A$7:$C$188,3,FALSE)","v":{"$error":"#N/A"}}]
[null,null,null,null,null,null,null,{"$f":"VLOOKUP($G$2:$G$50000,'Location Type (FICM Codes)'!$A$7:$B$188,2,FALSE)","v":{"$error":"#N/A"}},null,null,null,null,null,{"$f":"VLOOKUP(G234:G10232,'Location Type (FICM Codes)'!$A$7:$C$188,3,FALSE)","v":{"$error":"#N/A"}}]
[null,null,null,null,null,null,null,{"$f":"VLOOKUP($G$2:$G$50000,'Location Type (FICM Codes)'!$A$7:$B$188,2,FALSE)","v":{"$error":"#N/A"}},null,null,null,null,null,{"$f":"VLOOKUP(G235:G10233,'Location Type (FICM Codes)'!$A$7:$C$188,3,FALSE)","v":{"$error":"#N/A"}}]
[null,null,null,null,null,null,null,{"$f":"VLOOKUP($G$2:$G$50000,'Location Type (FICM Codes)'!$A$7:$B$188,2,FALSE)","v":{"$error":"#N/A"}},null,null,null,null,null,{"$f":"VLOOKUP(G236:G10234,'Location Type (FICM Codes)'!$A$7:$C$188,3,FALSE)","v":{"$error":"#N/A"}}]
[null,null,null,null,null,null,null,{"$f":"VLOOKUP($G$2:$G$50000,'Location Type (FICM Codes)'!$A$7:$B$188,2,FALSE)","v":{"$error":"#N/A"}},null,null,null,null,null,{"$f":"VLOOKUP(G237:G10235,'Location Type (FICM Codes)'!$A$7:$C$188,3,FALSE)","v":{"$error":"#N/A"}}]
[null,null,null,null,null,null,null,{"$f":"VLOOKUP($G$2:$G$50000,'Location Type (FICM Codes)'!$A$7:$B$188,2,FALSE)","v":{"$error":"#N/A"}},null,null,null,null,null,{"$f":"VLOOKUP(G238:G10236,'Location Type (FICM Codes)'!$A$7:$C$188,3,FALSE)","v":{"$error":"#N/A"}}]
[null,null,null,null,null,null,null,{"$f":"VLOOKUP($G$2:$G$50000,'Location Type (FICM Codes)'!$A$7:$B$188,2,FALSE)","v":{"$error":"#N/A"}},null,null,null,null,null,{"$f":"VLOOKUP(G239:G10237,'Location Type (FICM Codes)'!$A$7:$C$188,3,FALSE)","v":{"$error":"#N/A"}}]
[null,null,null,null,null,null,null,{"$f":"VLOOKUP($G$2:$G$50000,'Location Type (FICM Codes)'!$A$7:$B$188,2,FALSE)","v":{"$error":"#N/A"}},null,null,null,null,null,{"$f":"VLOOKUP(G240:G10238,'Location Type (FICM Codes)'!$A$7:$C$188,3,FALSE)","v":{"$error":"#N/A"}}]
[null,null,null,null,null,null,null,{"$f":"VLOOKUP($G$2:$G$50000,'Location Type (FICM Codes)'!$A$7:$B$188,2,FALSE)","v":{"$error":"#N/A"}},null,null,null,null,null,{"$f":"VLOOKUP(G241:G10239,'Location Type (FICM Codes)'!$A$7:$C$188,3,FALSE)","v":{"$error":"#N/A"}}]
[null,null,null,null,null,null,null,{"$f":"VLOOKUP($G$2:$G$50000,'Location Type (FICM Codes)'!$A$7:$B$188,2,FALSE)","v":{"$error":"#N/A"}},null,null,null,null,null,{"$f":"VLOOKUP(G242:G10240,'Location Type (FICM Codes)'!$A$7:$C$188,3,FALSE)","v":{"$error":"#N/A"}}]
[null,null,null,null,null,null,null,{"$f":"VLOOKUP($G$2:$G$50000,'Location Type (FICM Codes)'!$A$7:$B$188,2,FALSE)","v":{"$error":"#N/A"}},null,null,null,null,null,{"$f":"VLOOKUP(G243:G10241,'Location Type (FICM Codes)'!$A$7:$C$188,3,FALSE)","v":{"$error":"#N/A"}}]
[null,null,null,null,null,null,null,{"$f":"VLOOKUP($G$2:$G$50000,'Location Type (FICM Codes)'!$A$7:$B$188,2,FALSE)","v":{"$error":"#N/A"}},null,null,null,null,null,{"$f":"VLOOKUP(G244:G10242,'Location Type (FICM Codes)'!$A$7:$C$188,3,FALSE)","v":{"$error":"#N/A"}}]
[null,null,null,null,null,null,null,{"$f":"VLOOKUP($G$2:$G$50000,'Location Type (FICM Codes)'!$A$7:$B$188,2,FALSE)","v":{"$error":"#N/A"}},null,null,null,null,null,{"$f":"VLOOKUP(G245:G10243,'Location Type (FICM Codes)'!$A$7:$C$188,3,FALSE)","v":{"$error":"#N/A"}}]
[null,null,null,null,null,null,null,{"$f":"VLOOKUP($G$2:$G$50000,'Location Type (FICM Codes)'!$A$7:$B$188,2,FALSE)","v":{"$error":"#N/A"}},null,null,null,null,null,{"$f":"VLOOKUP(G246:G10244,'Location Type (FICM Codes)'!$A$7:$C$188,3,FALSE)","v":{"$error":"#N/A"}}]
[null,null,null,null,null,null,null,{"$f":"VLOOKUP($G$2:$G$50000,'Location Type (FICM Codes)'!$A$7:$B$188,2,FALSE)","v":{"$error":"#N/A"}},null,null,null,null,null,{"$f":"VLOOKUP(G247:G10245,'Location Type (FICM Codes)'!$A$7:$C$188,3,FALSE)","v":{"$error":"#N/A"}}]
[null,null,null,null,null,null,null,{"$f":"VLOOKUP($G$2:$G$50000,'Location Type (FICM Codes)'!$A$7:$B$188,2,FALSE)","v":{"$error":"#N/A"}},null,null,null,null,null,{"$f":"VLOOKUP(G248:G10246,'Location Type (FICM Codes)'!$A$7:$C$188,3,FALSE)","v":{"$error":"#N/A"}}]
[null,null,null,null,null,null,null,{"$f":"VLOOKUP($G$2:$G$50000,'Location Type (FICM Codes)'!$A$7:$B$188,2,FALSE)","v":{"$error":"#N/A"}},null,null,null,null,null,{"$f":"VLOOKUP(G249:G10247,'Location Type (FICM Codes)'!$A$7:$C$188,3,FALSE)","v":{"$error":"#N/A"}}]
[null,null,null,null,null,null,null,{"$f":"VLOOKUP($G$2:$G$50000,'Location Type (FICM Codes)'!$A$7:$B$188,2,FALSE)","v":{"$error":"#N/A"}},null,null,null,null,null,{"$f":"VLOOKUP(G250:G10248,'Location Type (FICM Codes)'!$A$7:$C$188,3,FALSE)","v":{"$error":"#N/A"}}]
[null,null,null,null,null,null,null,{"$f":"VLOOKUP($G$2:$G$50000,'Location Type (FICM Codes)'!$A$7:$B$188,2,FALSE)","v":{"$error":"#N/A"}},null,null,null,null,null,{"$f":"VLOOKUP(G251:G10249,'Location Type (FICM Codes)'!$A$7:$C$188,3,FALSE)","v":{"$error":"#N/A"}}]
[null,null,null,null,null,null,null,{"$f":"VLOOKUP($G$2:$G$50000,'Location Type (FICM Codes)'!$A$7:$B$188,2,FALSE)","v":{"$error":"#N/A"}},null,null,null,null,null,{"$f":"VLOOKUP(G252:G10250,'Location Type (FICM Codes)'!$A$7:$C$188,3,FALSE)","v":{"$error":"#N/A"}}]
[null,null,null,null,null,null,null,{"$f":"VLOOKUP($G$2:$G$50000,'Location Type (FICM Codes)'!$A$7:$B$188,2,FALSE)","v":{"$error":"#N/A"}},null,null,null,null,null,{"$f":"VLOOKUP(G253:G10251,'Location Type (FICM Codes)'!$A$7:$C$188,3,FALSE)","v":{"$error":"#N/A"}}]
[null,null,null,null,null,null,null,{"$f":"VLOOKUP($G$2:$G$50000,'Location Type (FICM Codes)'!$A$7:$B$188,2,FALSE)","v":{"$error":"#N/A"}},null,null,null,null,null,{"$f":"VLOOKUP(G254:G10252,'Location Type (FICM Codes)'!$A$7:$C$188,3,FALSE)","v":{"$error":"#N/A"}}]
[null,null,null,null,null,null,null,{"$f":"VLOOKUP($G$2:$G$50000,'Location Type (FICM Codes)'!$A$7:$B$188,2,FALSE)","v":{"$error":"#N/A"}},null,null,null,null,null,{"$f":"VLOOKUP(G255:G10253,'Location Type (FICM Codes)'!$A$7:$C$188,3,FALSE)","v":{"$error":"#N/A"}}]
[null,null,null,null,null,null,null,{"$f":"VLOOKUP($G$2:$G$50000,'Location Type (FICM Codes)'!$A$7:$B$188,2,FALSE)","v":{"$error":"#N/A"}},null,null,null,null,null,{"$f":"VLOOKUP(G256:G10254,'Location Type (FICM Codes)'!$A$7:$C$188,3,FALSE)","v":{"$error":"#N/A"}}]
[null,null,null,null,null,null,null,{"$f":"VLOOKUP($G$2:$G$50000,'Location Type (FICM Codes)'!$A$7:$B$188,2,FALSE)","v":{"$error":"#N/A"}},null,null,null,null,null,{"$f":"VLOOKUP(G257:G10255,'Location Type (FICM Codes)'!$A$7:$C$188,3,FALSE)","v":{"$error":"#N/A"}}]
[null,null,null,null,null,null,null,{"$f":"VLOOKUP($G$2:$G$50000,'Location Type (FICM Codes)'!$A$7:$B$188,2,FALSE)","v":{"$error":"#N/A"}},null,null,null,null,null,{"$f":"VLOOKUP(G258:G10256,'Location Type (FICM Codes)'!$A$7:$C$188,3,FALSE)","v":{"$error":"#N/A"}}]
[null,null,null,null,null,null,null,{"$f":"VLOOKUP($G$2:$G$50000,'Location Type (FICM Codes)'!$A$7:$B$188,2,FALSE)","v":{"$error":"#N/A"}},null,null,null,null,null,{"$f":"VLOOKUP(G259:G10257,'Location Type (FICM Codes)'!$A$7:$C$188,3,FALSE)","v":{"$error":"#N/A"}}]
[null,null,null,null,null,null,null,{"$f":"VLOOKUP($G$2:$G$50000,'Location Type (FICM Codes)'!$A$7:$B$188,2,FALSE)","v":{"$error":"#N/A"}},null,null,null,null,null,{"$f":"VLOOKUP(G260:G10258,'Location Type (FICM Codes)'!$A$7:$C$188,3,FALSE)","v":{"$error":"#N/A"}}]
[null,null,null,null,null,null,null,{"$f":"VLOOKUP($G$2:$G$50000,'Location Type (FICM Codes)'!$A$7:$B$188,2,FALSE)","v":{"$error":"#N/A"}},null,null,null,null,null,{"$f":"VLOOKUP(G261:G10259,'Location Type (FICM Codes)'!$A$7:$C$188,3,FALSE)","v":{"$error":"#N/A"}}]
[null,null,null,null,null,null,null,{"$f":"VLOOKUP($G$2:$G$50000,'Location Type (FICM Codes)'!$A$7:$B$188,2,FALSE)","v":{"$error":"#N/A"}},null,null,null,null,null,{"$f":"VLOOKUP(G262:G10260,'Location Type (FICM Codes)'!$A$7:$C$188,3,FALSE)","v":{"$error":"#N/A"}}]
[null,null,null,null,null,null,null,{"$f":"VLOOKUP($G$2:$G$50000,'Location Type (FICM Codes)'!$A$7:$B$188,2,FALSE)","v":{"$error":"#N/A"}},null,null,null,null,null,{"$f":"VLOOKUP(G263:G10261,'Location Type (FICM Codes)'!$A$7:$C$188,3,FALSE)","v":{"$error":"#N/A"}}]
[null,null,null,null,null,null,null,{"$f":"VLOOKUP($G$2:$G$50000,'Location Type (FICM Codes)'!$A$7:$B$188,2,FALSE)","v":{"$error":"#N/A"}},null,null,null,null,null,{"$f":"VLOOKUP(G264:G10262,'Location Type (FICM Codes)'!$A$7:$C$188,3,FALSE)","v":{"$error":"#N/A"}}]
[null,null,null,null,null,null,null,{"$f":"VLOOKUP($G$2:$G$50000,'Location Type (FICM Codes)'!$A$7:$B$188,2,FALSE)","v":{"$error":"#N/A"}},null,null,null,null,null,{"$f":"VLOOKUP(G265:G10263,'Location Type (FICM Codes)'!$A$7:$C$188,3,FALSE)","v":{"$error":"#N/A"}}]
[null,null,null,null,null,null,null,{"$f":"VLOOKUP($G$2:$G$50000,'Location Type (FICM Codes)'!$A$7:$B$188,2,FALSE)","v":{"$error":"#N/A"}},null,null,null,null,null,{"$f":"VLOOKUP(G266:G10264,'Location Type (FICM Codes)'!$A$7:$C$188,3,FALSE)","v":{"$error":"#N/A"}}]
[null,null,null,null,null,null,null,{"$f":"VLOOKUP($G$2:$G$50000,'Location Type (FICM Codes)'!$A$7:$B$188,2,FALSE)","v":{"$error":"#N/A"}},null,null,null,null,null,{"$f":"VLOOKUP(G267:G10265,'Location Type (FICM Codes)'!$A$7:$C$188,3,FALSE)","v":{"$error":"#N/A"}}]
[null,null,null,null,null,null,null,{"$f":"VLOOKUP($G$2:$G$50000,'Location Type (FICM Codes)'!$A$7:$B$188,2,FALSE)","v":{"$error":"#N/A"}},null,null,null,null,null,{"$f":"VLOOKUP(G268:G10266,'Location Type (FICM Codes)'!$A$7:$C$188,3,FALSE)","v":{"$error":"#N/A"}}]
[null,null,null,null,null,null,null,{"$f":"VLOOKUP($G$2:$G$50000,'Location Type (FICM Codes)'!$A$7:$B$188,2,FALSE)","v":{"$error":"#N/A"}},null,null,null,null,null,{"$f":"VLOOKUP(G269:G10267,'Location Type (FICM Codes)'!$A$7:$C$188,3,FALSE)","v":{"$error":"#N/A"}}]
[null,null,null,null,null,null,null,{"$f":"VLOOKUP($G$2:$G$50000,'Location Type (FICM Codes)'!$A$7:$B$188,2,FALSE)","v":{"$error":"#N/A"}},null,null,null,null,null,{"$f":"VLOOKUP(G270:G10268,'Location Type (FICM Codes)'!$A$7:$C$188,3,FALSE)","v":{"$error":"#N/A"}}]
[null,null,null,null,null,null,null,{"$f":"VLOOKUP($G$2:$G$50000,'Location Type (FICM Codes)'!$A$7:$B$188,2,FALSE)","v":{"$error":"#N/A"}},null,null,null,null,null,{"$f":"VLOOKUP(G271:G10269,'Location Type (FICM Codes)'!$A$7:$C$188,3,FALSE)","v":{"$error":"#N/A"}}]
[null,null,null,null,null,null,null,{"$f":"VLOOKUP($G$2:$G$50000,'Location Type (FICM Codes)'!$A$7:$B$188,2,FALSE)","v":{"$error":"#N/A"}},null,null,null,null,null,{"$f":"VLOOKUP(G272:G10270,'Location Type (FICM Codes)'!$A$7:$C$188,3,FALSE)","v":{"$error":"#N/A"}}]
[null,null,null,null,null,null,null,{"$f":"VLOOKUP($G$2:$G$50000,'Location Type (FICM Codes)'!$A$7:$B$188,2,FALSE)","v":{"$error":"#N/A"}},null,null,null,null,null,{"$f":"VLOOKUP(G273:G10271,'Location Type (FICM Codes)'!$A$7:$C$188,3,FALSE)","v":{"$error":"#N/A"}}]
[null,null,null,null,null,null,null,{"$f":"VLOOKUP($G$2:$G$50000,'Location Type (FICM Codes)'!$A$7:$B$188,2,FALSE)","v":{"$error":"#N/A"}},null,null,null,null,null,{"$f":"VLOOKUP(G274:G10272,'Location Type (FICM Codes)'!$A$7:$C$188,3,FALSE)","v":{"$error":"#N/A"}}]
[null,null,null,null,null,null,null,{"$f":"VLOOKUP($G$2:$G$50000,'Location Type (FICM Codes)'!$A$7:$B$188,2,FALSE)","v":{"$error":"#N/A"}},null,null,null,null,null,{"$f":"VLOOKUP(G275:G10273,'Location Type (FICM Codes)'!$A$7:$C$188,3,FALSE)","v":{"$error":"#N/A"}}]
[null,null,null,null,null,null,null,{"$f":"VLOOKUP($G$2:$G$50000,'Location Type (FICM Codes)'!$A$7:$B$188,2,FALSE)","v":{"$error":"#N/A"}},null,null,null,null,null,{"$f":"VLOOKUP(G276:G10274,'Location Type (FICM Codes)'!$A$7:$C$188,3,FALSE)","v":{"$error":"#N/A"}}]
[null,null,null,null,null,null,null,{"$f":"VLOOKUP($G$2:$G$50000,'Location Type (FICM Codes)'!$A$7:$B$188,2,FALSE)","v":{"$error":"#N/A"}},null,null,null,null,null,{"$f":"VLOOKUP(G277:G10275,'Location Type (FICM Codes)'!$A$7:$C$188,3,FALSE)","v":{"$error":"#N/A"}}]
[null,null,null,null,null,null,null,{"$f":"VLOOKUP($G$2:$G$50000,'Location Type (FICM Codes)'!$A$7:$B$188,2,FALSE)","v":{"$error":"#N/A"}},null,null,null,null,null,{"$f":"VLOOKUP(G278:G10276,'Location Type (FICM Codes)'!$A$7:$C$188,3,FALSE)","v":{"$error":"#N/A"}}]
[null,null,null,null,null,null,null,{"$f":"VLOOKUP($G$2:$G$50000,'Location Type (FICM Codes)'!$A$7:$B$188,2,FALSE)","v":{"$error":"#N/A"}},null,null,null,null,null,{"$f":"VLOOKUP(G279:G10277,'Location Type (FICM Codes)'!$A$7:$C$188,3,FALSE)","v":{"$error":"#N/A"}}]
[null,null,null,null,null,null,null,{"$f":"VLOOKUP($G$2:$G$50000,'Location Type (FICM Codes)'!$A$7:$B$188,2,FALSE)","v":{"$error":"#N/A"}},null,null,null,null,null,{"$f":"VLOOKUP(G280:G10278,'Location Type (FICM Codes)'!$A$7:$C$188,3,FALSE)","v":{"$error":"#N/A"}}]
[null,null,null,null,null,null,null,{"$f":"VLOOKUP($G$2:$G$50000,'Location Type (FICM Codes)'!$A$7:$B$188,2,FALSE)","v":{"$error":"#N/A"}},null,null,null,null,null,{"$f":"VLOOKUP(G281:G10279,'Location Type (FICM Codes)'!$A$7:$C$188,3,FALSE)","v":{"$error":"#N/A"}}]
[null,null,null,null,null,null,null,{"$f":"VLOOKUP($G$2:$G$50000,'Location Type (FICM Codes)'!$A$7:$B$188,2,FALSE)","v":{"$error":"#N/A"}},null,null,null,null,null,{"$f":"VLOOKUP(G282:G10280,'Location Type (FICM Codes)'!$A$7:$C$188,3,FALSE)","v":{"$error":"#N/A"}}]
[null,null,null,null,null,null,null,{"$f":"VLOOKUP($G$2:$G$50000,'Location Type (FICM Codes)'!$A$7:$B$188,2,FALSE)","v":{"$error":"#N/A"}},null,null,null,null,null,{"$f":"VLOOKUP(G283:G10281,'Location Type (FICM Codes)'!$A$7:$C$188,3,FALSE)","v":{"$error":"#N/A"}}]
[null,null,null,null,null,null,null,{"$f":"VLOOKUP($G$2:$G$50000,'Location Type (FICM Codes)'!$A$7:$B$188,2,FALSE)","v":{"$error":"#N/A"}},null,null,null,null,null,{"$f":"VLOOKUP(G284:G10282,'Location Type (FICM Codes)'!$A$7:$C$188,3,FALSE)","v":{"$error":"#N/A"}}]
[null,null,null,null,null,null,null,{"$f":"VLOOKUP($G$2:$G$50000,'Location Type (FICM Codes)'!$A$7:$B$188,2,FALSE)","v":{"$error":"#N/A"}},null,null,null,null,null,{"$f":"VLOOKUP(G285:G10283,'Location Type (FICM Codes)'!$A$7:$C$188,3,FALSE)","v":{"$error":"#N/A"}}]
[null,null,null,null,null,null,null,{"$f":"VLOOKUP($G$2:$G$50000,'Location Type (FICM Codes)'!$A$7:$B$188,2,FALSE)","v":{"$error":"#N/A"}},null,null,null,null,null,{"$f":"VLOOKUP(G286:G10284,'Location Type (FICM Codes)'!$A$7:$C$188,3,FALSE)","v":{"$error":"#N/A"}}]
[null,null,null,null,null,null,null,{"$f":"VLOOKUP($G$2:$G$50000,'Location Type (FICM Codes)'!$A$7:$B$188,2,FALSE)","v":{"$error":"#N/A"}},null,null,null,null,null,{"$f":"VLOOKUP(G287:G10285,'Location Type (FICM Codes)'!$A$7:$C$188,3,FALSE)","v":{"$error":"#N/A"}}]
[null,null,null,null,null,null,null,{"$f":"VLOOKUP($G$2:$G$50000,'Location Type (FICM Codes)'!$A$7:$B$188,2,FALSE)","v":{"$error":"#N/A"}},null,null,null,null,null,{"$f":"VLOOKUP(G288:G10286,'Location Type (FICM Codes)'!$A$7:$C$188,3,FALSE)","v":{"$error":"#N/A"}}]
[null,null,null,null,null,null,null,{"$f":"VLOOKUP($G$2:$G$50000,'Location Type (FICM Codes)'!$A$7:$B$188,2,FALSE)","v":{"$error":"#N/A"}},null,null,null,null,null,{"$f":"VLOOKUP(G289:G10287,'Location Type (FICM Codes)'!$A$7:$C$188,3,FALSE)","v":{"$error":"#N/A"}}]
[null,null,null,null,null,null,null,{"$f":"VLOOKUP($G$2:$G$50000,'Location Type (FICM Codes)'!$A$7:$B$188,2,FALSE)","v":{"$error":"#N/A"}},null,null,null,null,null,{"$f":"VLOOKUP(G290:G10288,'Location Type (FICM Codes)'!$A$7:$C$188,3,FALSE)","v":{"$error":"#N/A"}}]
[null,null,null,null,null,null,null,{"$f":"VLOOKUP($G$2:$G$50000,'Location Type (FICM Codes)'!$A$7:$B$188,2,FALSE)","v":{"$error":"#N/A"}},null,null,null,null,null,{"$f":"VLOOKUP(G291:G10289,'Location Type (FICM Codes)'!$A$7:$C$188,3,FALSE)","v":{"$error":"#N/A"}}]
[null,null,null,null,null,null,null,{"$f":"VLOOKUP($G$2:$G$50000,'Location Type (FICM Codes)'!$A$7:$B$188,2,FALSE)","v":{"$error":"#N/A"}},null,null,null,null,null,{"$f":"VLOOKUP(G292:G10290,'Location Type (FICM Codes)'!$A$7:$C$188,3,FALSE)","v":{"$error":"#N/A"}}]
[null,null,null,null,null,null,null,{"$f":"VLOOKUP($G$2:$G$50000,'Location Type (FICM Codes)'!$A$7:$B$188,2,FALSE)","v":{"$error":"#N/A"}},null,null,null,null,null,{"$f":"VLOOKUP(G293:G10291,'Location Type (FICM Codes)'!$A$7:$C$188,3,FALSE)","v":{"$error":"#N/A"}}]
[null,null,null,null,null,null,null,{"$f":"VLOOKUP($G$2:$G$50000,'Location Type (FICM Codes)'!$A$7:$B$188,2,FALSE)","v":{"$error":"#N/A"}},null,null,null,null,null,{"$f":"VLOOKUP(G294:G10292,'Location Type (FICM Codes)'!$A$7:$C$188,3,FALSE)","v":{"$error":"#N/A"}}]
[null,null,null,null,null,null,null,{"$f":"VLOOKUP($G$2:$G$50000,'Location Type (FICM Codes)'!$A$7:$B$188,2,FALSE)","v":{"$error":"#N/A"}},null,null,null,null,null,{"$f":"VLOOKUP(G295:G10293,'Location Type (FICM Codes)'!$A$7:$C$188,3,FALSE)","v":{"$error":"#N/A"}}]
[null,null,null,null,null,null,null,{"$f":"VLOOKUP($G$2:$G$50000,'Location Type (FICM Codes)'!$A$7:$B$188,2,FALSE)","v":{"$error":"#N/A"}},null,null,null,null,null,{"$f":"VLOOKUP(G296:G10294,'Location Type (FICM Codes)'!$A$7:$C$188,3,FALSE)","v":{"$error":"#N/A"}}]
[null,null,null,null,null,null,null,{"$f":"VLOOKUP($G$2:$G$50000,'Location Type (FICM Codes)'!$A$7:$B$188,2,FALSE)","v":{"$error":"#N/A"}},null,null,null,null,null,{"$f":"VLOOKUP(G297:G10295,'Location Type (FICM Codes)'!$A$7:$C$188,3,FALSE)","v":{"$error":"#N/A"}}]
[null,null,null,null,null,null,null,{"$f":"VLOOKUP($G$2:$G$50000,'Location Type (FICM Codes)'!$A$7:$B$188,2,FALSE)","v":{"$error":"#N/A"}},null,null,null,null,null,{"$f":"VLOOKUP(G298:G10296,'Location Type (FICM Codes)'!$A$7:$C$188,3,FALSE)","v":{"$error":"#N/A"}}]
[null,null,null,null,null,null,null,{"$f":"VLOOKUP($G$2:$G$50000,'Location Type (FICM Codes)'!$A$7:$B$188,2,FALSE)","v":{"$error":"#N/A"}},null,null,null,null,null,{"$f":"VLOOKUP(G299:G10297,'Location Type (FICM Codes)'!$A$7:$C$188,3,FALSE)","v":{"$error":"#N/A"}}]
[null,null,null,null,null,null,null,{"$f":"VLOOKUP($G$2:$G$50000,'Location Type (FICM Codes)'!$A$7:$B$188,2,FALSE)","v":{"$error":"#N/A"}},null,null,null,null,null,{"$f":"VLOOKUP(G300:G10298,'Location Type (FICM Codes)'!$A$7:$C$188,3,FALSE)","v":{"$error":"#N/A"}}]
[null,null,null,null,null,null,null,{"$f":"VLOOKUP($G$2:$G$50000,'Location Type (FICM Codes)'!$A$7:$B$188,2,FALSE)","v":{"$error":"#N/A"}},null,null,null,null,null,{"$f":"VLOOKUP(G301:G10299,'Location Type (FICM Codes)'!$A$7:$C$188,3,FALSE)","v":{"$error":"#N/A"}}]
[null,null,null,null,null,null,null,{"$f":"VLOOKUP($G$2:$G$50000,'Location Type (FICM Codes)'!$A$7:$B$188,2,FALSE)","v":{"$error":"#N/A"}},null,null,null,null,null,{"$f":"VLOOKUP(G302:G10300,'Location Type (FICM Codes)'!$A$7:$C$188,3,FALSE)","v":{"$error":"#N/A"}}]
[null,null,null,null,null,null,null,{"$f":"VLOOKUP($G$2:$G$50000,'Location Type (FICM Codes)'!$A$7:$B$188,2,FALSE)","v":{"$error":"#N/A"}},null,null,null,null,null,{"$f":"VLOOKUP(G303:G10301,'Location Type (FICM Codes)'!$A$7:$C$188,3,FALSE)","v":{"$error":"#N/A"}}]
[null,null,null,null,null,null,null,{"$f":"VLOOKUP($G$2:$G$50000,'Location Type (FICM Codes)'!$A$7:$B$188,2,FALSE)","v":{"$error":"#N/A"}},null,null,null,null,null,{"$f":"VLOOKUP(G304:G10302,'Location Type (FICM Codes)'!$A$7:$C$188,3,FALSE)","v":{"$error":"#N/A"}}]
[null,null,null,null,null,null,null,{"$f":"VLOOKUP($G$2:$G$50000,'Location Type (FICM Codes)'!$A$7:$B$188,2,FALSE)","v":{"$error":"#N/A"}},null,null,null,null,null,{"$f":"VLOOKUP(G305:G10303,'Location Type (FICM Codes)'!$A$7:$C$188,3,FALSE)","v":{"$error":"#N/A"}}]
[null,null,null,null,null,null,null,{"$f":"VLOOKUP($G$2:$G$50000,'Location Type (FICM Codes)'!$A$7:$B$188,2,FALSE)","v":{"$error":"#N/A"}},null,null,null,null,null,{"$f":"VLOOKUP(G306:G10304,'Location Type (FICM Codes)'!$A$7:$C$188,3,FALSE)","v":{"$error":"#N/A"}}]
[null,null,null,null,null,null,null,{"$f":"VLOOKUP($G$2:$G$50000,'Location Type (FICM Codes)'!$A$7:$B$188,2,FALSE)","v":{"$error":"#N/A"}},null,null,null,null,null,{"$f":"VLOOKUP(G307:G10305,'Location Type (FICM Codes)'!$A$7:$C$188,3,FALSE)","v":{"$error":"#N/A"}}]
[null,null,null,null,null,null,null,{"$f":"VLOOKUP($G$2:$G$50000,'Location Type (FICM Codes)'!$A$7:$B$188,2,FALSE)","v":{"$error":"#N/A"}},null,null,null,null,null,{"$f":"VLOOKUP(G308:G10306,'Location Type (FICM Codes)'!$A$7:$C$188,3,FALSE)","v":{"$error":"#N/A"}}]
[null,null,null,null,null,null,null,{"$f":"VLOOKUP($G$2:$G$50000,'Location Type (FICM Codes)'!$A$7:$B$188,2,FALSE)","v":{"$error":"#N/A"}},null,null,null,null,null,{"$f":"VLOOKUP(G309:G10307,'Location Type (FICM Codes)'!$A$7:$C$188,3,FALSE)","v":{"$error":"#N/A"}}]
[null,null,null,null,null,null,null,{"$f":"VLOOKUP($G$2:$G$50000,'Location Type (FICM Codes)'!$A$7:$B$188,2,FALSE)","v":{"$error":"#N/A"}},null,null,null,null,null,{"$f":"VLOOKUP(G310:G10308,'Location Type (FICM Codes)'!$A$7:$C$188,3,FALSE)","v":{"$error":"#N/A"}}]
[null,null,null,null,null,null,null,{"$f":"VLOOKUP($G$2:$G$50000,'Location Type (FICM Codes)'!$A$7:$B$188,2,FALSE)","v":{"$error":"#N/A"}},null,null,null,null,null,{"$f":"VLOOKUP(G311:G10309,'Location Type (FICM Codes)'!$A$7:$C$188,3,FALSE)","v":{"$error":"#N/A"}}]
[null,null,null,null,null,null,null,{"$f":"VLOOKUP($G$2:$G$50000,'Location Type (FICM Codes)'!$A$7:$B$188,2,FALSE)","v":{"$error":"#N/A"}},null,null,null,null,null,{"$f":"VLOOKUP(G312:G10310,'Location Type (FICM Codes)'!$A$7:$C$188,3,FALSE)","v":{"$error":"#N/A"}}]
[null,null,null,null,null,null,null,{"$f":"VLOOKUP($G$2:$G$50000,'Location Type (FICM Codes)'!$A$7:$B$188,2,FALSE)","v":{"$error":"#N/A"}},null,null,null,null,null,{"$f":"VLOOKUP(G313:G10311,'Location Type (FICM Codes)'!$A$7:$C$188,3,FALSE)","v":{"$error":"#N/A"}}]
[null,null,null,null,null,null,null,{"$f":"VLOOKUP($G$2:$G$50000,'Location Type (FICM Codes)'!$A$7:$B$188,2,FALSE)","v":{"$error":"#N/A"}},null,null,null,null,null,{"$f":"VLOOKUP(G314:G10312,'Location Type (FICM Codes)'!$A$7:$C$188,3,FALSE)","v":{"$error":"#N/A"}}]
[null,null,null,null,null,null,null,{"$f":"VLOOKUP($G$2:$G$50000,'Location Type (FICM Codes)'!$A$7:$B$188,2,FALSE)","v":{"$error":"#N/A"}},null,null,null,null,null,{"$f":"VLOOKUP(G315:G10313,'Location Type (FICM Codes)'!$A$7:$C$188,3,FALSE)","v":{"$error":"#N/A"}}]
[null,null,null,null,null,null,null,{"$f":"VLOOKUP($G$2:$G$50000,'Location Type (FICM Codes)'!$A$7:$B$188,2,FALSE)","v":{"$error":"#N/A"}},null,null,null,null,null,{"$f":"VLOOKUP(G316:G10314,'Location Type (FICM Codes)'!$A$7:$C$188,3,FALSE)","v":{"$error":"#N/A"}}]
[null,null,null,null,null,null,null,{"$f":"VLOOKUP($G$2:$G$50000,'Location Type (FICM Codes)'!$A$7:$B$188,2,FALSE)","v":{"$error":"#N/A"}},null,null,null,null,null,{"$f":"VLOOKUP(G317:G10315,'Location Type (FICM Codes)'!$A$7:$C$188,3,FALSE)","v":{"$error":"#N/A"}}]
[null,null,null,null,null,null,null,{"$f":"VLOOKUP($G$2:$G$50000,'Location Type (FICM Codes)'!$A$7:$B$188,2,FALSE)","v":{"$error":"#N/A"}},null,null,null,null,null,{"$f":"VLOOKUP(G318:G10316,'Location Type (FICM Codes)'!$A$7:$C$188,3,FALSE)","v":{"$error":"#N/A"}}]
[null,null,null,null,null,null,null,{"$f":"VLOOKUP($G$2:$G$50000,'Location Type (FICM Codes)'!$A$7:$B$188,2,FALSE)","v":{"$error":"#N/A"}},null,null,null,null,null,{"$f":"VLOOKUP(G319:G10317,'Location Type (FICM Codes)'!$A$7:$C$188,3,FALSE)","v":{"$error":"#N/A"}}]
[null,null,null,null,null,null,null,{"$f":"VLOOKUP($G$2:$G$50000,'Location Type (FICM Codes)'!$A$7:$B$188,2,FALSE)","v":{"$error":"#N/A"}},null,null,null,null,null,{"$f":"VLOOKUP(G320:G10318,'Location Type (FICM Codes)'!$A$7:$C$188,3,FALSE)","v":{"$error":"#N/A"}}]
[null,null,null,null,null,null,null,{"$f":"VLOOKUP($G$2:$G$50000,'Location Type (FICM Codes)'!$A$7:$B$188,2,FALSE)","v":{"$error":"#N/A"}},null,null,null,null,null,{"$f":"VLOOKUP(G321:G10319,'Location Type (FICM Codes)'!$A$7:$C$188,3,FALSE)","v":{"$error":"#N/A"}}]
[null,null,null,null,null,null,null,{"$f":"VLOOKUP($G$2:$G$50000,'Location Type (FICM Codes)'!$A$7:$B$188,2,FALSE)","v":{"$error":"#N/A"}},null,null,null,null,null,{"$f":"VLOOKUP(G322:G10320,'Location Type (FICM Codes)'!$A$7:$C$188,3,FALSE)","v":{"$error":"#N/A"}}]
[null,null,null,null,null,null,null,{"$f":"VLOOKUP($G$2:$G$50000,'Location Type (FICM Codes)'!$A$7:$B$188,2,FALSE)","v":{"$error":"#N/A"}},null,null,null,null,null,{"$f":"VLOOKUP(G323:G10321,'Location Type (FICM Codes)'!$A$7:$C$188,3,FALSE)","v":{"$error":"#N/A"}}]
[null,null,null,null,null,null,null,{"$f":"VLOOKUP($G$2:$G$50000,'Location Type (FICM Codes)'!$A$7:$B$188,2,FALSE)","v":{"$error":"#N/A"}},null,null,null,null,null,{"$f":"VLOOKUP(G324:G10322,'Location Type (FICM Codes)'!$A$7:$C$188,3,FALSE)","v":{"$error":"#N/A"}}]
[null,null,null,null,null,null,null,{"$f":"VLOOKUP($G$2:$G$50000,'Location Type (FICM Codes)'!$A$7:$B$188,2,FALSE)","v":{"$error":"#N/A"}},null,null,null,null,null,{"$f":"VLOOKUP(G325:G10323,'Location Type (FICM Codes)'!$A$7:$C$188,3,FALSE)","v":{"$error":"#N/A"}}]
[null,null,null,null,null,null,null,{"$f":"VLOOKUP($G$2:$G$50000,'Location Type (FICM Codes)'!$A$7:$B$188,2,FALSE)","v":{"$error":"#N/A"}},null,null,null,null,null,{"$f":"VLOOKUP(G326:G10324,'Location Type (FICM Codes)'!$A$7:$C$188,3,FALSE)","v":{"$error":"#N/A"}}]
[null,null,null,null,null,null,null,{"$f":"VLOOKUP($G$2:$G$50000,'Location Type (FICM Codes)'!$A$7:$B$188,2,FALSE)","v":{"$error":"#N/A"}},null,null,null,null,null,{"$f":"VLOOKUP(G327:G10325,'Location Type (FICM Codes)'!$A$7:$C$188,3,FALSE)","v":{"$error":"#N/A"}}]
[null,null,null,null,null,null,null,{"$f":"VLOOKUP($G$2:$G$50000,'Location Type (FICM Codes)'!$A$7:$B$188,2,FALSE)","v":{"$error":"#N/A"}},null,null,null,null,null,{"$f":"VLOOKUP(G328:G10326,'Location Type (FICM Codes)'!$A$7:$C$188,3,FALSE)","v":{"$error":"#N/A"}}]
[null,null,null,null,null,null,null,{"$f":"VLOOKUP($G$2:$G$50000,'Location Type (FICM Codes)'!$A$7:$B$188,2,FALSE)","v":{"$error":"#N/A"}},null,null,null,null,null,{"$f":"VLOOKUP(G329:G10327,'Location Type (FICM Codes)'!$A$7:$C$188,3,FALSE)","v":{"$error":"#N/A"}}]
[null,null,null,null,null,null,null,{"$f":"VLOOKUP($G$2:$G$50000,'Location Type (FICM Codes)'!$A$7:$B$188,2,FALSE)","v":{"$error":"#N/A"}},null,null,null,null,null,{"$f":"VLOOKUP(G330:G10328,'Location Type (FICM Codes)'!$A$7:$C$188,3,FALSE)","v":{"$error":"#N/A"}}]
[null,null,null,null,null,null,null,{"$f":"VLOOKUP($G$2:$G$50000,'Location Type (FICM Codes)'!$A$7:$B$188,2,FALSE)","v":{"$error":"#N/A"}},null,null,null,null,null,{"$f":"VLOOKUP(G331:G10329,'Location Type (FICM Codes)'!$A$7:$C$188,3,FALSE)","v":{"$error":"#N/A"}}]
[null,null,null,null,null,null,null,{"$f":"VLOOKUP($G$2:$G$50000,'Location Type (FICM Codes)'!$A$7:$B$188,2,FALSE)","v":{"$error":"#N/A"}},null,null,null,null,null,{"$f":"VLOOKUP(G332:G10330,'Location Type (FICM Codes)'!$A$7:$C$188,3,FALSE)","v":{"$error":"#N/A"}}]
[null,null,null,null,null,null,null,{"$f":"VLOOKUP($G$2:$G$50000,'Location Type (FICM Codes)'!$A$7:$B$188,2,FALSE)","v":{"$error":"#N/A"}},null,null,null,null,null,{"$f":"VLOOKUP(G333:G10331,'Location Type (FICM Codes)'!$A$7:$C$188,3,FALSE)","v":{"$error":"#N/A"}}]
[null,null,null,null,null,null,null,{"$f":"VLOOKUP($G$2:$G$50000,'Location Type (FICM Codes)'!$A$7:$B$188,2,FALSE)","v":{"$error":"#N/A"}},null,null,null,null,null,{"$f":"VLOOKUP(G334:G10332,'Location Type (FICM Codes)'!$A$7:$C$188,3,FALSE)","v":{"$error":"#N/A"}}]
[null,null,null,null,null,null,null,{"$f":"VLOOKUP($G$2:$G$50000,'Location Type (FICM Codes)'!$A$7:$B$188,2,FALSE)","v":{"$error":"#N/A"}},null,null,null,null,null,{"$f":"VLOOKUP(G335:G10333,'Location Type (FICM Codes)'!$A$7:$C$188,3,FALSE)","v":{"$error":"#N/A"}}]
[null,null,null,null,null,null,null,{"$f":"VLOOKUP($G$2:$G$50000,'Location Type (FICM Codes)'!$A$7:$B$188,2,FALSE)","v":{"$error":"#N/A"}},null,null,null,null,null,{"$f":"VLOOKUP(G336:G10334,'Location Type (FICM Codes)'!$A$7:$C$188,3,FALSE)","v":{"$error":"#N/A"}}]
[null,null,null,null,null,null,null,{"$f":"VLOOKUP($G$2:$G$50000,'Location Type (FICM Codes)'!$A$7:$B$188,2,FALSE)","v":{"$error":"#N/A"}},null,null,null,null,null,{"$f":"VLOOKUP(G337:G10335,'Location Type (FICM Codes)'!$A$7:$C$188,3,FALSE)","v":{"$error":"#N/A"}}]
[null,null,null,null,null,null,null,{"$f":"VLOOKUP($G$2:$G$50000,'Location Type (FICM Codes)'!$A$7:$B$188,2,FALSE)","v":{"$error":"#N/A"}},null,null,null,null,null,{"$f":"VLOOKUP(G338:G10336,'Location Type (FICM Codes)'!$A$7:$C$188,3,FALSE)","v":{"$error":"#N/A"}}]
[null,null,null,null,null,null,null,{"$f":"VLOOKUP($G$2:$G$50000,'Location Type (FICM Codes)'!$A$7:$B$188,2,FALSE)","v":{"$error":"#N/A"}},null,null,null,null,null,{"$f":"VLOOKUP(G339:G10337,'Location Type (FICM Codes)'!$A$7:$C$188,3,FALSE)","v":{"$error":"#N/A"}}]
[null,null,null,null,null,null,null,{"$f":"VLOOKUP($G$2:$G$50000,'Location Type (FICM Codes)'!$A$7:$B$188,2,FALSE)","v":{"$error":"#N/A"}},null,null,null,null,null,{"$f":"VLOOKUP(G340:G10338,'Location Type (FICM Codes)'!$A$7:$C$188,3,FALSE)","v":{"$error":"#N/A"}}]
[null,null,null,null,null,null,null,{"$f":"VLOOKUP($G$2:$G$50000,'Location Type (FICM Codes)'!$A$7:$B$188,2,FALSE)","v":{"$error":"#N/A"}},null,null,null,null,null,{"$f":"VLOOKUP(G341:G10339,'Location Type (FICM Codes)'!$A$7:$C$188,3,FALSE)","v":{"$error":"#N/A"}}]
[null,null,null,null,null,null,null,{"$f":"VLOOKUP($G$2:$G$50000,'Location Type (FICM Codes)'!$A$7:$B$188,2,FALSE)","v":{"$error":"#N/A"}},null,null,null,null,null,{"$f":"VLOOKUP(G342:G10340,'Location Type (FICM Codes)'!$A$7:$C$188,3,FALSE)","v":{"$error":"#N/A"}}]
[null,null,null,null,null,null,null,{"$f":"VLOOKUP($G$2:$G$50000,'Location Type (FICM Codes)'!$A$7:$B$188,2,FALSE)","v":{"$error":"#N/A"}},null,null,null,null,null,{"$f":"VLOOKUP(G343:G10341,'Location Type (FICM Codes)'!$A$7:$C$188,3,FALSE)","v":{"$error":"#N/A"}}]
[null,null,null,null,null,null,null,{"$f":"VLOOKUP($G$2:$G$50000,'Location Type (FICM Codes)'!$A$7:$B$188,2,FALSE)","v":{"$error":"#N/A"}},null,null,null,null,null,{"$f":"VLOOKUP(G344:G10342,'Location Type (FICM Codes)'!$A$7:$C$188,3,FALSE)","v":{"$error":"#N/A"}}]
[null,null,null,null,null,null,null,{"$f":"VLOOKUP($G$2:$G$50000,'Location Type (FICM Codes)'!$A$7:$B$188,2,FALSE)","v":{"$error":"#N/A"}},null,null,null,null,null,{"$f":"VLOOKUP(G345:G10343,'Location Type (FICM Codes)'!$A$7:$C$188,3,FALSE)","v":{"$error":"#N/A"}}]
[null,null,null,null,null,null,null,{"$f":"VLOOKUP($G$2:$G$50000,'Location Type (FICM Codes)'!$A$7:$B$188,2,FALSE)","v":{"$error":"#N/A"}},null,null,null,null,null,{"$f":"VLOOKUP(G346:G10344,'Location Type (FICM Codes)'!$A$7:$C$188,3,FALSE)","v":{"$error":"#N/A"}}]
[null,null,null,null,null,null,null,{"$f":"VLOOKUP($G$2:$G$50000,'Location Type (FICM Codes)'!$A$7:$B$188,2,FALSE)","v":{"$error":"#N/A"}},null,null,null,null,null,{"$f":"VLOOKUP(G347:G10345,'Location Type (FICM Codes)'!$A$7:$C$188,3,FALSE)","v":{"$error":"#N/A"}}]
[null,null,null,null,null,null,null,{"$f":"VLOOKUP($G$2:$G$50000,'Location Type (FICM Codes)'!$A$7:$B$188,2,FALSE)","v":{"$error":"#N/A"}},null,null,null,null,null,{"$f":"VLOOKUP(G348:G10346,'Location Type (FICM Codes)'!$A$7:$C$188,3,FALSE)","v":{"$error":"#N/A"}}]
[null,null,null,null,null,null,null,{"$f":"VLOOKUP($G$2:$G$50000,'Location Type (FICM Codes)'!$A$7:$B$188,2,FALSE)","v":{"$error":"#N/A"}},null,null,null,null,null,{"$f":"VLOOKUP(G349:G10347,'Location Type (FICM Codes)'!$A$7:$C$188,3,FALSE)","v":{"$error":"#N/A"}}]
[null,null,null,null,null,null,null,{"$f":"VLOOKUP($G$2:$G$50000,'Location Type (FICM Codes)'!$A$7:$B$188,2,FALSE)","v":{"$error":"#N/A"}},null,null,null,null,null,{"$f":"VLOOKUP(G350:G10348,'Location Type (FICM Codes)'!$A$7:$C$188,3,FALSE)","v":{"$error":"#N/A"}}]
[null,null,null,null,null,null,null,{"$f":"VLOOKUP($G$2:$G$50000,'Location Type (FICM Codes)'!$A$7:$B$188,2,FALSE)","v":{"$error":"#N/A"}},null,null,null,null,null,{"$f":"VLOOKUP(G351:G10349,'Location Type (FICM Codes)'!$A$7:$C$188,3,FALSE)","v":{"$error":"#N/A"}}]
[null,null,null,null,null,null,null,{"$f":"VLOOKUP($G$2:$G$50000,'Location Type (FICM Codes)'!$A$7:$B$188,2,FALSE)","v":{"$error":"#N/A"}},null,null,null,null,null,{"$f":"VLOOKUP(G352:G10350,'Location Type (FICM Codes)'!$A$7:$C$188,3,FALSE)","v":{"$error":"#N/A"}}]
[null,null,null,null,null,null,null,{"$f":"VLOOKUP($G$2:$G$50000,'Location Type (FICM Codes)'!$A$7:$B$188,2,FALSE)","v":{"$error":"#N/A"}},null,null,null,null,null,{"$f":"VLOOKUP(G353:G10351,'Location Type (FICM Codes)'!$A$7:$C$188,3,FALSE)","v":{"$error":"#N/A"}}]
[null,null,null,null,null,null,null,{"$f":"VLOOKUP($G$2:$G$50000,'Location Type (FICM Codes)'!$A$7:$B$188,2,FALSE)","v":{"$error":"#N/A"}},null,null,null,null,null,{"$f":"VLOOKUP(G354:G10352,'Location Type (FICM Codes)'!$A$7:$C$188,3,FALSE)","v":{"$error":"#N/A"}}]
[null,null,null,null,null,null,null,{"$f":"VLOOKUP($G$2:$G$50000,'Location Type (FICM Codes)'!$A$7:$B$188,2,FALSE)","v":{"$error":"#N/A"}},null,null,null,null,null,{"$f":"VLOOKUP(G355:G10353,'Location Type (FICM Codes)'!$A$7:$C$188,3,FALSE)","v":{"$error":"#N/A"}}]
[null,null,null,null,null,null,null,{"$f":"VLOOKUP($G$2:$G$50000,'Location Type (FICM Codes)'!$A$7:$B$188,2,FALSE)","v":{"$error":"#N/A"}},null,null,null,null,null,{"$f":"VLOOKUP(G356:G10354,'Location Type (FICM Codes)'!$A$7:$C$188,3,FALSE)","v":{"$error":"#N/A"}}]
[null,null,null,null,null,null,null,{"$f":"VLOOKUP($G$2:$G$50000,'Location Type (FICM Codes)'!$A$7:$B$188,2,FALSE)","v":{"$error":"#N/A"}},null,null,null,null,null,{"$f":"VLOOKUP(G357:G10355,'Location Type (FICM Codes)'!$A$7:$C$188,3,FALSE)","v":{"$error":"#N/A"}}]
[null,null,null,null,null,null,null,{"$f":"VLOOKUP($G$2:$G$50000,'Location Type (FICM Codes)'!$A$7:$B$188,2,FALSE)","v":{"$error":"#N/A"}},null,null,null,null,null,{"$f":"VLOOKUP(G358:G10356,'Location Type (FICM Codes)'!$A$7:$C$188,3,FALSE)","v":{"$error":"#N/A"}}]
[null,null,null,null,null,null,null,{"$f":"VLOOKUP($G$2:$G$50000,'Location Type (FICM Codes)'!$A$7:$B$188,2,FALSE)","v":{"$error":"#N/A"}},null,null,null,null,null,{"$f":"VLOOKUP(G359:G10357,'Location Type (FICM Codes)'!$A$7:$C$188,3,FALSE)","v":{"$error":"#N/A"}}]
[null,null,null,null,null,null,null,{"$f":"VLOOKUP($G$2:$G$50000,'Location Type (FICM Codes)'!$A$7:$B$188,2,FALSE)","v":{"$error":"#N/A"}},null,null,null,null,null,{"$f":"VLOOKUP(G360:G10358,'Location Type (FICM Codes)'!$A$7:$C$188,3,FALSE)","v":{"$error":"#N/A"}}]
[null,null,null,null,null,null,null,{"$f":"VLOOKUP($G$2:$G$50000,'Location Type (FICM Codes)'!$A$7:$B$188,2,FALSE)","v":{"$error":"#N/A"}},null,null,null,null,null,{"$f":"VLOOKUP(G361:G10359,'Location Type (FICM Codes)'!$A$7:$C$188,3,FALSE)","v":{"$error":"#N/A"}}]
[null,null,null,null,null,null,null,{"$f":"VLOOKUP($G$2:$G$50000,'Location Type (FICM Codes)'!$A$7:$B$188,2,FALSE)","v":{"$error":"#N/A"}},null,null,null,null,null,{"$f":"VLOOKUP(G362:G10360,'Location Type (FICM Codes)'!$A$7:$C$188,3,FALSE)","v":{"$error":"#N/A"}}]
[null,null,null,null,null,null,null,{"$f":"VLOOKUP($G$2:$G$50000,'Location Type (FICM Codes)'!$A$7:$B$188,2,FALSE)","v":{"$error":"#N/A"}},null,null,null,null,null,{"$f":"VLOOKUP(G363:G10361,'Location Type (FICM Codes)'!$A$7:$C$188,3,FALSE)","v":{"$error":"#N/A"}}]
[null,null,null,null,null,null,null,{"$f":"VLOOKUP($G$2:$G$50000,'Location Type (FICM Codes)'!$A$7:$B$188,2,FALSE)","v":{"$error":"#N/A"}},null,null,null,null,null,{"$f":"VLOOKUP(G364:G10362,'Location Type (FICM Codes)'!$A$7:$C$188,3,FALSE)","v":{"$error":"#N/A"}}]
[null,null,null,null,null,null,null,{"$f":"VLOOKUP($G$2:$G$50000,'Location Type (FICM Codes)'!$A$7:$B$188,2,FALSE)","v":{"$error":"#N/A"}},null,null,null,null,null,{"$f":"VLOOKUP(G365:G10363,'Location Type (FICM Codes)'!$A$7:$C$188,3,FALSE)","v":{"$error":"#N/A"}}]
[null,null,null,null,null,null,null,{"$f":"VLOOKUP($G$2:$G$50000,'Location Type (FICM Codes)'!$A$7:$B$188,2,FALSE)","v":{"$error":"#N/A"}},null,null,null,null,null,{"$f":"VLOOKUP(G366:G10364,'Location Type (FICM Codes)'!$A$7:$C$188,3,FALSE)","v":{"$error":"#N/A"}}]
[null,null,null,null,null,null,null,{"$f":"VLOOKUP($G$2:$G$50000,'Location Type (FICM Codes)'!$A$7:$B$188,2,FALSE)","v":{"$error":"#N/A"}},null,null,null,null,null,{"$f":"VLOOKUP(G367:G10365,'Location Type (FICM Codes)'!$A$7:$C$188,3,FALSE)","v":{"$error":"#N/A"}}]
[null,null,null,null,null,null,null,{"$f":"VLOOKUP($G$2:$G$50000,'Location Type (FICM Codes)'!$A$7:$B$188,2,FALSE)","v":{"$error":"#N/A"}},null,null,null,null,null,{"$f":"VLOOKUP(G368:G10366,'Location Type (FICM Codes)'!$A$7:$C$188,3,FALSE)","v":{"$error":"#N/A"}}]
[null,null,null,null,null,null,null,{"$f":"VLOOKUP($G$2:$G$50000,'Location Type (FICM Codes)'!$A$7:$B$188,2,FALSE)","v":{"$error":"#N/A"}},null,null,null,null,null,{"$f":"VLOOKUP(G369:G10367,'Location Type (FICM Codes)'!$A$7:$C$188,3,FALSE)","v":{"$error":"#N/A"}}]
[null,null,null,null,null,null,null,{"$f":"VLOOKUP($G$2:$G$50000,'Location Type (FICM Codes)'!$A$7:$B$188,2,FALSE)","v":{"$error":"#N/A"}},null,null,null,null,null,{"$f":"VLOOKUP(G370:G10368,'Location Type (FICM Codes)'!$A$7:$C$188,3,FALSE)","v":{"$error":"#N/A"}}]
[null,null,null,null,null,null,null,{"$f":"VLOOKUP($G$2:$G$50000,'Location Type (FICM Codes)'!$A$7:$B$188,2,FALSE)","v":{"$error":"#N/A"}},null,null,null,null,null,{"$f":"VLOOKUP(G371:G10369,'Location Type (FICM Codes)'!$A$7:$C$188,3,FALSE)","v":{"$error":"#N/A"}}]
[null,null,null,null,null,null,null,{"$f":"VLOOKUP($G$2:$G$50000,'Location Type (FICM Codes)'!$A$7:$B$188,2,FALSE)","v":{"$error":"#N/A"}},null,null,null,null,null,{"$f":"VLOOKUP(G372:G10370,'Location Type (FICM Codes)'!$A$7:$C$188,3,FALSE)","v":{"$error":"#N/A"}}]
[null,null,null,null,null,null,null,{"$f":"VLOOKUP($G$2:$G$50000,'Location Type (FICM Codes)'!$A$7:$B$188,2,FALSE)","v":{"$error":"#N/A"}},null,null,null,null,null,{"$f":"VLOOKUP(G373:G10371,'Location Type (FICM Codes)'!$A$7:$C$188,3,FALSE)","v":{"$error":"#N/A"}}]
[null,null,null,null,null,null,null,{"$f":"VLOOKUP($G$2:$G$50000,'Location Type (FICM Codes)'!$A$7:$B$188,2,FALSE)","v":{"$error":"#N/A"}},null,null,null,null,null,{"$f":"VLOOKUP(G374:G10372,'Location Type (FICM Codes)'!$A$7:$C$188,3,FALSE)","v":{"$error":"#N/A"}}]
[null,null,null,null,null,null,null,{"$f":"VLOOKUP($G$2:$G$50000,'Location Type (FICM Codes)'!$A$7:$B$188,2,FALSE)","v":{"$error":"#N/A"}},null,null,null,null,null,{"$f":"VLOOKUP(G375:G10373,'Location Type (FICM Codes)'!$A$7:$C$188,3,FALSE)","v":{"$error":"#N/A"}}]
[null,null,null,null,null,null,null,{"$f":"VLOOKUP($G$2:$G$50000,'Location Type (FICM Codes)'!$A$7:$B$188,2,FALSE)","v":{"$error":"#N/A"}},null,null,null,null,null,{"$f":"VLOOKUP(G376:G10374,'Location Type (FICM Codes)'!$A$7:$C$188,3,FALSE)","v":{"$error":"#N/A"}}]
[null,null,null,null,null,null,null,{"$f":"VLOOKUP($G$2:$G$50000,'Location Type (FICM Codes)'!$A$7:$B$188,2,FALSE)","v":{"$error":"#N/A"}},null,null,null,null,null,{"$f":"VLOOKUP(G377:G10375,'Location Type (FICM Codes)'!$A$7:$C$188,3,FALSE)","v":{"$error":"#N/A"}}]
[null,null,null,null,null,null,null,{"$f":"VLOOKUP($G$2:$G$50000,'Location Type (FICM Codes)'!$A$7:$B$188,2,FALSE)","v":{"$error":"#N/A"}},null,null,null,null,null,{"$f":"VLOOKUP(G378:G10376,'Location Type (FICM Codes)'!$A$7:$C$188,3,FALSE)","v":{"$error":"#N/A"}}]
[null,null,null,null,null,null,null,{"$f":"VLOOKUP($G$2:$G$50000,'Location Type (FICM Codes)'!$A$7:$B$188,2,FALSE)","v":{"$error":"#N/A"}},null,null,null,null,null,{"$f":"VLOOKUP(G379:G10377,'Location Type (FICM Codes)'!$A$7:$C$188,3,FALSE)","v":{"$error":"#N/A"}}]
[null,null,null,null,null,null,null,{"$f":"VLOOKUP($G$2:$G$50000,'Location Type (FICM Codes)'!$A$7:$B$188,2,FALSE)","v":{"$error":"#N/A"}},null,null,null,null,null,{"$f":"VLOOKUP(G380:G10378,'Location Type (FICM Codes)'!$A$7:$C$188,3,FALSE)","v":{"$error":"#N/A"}}]
[null,null,null,null,null,null,null,{"$f":"VLOOKUP($G$2:$G$50000,'Location Type (FICM Codes)'!$A$7:$B$188,2,FALSE)","v":{"$error":"#N/A"}},null,null,null,null,null,{"$f":"VLOOKUP(G381:G10379,'Location Type (FICM Codes)'!$A$7:$C$188,3,FALSE)","v":{"$error":"#N/A"}}]
[null,null,null,null,null,null,null,{"$f":"VLOOKUP($G$2:$G$50000,'Location Type (FICM Codes)'!$A$7:$B$188,2,FALSE)","v":{"$error":"#N/A"}},null,null,null,null,null,{"$f":"VLOOKUP(G382:G10380,'Location Type (FICM Codes)'!$A$7:$C$188,3,FALSE)","v":{"$error":"#N/A"}}]
[null,null,null,null,null,null,null,{"$f":"VLOOKUP($G$2:$G$50000,'Location Type (FICM Codes)'!$A$7:$B$188,2,FALSE)","v":{"$error":"#N/A"}},null,null,null,null,null,{"$f":"VLOOKUP(G383:G10381,'Location Type (FICM Codes)'!$A$7:$C$188,3,FALSE)","v":{"$error":"#N/A"}}]
[null,null,null,null,null,null,null,{"$f":"VLOOKUP($G$2:$G$50000,'Location Type (FICM Codes)'!$A$7:$B$188,2,FALSE)","v":{"$error":"#N/A"}},null,null,null,null,null,{"$f":"VLOOKUP(G384:G10382,'Location Type (FICM Codes)'!$A$7:$C$188,3,FALSE)","v":{"$error":"#N/A"}}]
[null,null,null,null,null,null,null,{"$f":"VLOOKUP($G$2:$G$50000,'Location Type (FICM Codes)'!$A$7:$B$188,2,FALSE)","v":{"$error":"#N/A"}},null,null,null,null,null,{"$f":"VLOOKUP(G385:G10383,'Location Type (FICM Codes)'!$A$7:$C$188,3,FALSE)","v":{"$error":"#N/A"}}]
[null,null,null,null,null,null,null,{"$f":"VLOOKUP($G$2:$G$50000,'Location Type (FICM Codes)'!$A$7:$B$188,2,FALSE)","v":{"$error":"#N/A"}},null,null,null,null,null,{"$f":"VLOOKUP(G386:G10384,'Location Type (FICM Codes)'!$A$7:$C$188,3,FALSE)","v":{"$error":"#N/A"}}]
[null,null,null,null,null,null,null,{"$f":"VLOOKUP($G$2:$G$50000,'Location Type (FICM Codes)'!$A$7:$B$188,2,FALSE)","v":{"$error":"#N/A"}},null,null,null,null,null,{"$f":"VLOOKUP(G387:G10385,'Location Type (FICM Codes)'!$A$7:$C$188,3,FALSE)","v":{"$error":"#N/A"}}]
[null,null,null,null,null,null,null,{"$f":"VLOOKUP($G$2:$G$50000,'Location Type (FICM Codes)'!$A$7:$B$188,2,FALSE)","v":{"$error":"#N/A"}},null,null,null,null,null,{"$f":"VLOOKUP(G388:G10386,'Location Type (FICM Codes)'!$A$7:$C$188,3,FALSE)","v":{"$error":"#N/A"}}]
[null,null,null,null,null,null,null,{"$f":"VLOOKUP($G$2:$G$50000,'Location Type (FICM Codes)'!$A$7:$B$188,2,FALSE)","v":{"$error":"#N/A"}},null,null,null,null,null,{"$f":"VLOOKUP(G389:G10387,'Location Type (FICM Codes)'!$A$7:$C$188,3,FALSE)","v":{"$error":"#N/A"}}]
[null,null,null,null,null,null,null,{"$f":"VLOOKUP($G$2:$G$50000,'Location Type (FICM Codes)'!$A$7:$B$188,2,FALSE)","v":{"$error":"#N/A"}},null,null,null,null,null,{"$f":"VLOOKUP(G390:G10388,'Location Type (FICM Codes)'!$A$7:$C$188,3,FALSE)","v":{"$error":"#N/A"}}]
[null,null,null,null,null,null,null,{"$f":"VLOOKUP($G$2:$G$50000,'Location Type (FICM Codes)'!$A$7:$B$188,2,FALSE)","v":{"$error":"#N/A"}},null,null,null,null,null,{"$f":"VLOOKUP(G391:G10389,'Location Type (FICM Codes)'!$A$7:$C$188,3,FALSE)","v":{"$error":"#N/A"}}]
[null,null,null,null,null,null,null,{"$f":"VLOOKUP($G$2:$G$50000,'Location Type (FICM Codes)'!$A$7:$B$188,2,FALSE)","v":{"$error":"#N/A"}},null,null,null,null,null,{"$f":"VLOOKUP(G392:G10390,'Location Type (FICM Codes)'!$A$7:$C$188,3,FALSE)","v":{"$error":"#N/A"}}]
[null,null,null,null,null,null,null,{"$f":"VLOOKUP($G$2:$G$50000,'Location Type (FICM Codes)'!$A$7:$B$188,2,FALSE)","v":{"$error":"#N/A"}},null,null,null,null,null,{"$f":"VLOOKUP(G393:G10391,'Location Type (FICM Codes)'!$A$7:$C$188,3,FALSE)","v":{"$error":"#N/A"}}]
[null,null,null,null,null,null,null,{"$f":"VLOOKUP($G$2:$G$50000,'Location Type (FICM Codes)'!$A$7:$B$188,2,FALSE)","v":{"$error":"#N/A"}},null,null,null,null,null,{"$f":"VLOOKUP(G394:G10392,'Location Type (FICM Codes)'!$A$7:$C$188,3,FALSE)","v":{"$error":"#N/A"}}]
[null,null,null,null,null,null,null,{"$f":"VLOOKUP($G$2:$G$50000,'Location Type (FICM Codes)'!$A$7:$B$188,2,FALSE)","v":{"$error":"#N/A"}},null,null,null,null,null,{"$f":"VLOOKUP(G395:G10393,'Location Type (FICM Codes)'!$A$7:$C$188,3,FALSE)","v":{"$error":"#N/A"}}]
[null,null,null,null,null,null,null,{"$f":"VLOOKUP($G$2:$G$50000,'Location Type (FICM Codes)'!$A$7:$B$188,2,FALSE)","v":{"$error":"#N/A"}},null,null,null,null,null,{"$f":"VLOOKUP(G396:G10394,'Location Type (FICM Codes)'!$A$7:$C$188,3,FALSE)","v":{"$error":"#N/A"}}]
[null,null,null,null,null,null,null,{"$f":"VLOOKUP($G$2:$G$50000,'Location Type (FICM Codes)'!$A$7:$B$188,2,FALSE)","v":{"$error":"#N/A"}},null,null,null,null,null,{"$f":"VLOOKUP(G397:G10395,'Location Type (FICM Codes)'!$A$7:$C$188,3,FALSE)","v":{"$error":"#N/A"}}]
[null,null,null,null,null,null,null,{"$f":"VLOOKUP($G$2:$G$50000,'Location Type (FICM Codes)'!$A$7:$B$188,2,FALSE)","v":{"$error":"#N/A"}},null,null,null,null,null,{"$f":"VLOOKUP(G398:G10396,'Location Type (FICM Codes)'!$A$7:$C$188,3,FALSE)","v":{"$error":"#N/A"}}]
[null,null,null,null,null,null,null,{"$f":"VLOOKUP($G$2:$G$50000,'Location Type (FICM Codes)'!$A$7:$B$188,2,FALSE)","v":{"$error":"#N/A"}},null,null,null,null,null,{"$f":"VLOOKUP(G399:G10397,'Location Type (FICM Codes)'!$A$7:$C$188,3,FALSE)","v":{"$error":"#N/A"}}]
[null,null,null,null,null,null,null,{"$f":"VLOOKUP($G$2:$G$50000,'Location Type (FICM Codes)'!$A$7:$B$188,2,FALSE)","v":{"$error":"#N/A"}},null,null,null,null,null,{"$f":"VLOOKUP(G400:G10398,'Location Type (FICM Codes)'!$A$7:$C$188,3,FALSE)","v":{"$error":"#N/A"}}]
[null,null,null,null,null,null,null,{"$f":"VLOOKUP($G$2:$G$50000,'Location Type (FICM Codes)'!$A$7:$B$188,2,FALSE)","v":{"$error":"#N/A"}},null,null,null,null,null,{"$f":"VLOOKUP(G401:G10399,'Location Type (FICM Codes)'!$A$7:$C$188,3,FALSE)","v":{"$error":"#N/A"}}]
[null,null,null,null,null,null,null,{"$f":"VLOOKUP($G$2:$G$50000,'Location Type (FICM Codes)'!$A$7:$B$188,2,FALSE)","v":{"$error":"#N/A"}},null,null,null,null,null,{"$f":"VLOOKUP(G402:G10400,'Location Type (FICM Codes)'!$A$7:$C$188,3,FALSE)","v":{"$error":"#N/A"}}]
[null,null,null,null,null,null,null,{"$f":"VLOOKUP($G$2:$G$50000,'Location Type (FICM Codes)'!$A$7:$B$188,2,FALSE)","v":{"$error":"#N/A"}},null,null,null,null,null,{"$f":"VLOOKUP(G403:G10401,'Location Type (FICM Codes)'!$A$7:$C$188,3,FALSE)","v":{"$error":"#N/A"}}]
[null,null,null,null,null,null,null,{"$f":"VLOOKUP($G$2:$G$50000,'Location Type (FICM Codes)'!$A$7:$B$188,2,FALSE)","v":{"$error":"#N/A"}},null,null,null,null,null,{"$f":"VLOOKUP(G404:G10402,'Location Type (FICM Codes)'!$A$7:$C$188,3,FALSE)","v":{"$error":"#N/A"}}]
[null,null,null,null,null,null,null,{"$f":"VLOOKUP($G$2:$G$50000,'Location Type (FICM Codes)'!$A$7:$B$188,2,FALSE)","v":{"$error":"#N/A"}},null,null,null,null,null,{"$f":"VLOOKUP(G405:G10403,'Location Type (FICM Codes)'!$A$7:$C$188,3,FALSE)","v":{"$error":"#N/A"}}]
[null,null,null,null,null,null,null,{"$f":"VLOOKUP($G$2:$G$50000,'Location Type (FICM Codes)'!$A$7:$B$188,2,FALSE)","v":{"$error":"#N/A"}},null,null,null,null,null,{"$f":"VLOOKUP(G406:G10404,'Location Type (FICM Codes)'!$A$7:$C$188,3,FALSE)","v":{"$error":"#N/A"}}]
[null,null,null,null,null,null,null,{"$f":"VLOOKUP($G$2:$G$50000,'Location Type (FICM Codes)'!$A$7:$B$188,2,FALSE)","v":{"$error":"#N/A"}},null,null,null,null,null,{"$f":"VLOOKUP(G407:G10405,'Location Type (FICM Codes)'!$A$7:$C$188,3,FALSE)","v":{"$error":"#N/A"}}]
[null,null,null,null,null,null,null,{"$f":"VLOOKUP($G$2:$G$50000,'Location Type (FICM Codes)'!$A$7:$B$188,2,FALSE)","v":{"$error":"#N/A"}},null,null,null,null,null,{"$f":"VLOOKUP(G408:G10406,'Location Type (FICM Codes)'!$A$7:$C$188,3,FALSE)","v":{"$error":"#N/A"}}]
[null,null,null,null,null,null,null,{"$f":"VLOOKUP($G$2:$G$50000,'Location Type (FICM Codes)'!$A$7:$B$188,2,FALSE)","v":{"$error":"#N/A"}},null,null,null,null,null,{"$f":"VLOOKUP(G409:G10407,'Location Type (FICM Codes)'!$A$7:$C$188,3,FALSE)","v":{"$error":"#N/A"}}]
[null,null,null,null,null,null,null,{"$f":"VLOOKUP($G$2:$G$50000,'Location Type (FICM Codes)'!$A$7:$B$188,2,FALSE)","v":{"$error":"#N/A"}},null,null,null,null,null,{"$f":"VLOOKUP(G410:G10408,'Location Type (FICM Codes)'!$A$7:$C$188,3,FALSE)","v":{"$error":"#N/A"}}]
[null,null,null,null,null,null,null,{"$f":"VLOOKUP($G$2:$G$50000,'Location Type (FICM Codes)'!$A$7:$B$188,2,FALSE)","v":{"$error":"#N/A"}},null,null,null,null,null,{"$f":"VLOOKUP(G411:G10409,'Location Type (FICM Codes)'!$A$7:$C$188,3,FALSE)","v":{"$error":"#N/A"}}]
[null,null,null,null,null,null,null,{"$f":"VLOOKUP($G$2:$G$50000,'Location Type (FICM Codes)'!$A$7:$B$188,2,FALSE)","v":{"$error":"#N/A"}},null,null,null,null,null,{"$f":"VLOOKUP(G412:G10410,'Location Type (FICM Codes)'!$A$7:$C$188,3,FALSE)","v":{"$error":"#N/A"}}]
[null,null,null,null,null,null,null,{"$f":"VLOOKUP($G$2:$G$50000,'Location Type (FICM Codes)'!$A$7:$B$188,2,FALSE)","v":{"$error":"#N/A"}},null,null,null,null,null,{"$f":"VLOOKUP(G413:G10411,'Location Type (FICM Codes)'!$A$7:$C$188,3,FALSE)","v":{"$error":"#N/A"}}]
[null,null,null,null,null,null,null,{"$f":"VLOOKUP($G$2:$G$50000,'Location Type (FICM Codes)'!$A$7:$B$188,2,FALSE)","v":{"$error":"#N/A"}},null,null,null,null,null,{"$f":"VLOOKUP(G414:G10412,'Location Type (FICM Codes)'!$A$7:$C$188,3,FALSE)","v":{"$error":"#N/A"}}]
[null,null,null,null,null,null,null,{"$f":"VLOOKUP($G$2:$G$50000,'Location Type (FICM Codes)'!$A$7:$B$188,2,FALSE)","v":{"$error":"#N/A"}},null,null,null,null,null,{"$f":"VLOOKUP(G415:G10413,'Location Type (FICM Codes)'!$A$7:$C$188,3,FALSE)","v":{"$error":"#N/A"}}]
[null,null,null,null,null,null,null,{"$f":"VLOOKUP($G$2:$G$50000,'Location Type (FICM Codes)'!$A$7:$B$188,2,FALSE)","v":{"$error":"#N/A"}},null,null,null,null,null,{"$f":"VLOOKUP(G416:G10414,'Location Type (FICM Codes)'!$A$7:$C$188,3,FALSE)","v":{"$error":"#N/A"}}]
[null,null,null,null,null,null,null,{"$f":"VLOOKUP($G$2:$G$50000,'Location Type (FICM Codes)'!$A$7:$B$188,2,FALSE)","v":{"$error":"#N/A"}},null,null,null,null,null,{"$f":"VLOOKUP(G417:G10415,'Location Type (FICM Codes)'!$A$7:$C$188,3,FALSE)","v":{"$error":"#N/A"}}]
[null,null,null,null,null,null,null,{"$f":"VLOOKUP($G$2:$G$50000,'Location Type (FICM Codes)'!$A$7:$B$188,2,FALSE)","v":{"$error":"#N/A"}},null,null,null,null,null,{"$f":"VLOOKUP(G418:G10416,'Location Type (FICM Codes)'!$A$7:$C$188,3,FALSE)","v":{"$error":"#N/A"}}]
[null,null,null,null,null,null,null,{"$f":"VLOOKUP($G$2:$G$50000,'Location Type (FICM Codes)'!$A$7:$B$188,2,FALSE)","v":{"$error":"#N/A"}},null,null,null,null,null,{"$f":"VLOOKUP(G419:G10417,'Location Type (FICM Codes)'!$A$7:$C$188,3,FALSE)","v":{"$error":"#N/A"}}]
[null,null,null,null,null,null,null,{"$f":"VLOOKUP($G$2:$G$50000,'Location Type (FICM Codes)'!$A$7:$B$188,2,FALSE)","v":{"$error":"#N/A"}},null,null,null,null,null,{"$f":"VLOOKUP(G420:G10418,'Location Type (FICM Codes)'!$A$7:$C$188,3,FALSE)","v":{"$error":"#N/A"}}]
[null,null,null,null,null,null,null,{"$f":"VLOOKUP($G$2:$G$50000,'Location Type (FICM Codes)'!$A$7:$B$188,2,FALSE)","v":{"$error":"#N/A"}},null,null,null,null,null,{"$f":"VLOOKUP(G421:G10419,'Location Type (FICM Codes)'!$A$7:$C$188,3,FALSE)","v":{"$error":"#N/A"}}]
[null,null,null,null,null,null,null,{"$f":"VLOOKUP($G$2:$G$50000,'Location Type (FICM Codes)'!$A$7:$B$188,2,FALSE)","v":{"$error":"#N/A"}},null,null,null,null,null,{"$f":"VLOOKUP(G422:G10420,'Location Type (FICM Codes)'!$A$7:$C$188,3,FALSE)","v":{"$error":"#N/A"}}]
[null,null,null,null,null,null,null,{"$f":"VLOOKUP($G$2:$G$50000,'Location Type (FICM Codes)'!$A$7:$B$188,2,FALSE)","v":{"$error":"#N/A"}},null,null,null,null,null,{"$f":"VLOOKUP(G423:G10421,'Location Type (FICM Codes)'!$A$7:$C$188,3,FALSE)","v":{"$error":"#N/A"}}]
[null,null,null,null,null,null,null,{"$f":"VLOOKUP($G$2:$G$50000,'Location Type (FICM Codes)'!$A$7:$B$188,2,FALSE)","v":{"$error":"#N/A"}},null,null,null,null,null,{"$f":"VLOOKUP(G424:G10422,'Location Type (FICM Codes)'!$A$7:$C$188,3,FALSE)","v":{"$error":"#N/A"}}]
[null,null,null,null,null,null,null,{"$f":"VLOOKUP($G$2:$G$50000,'Location Type (FICM Codes)'!$A$7:$B$188,2,FALSE)","v":{"$error":"#N/A"}},null,null,null,null,null,{"$f":"VLOOKUP(G425:G10423,'Location Type (FICM Codes)'!$A$7:$C$188,3,FALSE)","v":{"$error":"#N/A"}}]
[null,null,null,null,null,null,null,{"$f":"VLOOKUP($G$2:$G$50000,'Location Type (FICM Codes)'!$A$7:$B$188,2,FALSE)","v":{"$error":"#N/A"}},null,null,null,null,null,{"$f":"VLOOKUP(G426:G10424,'Location Type (FICM Codes)'!$A$7:$C$188,3,FALSE)","v":{"$error":"#N/A"}}]
[null,null,null,null,null,null,null,{"$f":"VLOOKUP($G$2:$G$50000,'Location Type (FICM Codes)'!$A$7:$B$188,2,FALSE)","v":{"$error":"#N/A"}},null,null,null,null,null,{"$f":"VLOOKUP(G427:G10425,'Location Type (FICM Codes)'!$A$7:$C$188,3,FALSE)","v":{"$error":"#N/A"}}]
[null,null,null,null,null,null,null,{"$f":"VLOOKUP($G$2:$G$50000,'Location Type (FICM Codes)'!$A$7:$B$188,2,FALSE)","v":{"$error":"#N/A"}},null,null,null,null,null,{"$f":"VLOOKUP(G428:G10426,'Location Type (FICM Codes)'!$A$7:$C$188,3,FALSE)","v":{"$error":"#N/A"}}]
[null,null,null,null,null,null,null,{"$f":"VLOOKUP($G$2:$G$50000,'Location Type (FICM Codes)'!$A$7:$B$188,2,FALSE)","v":{"$error":"#N/A"}},null,null,null,null,null,{"$f":"VLOOKUP(G429:G10427,'Location Type (FICM Codes)'!$A$7:$C$188,3,FALSE)","v":{"$error":"#N/A"}}]
[null,null,null,null,null,null,null,{"$f":"VLOOKUP($G$2:$G$50000,'Location Type (FICM Codes)'!$A$7:$B$188,2,FALSE)","v":{"$error":"#N/A"}},null,null,null,null,null,{"$f":"VLOOKUP(G430:G10428,'Location Type (FICM Codes)'!$A$7:$C$188,3,FALSE)","v":{"$error":"#N/A"}}]
[null,null,null,null,null,null,null,{"$f":"VLOOKUP($G$2:$G$50000,'Location Type (FICM Codes)'!$A$7:$B$188,2,FALSE)","v":{"$error":"#N/A"}},null,null,null,null,null,{"$f":"VLOOKUP(G431:G10429,'Location Type (FICM Codes)'!$A$7:$C$188,3,FALSE)","v":{"$error":"#N/A"}}]
[null,null,null,null,null,null,null,{"$f":"VLOOKUP($G$2:$G$50000,'Location Type (FICM Codes)'!$A$7:$B$188,2,FALSE)","v":{"$error":"#N/A"}},null,null,null,null,null,{"$f":"VLOOKUP(G432:G10430,'Location Type (FICM Codes)'!$A$7:$C$188,3,FALSE)","v":{"$error":"#N/A"}}]
[null,null,null,null,null,null,null,{"$f":"VLOOKUP($G$2:$G$50000,'Location Type (FICM Codes)'!$A$7:$B$188,2,FALSE)","v":{"$error":"#N/A"}},null,null,null,null,null,{"$f":"VLOOKUP(G433:G10431,'Location Type (FICM Codes)'!$A$7:$C$188,3,FALSE)","v":{"$error":"#N/A"}}]
[null,null,null,null,null,null,null,{"$f":"VLOOKUP($G$2:$G$50000,'Location Type (FICM Codes)'!$A$7:$B$188,2,FALSE)","v":{"$error":"#N/A"}},null,null,null,null,null,{"$f":"VLOOKUP(G434:G10432,'Location Type (FICM Codes)'!$A$7:$C$188,3,FALSE)","v":{"$error":"#N/A"}}]
[null,null,null,null,null,null,null,{"$f":"VLOOKUP($G$2:$G$50000,'Location Type (FICM Codes)'!$A$7:$B$188,2,FALSE)","v":{"$error":"#N/A"}},null,null,null,null,null,{"$f":"VLOOKUP(G435:G10433,'Location Type (FICM Codes)'!$A$7:$C$188,3,FALSE)","v":{"$error":"#N/A"}}]
[null,null,null,null,null,null,null,{"$f":"VLOOKUP($G$2:$G$50000,'Location Type (FICM Codes)'!$A$7:$B$188,2,FALSE)","v":{"$error":"#N/A"}},null,null,null,null,null,{"$f":"VLOOKUP(G436:G10434,'Location Type (FICM Codes)'!$A$7:$C$188,3,FALSE)","v":{"$error":"#N/A"}}]
[null,null,null,null,null,null,null,{"$f":"VLOOKUP($G$2:$G$50000,'Location Type (FICM Codes)'!$A$7:$B$188,2,FALSE)","v":{"$error":"#N/A"}},null,null,null,null,null,{"$f":"VLOOKUP(G437:G10435,'Location Type (FICM Codes)'!$A$7:$C$188,3,FALSE)","v":{"$error":"#N/A"}}]
[null,null,null,null,null,null,null,{"$f":"VLOOKUP($G$2:$G$50000,'Location Type (FICM Codes)'!$A$7:$B$188,2,FALSE)","v":{"$error":"#N/A"}},null,null,null,null,null,{"$f":"VLOOKUP(G438:G10436,'Location Type (FICM Codes)'!$A$7:$C$188,3,FALSE)","v":{"$error":"#N/A"}}]
[null,null,null,null,null,null,null,{"$f":"VLOOKUP($G$2:$G$50000,'Location Type (FICM Codes)'!$A$7:$B$188,2,FALSE)","v":{"$error":"#N/A"}},null,null,null,null,null,{"$f":"VLOOKUP(G439:G10437,'Location Type (FICM Codes)'!$A$7:$C$188,3,FALSE)","v":{"$error":"#N/A"}}]
[null,null,null,null,null,null,null,{"$f":"VLOOKUP($G$2:$G$50000,'Location Type (FICM Codes)'!$A$7:$B$188,2,FALSE)","v":{"$error":"#N/A"}},null,null,null,null,null,{"$f":"VLOOKUP(G440:G10438,'Location Type (FICM Codes)'!$A$7:$C$188,3,FALSE)","v":{"$error":"#N/A"}}]
[null,null,null,null,null,null,null,{"$f":"VLOOKUP($G$2:$G$50000,'Location Type (FICM Codes)'!$A$7:$B$188,2,FALSE)","v":{"$error":"#N/A"}},null,null,null,null,null,{"$f":"VLOOKUP(G441:G10439,'Location Type (FICM Codes)'!$A$7:$C$188,3,FALSE)","v":{"$error":"#N/A"}}]
[null,null,null,null,null,null,null,{"$f":"VLOOKUP($G$2:$G$50000,'Location Type (FICM Codes)'!$A$7:$B$188,2,FALSE)","v":{"$error":"#N/A"}},null,null,null,null,null,{"$f":"VLOOKUP(G442:G10440,'Location Type (FICM Codes)'!$A$7:$C$188,3,FALSE)","v":{"$error":"#N/A"}}]
[null,null,null,null,null,null,null,{"$f":"VLOOKUP($G$2:$G$50000,'Location Type (FICM Codes)'!$A$7:$B$188,2,FALSE)","v":{"$error":"#N/A"}},null,null,null,null,null,{"$f":"VLOOKUP(G443:G10441,'Location Type (FICM Codes)'!$A$7:$C$188,3,FALSE)","v":{"$error":"#N/A"}}]
[null,null,null,null,null,null,null,{"$f":"VLOOKUP($G$2:$G$50000,'Location Type (FICM Codes)'!$A$7:$B$188,2,FALSE)","v":{"$error":"#N/A"}},null,null,null,null,null,{"$f":"VLOOKUP(G444:G10442,'Location Type (FICM Codes)'!$A$7:$C$188,3,FALSE)","v":{"$error":"#N/A"}}]
[null,null,null,null,null,null,null,{"$f":"VLOOKUP($G$2:$G$50000,'Location Type (FICM Codes)'!$A$7:$B$188,2,FALSE)","v":{"$error":"#N/A"}},null,null,null,null,null,{"$f":"VLOOKUP(G445:G10443,'Location Type (FICM Codes)'!$A$7:$C$188,3,FALSE)","v":{"$error":"#N/A"}}]
[null,null,null,null,null,null,null,{"$f":"VLOOKUP($G$2:$G$50000,'Location Type (FICM Codes)'!$A$7:$B$188,2,FALSE)","v":{"$error":"#N/A"}},null,null,null,null,null,{"$f":"VLOOKUP(G446:G10444,'Location Type (FICM Codes)'!$A$7:$C$188,3,FALSE)","v":{"$error":"#N/A"}}]
[null,null,null,null,null,null,null,{"$f":"VLOOKUP($G$2:$G$50000,'Location Type (FICM Codes)'!$A$7:$B$188,2,FALSE)","v":{"$error":"#N/A"}},null,null,null,null,null,{"$f":"VLOOKUP(G447:G10445,'Location Type (FICM Codes)'!$A$7:$C$188,3,FALSE)","v":{"$error":"#N/A"}}]
[null,null,null,null,null,null,null,{"$f":"VLOOKUP($G$2:$G$50000,'Location Type (FICM Codes)'!$A$7:$B$188,2,FALSE)","v":{"$error":"#N/A"}},null,null,null,null,null,{"$f":"VLOOKUP(G448:G10446,'Location Type (FICM Codes)'!$A$7:$C$188,3,FALSE)","v":{"$error":"#N/A"}}]
[null,null,null,null,null,null,null,{"$f":"VLOOKUP($G$2:$G$50000,'Location Type (FICM Codes)'!$A$7:$B$188,2,FALSE)","v":{"$error":"#N/A"}},null,null,null,null,null,{"$f":"VLOOKUP(G449:G10447,'Location Type (FICM Codes)'!$A$7:$C$188,3,FALSE)","v":{"$error":"#N/A"}}]
[null,null,null,null,null,null,null,{"$f":"VLOOKUP($G$2:$G$50000,'Location Type (FICM Codes)'!$A$7:$B$188,2,FALSE)","v":{"$error":"#N/A"}},null,null,null,null,null,{"$f":"VLOOKUP(G450:G10448,'Location Type (FICM Codes)'!$A$7:$C$188,3,FALSE)","v":{"$error":"#N/A"}}]
[null,null,null,null,null,null,null,{"$f":"VLOOKUP($G$2:$G$50000,'Location Type (FICM Codes)'!$A$7:$B$188,2,FALSE)","v":{"$error":"#N/A"}},null,null,null,null,null,{"$f":"VLOOKUP(G451:G10449,'Location Type (FICM Codes)'!$A$7:$C$188,3,FALSE)","v":{"$error":"#N/A"}}]
[null,null,null,null,null,null,null,{"$f":"VLOOKUP($G$2:$G$50000,'Location Type (FICM Codes)'!$A$7:$B$188,2,FALSE)","v":{"$error":"#N/A"}},null,null,null,null,null,{"$f":"VLOOKUP(G452:G10450,'Location Type (FICM Codes)'!$A$7:$C$188,3,FALSE)","v":{"$error":"#N/A"}}]
[null,null,null,null,null,null,null,{"$f":"VLOOKUP($G$2:$G$50000,'Location Type (FICM Codes)'!$A$7:$B$188,2,FALSE)","v":{"$error":"#N/A"}},null,null,null,null,null,{"$f":"VLOOKUP(G453:G10451,'Location Type (FICM Codes)'!$A$7:$C$188,3,FALSE)","v":{"$error":"#N/A"}}]
[null,null,null,null,null,null,null,{"$f":"VLOOKUP($G$2:$G$50000,'Location Type (FICM Codes)'!$A$7:$B$188,2,FALSE)","v":{"$error":"#N/A"}},null,null,null,null,null,{"$f":"VLOOKUP(G454:G10452,'Location Type (FICM Codes)'!$A$7:$C$188,3,FALSE)","v":{"$error":"#N/A"}}]
[null,null,null,null,null,null,null,{"$f":"VLOOKUP($G$2:$G$50000,'Location Type (FICM Codes)'!$A$7:$B$188,2,FALSE)","v":{"$error":"#N/A"}},null,null,null,null,null,{"$f":"VLOOKUP(G455:G10453,'Location Type (FICM Codes)'!$A$7:$C$188,3,FALSE)","v":{"$error":"#N/A"}}]
[null,null,null,null,null,null,null,{"$f":"VLOOKUP($G$2:$G$50000,'Location Type (FICM Codes)'!$A$7:$B$188,2,FALSE)","v":{"$error":"#N/A"}},null,null,null,null,null,{"$f":"VLOOKUP(G456:G10454,'Location Type (FICM Codes)'!$A$7:$C$188,3,FALSE)","v":{"$error":"#N/A"}}]
[null,null,null,null,null,null,null,{"$f":"VLOOKUP($G$2:$G$50000,'Location Type (FICM Codes)'!$A$7:$B$188,2,FALSE)","v":{"$error":"#N/A"}},null,null,null,null,null,{"$f":"VLOOKUP(G457:G10455,'Location Type (FICM Codes)'!$A$7:$C$188,3,FALSE)","v":{"$error":"#N/A"}}]
[null,null,null,null,null,null,null,{"$f":"VLOOKUP($G$2:$G$50000,'Location Type (FICM Codes)'!$A$7:$B$188,2,FALSE)","v":{"$error":"#N/A"}},null,null,null,null,null,{"$f":"VLOOKUP(G458:G10456,'Location Type (FICM Codes)'!$A$7:$C$188,3,FALSE)","v":{"$error":"#N/A"}}]
[null,null,null,null,null,null,null,{"$f":"VLOOKUP($G$2:$G$50000,'Location Type (FICM Codes)'!$A$7:$B$188,2,FALSE)","v":{"$error":"#N/A"}},null,null,null,null,null,{"$f":"VLOOKUP(G459:G10457,'Location Type (FICM Codes)'!$A$7:$C$188,3,FALSE)","v":{"$error":"#N/A"}}]
[null,null,null,null,null,null,null,{"$f":"VLOOKUP($G$2:$G$50000,'Location Type (FICM Codes)'!$A$7:$B$188,2,FALSE)","v":{"$error":"#N/A"}},null,null,null,null,null,{"$f":"VLOOKUP(G460:G10458,'Location Type (FICM Codes)'!$A$7:$C$188,3,FALSE)","v":{"$error":"#N/A"}}]
[null,null,null,null,null,null,null,{"$f":"VLOOKUP($G$2:$G$50000,'Location Type (FICM Codes)'!$A$7:$B$188,2,FALSE)","v":{"$error":"#N/A"}},null,null,null,null,null,{"$f":"VLOOKUP(G461:G10459,'Location Type (FICM Codes)'!$A$7:$C$188,3,FALSE)","v":{"$error":"#N/A"}}]
[null,null,null,null,null,null,null,{"$f":"VLOOKUP($G$2:$G$50000,'Location Type (FICM Codes)'!$A$7:$B$188,2,FALSE)","v":{"$error":"#N/A"}},null,null,null,null,null,{"$f":"VLOOKUP(G462:G10460,'Location Type (FICM Codes)'!$A$7:$C$188,3,FALSE)","v":{"$error":"#N/A"}}]
[null,null,null,null,null,null,null,{"$f":"VLOOKUP($G$2:$G$50000,'Location Type (FICM Codes)'!$A$7:$B$188,2,FALSE)","v":{"$error":"#N/A"}},null,null,null,null,null,{"$f":"VLOOKUP(G463:G10461,'Location Type (FICM Codes)'!$A$7:$C$188,3,FALSE)","v":{"$error":"#N/A"}}]
[null,null,null,null,null,null,null,{"$f":"VLOOKUP($G$2:$G$50000,'Location Type (FICM Codes)'!$A$7:$B$188,2,FALSE)","v":{"$error":"#N/A"}},null,null,null,null,null,{"$f":"VLOOKUP(G464:G10462,'Location Type (FICM Codes)'!$A$7:$C$188,3,FALSE)","v":{"$error":"#N/A"}}]
[null,null,null,null,null,null,null,{"$f":"VLOOKUP($G$2:$G$50000,'Location Type (FICM Codes)'!$A$7:$B$188,2,FALSE)","v":{"$error":"#N/A"}},null,null,null,null,null,{"$f":"VLOOKUP(G465:G10463,'Location Type (FICM Codes)'!$A$7:$C$188,3,FALSE)","v":{"$error":"#N/A"}}]
[null,null,null,null,null,null,null,{"$f":"VLOOKUP($G$2:$G$50000,'Location Type (FICM Codes)'!$A$7:$B$188,2,FALSE)","v":{"$error":"#N/A"}},null,null,null,null,null,{"$f":"VLOOKUP(G466:G10464,'Location Type (FICM Codes)'!$A$7:$C$188,3,FALSE)","v":{"$error":"#N/A"}}]
[null,null,null,null,null,null,null,{"$f":"VLOOKUP($G$2:$G$50000,'Location Type (FICM Codes)'!$A$7:$B$188,2,FALSE)","v":{"$error":"#N/A"}},null,null,null,null,null,{"$f":"VLOOKUP(G467:G10465,'Location Type (FICM Codes)'!$A$7:$C$188,3,FALSE)","v":{"$error":"#N/A"}}]
[null,null,null,null,null,null,null,{"$f":"VLOOKUP($G$2:$G$50000,'Location Type (FICM Codes)'!$A$7:$B$188,2,FALSE)","v":{"$error":"#N/A"}},null,null,null,null,null,{"$f":"VLOOKUP(G468:G10466,'Location Type (FICM Codes)'!$A$7:$C$188,3,FALSE)","v":{"$error":"#N/A"}}]
[null,null,null,null,null,null,null,{"$f":"VLOOKUP($G$2:$G$50000,'Location Type (FICM Codes)'!$A$7:$B$188,2,FALSE)","v":{"$error":"#N/A"}},null,null,null,null,null,{"$f":"VLOOKUP(G469:G10467,'Location Type (FICM Codes)'!$A$7:$C$188,3,FALSE)","v":{"$error":"#N/A"}}]
[null,null,null,null,null,null,null,{"$f":"VLOOKUP($G$2:$G$50000,'Location Type (FICM Codes)'!$A$7:$B$188,2,FALSE)","v":{"$error":"#N/A"}},null,null,null,null,null,{"$f":"VLOOKUP(G470:G10468,'Location Type (FICM Codes)'!$A$7:$C$188,3,FALSE)","v":{"$error":"#N/A"}}]
[null,null,null,null,null,null,null,{"$f":"VLOOKUP($G$2:$G$50000,'Location Type (FICM Codes)'!$A$7:$B$188,2,FALSE)","v":{"$error":"#N/A"}},null,null,null,null,null,{"$f":"VLOOKUP(G471:G10469,'Location Type (FICM Codes)'!$A$7:$C$188,3,FALSE)","v":{"$error":"#N/A"}}]
[null,null,null,null,null,null,null,{"$f":"VLOOKUP($G$2:$G$50000,'Location Type (FICM Codes)'!$A$7:$B$188,2,FALSE)","v":{"$error":"#N/A"}},null,null,null,null,null,{"$f":"VLOOKUP(G472:G10470,'Location Type (FICM Codes)'!$A$7:$C$188,3,FALSE)","v":{"$error":"#N/A"}}]
[null,null,null,null,null,null,null,{"$f":"VLOOKUP($G$2:$G$50000,'Location Type (FICM Codes)'!$A$7:$B$188,2,FALSE)","v":{"$error":"#N/A"}},null,null,null,null,null,{"$f":"VLOOKUP(G473:G10471,'Location Type (FICM Codes)'!$A$7:$C$188,3,FALSE)","v":{"$error":"#N/A"}}]
[null,null,null,null,null,null,null,{"$f":"VLOOKUP($G$2:$G$50000,'Location Type (FICM Codes)'!$A$7:$B$188,2,FALSE)","v":{"$error":"#N/A"}},null,null,null,null,null,{"$f":"VLOOKUP(G474:G10472,'Location Type (FICM Codes)'!$A$7:$C$188,3,FALSE)","v":{"$error":"#N/A"}}]
[null,null,null,null,null,null,null,{"$f":"VLOOKUP($G$2:$G$50000,'Location Type (FICM Codes)'!$A$7:$B$188,2,FALSE)","v":{"$error":"#N/A"}},null,null,null,null,null,{"$f":"VLOOKUP(G475:G10473,'Location Type (FICM Codes)'!$A$7:$C$188,3,FALSE)","v":{"$error":"#N/A"}}]
[null,null,null,null,null,null,null,{"$f":"VLOOKUP($G$2:$G$50000,'Location Type (FICM Codes)'!$A$7:$B$188,2,FALSE)","v":{"$error":"#N/A"}},null,null,null,null,null,{"$f":"VLOOKUP(G476:G10474,'Location Type (FICM Codes)'!$A$7:$C$188,3,FALSE)","v":{"$error":"#N/A"}}]
[null,null,null,null,null,null,null,{"$f":"VLOOKUP($G$2:$G$50000,'Location Type (FICM Codes)'!$A$7:$B$188,2,FALSE)","v":{"$error":"#N/A"}},null,null,null,null,null,{"$f":"VLOOKUP(G477:G10475,'Location Type (FICM Codes)'!$A$7:$C$188,3,FALSE)","v":{"$error":"#N/A"}}]
[null,null,null,null,null,null,null,{"$f":"VLOOKUP($G$2:$G$50000,'Location Type (FICM Codes)'!$A$7:$B$188,2,FALSE)","v":{"$error":"#N/A"}},null,null,null,null,null,{"$f":"VLOOKUP(G478:G10476,'Location Type (FICM Codes)'!$A$7:$C$188,3,FALSE)","v":{"$error":"#N/A"}}]
[null,null,null,null,null,null,null,{"$f":"VLOOKUP($G$2:$G$50000,'Location Type (FICM Codes)'!$A$7:$B$188,2,FALSE)","v":{"$error":"#N/A"}},null,null,null,null,null,{"$f":"VLOOKUP(G479:G10477,'Location Type (FICM Codes)'!$A$7:$C$188,3,FALSE)","v":{"$error":"#N/A"}}]
[null,null,null,null,null,null,null,{"$f":"VLOOKUP($G$2:$G$50000,'Location Type (FICM Codes)'!$A$7:$B$188,2,FALSE)","v":{"$error":"#N/A"}},null,null,null,null,null,{"$f":"VLOOKUP(G480:G10478,'Location Type (FICM Codes)'!$A$7:$C$188,3,FALSE)","v":{"$error":"#N/A"}}]
[null,null,null,null,null,null,null,{"$f":"VLOOKUP($G$2:$G$50000,'Location Type (FICM Codes)'!$A$7:$B$188,2,FALSE)","v":{"$error":"#N/A"}},null,null,null,null,null,{"$f":"VLOOKUP(G481:G10479,'Location Type (FICM Codes)'!$A$7:$C$188,3,FALSE)","v":{"$error":"#N/A"}}]
[null,null,null,null,null,null,null,{"$f":"VLOOKUP($G$2:$G$50000,'Location Type (FICM Codes)'!$A$7:$B$188,2,FALSE)","v":{"$error":"#N/A"}},null,null,null,null,null,{"$f":"VLOOKUP(G482:G10480,'Location Type (FICM Codes)'!$A$7:$C$188,3,FALSE)","v":{"$error":"#N/A"}}]
[null,null,null,null,null,null,null,{"$f":"VLOOKUP($G$2:$G$50000,'Location Type (FICM Codes)'!$A$7:$B$188,2,FALSE)","v":{"$error":"#N/A"}},null,null,null,null,null,{"$f":"VLOOKUP(G483:G10481,'Location Type (FICM Codes)'!$A$7:$C$188,3,FALSE)","v":{"$error":"#N/A"}}]
[null,null,null,null,null,null,null,{"$f":"VLOOKUP($G$2:$G$50000,'Location Type (FICM Codes)'!$A$7:$B$188,2,FALSE)","v":{"$error":"#N/A"}},null,null,null,null,null,{"$f":"VLOOKUP(G484:G10482,'Location Type (FICM Codes)'!$A$7:$C$188,3,FALSE)","v":{"$error":"#N/A"}}]
[null,null,null,null,null,null,null,{"$f":"VLOOKUP($G$2:$G$50000,'Location Type (FICM Codes)'!$A$7:$B$188,2,FALSE)","v":{"$error":"#N/A"}},null,null,null,null,null,{"$f":"VLOOKUP(G485:G10483,'Location Type (FICM Codes)'!$A$7:$C$188,3,FALSE)","v":{"$error":"#N/A"}}]
[null,null,null,null,null,null,null,{"$f":"VLOOKUP($G$2:$G$50000,'Location Type (FICM Codes)'!$A$7:$B$188,2,FALSE)","v":{"$error":"#N/A"}},null,null,null,null,null,{"$f":"VLOOKUP(G486:G10484,'Location Type (FICM Codes)'!$A$7:$C$188,3,FALSE)","v":{"$error":"#N/A"}}]
[null,null,null,null,null,null,null,{"$f":"VLOOKUP($G$2:$G$50000,'Location Type (FICM Codes)'!$A$7:$B$188,2,FALSE)","v":{"$error":"#N/A"}},null,null,null,null,null,{"$f":"VLOOKUP(G487:G10485,'Location Type (FICM Codes)'!$A$7:$C$188,3,FALSE)","v":{"$error":"#N/A"}}]
[null,null,null,null,null,null,null,{"$f":"VLOOKUP($G$2:$G$50000,'Location Type (FICM Codes)'!$A$7:$B$188,2,FALSE)","v":{"$error":"#N/A"}},null,null,null,null,null,{"$f":"VLOOKUP(G488:G10486,'Location Type (FICM Codes)'!$A$7:$C$188,3,FALSE)","v":{"$error":"#N/A"}}]
[null,null,null,null,null,null,null,{"$f":"VLOOKUP($G$2:$G$50000,'Location Type (FICM Codes)'!$A$7:$B$188,2,FALSE)","v":{"$error":"#N/A"}},null,null,null,null,null,{"$f":"VLOOKUP(G489:G10487,'Location Type (FICM Codes)'!$A$7:$C$188,3,FALSE)","v":{"$error":"#N/A"}}]
[null,null,null,null,null,null,null,{"$f":"VLOOKUP($G$2:$G$50000,'Location Type (FICM Codes)'!$A$7:$B$188,2,FALSE)","v":{"$error":"#N/A"}},null,null,null,null,null,{"$f":"VLOOKUP(G490:G10488,'Location Type (FICM Codes)'!$A$7:$C$188,3,FALSE)","v":{"$error":"#N/A"}}]
[null,null,null,null,null,null,null,{"$f":"VLOOKUP($G$2:$G$50000,'Location Type (FICM Codes)'!$A$7:$B$188,2,FALSE)","v":{"$error":"#N/A"}},null,null,null,null,null,{"$f":"VLOOKUP(G491:G10489,'Location Type (FICM Codes)'!$A$7:$C$188,3,FALSE)","v":{"$error":"#N/A"}}]
[null,null,null,null,null,null,null,{"$f":"VLOOKUP($G$2:$G$50000,'Location Type (FICM Codes)'!$A$7:$B$188,2,FALSE)","v":{"$error":"#N/A"}},null,null,null,null,null,{"$f":"VLOOKUP(G492:G10490,'Location Type (FICM Codes)'!$A$7:$C$188,3,FALSE)","v":{"$error":"#N/A"}}]
[null,null,null,null,null,null,null,{"$f":"VLOOKUP($G$2:$G$50000,'Location Type (FICM Codes)'!$A$7:$B$188,2,FALSE)","v":{"$error":"#N/A"}},null,null,null,null,null,{"$f":"VLOOKUP(G493:G10491,'Location Type (FICM Codes)'!$A$7:$C$188,3,FALSE)","v":{"$error":"#N/A"}}]
[null,null,null,null,null,null,null,{"$f":"VLOOKUP($G$2:$G$50000,'Location Type (FICM Codes)'!$A$7:$B$188,2,FALSE)","v":{"$error":"#N/A"}},null,null,null,null,null,{"$f":"VLOOKUP(G494:G10492,'Location Type (FICM Codes)'!$A$7:$C$188,3,FALSE)","v":{"$error":"#N/A"}}]
[null,null,null,null,null,null,null,{"$f":"VLOOKUP($G$2:$G$50000,'Location Type (FICM Codes)'!$A$7:$B$188,2,FALSE)","v":{"$error":"#N/A"}},null,null,null,null,null,{"$f":"VLOOKUP(G495:G10493,'Location Type (FICM Codes)'!$A$7:$C$188,3,FALSE)","v":{"$error":"#N/A"}}]
[null,null,null,null,null,null,null,{"$f":"VLOOKUP($G$2:$G$50000,'Location Type (FICM Codes)'!$A$7:$B$188,2,FALSE)","v":{"$error":"#N/A"}},null,null,null,null,null,{"$f":"VLOOKUP(G496:G10494,'Location Type (FICM Codes)'!$A$7:$C$188,3,FALSE)","v":{"$error":"#N/A"}}]
[null,null,null,null,null,null,null,{"$f":"VLOOKUP($G$2:$G$50000,'Location Type (FICM Codes)'!$A$7:$B$188,2,FALSE)","v":{"$error":"#N/A"}},null,null,null,null,null,{"$f":"VLOOKUP(G497:G10495,'Location Type (FICM Codes)'!$A$7:$C$188,3,FALSE)","v":{"$error":"#N/A"}}]
[null,null,null,null,null,null,null,{"$f":"VLOOKUP($G$2:$G$50000,'Location Type (FICM Codes)'!$A$7:$B$188,2,FALSE)","v":{"$error":"#N/A"}},null,null,null,null,null,{"$f":"VLOOKUP(G498:G10496,'Location Type (FICM Codes)'!$A$7:$C$188,3,FALSE)","v":{"$error":"#N/A"}}]
[null,null,null,null,null,null,null,{"$f":"VLOOKUP($G$2:$G$50000,'Location Type (FICM Codes)'!$A$7:$B$188,2,FALSE)","v":{"$error":"#N/A"}},null,null,null,null,null,{"$f":"VLOOKUP(G499:G10497,'Location Type (FICM Codes)'!$A$7:$C$188,3,FALSE)","v":{"$error":"#N/A"}}]
[null,null,null,null,null,null,null,{"$f":"VLOOKUP($G$2:$G$50000,'Location Type (FICM Codes)'!$A$7:$B$188,2,FALSE)","v":{"$error":"#N/A"}},null,null,null,null,null,{"$f":"VLOOKUP(G500:G10498,'Location Type (FICM Codes)'!$A$7:$C$188,3,FALSE)","v":{"$error":"#N/A"}}]
[null,null,null,null,null,null,null,{"$f":"VLOOKUP($G$2:$G$50000,'Location Type (FICM Codes)'!$A$7:$B$188,2,FALSE)","v":{"$error":"#N/A"}},null,null,null,null,null,{"$f":"VLOOKUP(G501:G10499,'Location Type (FICM Codes)'!$A$7:$C$188,3,FALSE)","v":{"$error":"#N/A"}}]
[null,null,null,null,null,null,null,{"$f":"VLOOKUP($G$2:$G$50000,'Location Type (FICM Codes)'!$A$7:$B$188,2,FALSE)","v":{"$error":"#N/A"}},null,null,null,null,null,{"$f":"VLOOKUP(G502:G10500,'Location Type (FICM Codes)'!$A$7:$C$188,3,FALSE)","v":{"$error":"#N/A"}}]
[null,null,null,null,null,null,null,{"$f":"VLOOKUP($G$2:$G$50000,'Location Type (FICM Codes)'!$A$7:$B$188,2,FALSE)","v":{"$error":"#N/A"}},null,null,null,null,null,{"$f":"VLOOKUP(G503:G10501,'Location Type (FICM Codes)'!$A$7:$C$188,3,FALSE)","v":{"$error":"#N/A"}}]
[null,null,null,null,null,null,null,{"$f":"VLOOKUP($G$2:$G$50000,'Location Type (FICM Codes)'!$A$7:$B$188,2,FALSE)","v":{"$error":"#N/A"}},null,null,null,null,null,{"$f":"VLOOKUP(G504:G10502,'Location Type (FICM Codes)'!$A$7:$C$188,3,FALSE)","v":{"$error":"#N/A"}}]
[null,null,null,null,null,null,null,{"$f":"VLOOKUP($G$2:$G$50000,'Location Type (FICM Codes)'!$A$7:$B$188,2,FALSE)","v":{"$error":"#N/A"}},null,null,null,null,null,{"$f":"VLOOKUP(G505:G10503,'Location Type (FICM Codes)'!$A$7:$C$188,3,FALSE)","v":{"$error":"#N/A"}}]
[null,null,null,null,null,null,null,{"$f":"VLOOKUP($G$2:$G$50000,'Location Type (FICM Codes)'!$A$7:$B$188,2,FALSE)","v":{"$error":"#N/A"}},null,null,null,null,null,{"$f":"VLOOKUP(G506:G10504,'Location Type (FICM Codes)'!$A$7:$C$188,3,FALSE)","v":{"$error":"#N/A"}}]
[null,null,null,null,null,null,null,{"$f":"VLOOKUP($G$2:$G$50000,'Location Type (FICM Codes)'!$A$7:$B$188,2,FALSE)","v":{"$error":"#N/A"}},null,null,null,null,null,{"$f":"VLOOKUP(G507:G10505,'Location Type (FICM Codes)'!$A$7:$C$188,3,FALSE)","v":{"$error":"#N/A"}}]
[null,null,null,null,null,null,null,{"$f":"VLOOKUP($G$2:$G$50000,'Location Type (FICM Codes)'!$A$7:$B$188,2,FALSE)","v":{"$error":"#N/A"}},null,null,null,null,null,{"$f":"VLOOKUP(G508:G10506,'Location Type (FICM Codes)'!$A$7:$C$188,3,FALSE)","v":{"$error":"#N/A"}}]
[null,null,null,null,null,null,null,{"$f":"VLOOKUP($G$2:$G$50000,'Location Type (FICM Codes)'!$A$7:$B$188,2,FALSE)","v":{"$error":"#N/A"}},null,null,null,null,null,{"$f":"VLOOKUP(G509:G10507,'Location Type (FICM Codes)'!$A$7:$C$188,3,FALSE)","v":{"$error":"#N/A"}}]
[null,null,null,null,null,null,null,{"$f":"VLOOKUP($G$2:$G$50000,'Location Type (FICM Codes)'!$A$7:$B$188,2,FALSE)","v":{"$error":"#N/A"}},null,null,null,null,null,{"$f":"VLOOKUP(G510:G10508,'Location Type (FICM Codes)'!$A$7:$C$188,3,FALSE)","v":{"$error":"#N/A"}}]
[null,null,null,null,null,null,null,{"$f":"VLOOKUP($G$2:$G$50000,'Location Type (FICM Codes)'!$A$7:$B$188,2,FALSE)","v":{"$error":"#N/A"}},null,null,null,null,null,{"$f":"VLOOKUP(G511:G10509,'Location Type (FICM Codes)'!$A$7:$C$188,3,FALSE)","v":{"$error":"#N/A"}}]
[null,null,null,null,null,null,null,{"$f":"VLOOKUP($G$2:$G$50000,'Location Type (FICM Codes)'!$A$7:$B$188,2,FALSE)","v":{"$error":"#N/A"}},null,null,null,null,null,{"$f":"VLOOKUP(G512:G10510,'Location Type (FICM Codes)'!$A$7:$C$188,3,FALSE)","v":{"$error":"#N/A"}}]
[null,null,null,null,null,null,null,{"$f":"VLOOKUP($G$2:$G$50000,'Location Type (FICM Codes)'!$A$7:$B$188,2,FALSE)","v":{"$error":"#N/A"}},null,null,null,null,null,{"$f":"VLOOKUP(G513:G10511,'Location Type (FICM Codes)'!$A$7:$C$188,3,FALSE)","v":{"$error":"#N/A"}}]
[null,null,null,null,null,null,null,{"$f":"VLOOKUP($G$2:$G$50000,'Location Type (FICM Codes)'!$A$7:$B$188,2,FALSE)","v":{"$error":"#N/A"}},null,null,null,null,null,{"$f":"VLOOKUP(G514:G10512,'Location Type (FICM Codes)'!$A$7:$C$188,3,FALSE)","v":{"$error":"#N/A"}}]
[null,null,null,null,null,null,null,{"$f":"VLOOKUP($G$2:$G$50000,'Location Type (FICM Codes)'!$A$7:$B$188,2,FALSE)","v":{"$error":"#N/A"}},null,null,null,null,null,{"$f":"VLOOKUP(G515:G10513,'Location Type (FICM Codes)'!$A$7:$C$188,3,FALSE)","v":{"$error":"#N/A"}}]
[null,null,null,null,null,null,null,{"$f":"VLOOKUP($G$2:$G$50000,'Location Type (FICM Codes)'!$A$7:$B$188,2,FALSE)","v":{"$error":"#N/A"}},null,null,null,null,null,{"$f":"VLOOKUP(G516:G10514,'Location Type (FICM Codes)'!$A$7:$C$188,3,FALSE)","v":{"$error":"#N/A"}}]
[null,null,null,null,null,null,null,{"$f":"VLOOKUP($G$2:$G$50000,'Location Type (FICM Codes)'!$A$7:$B$188,2,FALSE)","v":{"$error":"#N/A"}},null,null,null,null,null,{"$f":"VLOOKUP(G517:G10515,'Location Type (FICM Codes)'!$A$7:$C$188,3,FALSE)","v":{"$error":"#N/A"}}]
[null,null,null,null,null,null,null,{"$f":"VLOOKUP($G$2:$G$50000,'Location Type (FICM Codes)'!$A$7:$B$188,2,FALSE)","v":{"$error":"#N/A"}},null,null,null,null,null,{"$f":"VLOOKUP(G518:G10516,'Location Type (FICM Codes)'!$A$7:$C$188,3,FALSE)","v":{"$error":"#N/A"}}]
[null,null,null,null,null,null,null,{"$f":"VLOOKUP($G$2:$G$50000,'Location Type (FICM Codes)'!$A$7:$B$188,2,FALSE)","v":{"$error":"#N/A"}},null,null,null,null,null,{"$f":"VLOOKUP(G519:G10517,'Location Type (FICM Codes)'!$A$7:$C$188,3,FALSE)","v":{"$error":"#N/A"}}]
[null,null,null,null,null,null,null,{"$f":"VLOOKUP($G$2:$G$50000,'Location Type (FICM Codes)'!$A$7:$B$188,2,FALSE)","v":{"$error":"#N/A"}},null,null,null,null,null,{"$f":"VLOOKUP(G520:G10518,'Location Type (FICM Codes)'!$A$7:$C$188,3,FALSE)","v":{"$error":"#N/A"}}]
[null,null,null,null,null,null,null,{"$f":"VLOOKUP($G$2:$G$50000,'Location Type (FICM Codes)'!$A$7:$B$188,2,FALSE)","v":{"$error":"#N/A"}},null,null,null,null,null,{"$f":"VLOOKUP(G521:G10519,'Location Type (FICM Codes)'!$A$7:$C$188,3,FALSE)","v":{"$error":"#N/A"}}]
[null,null,null,null,null,null,null,{"$f":"VLOOKUP($G$2:$G$50000,'Location Type (FICM Codes)'!$A$7:$B$188,2,FALSE)","v":{"$error":"#N/A"}},null,null,null,null,null,{"$f":"VLOOKUP(G522:G10520,'Location Type (FICM Codes)'!$A$7:$C$188,3,FALSE)","v":{"$error":"#N/A"}}]
[null,null,null,null,null,null,null,{"$f":"VLOOKUP($G$2:$G$50000,'Location Type (FICM Codes)'!$A$7:$B$188,2,FALSE)","v":{"$error":"#N/A"}},null,null,null,null,null,{"$f":"VLOOKUP(G523:G10521,'Location Type (FICM Codes)'!$A$7:$C$188,3,FALSE)","v":{"$error":"#N/A"}}]
[null,null,null,null,null,null,null,{"$f":"VLOOKUP($G$2:$G$50000,'Location Type (FICM Codes)'!$A$7:$B$188,2,FALSE)","v":{"$error":"#N/A"}},null,null,null,null,null,{"$f":"VLOOKUP(G524:G10522,'Location Type (FICM Codes)'!$A$7:$C$188,3,FALSE)","v":{"$error":"#N/A"}}]
[null,null,null,null,null,null,null,{"$f":"VLOOKUP($G$2:$G$50000,'Location Type (FICM Codes)'!$A$7:$B$188,2,FALSE)","v":{"$error":"#N/A"}},null,null,null,null,null,{"$f":"VLOOKUP(G525:G10523,'Location Type (FICM Codes)'!$A$7:$C$188,3,FALSE)","v":{"$error":"#N/A"}}]
[null,null,null,null,null,null,null,{"$f":"VLOOKUP($G$2:$G$50000,'Location Type (FICM Codes)'!$A$7:$B$188,2,FALSE)","v":{"$error":"#N/A"}},null,null,null,null,null,{"$f":"VLOOKUP(G526:G10524,'Location Type (FICM Codes)'!$A$7:$C$188,3,FALSE)","v":{"$error":"#N/A"}}]
[null,null,null,null,null,null,null,{"$f":"VLOOKUP($G$2:$G$50000,'Location Type (FICM Codes)'!$A$7:$B$188,2,FALSE)","v":{"$error":"#N/A"}},null,null,null,null,null,{"$f":"VLOOKUP(G527:G10525,'Location Type (FICM Codes)'!$A$7:$C$188,3,FALSE)","v":{"$error":"#N/A"}}]
[null,null,null,null,null,null,null,{"$f":"VLOOKUP($G$2:$G$50000,'Location Type (FICM Codes)'!$A$7:$B$188,2,FALSE)","v":{"$error":"#N/A"}},null,null,null,null,null,{"$f":"VLOOKUP(G528:G10526,'Location Type (FICM Codes)'!$A$7:$C$188,3,FALSE)","v":{"$error":"#N/A"}}]
[null,null,null,null,null,null,null,{"$f":"VLOOKUP($G$2:$G$50000,'Location Type (FICM Codes)'!$A$7:$B$188,2,FALSE)","v":{"$error":"#N/A"}},null,null,null,null,null,{"$f":"VLOOKUP(G529:G10527,'Location Type (FICM Codes)'!$A$7:$C$188,3,FALSE)","v":{"$error":"#N/A"}}]
[null,null,null,null,null,null,null,{"$f":"VLOOKUP($G$2:$G$50000,'Location Type (FICM Codes)'!$A$7:$B$188,2,FALSE)","v":{"$error":"#N/A"}},null,null,null,null,null,{"$f":"VLOOKUP(G530:G10528,'Location Type (FICM Codes)'!$A$7:$C$188,3,FALSE)","v":{"$error":"#N/A"}}]
[null,null,null,null,null,null,null,{"$f":"VLOOKUP($G$2:$G$50000,'Location Type (FICM Codes)'!$A$7:$B$188,2,FALSE)","v":{"$error":"#N/A"}},null,null,null,null,null,{"$f":"VLOOKUP(G531:G10529,'Location Type (FICM Codes)'!$A$7:$C$188,3,FALSE)","v":{"$error":"#N/A"}}]
[null,null,null,null,null,null,null,{"$f":"VLOOKUP($G$2:$G$50000,'Location Type (FICM Codes)'!$A$7:$B$188,2,FALSE)","v":{"$error":"#N/A"}},null,null,null,null,null,{"$f":"VLOOKUP(G532:G10530,'Location Type (FICM Codes)'!$A$7:$C$188,3,FALSE)","v":{"$error":"#N/A"}}]
[null,null,null,null,null,null,null,{"$f":"VLOOKUP($G$2:$G$50000,'Location Type (FICM Codes)'!$A$7:$B$188,2,FALSE)","v":{"$error":"#N/A"}},null,null,null,null,null,{"$f":"VLOOKUP(G533:G10531,'Location Type (FICM Codes)'!$A$7:$C$188,3,FALSE)","v":{"$error":"#N/A"}}]
[null,null,null,null,null,null,null,{"$f":"VLOOKUP($G$2:$G$50000,'Location Type (FICM Codes)'!$A$7:$B$188,2,FALSE)","v":{"$error":"#N/A"}},null,null,null,null,null,{"$f":"VLOOKUP(G534:G10532,'Location Type (FICM Codes)'!$A$7:$C$188,3,FALSE)","v":{"$error":"#N/A"}}]
[null,null,null,null,null,null,null,{"$f":"VLOOKUP($G$2:$G$50000,'Location Type (FICM Codes)'!$A$7:$B$188,2,FALSE)","v":{"$error":"#N/A"}},null,null,null,null,null,{"$f":"VLOOKUP(G535:G10533,'Location Type (FICM Codes)'!$A$7:$C$188,3,FALSE)","v":{"$error":"#N/A"}}]
[null,null,null,null,null,null,null,{"$f":"VLOOKUP($G$2:$G$50000,'Location Type (FICM Codes)'!$A$7:$B$188,2,FALSE)","v":{"$error":"#N/A"}},null,null,null,null,null,{"$f":"VLOOKUP(G536:G10534,'Location Type (FICM Codes)'!$A$7:$C$188,3,FALSE)","v":{"$error":"#N/A"}}]
[null,null,null,null,null,null,null,{"$f":"VLOOKUP($G$2:$G$50000,'Location Type (FICM Codes)'!$A$7:$B$188,2,FALSE)","v":{"$error":"#N/A"}},null,null,null,null,null,{"$f":"VLOOKUP(G537:G10535,'Location Type (FICM Codes)'!$A$7:$C$188,3,FALSE)","v":{"$error":"#N/A"}}]
[null,null,null,null,null,null,null,{"$f":"VLOOKUP($G$2:$G$50000,'Location Type (FICM Codes)'!$A$7:$B$188,2,FALSE)","v":{"$error":"#N/A"}},null,null,null,null,null,{"$f":"VLOOKUP(G538:G10536,'Location Type (FICM Codes)'!$A$7:$C$188,3,FALSE)","v":{"$error":"#N/A"}}]
[null,null,null,null,null,null,null,{"$f":"VLOOKUP($G$2:$G$50000,'Location Type (FICM Codes)'!$A$7:$B$188,2,FALSE)","v":{"$error":"#N/A"}},null,null,null,null,null,{"$f":"VLOOKUP(G539:G10537,'Location Type (FICM Codes)'!$A$7:$C$188,3,FALSE)","v":{"$error":"#N/A"}}]
[null,null,null,null,null,null,null,{"$f":"VLOOKUP($G$2:$G$50000,'Location Type (FICM Codes)'!$A$7:$B$188,2,FALSE)","v":{"$error":"#N/A"}},null,null,null,null,null,{"$f":"VLOOKUP(G540:G10538,'Location Type (FICM Codes)'!$A$7:$C$188,3,FALSE)","v":{"$error":"#N/A"}}]
[null,null,null,null,null,null,null,{"$f":"VLOOKUP($G$2:$G$50000,'Location Type (FICM Codes)'!$A$7:$B$188,2,FALSE)","v":{"$error":"#N/A"}},null,null,null,null,null,{"$f":"VLOOKUP(G541:G10539,'Location Type (FICM Codes)'!$A$7:$C$188,3,FALSE)","v":{"$error":"#N/A"}}]
[null,null,null,null,null,null,null,{"$f":"VLOOKUP($G$2:$G$50000,'Location Type (FICM Codes)'!$A$7:$B$188,2,FALSE)","v":{"$error":"#N/A"}},null,null,null,null,null,{"$f":"VLOOKUP(G542:G10540,'Location Type (FICM Codes)'!$A$7:$C$188,3,FALSE)","v":{"$error":"#N/A"}}]
[null,null,null,null,null,null,null,{"$f":"VLOOKUP($G$2:$G$50000,'Location Type (FICM Codes)'!$A$7:$B$188,2,FALSE)","v":{"$error":"#N/A"}},null,null,null,null,null,{"$f":"VLOOKUP(G543:G10541,'Location Type (FICM Codes)'!$A$7:$C$188,3,FALSE)","v":{"$error":"#N/A"}}]
[null,null,null,null,null,null,null,{"$f":"VLOOKUP($G$2:$G$50000,'Location Type (FICM Codes)'!$A$7:$B$188,2,FALSE)","v":{"$error":"#N/A"}},null,null,null,null,null,{"$f":"VLOOKUP(G544:G10542,'Location Type (FICM Codes)'!$A$7:$C$188,3,FALSE)","v":{"$error":"#N/A"}}]
[null,null,null,null,null,null,null,{"$f":"VLOOKUP($G$2:$G$50000,'Location Type (FICM Codes)'!$A$7:$B$188,2,FALSE)","v":{"$error":"#N/A"}},null,null,null,null,null,{"$f":"VLOOKUP(G545:G10543,'Location Type (FICM Codes)'!$A$7:$C$188,3,FALSE)","v":{"$error":"#N/A"}}]
[null,null,null,null,null,null,null,{"$f":"VLOOKUP($G$2:$G$50000,'Location Type (FICM Codes)'!$A$7:$B$188,2,FALSE)","v":{"$error":"#N/A"}},null,null,null,null,null,{"$f":"VLOOKUP(G546:G10544,'Location Type (FICM Codes)'!$A$7:$C$188,3,FALSE)","v":{"$error":"#N/A"}}]
[null,null,null,null,null,null,null,{"$f":"VLOOKUP($G$2:$G$50000,'Location Type (FICM Codes)'!$A$7:$B$188,2,FALSE)","v":{"$error":"#N/A"}},null,null,null,null,null,{"$f":"VLOOKUP(G547:G10545,'Location Type (FICM Codes)'!$A$7:$C$188,3,FALSE)","v":{"$error":"#N/A"}}]
[null,null,null,null,null,null,null,{"$f":"VLOOKUP($G$2:$G$50000,'Location Type (FICM Codes)'!$A$7:$B$188,2,FALSE)","v":{"$error":"#N/A"}},null,null,null,null,null,{"$f":"VLOOKUP(G548:G10546,'Location Type (FICM Codes)'!$A$7:$C$188,3,FALSE)","v":{"$error":"#N/A"}}]
[null,null,null,null,null,null,null,{"$f":"VLOOKUP($G$2:$G$50000,'Location Type (FICM Codes)'!$A$7:$B$188,2,FALSE)","v":{"$error":"#N/A"}},null,null,null,null,null,{"$f":"VLOOKUP(G549:G10547,'Location Type (FICM Codes)'!$A$7:$C$188,3,FALSE)","v":{"$error":"#N/A"}}]
[null,null,null,null,null,null,null,{"$f":"VLOOKUP($G$2:$G$50000,'Location Type (FICM Codes)'!$A$7:$B$188,2,FALSE)","v":{"$error":"#N/A"}},null,null,null,null,null,{"$f":"VLOOKUP(G550:G10548,'Location Type (FICM Codes)'!$A$7:$C$188,3,FALSE)","v":{"$error":"#N/A"}}]
[null,null,null,null,null,null,null,{"$f":"VLOOKUP($G$2:$G$50000,'Location Type (FICM Codes)'!$A$7:$B$188,2,FALSE)","v":{"$error":"#N/A"}},null,null,null,null,null,{"$f":"VLOOKUP(G551:G10549,'Location Type (FICM Codes)'!$A$7:$C$188,3,FALSE)","v":{"$error":"#N/A"}}]
[null,null,null,null,null,null,null,{"$f":"VLOOKUP($G$2:$G$50000,'Location Type (FICM Codes)'!$A$7:$B$188,2,FALSE)","v":{"$error":"#N/A"}},null,null,null,null,null,{"$f":"VLOOKUP(G552:G10550,'Location Type (FICM Codes)'!$A$7:$C$188,3,FALSE)","v":{"$error":"#N/A"}}]
[null,null,null,null,null,null,null,{"$f":"VLOOKUP($G$2:$G$50000,'Location Type (FICM Codes)'!$A$7:$B$188,2,FALSE)","v":{"$error":"#N/A"}},null,null,null,null,null,{"$f":"VLOOKUP(G553:G10551,'Location Type (FICM Codes)'!$A$7:$C$188,3,FALSE)","v":{"$error":"#N/A"}}]
[null,null,null,null,null,null,null,{"$f":"VLOOKUP($G$2:$G$50000,'Location Type (FICM Codes)'!$A$7:$B$188,2,FALSE)","v":{"$error":"#N/A"}},null,null,null,null,null,{"$f":"VLOOKUP(G554:G10552,'Location Type (FICM Codes)'!$A$7:$C$188,3,FALSE)","v":{"$error":"#N/A"}}]
[null,null,null,null,null,null,null,{"$f":"VLOOKUP($G$2:$G$50000,'Location Type (FICM Codes)'!$A$7:$B$188,2,FALSE)","v":{"$error":"#N/A"}},null,null,null,null,null,{"$f":"VLOOKUP(G555:G10553,'Location Type (FICM Codes)'!$A$7:$C$188,3,FALSE)","v":{"$error":"#N/A"}}]
[null,null,null,null,null,null,null,{"$f":"VLOOKUP($G$2:$G$50000,'Location Type (FICM Codes)'!$A$7:$B$188,2,FALSE)","v":{"$error":"#N/A"}},null,null,null,null,null,{"$f":"VLOOKUP(G556:G10554,'Location Type (FICM Codes)'!$A$7:$C$188,3,FALSE)","v":{"$error":"#N/A"}}]
[null,null,null,null,null,null,null,{"$f":"VLOOKUP($G$2:$G$50000,'Location Type (FICM Codes)'!$A$7:$B$188,2,FALSE)","v":{"$error":"#N/A"}},null,null,null,null,null,{"$f":"VLOOKUP(G557:G10555,'Location Type (FICM Codes)'!$A$7:$C$188,3,FALSE)","v":{"$error":"#N/A"}}]
[null,null,null,null,null,null,null,{"$f":"VLOOKUP($G$2:$G$50000,'Location Type (FICM Codes)'!$A$7:$B$188,2,FALSE)","v":{"$error":"#N/A"}},null,null,null,null,null,{"$f":"VLOOKUP(G558:G10556,'Location Type (FICM Codes)'!$A$7:$C$188,3,FALSE)","v":{"$error":"#N/A"}}]
[null,null,null,null,null,null,null,{"$f":"VLOOKUP($G$2:$G$50000,'Location Type (FICM Codes)'!$A$7:$B$188,2,FALSE)","v":{"$error":"#N/A"}},null,null,null,null,null,{"$f":"VLOOKUP(G559:G10557,'Location Type (FICM Codes)'!$A$7:$C$188,3,FALSE)","v":{"$error":"#N/A"}}]
[null,null,null,null,null,null,null,{"$f":"VLOOKUP($G$2:$G$50000,'Location Type (FICM Codes)'!$A$7:$B$188,2,FALSE)","v":{"$error":"#N/A"}},null,null,null,null,null,{"$f":"VLOOKUP(G560:G10558,'Location Type (FICM Codes)'!$A$7:$C$188,3,FALSE)","v":{"$error":"#N/A"}}]
[null,null,null,null,null,null,null,{"$f":"VLOOKUP($G$2:$G$50000,'Location Type (FICM Codes)'!$A$7:$B$188,2,FALSE)","v":{"$error":"#N/A"}},null,null,null,null,null,{"$f":"VLOOKUP(G561:G10559,'Location Type (FICM Codes)'!$A$7:$C$188,3,FALSE)","v":{"$error":"#N/A"}}]
[null,null,null,null,null,null,null,{"$f":"VLOOKUP($G$2:$G$50000,'Location Type (FICM Codes)'!$A$7:$B$188,2,FALSE)","v":{"$error":"#N/A"}},null,null,null,null,null,{"$f":"VLOOKUP(G562:G10560,'Location Type (FICM Codes)'!$A$7:$C$188,3,FALSE)","v":{"$error":"#N/A"}}]
[null,null,null,null,null,null,null,{"$f":"VLOOKUP($G$2:$G$50000,'Location Type (FICM Codes)'!$A$7:$B$188,2,FALSE)","v":{"$error":"#N/A"}},null,null,null,null,null,{"$f":"VLOOKUP(G563:G10561,'Location Type (FICM Codes)'!$A$7:$C$188,3,FALSE)","v":{"$error":"#N/A"}}]
[null,null,null,null,null,null,null,{"$f":"VLOOKUP($G$2:$G$50000,'Location Type (FICM Codes)'!$A$7:$B$188,2,FALSE)","v":{"$error":"#N/A"}},null,null,null,null,null,{"$f":"VLOOKUP(G564:G10562,'Location Type (FICM Codes)'!$A$7:$C$188,3,FALSE)","v":{"$error":"#N/A"}}]
[null,null,null,null,null,null,null,{"$f":"VLOOKUP($G$2:$G$50000,'Location Type (FICM Codes)'!$A$7:$B$188,2,FALSE)","v":{"$error":"#N/A"}},null,null,null,null,null,{"$f":"VLOOKUP(G565:G10563,'Location Type (FICM Codes)'!$A$7:$C$188,3,FALSE)","v":{"$error":"#N/A"}}]
[null,null,null,null,null,null,null,{"$f":"VLOOKUP($G$2:$G$50000,'Location Type (FICM Codes)'!$A$7:$B$188,2,FALSE)","v":{"$error":"#N/A"}},null,null,null,null,null,{"$f":"VLOOKUP(G566:G10564,'Location Type (FICM Codes)'!$A$7:$C$188,3,FALSE)","v":{"$error":"#N/A"}}]
[null,null,null,null,null,null,null,{"$f":"VLOOKUP($G$2:$G$50000,'Location Type (FICM Codes)'!$A$7:$B$188,2,FALSE)","v":{"$error":"#N/A"}},null,null,null,null,null,{"$f":"VLOOKUP(G567:G10565,'Location Type (FICM Codes)'!$A$7:$C$188,3,FALSE)","v":{"$error":"#N/A"}}]
[null,null,null,null,null,null,null,{"$f":"VLOOKUP($G$2:$G$50000,'Location Type (FICM Codes)'!$A$7:$B$188,2,FALSE)","v":{"$error":"#N/A"}},null,null,null,null,null,{"$f":"VLOOKUP(G568:G10566,'Location Type (FICM Codes)'!$A$7:$C$188,3,FALSE)","v":{"$error":"#N/A"}}]
[null,null,null,null,null,null,null,{"$f":"VLOOKUP($G$2:$G$50000,'Location Type (FICM Codes)'!$A$7:$B$188,2,FALSE)","v":{"$error":"#N/A"}},null,null,null,null,null,{"$f":"VLOOKUP(G569:G10567,'Location Type (FICM Codes)'!$A$7:$C$188,3,FALSE)","v":{"$error":"#N/A"}}]
[null,null,null,null,null,null,null,{"$f":"VLOOKUP($G$2:$G$50000,'Location Type (FICM Codes)'!$A$7:$B$188,2,FALSE)","v":{"$error":"#N/A"}},null,null,null,null,null,{"$f":"VLOOKUP(G570:G10568,'Location Type (FICM Codes)'!$A$7:$C$188,3,FALSE)","v":{"$error":"#N/A"}}]
[null,null,null,null,null,null,null,{"$f":"VLOOKUP($G$2:$G$50000,'Location Type (FICM Codes)'!$A$7:$B$188,2,FALSE)","v":{"$error":"#N/A"}},null,null,null,null,null,{"$f":"VLOOKUP(G571:G10569,'Location Type (FICM Codes)'!$A$7:$C$188,3,FALSE)","v":{"$error":"#N/A"}}]
[null,null,null,null,null,null,null,{"$f":"VLOOKUP($G$2:$G$50000,'Location Type (FICM Codes)'!$A$7:$B$188,2,FALSE)","v":{"$error":"#N/A"}},null,null,null,null,null,{"$f":"VLOOKUP(G572:G10570,'Location Type (FICM Codes)'!$A$7:$C$188,3,FALSE)","v":{"$error":"#N/A"}}]
[null,null,null,null,null,null,null,{"$f":"VLOOKUP($G$2:$G$50000,'Location Type (FICM Codes)'!$A$7:$B$188,2,FALSE)","v":{"$error":"#N/A"}},null,null,null,null,null,{"$f":"VLOOKUP(G573:G10571,'Location Type (FICM Codes)'!$A$7:$C$188,3,FALSE)","v":{"$error":"#N/A"}}]
[null,null,null,null,null,null,null,{"$f":"VLOOKUP($G$2:$G$50000,'Location Type (FICM Codes)'!$A$7:$B$188,2,FALSE)","v":{"$error":"#N/A"}},null,null,null,null,null,{"$f":"VLOOKUP(G574:G10572,'Location Type (FICM Codes)'!$A$7:$C$188,3,FALSE)","v":{"$error":"#N/A"}}]
[null,null,null,null,null,null,null,{"$f":"VLOOKUP($G$2:$G$50000,'Location Type (FICM Codes)'!$A$7:$B$188,2,FALSE)","v":{"$error":"#N/A"}},null,null,null,null,null,{"$f":"VLOOKUP(G575:G10573,'Location Type (FICM Codes)'!$A$7:$C$188,3,FALSE)","v":{"$error":"#N/A"}}]
[null,null,null,null,null,null,null,{"$f":"VLOOKUP($G$2:$G$50000,'Location Type (FICM Codes)'!$A$7:$B$188,2,FALSE)","v":{"$error":"#N/A"}},null,null,null,null,null,{"$f":"VLOOKUP(G576:G10574,'Location Type (FICM Codes)'!$A$7:$C$188,3,FALSE)","v":{"$error":"#N/A"}}]
[null,null,null,null,null,null,null,{"$f":"VLOOKUP($G$2:$G$50000,'Location Type (FICM Codes)'!$A$7:$B$188,2,FALSE)","v":{"$error":"#N/A"}},null,null,null,null,null,{"$f":"VLOOKUP(G577:G10575,'Location Type (FICM Codes)'!$A$7:$C$188,3,FALSE)","v":{"$error":"#N/A"}}]
[null,null,null,null,null,null,null,{"$f":"VLOOKUP($G$2:$G$50000,'Location Type (FICM Codes)'!$A$7:$B$188,2,FALSE)","v":{"$error":"#N/A"}},null,null,null,null,null,{"$f":"VLOOKUP(G578:G10576,'Location Type (FICM Codes)'!$A$7:$C$188,3,FALSE)","v":{"$error":"#N/A"}}]
[null,null,null,null,null,null,null,{"$f":"VLOOKUP($G$2:$G$50000,'Location Type (FICM Codes)'!$A$7:$B$188,2,FALSE)","v":{"$error":"#N/A"}},null,null,null,null,null,{"$f":"VLOOKUP(G579:G10577,'Location Type (FICM Codes)'!$A$7:$C$188,3,FALSE)","v":{"$error":"#N/A"}}]
[null,null,null,null,null,null,null,{"$f":"VLOOKUP($G$2:$G$50000,'Location Type (FICM Codes)'!$A$7:$B$188,2,FALSE)","v":{"$error":"#N/A"}},null,null,null,null,null,{"$f":"VLOOKUP(G580:G10578,'Location Type (FICM Codes)'!$A$7:$C$188,3,FALSE)","v":{"$error":"#N/A"}}]
[null,null,null,null,null,null,null,{"$f":"VLOOKUP($G$2:$G$50000,'Location Type (FICM Codes)'!$A$7:$B$188,2,FALSE)","v":{"$error":"#N/A"}},null,null,null,null,null,{"$f":"VLOOKUP(G581:G10579,'Location Type (FICM Codes)'!$A$7:$C$188,3,FALSE)","v":{"$error":"#N/A"}}]
[null,null,null,null,null,null,null,{"$f":"VLOOKUP($G$2:$G$50000,'Location Type (FICM Codes)'!$A$7:$B$188,2,FALSE)","v":{"$error":"#N/A"}},null,null,null,null,null,{"$f":"VLOOKUP(G582:G10580,'Location Type (FICM Codes)'!$A$7:$C$188,3,FALSE)","v":{"$error":"#N/A"}}]
[null,null,null,null,null,null,null,{"$f":"VLOOKUP($G$2:$G$50000,'Location Type (FICM Codes)'!$A$7:$B$188,2,FALSE)","v":{"$error":"#N/A"}},null,null,null,null,null,{"$f":"VLOOKUP(G583:G10581,'Location Type (FICM Codes)'!$A$7:$C$188,3,FALSE)","v":{"$error":"#N/A"}}]
[null,null,null,null,null,null,null,{"$f":"VLOOKUP($G$2:$G$50000,'Location Type (FICM Codes)'!$A$7:$B$188,2,FALSE)","v":{"$error":"#N/A"}},null,null,null,null,null,{"$f":"VLOOKUP(G584:G10582,'Location Type (FICM Codes)'!$A$7:$C$188,3,FALSE)","v":{"$error":"#N/A"}}]
[null,null,null,null,null,null,null,{"$f":"VLOOKUP($G$2:$G$50000,'Location Type (FICM Codes)'!$A$7:$B$188,2,FALSE)","v":{"$error":"#N/A"}},null,null,null,null,null,{"$f":"VLOOKUP(G585:G10583,'Location Type (FICM Codes)'!$A$7:$C$188,3,FALSE)","v":{"$error":"#N/A"}}]
[null,null,null,null,null,null,null,{"$f":"VLOOKUP($G$2:$G$50000,'Location Type (FICM Codes)'!$A$7:$B$188,2,FALSE)","v":{"$error":"#N/A"}},null,null,null,null,null,{"$f":"VLOOKUP(G586:G10584,'Location Type (FICM Codes)'!$A$7:$C$188,3,FALSE)","v":{"$error":"#N/A"}}]
[null,null,null,null,null,null,null,{"$f":"VLOOKUP($G$2:$G$50000,'Location Type (FICM Codes)'!$A$7:$B$188,2,FALSE)","v":{"$error":"#N/A"}},null,null,null,null,null,{"$f":"VLOOKUP(G587:G10585,'Location Type (FICM Codes)'!$A$7:$C$188,3,FALSE)","v":{"$error":"#N/A"}}]
[null,null,null,null,null,null,null,{"$f":"VLOOKUP($G$2:$G$50000,'Location Type (FICM Codes)'!$A$7:$B$188,2,FALSE)","v":{"$error":"#N/A"}},null,null,null,null,null,{"$f":"VLOOKUP(G588:G10586,'Location Type (FICM Codes)'!$A$7:$C$188,3,FALSE)","v":{"$error":"#N/A"}}]
[null,null,null,null,null,null,null,{"$f":"VLOOKUP($G$2:$G$50000,'Location Type (FICM Codes)'!$A$7:$B$188,2,FALSE)","v":{"$error":"#N/A"}},null,null,null,null,null,{"$f":"VLOOKUP(G589:G10587,'Location Type (FICM Codes)'!$A$7:$C$188,3,FALSE)","v":{"$error":"#N/A"}}]
[null,null,null,null,null,null,null,{"$f":"VLOOKUP($G$2:$G$50000,'Location Type (FICM Codes)'!$A$7:$B$188,2,FALSE)","v":{"$error":"#N/A"}},null,null,null,null,null,{"$f":"VLOOKUP(G590:G10588,'Location Type (FICM Codes)'!$A$7:$C$188,3,FALSE)","v":{"$error":"#N/A"}}]
[null,null,null,null,null,null,null,{"$f":"VLOOKUP($G$2:$G$50000,'Location Type (FICM Codes)'!$A$7:$B$188,2,FALSE)","v":{"$error":"#N/A"}},null,null,null,null,null,{"$f":"VLOOKUP(G591:G10589,'Location Type (FICM Codes)'!$A$7:$C$188,3,FALSE)","v":{"$error":"#N/A"}}]
[null,null,null,null,null,null,null,{"$f":"VLOOKUP($G$2:$G$50000,'Location Type (FICM Codes)'!$A$7:$B$188,2,FALSE)","v":{"$error":"#N/A"}},null,null,null,null,null,{"$f":"VLOOKUP(G592:G10590,'Location Type (FICM Codes)'!$A$7:$C$188,3,FALSE)","v":{"$error":"#N/A"}}]
[null,null,null,null,null,null,null,{"$f":"VLOOKUP($G$2:$G$50000,'Location Type (FICM Codes)'!$A$7:$B$188,2,FALSE)","v":{"$error":"#N/A"}},null,null,null,null,null,{"$f":"VLOOKUP(G593:G10591,'Location Type (FICM Codes)'!$A$7:$C$188,3,FALSE)","v":{"$error":"#N/A"}}]
[null,null,null,null,null,null,null,{"$f":"VLOOKUP($G$2:$G$50000,'Location Type (FICM Codes)'!$A$7:$B$188,2,FALSE)","v":{"$error":"#N/A"}},null,null,null,null,null,{"$f":"VLOOKUP(G594:G10592,'Location Type (FICM Codes)'!$A$7:$C$188,3,FALSE)","v":{"$error":"#N/A"}}]
[null,null,null,null,null,null,null,{"$f":"VLOOKUP($G$2:$G$50000,'Location Type (FICM Codes)'!$A$7:$B$188,2,FALSE)","v":{"$error":"#N/A"}},null,null,null,null,null,{"$f":"VLOOKUP(G595:G10593,'Location Type (FICM Codes)'!$A$7:$C$188,3,FALSE)","v":{"$error":"#N/A"}}]
[null,null,null,null,null,null,null,{"$f":"VLOOKUP($G$2:$G$50000,'Location Type (FICM Codes)'!$A$7:$B$188,2,FALSE)","v":{"$error":"#N/A"}},null,null,null,null,null,{"$f":"VLOOKUP(G596:G10594,'Location Type (FICM Codes)'!$A$7:$C$188,3,FALSE)","v":{"$error":"#N/A"}}]
[null,null,null,null,null,null,null,{"$f":"VLOOKUP($G$2:$G$50000,'Location Type (FICM Codes)'!$A$7:$B$188,2,FALSE)","v":{"$error":"#N/A"}},null,null,null,null,null,{"$f":"VLOOKUP(G597:G10595,'Location Type (FICM Codes)'!$A$7:$C$188,3,FALSE)","v":{"$error":"#N/A"}}]
[null,null,null,null,null,null,null,{"$f":"VLOOKUP($G$2:$G$50000,'Location Type (FICM Codes)'!$A$7:$B$188,2,FALSE)","v":{"$error":"#N/A"}},null,null,null,null,null,{"$f":"VLOOKUP(G598:G10596,'Location Type (FICM Codes)'!$A$7:$C$188,3,FALSE)","v":{"$error":"#N/A"}}]
[null,null,null,null,null,null,null,{"$f":"VLOOKUP($G$2:$G$50000,'Location Type (FICM Codes)'!$A$7:$B$188,2,FALSE)","v":{"$error":"#N/A"}},null,null,null,null,null,{"$f":"VLOOKUP(G599:G10597,'Location Type (FICM Codes)'!$A$7:$C$188,3,FALSE)","v":{"$error":"#N/A"}}]
[null,null,null,null,null,null,null,{"$f":"VLOOKUP($G$2:$G$50000,'Location Type (FICM Codes)'!$A$7:$B$188,2,FALSE)","v":{"$error":"#N/A"}},null,null,null,null,null,{"$f":"VLOOKUP(G600:G10598,'Location Type (FICM Codes)'!$A$7:$C$188,3,FALSE)","v":{"$error":"#N/A"}}]
[null,null,null,null,null,null,null,{"$f":"VLOOKUP($G$2:$G$50000,'Location Type (FICM Codes)'!$A$7:$B$188,2,FALSE)","v":{"$error":"#N/A"}},null,null,null,null,null,{"$f":"VLOOKUP(G601:G10599,'Location Type (FICM Codes)'!$A$7:$C$188,3,FALSE)","v":{"$error":"#N/A"}}]
[null,null,null,null,null,null,null,{"$f":"VLOOKUP($G$2:$G$50000,'Location Type (FICM Codes)'!$A$7:$B$188,2,FALSE)","v":{"$error":"#N/A"}},null,null,null,null,null,{"$f":"VLOOKUP(G602:G10600,'Location Type (FICM Codes)'!$A$7:$C$188,3,FALSE)","v":{"$error":"#N/A"}}]
[null,null,null,null,null,null,null,{"$f":"VLOOKUP($G$2:$G$50000,'Location Type (FICM Codes)'!$A$7:$B$188,2,FALSE)","v":{"$error":"#N/A"}},null,null,null,null,null,{"$f":"VLOOKUP(G603:G10601,'Location Type (FICM Codes)'!$A$7:$C$188,3,FALSE)","v":{"$error":"#N/A"}}]
[null,null,null,null,null,null,null,{"$f":"VLOOKUP($G$2:$G$50000,'Location Type (FICM Codes)'!$A$7:$B$188,2,FALSE)","v":{"$error":"#N/A"}},null,null,null,null,null,{"$f":"VLOOKUP(G604:G10602,'Location Type (FICM Codes)'!$A$7:$C$188,3,FALSE)","v":{"$error":"#N/A"}}]
[null,null,null,null,null,null,null,{"$f":"VLOOKUP($G$2:$G$50000,'Location Type (FICM Codes)'!$A$7:$B$188,2,FALSE)","v":{"$error":"#N/A"}},null,null,null,null,null,{"$f":"VLOOKUP(G605:G10603,'Location Type (FICM Codes)'!$A$7:$C$188,3,FALSE)","v":{"$error":"#N/A"}}]
[null,null,null,null,null,null,null,{"$f":"VLOOKUP($G$2:$G$50000,'Location Type (FICM Codes)'!$A$7:$B$188,2,FALSE)","v":{"$error":"#N/A"}},null,null,null,null,null,{"$f":"VLOOKUP(G606:G10604,'Location Type (FICM Codes)'!$A$7:$C$188,3,FALSE)","v":{"$error":"#N/A"}}]
[null,null,null,null,null,null,null,{"$f":"VLOOKUP($G$2:$G$50000,'Location Type (FICM Codes)'!$A$7:$B$188,2,FALSE)","v":{"$error":"#N/A"}},null,null,null,null,null,{"$f":"VLOOKUP(G607:G10605,'Location Type (FICM Codes)'!$A$7:$C$188,3,FALSE)","v":{"$error":"#N/A"}}]
[null,null,null,null,null,null,null,{"$f":"VLOOKUP($G$2:$G$50000,'Location Type (FICM Codes)'!$A$7:$B$188,2,FALSE)","v":{"$error":"#N/A"}},null,null,null,null,null,{"$f":"VLOOKUP(G608:G10606,'Location Type (FICM Codes)'!$A$7:$C$188,3,FALSE)","v":{"$error":"#N/A"}}]
[null,null,null,null,null,null,null,{"$f":"VLOOKUP($G$2:$G$50000,'Location Type (FICM Codes)'!$A$7:$B$188,2,FALSE)","v":{"$error":"#N/A"}},null,null,null,null,null,{"$f":"VLOOKUP(G609:G10607,'Location Type (FICM Codes)'!$A$7:$C$188,3,FALSE)","v":{"$error":"#N/A"}}]
[null,null,null,null,null,null,null,{"$f":"VLOOKUP($G$2:$G$50000,'Location Type (FICM Codes)'!$A$7:$B$188,2,FALSE)","v":{"$error":"#N/A"}},null,null,null,null,null,{"$f":"VLOOKUP(G610:G10608,'Location Type (FICM Codes)'!$A$7:$C$188,3,FALSE)","v":{"$error":"#N/A"}}]
[null,null,null,null,null,null,null,{"$f":"VLOOKUP($G$2:$G$50000,'Location Type (FICM Codes)'!$A$7:$B$188,2,FALSE)","v":{"$error":"#N/A"}},null,null,null,null,null,{"$f":"VLOOKUP(G611:G10609,'Location Type (FICM Codes)'!$A$7:$C$188,3,FALSE)","v":{"$error":"#N/A"}}]
[null,null,null,null,null,null,null,{"$f":"VLOOKUP($G$2:$G$50000,'Location Type (FICM Codes)'!$A$7:$B$188,2,FALSE)","v":{"$error":"#N/A"}},null,null,null,null,null,{"$f":"VLOOKUP(G612:G10610,'Location Type (FICM Codes)'!$A$7:$C$188,3,FALSE)","v":{"$error":"#N/A"}}]
[null,null,null,null,null,null,null,{"$f":"VLOOKUP($G$2:$G$50000,'Location Type (FICM Codes)'!$A$7:$B$188,2,FALSE)","v":{"$error":"#N/A"}},null,null,null,null,null,{"$f":"VLOOKUP(G613:G10611,'Location Type (FICM Codes)'!$A$7:$C$188,3,FALSE)","v":{"$error":"#N/A"}}]
[null,null,null,null,null,null,null,{"$f":"VLOOKUP($G$2:$G$50000,'Location Type (FICM Codes)'!$A$7:$B$188,2,FALSE)","v":{"$error":"#N/A"}},null,null,null,null,null,{"$f":"VLOOKUP(G614:G10612,'Location Type (FICM Codes)'!$A$7:$C$188,3,FALSE)","v":{"$error":"#N/A"}}]
[null,null,null,null,null,null,null,{"$f":"VLOOKUP($G$2:$G$50000,'Location Type (FICM Codes)'!$A$7:$B$188,2,FALSE)","v":{"$error":"#N/A"}},null,null,null,null,null,{"$f":"VLOOKUP(G615:G10613,'Location Type (FICM Codes)'!$A$7:$C$188,3,FALSE)","v":{"$error":"#N/A"}}]
[null,null,null,null,null,null,null,{"$f":"VLOOKUP($G$2:$G$50000,'Location Type (FICM Codes)'!$A$7:$B$188,2,FALSE)","v":{"$error":"#N/A"}},null,null,null,null,null,{"$f":"VLOOKUP(G616:G10614,'Location Type (FICM Codes)'!$A$7:$C$188,3,FALSE)","v":{"$error":"#N/A"}}]
[null,null,null,null,null,null,null,{"$f":"VLOOKUP($G$2:$G$50000,'Location Type (FICM Codes)'!$A$7:$B$188,2,FALSE)","v":{"$error":"#N/A"}},null,null,null,null,null,{"$f":"VLOOKUP(G617:G10615,'Location Type (FICM Codes)'!$A$7:$C$188,3,FALSE)","v":{"$error":"#N/A"}}]
[null,null,null,null,null,null,null,{"$f":"VLOOKUP($G$2:$G$50000,'Location Type (FICM Codes)'!$A$7:$B$188,2,FALSE)","v":{"$error":"#N/A"}},null,null,null,null,null,{"$f":"VLOOKUP(G618:G10616,'Location Type (FICM Codes)'!$A$7:$C$188,3,FALSE)","v":{"$error":"#N/A"}}]
[null,null,null,null,null,null,null,{"$f":"VLOOKUP($G$2:$G$50000,'Location Type (FICM Codes)'!$A$7:$B$188,2,FALSE)","v":{"$error":"#N/A"}},null,null,null,null,null,{"$f":"VLOOKUP(G619:G10617,'Location Type (FICM Codes)'!$A$7:$C$188,3,FALSE)","v":{"$error":"#N/A"}}]
[null,null,null,null,null,null,null,{"$f":"VLOOKUP($G$2:$G$50000,'Location Type (FICM Codes)'!$A$7:$B$188,2,FALSE)","v":{"$error":"#N/A"}},null,null,null,null,null,{"$f":"VLOOKUP(G620:G10618,'Location Type (FICM Codes)'!$A$7:$C$188,3,FALSE)","v":{"$error":"#N/A"}}]
[null,null,null,null,null,null,null,{"$f":"VLOOKUP($G$2:$G$50000,'Location Type (FICM Codes)'!$A$7:$B$188,2,FALSE)","v":{"$error":"#N/A"}},null,null,null,null,null,{"$f":"VLOOKUP(G621:G10619,'Location Type (FICM Codes)'!$A$7:$C$188,3,FALSE)","v":{"$error":"#N/A"}}]
[null,null,null,null,null,null,null,{"$f":"VLOOKUP($G$2:$G$50000,'Location Type (FICM Codes)'!$A$7:$B$188,2,FALSE)","v":{"$error":"#N/A"}},null,null,null,null,null,{"$f":"VLOOKUP(G622:G10620,'Location Type (FICM Codes)'!$A$7:$C$188,3,FALSE)","v":{"$error":"#N/A"}}]
[null,null,null,null,null,null,null,{"$f":"VLOOKUP($G$2:$G$50000,'Location Type (FICM Codes)'!$A$7:$B$188,2,FALSE)","v":{"$error":"#N/A"}},null,null,null,null,null,{"$f":"VLOOKUP(G623:G10621,'Location Type (FICM Codes)'!$A$7:$C$188,3,FALSE)","v":{"$error":"#N/A"}}]
[null,null,null,null,null,null,null,{"$f":"VLOOKUP($G$2:$G$50000,'Location Type (FICM Codes)'!$A$7:$B$188,2,FALSE)","v":{"$error":"#N/A"}},null,null,null,null,null,{"$f":"VLOOKUP(G624:G10622,'Location Type (FICM Codes)'!$A$7:$C$188,3,FALSE)","v":{"$error":"#N/A"}}]
[null,null,null,null,null,null,null,{"$f":"VLOOKUP($G$2:$G$50000,'Location Type (FICM Codes)'!$A$7:$B$188,2,FALSE)","v":{"$error":"#N/A"}},null,null,null,null,null,{"$f":"VLOOKUP(G625:G10623,'Location Type (FICM Codes)'!$A$7:$C$188,3,FALSE)","v":{"$error":"#N/A"}}]
[null,null,null,null,null,null,null,{"$f":"VLOOKUP($G$2:$G$50000,'Location Type (FICM Codes)'!$A$7:$B$188,2,FALSE)","v":{"$error":"#N/A"}},null,null,null,null,null,{"$f":"VLOOKUP(G626:G10624,'Location Type (FICM Codes)'!$A$7:$C$188,3,FALSE)","v":{"$error":"#N/A"}}]
[null,null,null,null,null,null,null,{"$f":"VLOOKUP($G$2:$G$50000,'Location Type (FICM Codes)'!$A$7:$B$188,2,FALSE)","v":{"$error":"#N/A"}},null,null,null,null,null,{"$f":"VLOOKUP(G627:G10625,'Location Type (FICM Codes)'!$A$7:$C$188,3,FALSE)","v":{"$error":"#N/A"}}]
[null,null,null,null,null,null,null,{"$f":"VLOOKUP($G$2:$G$50000,'Location Type (FICM Codes)'!$A$7:$B$188,2,FALSE)","v":{"$error":"#N/A"}},null,null,null,null,null,{"$f":"VLOOKUP(G628:G10626,'Location Type (FICM Codes)'!$A$7:$C$188,3,FALSE)","v":{"$error":"#N/A"}}]
[null,null,null,null,null,null,null,{"$f":"VLOOKUP($G$2:$G$50000,'Location Type (FICM Codes)'!$A$7:$B$188,2,FALSE)","v":{"$error":"#N/A"}},null,null,null,null,null,{"$f":"VLOOKUP(G629:G10627,'Location Type (FICM Codes)'!$A$7:$C$188,3,FALSE)","v":{"$error":"#N/A"}}]
[null,null,null,null,null,null,null,{"$f":"VLOOKUP($G$2:$G$50000,'Location Type (FICM Codes)'!$A$7:$B$188,2,FALSE)","v":{"$error":"#N/A"}},null,null,null,null,null,{"$f":"VLOOKUP(G630:G10628,'Location Type (FICM Codes)'!$A$7:$C$188,3,FALSE)","v":{"$error":"#N/A"}}]
[null,null,null,null,null,null,null,{"$f":"VLOOKUP($G$2:$G$50000,'Location Type (FICM Codes)'!$A$7:$B$188,2,FALSE)","v":{"$error":"#N/A"}},null,null,null,null,null,{"$f":"VLOOKUP(G631:G10629,'Location Type (FICM Codes)'!$A$7:$C$188,3,FALSE)","v":{"$error":"#N/A"}}]
[null,null,null,null,null,null,null,{"$f":"VLOOKUP($G$2:$G$50000,'Location Type (FICM Codes)'!$A$7:$B$188,2,FALSE)","v":{"$error":"#N/A"}},null,null,null,null,null,{"$f":"VLOOKUP(G632:G10630,'Location Type (FICM Codes)'!$A$7:$C$188,3,FALSE)","v":{"$error":"#N/A"}}]
[null,null,null,null,null,null,null,{"$f":"VLOOKUP($G$2:$G$50000,'Location Type (FICM Codes)'!$A$7:$B$188,2,FALSE)","v":{"$error":"#N/A"}},null,null,null,null,null,{"$f":"VLOOKUP(G633:G10631,'Location Type (FICM Codes)'!$A$7:$C$188,3,FALSE)","v":{"$error":"#N/A"}}]
[null,null,null,null,null,null,null,{"$f":"VLOOKUP($G$2:$G$50000,'Location Type (FICM Codes)'!$A$7:$B$188,2,FALSE)","v":{"$error":"#N/A"}},null,null,null,null,null,{"$f":"VLOOKUP(G634:G10632,'Location Type (FICM Codes)'!$A$7:$C$188,3,FALSE)","v":{"$error":"#N/A"}}]
[null,null,null,null,null,null,null,{"$f":"VLOOKUP($G$2:$G$50000,'Location Type (FICM Codes)'!$A$7:$B$188,2,FALSE)","v":{"$error":"#N/A"}},null,null,null,null,null,{"$f":"VLOOKUP(G635:G10633,'Location Type (FICM Codes)'!$A$7:$C$188,3,FALSE)","v":{"$error":"#N/A"}}]
[null,null,null,null,null,null,null,{"$f":"VLOOKUP($G$2:$G$50000,'Location Type (FICM Codes)'!$A$7:$B$188,2,FALSE)","v":{"$error":"#N/A"}},null,null,null,null,null,{"$f":"VLOOKUP(G636:G10634,'Location Type (FICM Codes)'!$A$7:$C$188,3,FALSE)","v":{"$error":"#N/A"}}]
[null,null,null,null,null,null,null,{"$f":"VLOOKUP($G$2:$G$50000,'Location Type (FICM Codes)'!$A$7:$B$188,2,FALSE)","v":{"$error":"#N/A"}},null,null,null,null,null,{"$f":"VLOOKUP(G637:G10635,'Location Type (FICM Codes)'!$A$7:$C$188,3,FALSE)","v":{"$error":"#N/A"}}]
[null,null,null,null,null,null,null,{"$f":"VLOOKUP($G$2:$G$50000,'Location Type (FICM Codes)'!$A$7:$B$188,2,FALSE)","v":{"$error":"#N/A"}},null,null,null,null,null,{"$f":"VLOOKUP(G638:G10636,'Location Type (FICM Codes)'!$A$7:$C$188,3,FALSE)","v":{"$error":"#N/A"}}]
[null,null,null,null,null,null,null,{"$f":"VLOOKUP($G$2:$G$50000,'Location Type (FICM Codes)'!$A$7:$B$188,2,FALSE)","v":{"$error":"#N/A"}},null,null,null,null,null,{"$f":"VLOOKUP(G639:G10637,'Location Type (FICM Codes)'!$A$7:$C$188,3,FALSE)","v":{"$error":"#N/A"}}]
[null,null,null,null,null,null,null,{"$f":"VLOOKUP($G$2:$G$50000,'Location Type (FICM Codes)'!$A$7:$B$188,2,FALSE)","v":{"$error":"#N/A"}},null,null,null,null,null,{"$f":"VLOOKUP(G640:G10638,'Location Type (FICM Codes)'!$A$7:$C$188,3,FALSE)","v":{"$error":"#N/A"}}]
[null,null,null,null,null,null,null,{"$f":"VLOOKUP($G$2:$G$50000,'Location Type (FICM Codes)'!$A$7:$B$188,2,FALSE)","v":{"$error":"#N/A"}},null,null,null,null,null,{"$f":"VLOOKUP(G641:G10639,'Location Type (FICM Codes)'!$A$7:$C$188,3,FALSE)","v":{"$error":"#N/A"}}]
[null,null,null,null,null,null,null,{"$f":"VLOOKUP($G$2:$G$50000,'Location Type (FICM Codes)'!$A$7:$B$188,2,FALSE)","v":{"$error":"#N/A"}},null,null,null,null,null,{"$f":"VLOOKUP(G642:G10640,'Location Type (FICM Codes)'!$A$7:$C$188,3,FALSE)","v":{"$error":"#N/A"}}]
[null,null,null,null,null,null,null,{"$f":"VLOOKUP($G$2:$G$50000,'Location Type (FICM Codes)'!$A$7:$B$188,2,FALSE)","v":{"$error":"#N/A"}},null,null,null,null,null,{"$f":"VLOOKUP(G643:G10641,'Location Type (FICM Codes)'!$A$7:$C$188,3,FALSE)","v":{"$error":"#N/A"}}]
[null,null,null,null,null,null,null,{"$f":"VLOOKUP($G$2:$G$50000,'Location Type (FICM Codes)'!$A$7:$B$188,2,FALSE)","v":{"$error":"#N/A"}},null,null,null,null,null,{"$f":"VLOOKUP(G644:G10642,'Location Type (FICM Codes)'!$A$7:$C$188,3,FALSE)","v":{"$error":"#N/A"}}]
[null,null,null,null,null,null,null,{"$f":"VLOOKUP($G$2:$G$50000,'Location Type (FICM Codes)'!$A$7:$B$188,2,FALSE)","v":{"$error":"#N/A"}},null,null,null,null,null,{"$f":"VLOOKUP(G645:G10643,'Location Type (FICM Codes)'!$A$7:$C$188,3,FALSE)","v":{"$error":"#N/A"}}]
[null,null,null,null,null,null,null,{"$f":"VLOOKUP($G$2:$G$50000,'Location Type (FICM Codes)'!$A$7:$B$188,2,FALSE)","v":{"$error":"#N/A"}},null,null,null,null,null,{"$f":"VLOOKUP(G646:G10644,'Location Type (FICM Codes)'!$A$7:$C$188,3,FALSE)","v":{"$error":"#N/A"}}]
[null,null,null,null,null,null,null,{"$f":"VLOOKUP($G$2:$G$50000,'Location Type (FICM Codes)'!$A$7:$B$188,2,FALSE)","v":{"$error":"#N/A"}},null,null,null,null,null,{"$f":"VLOOKUP(G647:G10645,'Location Type (FICM Codes)'!$A$7:$C$188,3,FALSE)","v":{"$error":"#N/A"}}]
[null,null,null,null,null,null,null,{"$f":"VLOOKUP($G$2:$G$50000,'Location Type (FICM Codes)'!$A$7:$B$188,2,FALSE)","v":{"$error":"#N/A"}},null,null,null,null,null,{"$f":"VLOOKUP(G648:G10646,'Location Type (FICM Codes)'!$A$7:$C$188,3,FALSE)","v":{"$error":"#N/A"}}]
[null,null,null,null,null,null,null,{"$f":"VLOOKUP($G$2:$G$50000,'Location Type (FICM Codes)'!$A$7:$B$188,2,FALSE)","v":{"$error":"#N/A"}},null,null,null,null,null,{"$f":"VLOOKUP(G649:G10647,'Location Type (FICM Codes)'!$A$7:$C$188,3,FALSE)","v":{"$error":"#N/A"}}]
[null,null,null,null,null,null,null,{"$f":"VLOOKUP($G$2:$G$50000,'Location Type (FICM Codes)'!$A$7:$B$188,2,FALSE)","v":{"$error":"#N/A"}},null,null,null,null,null,{"$f":"VLOOKUP(G650:G10648,'Location Type (FICM Codes)'!$A$7:$C$188,3,FALSE)","v":{"$error":"#N/A"}}]
[null,null,null,null,null,null,null,{"$f":"VLOOKUP($G$2:$G$50000,'Location Type (FICM Codes)'!$A$7:$B$188,2,FALSE)","v":{"$error":"#N/A"}},null,null,null,null,null,{"$f":"VLOOKUP(G651:G10649,'Location Type (FICM Codes)'!$A$7:$C$188,3,FALSE)","v":{"$error":"#N/A"}}]
[null,null,null,null,null,null,null,{"$f":"VLOOKUP($G$2:$G$50000,'Location Type (FICM Codes)'!$A$7:$B$188,2,FALSE)","v":{"$error":"#N/A"}},null,null,null,null,null,{"$f":"VLOOKUP(G652:G10650,'Location Type (FICM Codes)'!$A$7:$C$188,3,FALSE)","v":{"$error":"#N/A"}}]
[null,null,null,null,null,null,null,{"$f":"VLOOKUP($G$2:$G$50000,'Location Type (FICM Codes)'!$A$7:$B$188,2,FALSE)","v":{"$error":"#N/A"}},null,null,null,null,null,{"$f":"VLOOKUP(G653:G10651,'Location Type (FICM Codes)'!$A$7:$C$188,3,FALSE)","v":{"$error":"#N/A"}}]
[null,null,null,null,null,null,null,{"$f":"VLOOKUP($G$2:$G$50000,'Location Type (FICM Codes)'!$A$7:$B$188,2,FALSE)","v":{"$error":"#N/A"}},null,null,null,null,null,{"$f":"VLOOKUP(G654:G10652,'Location Type (FICM Codes)'!$A$7:$C$188,3,FALSE)","v":{"$error":"#N/A"}}]
[null,null,null,null,null,null,null,{"$f":"VLOOKUP($G$2:$G$50000,'Location Type (FICM Codes)'!$A$7:$B$188,2,FALSE)","v":{"$error":"#N/A"}},null,null,null,null,null,{"$f":"VLOOKUP(G655:G10653,'Location Type (FICM Codes)'!$A$7:$C$188,3,FALSE)","v":{"$error":"#N/A"}}]
[null,null,null,null,null,null,null,{"$f":"VLOOKUP($G$2:$G$50000,'Location Type (FICM Codes)'!$A$7:$B$188,2,FALSE)","v":{"$error":"#N/A"}},null,null,null,null,null,{"$f":"VLOOKUP(G656:G10654,'Location Type (FICM Codes)'!$A$7:$C$188,3,FALSE)","v":{"$error":"#N/A"}}]
[null,null,null,null,null,null,null,{"$f":"VLOOKUP($G$2:$G$50000,'Location Type (FICM Codes)'!$A$7:$B$188,2,FALSE)","v":{"$error":"#N/A"}},null,null,null,null,null,{"$f":"VLOOKUP(G657:G10655,'Location Type (FICM Codes)'!$A$7:$C$188,3,FALSE)","v":{"$error":"#N/A"}}]
[null,null,null,null,null,null,null,{"$f":"VLOOKUP($G$2:$G$50000,'Location Type (FICM Codes)'!$A$7:$B$188,2,FALSE)","v":{"$error":"#N/A"}},null,null,null,null,null,{"$f":"VLOOKUP(G658:G10656,'Location Type (FICM Codes)'!$A$7:$C$188,3,FALSE)","v":{"$error":"#N/A"}}]
[null,null,null,null,null,null,null,{"$f":"VLOOKUP($G$2:$G$50000,'Location Type (FICM Codes)'!$A$7:$B$188,2,FALSE)","v":{"$error":"#N/A"}},null,null,null,null,null,{"$f":"VLOOKUP(G659:G10657,'Location Type (FICM Codes)'!$A$7:$C$188,3,FALSE)","v":{"$error":"#N/A"}}]
[null,null,null,null,null,null,null,{"$f":"VLOOKUP($G$2:$G$50000,'Location Type (FICM Codes)'!$A$7:$B$188,2,FALSE)","v":{"$error":"#N/A"}},null,null,null,null,null,{"$f":"VLOOKUP(G660:G10658,'Location Type (FICM Codes)'!$A$7:$C$188,3,FALSE)","v":{"$error":"#N/A"}}]
[null,null,null,null,null,null,null,{"$f":"VLOOKUP($G$2:$G$50000,'Location Type (FICM Codes)'!$A$7:$B$188,2,FALSE)","v":{"$error":"#N/A"}},null,null,null,null,null,{"$f":"VLOOKUP(G661:G10659,'Location Type (FICM Codes)'!$A$7:$C$188,3,FALSE)","v":{"$error":"#N/A"}}]
[null,null,null,null,null,null,null,{"$f":"VLOOKUP($G$2:$G$50000,'Location Type (FICM Codes)'!$A$7:$B$188,2,FALSE)","v":{"$error":"#N/A"}},null,null,null,null,null,{"$f":"VLOOKUP(G662:G10660,'Location Type (FICM Codes)'!$A$7:$C$188,3,FALSE)","v":{"$error":"#N/A"}}]
[null,null,null,null,null,null,null,{"$f":"VLOOKUP($G$2:$G$50000,'Location Type (FICM Codes)'!$A$7:$B$188,2,FALSE)","v":{"$error":"#N/A"}},null,null,null,null,null,{"$f":"VLOOKUP(G663:G10661,'Location Type (FICM Codes)'!$A$7:$C$188,3,FALSE)","v":{"$error":"#N/A"}}]
[null,null,null,null,null,null,null,{"$f":"VLOOKUP($G$2:$G$50000,'Location Type (FICM Codes)'!$A$7:$B$188,2,FALSE)","v":{"$error":"#N/A"}},null,null,null,null,null,{"$f":"VLOOKUP(G664:G10662,'Location Type (FICM Codes)'!$A$7:$C$188,3,FALSE)","v":{"$error":"#N/A"}}]
[null,null,null,null,null,null,null,{"$f":"VLOOKUP($G$2:$G$50000,'Location Type (FICM Codes)'!$A$7:$B$188,2,FALSE)","v":{"$error":"#N/A"}},null,null,null,null,null,{"$f":"VLOOKUP(G665:G10663,'Location Type (FICM Codes)'!$A$7:$C$188,3,FALSE)","v":{"$error":"#N/A"}}]
[null,null,null,null,null,null,null,{"$f":"VLOOKUP($G$2:$G$50000,'Location Type (FICM Codes)'!$A$7:$B$188,2,FALSE)","v":{"$error":"#N/A"}},null,null,null,null,null,{"$f":"VLOOKUP(G666:G10664,'Location Type (FICM Codes)'!$A$7:$C$188,3,FALSE)","v":{"$error":"#N/A"}}]
[null,null,null,null,null,null,null,{"$f":"VLOOKUP($G$2:$G$50000,'Location Type (FICM Codes)'!$A$7:$B$188,2,FALSE)","v":{"$error":"#N/A"}},null,null,null,null,null,{"$f":"VLOOKUP(G667:G10665,'Location Type (FICM Codes)'!$A$7:$C$188,3,FALSE)","v":{"$error":"#N/A"}}]
[null,null,null,null,null,null,null,{"$f":"VLOOKUP($G$2:$G$50000,'Location Type (FICM Codes)'!$A$7:$B$188,2,FALSE)","v":{"$error":"#N/A"}},null,null,null,null,null,{"$f":"VLOOKUP(G668:G10666,'Location Type (FICM Codes)'!$A$7:$C$188,3,FALSE)","v":{"$error":"#N/A"}}]
[null,null,null,null,null,null,null,{"$f":"VLOOKUP($G$2:$G$50000,'Location Type (FICM Codes)'!$A$7:$B$188,2,FALSE)","v":{"$error":"#N/A"}},null,null,null,null,null,{"$f":"VLOOKUP(G669:G10667,'Location Type (FICM Codes)'!$A$7:$C$188,3,FALSE)","v":{"$error":"#N/A"}}]
[null,null,null,null,null,null,null,{"$f":"VLOOKUP($G$2:$G$50000,'Location Type (FICM Codes)'!$A$7:$B$188,2,FALSE)","v":{"$error":"#N/A"}},null,null,null,null,null,{"$f":"VLOOKUP(G670:G10668,'Location Type (FICM Codes)'!$A$7:$C$188,3,FALSE)","v":{"$error":"#N/A"}}]
[null,null,null,null,null,null,null,{"$f":"VLOOKUP($G$2:$G$50000,'Location Type (FICM Codes)'!$A$7:$B$188,2,FALSE)","v":{"$error":"#N/A"}},null,null,null,null,null,{"$f":"VLOOKUP(G671:G10669,'Location Type (FICM Codes)'!$A$7:$C$188,3,FALSE)","v":{"$error":"#N/A"}}]
[null,null,null,null,null,null,null,{"$f":"VLOOKUP($G$2:$G$50000,'Location Type (FICM Codes)'!$A$7:$B$188,2,FALSE)","v":{"$error":"#N/A"}},null,null,null,null,null,{"$f":"VLOOKUP(G672:G10670,'Location Type (FICM Codes)'!$A$7:$C$188,3,FALSE)","v":{"$error":"#N/A"}}]
[null,null,null,null,null,null,null,{"$f":"VLOOKUP($G$2:$G$50000,'Location Type (FICM Codes)'!$A$7:$B$188,2,FALSE)","v":{"$error":"#N/A"}},null,null,null,null,null,{"$f":"VLOOKUP(G673:G10671,'Location Type (FICM Codes)'!$A$7:$C$188,3,FALSE)","v":{"$error":"#N/A"}}]
[null,null,null,null,null,null,null,{"$f":"VLOOKUP($G$2:$G$50000,'Location Type (FICM Codes)'!$A$7:$B$188,2,FALSE)","v":{"$error":"#N/A"}},null,null,null,null,null,{"$f":"VLOOKUP(G674:G10672,'Location Type (FICM Codes)'!$A$7:$C$188,3,FALSE)","v":{"$error":"#N/A"}}]
[null,null,null,null,null,null,null,{"$f":"VLOOKUP($G$2:$G$50000,'Location Type (FICM Codes)'!$A$7:$B$188,2,FALSE)","v":{"$error":"#N/A"}},null,null,null,null,null,{"$f":"VLOOKUP(G675:G10673,'Location Type (FICM Codes)'!$A$7:$C$188,3,FALSE)","v":{"$error":"#N/A"}}]
[null,null,null,null,null,null,null,{"$f":"VLOOKUP($G$2:$G$50000,'Location Type (FICM Codes)'!$A$7:$B$188,2,FALSE)","v":{"$error":"#N/A"}},null,null,null,null,null,{"$f":"VLOOKUP(G676:G10674,'Location Type (FICM Codes)'!$A$7:$C$188,3,FALSE)","v":{"$error":"#N/A"}}]
[null,null,null,null,null,null,null,{"$f":"VLOOKUP($G$2:$G$50000,'Location Type (FICM Codes)'!$A$7:$B$188,2,FALSE)","v":{"$error":"#N/A"}},null,null,null,null,null,{"$f":"VLOOKUP(G677:G10675,'Location Type (FICM Codes)'!$A$7:$C$188,3,FALSE)","v":{"$error":"#N/A"}}]
[null,null,null,null,null,null,null,{"$f":"VLOOKUP($G$2:$G$50000,'Location Type (FICM Codes)'!$A$7:$B$188,2,FALSE)","v":{"$error":"#N/A"}},null,null,null,null,null,{"$f":"VLOOKUP(G678:G10676,'Location Type (FICM Codes)'!$A$7:$C$188,3,FALSE)","v":{"$error":"#N/A"}}]
[null,null,null,null,null,null,null,{"$f":"VLOOKUP($G$2:$G$50000,'Location Type (FICM Codes)'!$A$7:$B$188,2,FALSE)","v":{"$error":"#N/A"}},null,null,null,null,null,{"$f":"VLOOKUP(G679:G10677,'Location Type (FICM Codes)'!$A$7:$C$188,3,FALSE)","v":{"$error":"#N/A"}}]
[null,null,null,null,null,null,null,{"$f":"VLOOKUP($G$2:$G$50000,'Location Type (FICM Codes)'!$A$7:$B$188,2,FALSE)","v":{"$error":"#N/A"}},null,null,null,null,null,{"$f":"VLOOKUP(G680:G10678,'Location Type (FICM Codes)'!$A$7:$C$188,3,FALSE)","v":{"$error":"#N/A"}}]
[null,null,null,null,null,null,null,{"$f":"VLOOKUP($G$2:$G$50000,'Location Type (FICM Codes)'!$A$7:$B$188,2,FALSE)","v":{"$error":"#N/A"}},null,null,null,null,null,{"$f":"VLOOKUP(G681:G10679,'Location Type (FICM Codes)'!$A$7:$C$188,3,FALSE)","v":{"$error":"#N/A"}}]
[null,null,null,null,null,null,null,{"$f":"VLOOKUP($G$2:$G$50000,'Location Type (FICM Codes)'!$A$7:$B$188,2,FALSE)","v":{"$error":"#N/A"}},null,null,null,null,null,{"$f":"VLOOKUP(G682:G10680,'Location Type (FICM Codes)'!$A$7:$C$188,3,FALSE)","v":{"$error":"#N/A"}}]
[null,null,null,null,null,null,null,{"$f":"VLOOKUP($G$2:$G$50000,'Location Type (FICM Codes)'!$A$7:$B$188,2,FALSE)","v":{"$error":"#N/A"}},null,null,null,null,null,{"$f":"VLOOKUP(G683:G10681,'Location Type (FICM Codes)'!$A$7:$C$188,3,FALSE)","v":{"$error":"#N/A"}}]
[null,null,null,null,null,null,null,{"$f":"VLOOKUP($G$2:$G$50000,'Location Type (FICM Codes)'!$A$7:$B$188,2,FALSE)","v":{"$error":"#N/A"}},null,null,null,null,null,{"$f":"VLOOKUP(G684:G10682,'Location Type (FICM Codes)'!$A$7:$C$188,3,FALSE)","v":{"$error":"#N/A"}}]
[null,null,null,null,null,null,null,{"$f":"VLOOKUP($G$2:$G$50000,'Location Type (FICM Codes)'!$A$7:$B$188,2,FALSE)","v":{"$error":"#N/A"}},null,null,null,null,null,{"$f":"VLOOKUP(G685:G10683,'Location Type (FICM Codes)'!$A$7:$C$188,3,FALSE)","v":{"$error":"#N/A"}}]
[null,null,null,null,null,null,null,{"$f":"VLOOKUP($G$2:$G$50000,'Location Type (FICM Codes)'!$A$7:$B$188,2,FALSE)","v":{"$error":"#N/A"}},null,null,null,null,null,{"$f":"VLOOKUP(G686:G10684,'Location Type (FICM Codes)'!$A$7:$C$188,3,FALSE)","v":{"$error":"#N/A"}}]
[null,null,null,null,null,null,null,{"$f":"VLOOKUP($G$2:$G$50000,'Location Type (FICM Codes)'!$A$7:$B$188,2,FALSE)","v":{"$error":"#N/A"}},null,null,null,null,null,{"$f":"VLOOKUP(G687:G10685,'Location Type (FICM Codes)'!$A$7:$C$188,3,FALSE)","v":{"$error":"#N/A"}}]
[null,null,null,null,null,null,null,{"$f":"VLOOKUP($G$2:$G$50000,'Location Type (FICM Codes)'!$A$7:$B$188,2,FALSE)","v":{"$error":"#N/A"}},null,null,null,null,null,{"$f":"VLOOKUP(G688:G10686,'Location Type (FICM Codes)'!$A$7:$C$188,3,FALSE)","v":{"$error":"#N/A"}}]
[null,null,null,null,null,null,null,{"$f":"VLOOKUP($G$2:$G$50000,'Location Type (FICM Codes)'!$A$7:$B$188,2,FALSE)","v":{"$error":"#N/A"}},null,null,null,null,null,{"$f":"VLOOKUP(G689:G10687,'Location Type (FICM Codes)'!$A$7:$C$188,3,FALSE)","v":{"$error":"#N/A"}}]
[null,null,null,null,null,null,null,{"$f":"VLOOKUP($G$2:$G$50000,'Location Type (FICM Codes)'!$A$7:$B$188,2,FALSE)","v":{"$error":"#N/A"}},null,null,null,null,null,{"$f":"VLOOKUP(G690:G10688,'Location Type (FICM Codes)'!$A$7:$C$188,3,FALSE)","v":{"$error":"#N/A"}}]
[null,null,null,null,null,null,null,{"$f":"VLOOKUP($G$2:$G$50000,'Location Type (FICM Codes)'!$A$7:$B$188,2,FALSE)","v":{"$error":"#N/A"}},null,null,null,null,null,{"$f":"VLOOKUP(G691:G10689,'Location Type (FICM Codes)'!$A$7:$C$188,3,FALSE)","v":{"$error":"#N/A"}}]
[null,null,null,null,null,null,null,{"$f":"VLOOKUP($G$2:$G$50000,'Location Type (FICM Codes)'!$A$7:$B$188,2,FALSE)","v":{"$error":"#N/A"}},null,null,null,null,null,{"$f":"VLOOKUP(G692:G10690,'Location Type (FICM Codes)'!$A$7:$C$188,3,FALSE)","v":{"$error":"#N/A"}}]
[null,null,null,null,null,null,null,{"$f":"VLOOKUP($G$2:$G$50000,'Location Type (FICM Codes)'!$A$7:$B$188,2,FALSE)","v":{"$error":"#N/A"}},null,null,null,null,null,{"$f":"VLOOKUP(G693:G10691,'Location Type (FICM Codes)'!$A$7:$C$188,3,FALSE)","v":{"$error":"#N/A"}}]
[null,null,null,null,null,null,null,{"$f":"VLOOKUP($G$2:$G$50000,'Location Type (FICM Codes)'!$A$7:$B$188,2,FALSE)","v":{"$error":"#N/A"}},null,null,null,null,null,{"$f":"VLOOKUP(G694:G10692,'Location Type (FICM Codes)'!$A$7:$C$188,3,FALSE)","v":{"$error":"#N/A"}}]
[null,null,null,null,null,null,null,{"$f":"VLOOKUP($G$2:$G$50000,'Location Type (FICM Codes)'!$A$7:$B$188,2,FALSE)","v":{"$error":"#N/A"}},null,null,null,null,null,{"$f":"VLOOKUP(G695:G10693,'Location Type (FICM Codes)'!$A$7:$C$188,3,FALSE)","v":{"$error":"#N/A"}}]
[null,null,null,null,null,null,null,{"$f":"VLOOKUP($G$2:$G$50000,'Location Type (FICM Codes)'!$A$7:$B$188,2,FALSE)","v":{"$error":"#N/A"}},null,null,null,null,null,{"$f":"VLOOKUP(G696:G10694,'Location Type (FICM Codes)'!$A$7:$C$188,3,FALSE)","v":{"$error":"#N/A"}}]
[null,null,null,null,null,null,null,{"$f":"VLOOKUP($G$2:$G$50000,'Location Type (FICM Codes)'!$A$7:$B$188,2,FALSE)","v":{"$error":"#N/A"}},null,null,null,null,null,{"$f":"VLOOKUP(G697:G10695,'Location Type (FICM Codes)'!$A$7:$C$188,3,FALSE)","v":{"$error":"#N/A"}}]
[null,null,null,null,null,null,null,{"$f":"VLOOKUP($G$2:$G$50000,'Location Type (FICM Codes)'!$A$7:$B$188,2,FALSE)","v":{"$error":"#N/A"}},null,null,null,null,null,{"$f":"VLOOKUP(G698:G10696,'Location Type (FICM Codes)'!$A$7:$C$188,3,FALSE)","v":{"$error":"#N/A"}}]
[null,null,null,null,null,null,null,{"$f":"VLOOKUP($G$2:$G$50000,'Location Type (FICM Codes)'!$A$7:$B$188,2,FALSE)","v":{"$error":"#N/A"}},null,null,null,null,null,{"$f":"VLOOKUP(G699:G10697,'Location Type (FICM Codes)'!$A$7:$C$188,3,FALSE)","v":{"$error":"#N/A"}}]
[null,null,null,null,null,null,null,{"$f":"VLOOKUP($G$2:$G$50000,'Location Type (FICM Codes)'!$A$7:$B$188,2,FALSE)","v":{"$error":"#N/A"}},null,null,null,null,null,{"$f":"VLOOKUP(G700:G10698,'Location Type (FICM Codes)'!$A$7:$C$188,3,FALSE)","v":{"$error":"#N/A"}}]
[null,null,null,null,null,null,null,{"$f":"VLOOKUP($G$2:$G$50000,'Location Type (FICM Codes)'!$A$7:$B$188,2,FALSE)","v":{"$error":"#N/A"}},null,null,null,null,null,{"$f":"VLOOKUP(G701:G10699,'Location Type (FICM Codes)'!$A$7:$C$188,3,FALSE)","v":{"$error":"#N/A"}}]
[null,null,null,null,null,null,null,{"$f":"VLOOKUP($G$2:$G$50000,'Location Type (FICM Codes)'!$A$7:$B$188,2,FALSE)","v":{"$error":"#N/A"}},null,null,null,null,null,{"$f":"VLOOKUP(G702:G10700,'Location Type (FICM Codes)'!$A$7:$C$188,3,FALSE)","v":{"$error":"#N/A"}}]
[null,null,null,null,null,null,null,{"$f":"VLOOKUP($G$2:$G$50000,'Location Type (FICM Codes)'!$A$7:$B$188,2,FALSE)","v":{"$error":"#N/A"}},null,null,null,null,null,{"$f":"VLOOKUP(G703:G10701,'Location Type (FICM Codes)'!$A$7:$C$188,3,FALSE)","v":{"$error":"#N/A"}}]
[null,null,null,null,null,null,null,{"$f":"VLOOKUP($G$2:$G$50000,'Location Type (FICM Codes)'!$A$7:$B$188,2,FALSE)","v":{"$error":"#N/A"}},null,null,null,null,null,{"$f":"VLOOKUP(G704:G10702,'Location Type (FICM Codes)'!$A$7:$C$188,3,FALSE)","v":{"$error":"#N/A"}}]
[null,null,null,null,null,null,null,{"$f":"VLOOKUP($G$2:$G$50000,'Location Type (FICM Codes)'!$A$7:$B$188,2,FALSE)","v":{"$error":"#N/A"}},null,null,null,null,null,{"$f":"VLOOKUP(G705:G10703,'Location Type (FICM Codes)'!$A$7:$C$188,3,FALSE)","v":{"$error":"#N/A"}}]
[null,null,null,null,null,null,null,{"$f":"VLOOKUP($G$2:$G$50000,'Location Type (FICM Codes)'!$A$7:$B$188,2,FALSE)","v":{"$error":"#N/A"}},null,null,null,null,null,{"$f":"VLOOKUP(G706:G10704,'Location Type (FICM Codes)'!$A$7:$C$188,3,FALSE)","v":{"$error":"#N/A"}}]
[null,null,null,null,null,null,null,{"$f":"VLOOKUP($G$2:$G$50000,'Location Type (FICM Codes)'!$A$7:$B$188,2,FALSE)","v":{"$error":"#N/A"}},null,null,null,null,null,{"$f":"VLOOKUP(G707:G10705,'Location Type (FICM Codes)'!$A$7:$C$188,3,FALSE)","v":{"$error":"#N/A"}}]
[null,null,null,null,null,null,null,{"$f":"VLOOKUP($G$2:$G$50000,'Location Type (FICM Codes)'!$A$7:$B$188,2,FALSE)","v":{"$error":"#N/A"}},null,null,null,null,null,{"$f":"VLOOKUP(G708:G10706,'Location Type (FICM Codes)'!$A$7:$C$188,3,FALSE)","v":{"$error":"#N/A"}}]
[null,null,null,null,null,null,null,{"$f":"VLOOKUP($G$2:$G$50000,'Location Type (FICM Codes)'!$A$7:$B$188,2,FALSE)","v":{"$error":"#N/A"}},null,null,null,null,null,{"$f":"VLOOKUP(G709:G10707,'Location Type (FICM Codes)'!$A$7:$C$188,3,FALSE)","v":{"$error":"#N/A"}}]
[null,null,null,null,null,null,null,{"$f":"VLOOKUP($G$2:$G$50000,'Location Type (FICM Codes)'!$A$7:$B$188,2,FALSE)","v":{"$error":"#N/A"}},null,null,null,null,null,{"$f":"VLOOKUP(G710:G10708,'Location Type (FICM Codes)'!$A$7:$C$188,3,FALSE)","v":{"$error":"#N/A"}}]
[null,null,null,null,null,null,null,{"$f":"VLOOKUP($G$2:$G$50000,'Location Type (FICM Codes)'!$A$7:$B$188,2,FALSE)","v":{"$error":"#N/A"}},null,null,null,null,null,{"$f":"VLOOKUP(G711:G10709,'Location Type (FICM Codes)'!$A$7:$C$188,3,FALSE)","v":{"$error":"#N/A"}}]
[null,null,null,null,null,null,null,{"$f":"VLOOKUP($G$2:$G$50000,'Location Type (FICM Codes)'!$A$7:$B$188,2,FALSE)","v":{"$error":"#N/A"}},null,null,null,null,null,{"$f":"VLOOKUP(G712:G10710,'Location Type (FICM Codes)'!$A$7:$C$188,3,FALSE)","v":{"$error":"#N/A"}}]
[null,null,null,null,null,null,null,{"$f":"VLOOKUP($G$2:$G$50000,'Location Type (FICM Codes)'!$A$7:$B$188,2,FALSE)","v":{"$error":"#N/A"}},null,null,null,null,null,{"$f":"VLOOKUP(G713:G10711,'Location Type (FICM Codes)'!$A$7:$C$188,3,FALSE)","v":{"$error":"#N/A"}}]
[null,null,null,null,null,null,null,{"$f":"VLOOKUP($G$2:$G$50000,'Location Type (FICM Codes)'!$A$7:$B$188,2,FALSE)","v":{"$error":"#N/A"}},null,null,null,null,null,{"$f":"VLOOKUP(G714:G10712,'Location Type (FICM Codes)'!$A$7:$C$188,3,FALSE)","v":{"$error":"#N/A"}}]
[null,null,null,null,null,null,null,{"$f":"VLOOKUP($G$2:$G$50000,'Location Type (FICM Codes)'!$A$7:$B$188,2,FALSE)","v":{"$error":"#N/A"}},null,null,null,null,null,{"$f":"VLOOKUP(G715:G10713,'Location Type (FICM Codes)'!$A$7:$C$188,3,FALSE)","v":{"$error":"#N/A"}}]
[null,null,null,null,null,null,null,{"$f":"VLOOKUP($G$2:$G$50000,'Location Type (FICM Codes)'!$A$7:$B$188,2,FALSE)","v":{"$error":"#N/A"}},null,null,null,null,null,{"$f":"VLOOKUP(G716:G10714,'Location Type (FICM Codes)'!$A$7:$C$188,3,FALSE)","v":{"$error":"#N/A"}}]
[null,null,null,null,null,null,null,{"$f":"VLOOKUP($G$2:$G$50000,'Location Type (FICM Codes)'!$A$7:$B$188,2,FALSE)","v":{"$error":"#N/A"}},null,null,null,null,null,{"$f":"VLOOKUP(G717:G10715,'Location Type (FICM Codes)'!$A$7:$C$188,3,FALSE)","v":{"$error":"#N/A"}}]
[null,null,null,null,null,null,null,{"$f":"VLOOKUP($G$2:$G$50000,'Location Type (FICM Codes)'!$A$7:$B$188,2,FALSE)","v":{"$error":"#N/A"}},null,null,null,null,null,{"$f":"VLOOKUP(G718:G10716,'Location Type (FICM Codes)'!$A$7:$C$188,3,FALSE)","v":{"$error":"#N/A"}}]
[null,null,null,null,null,null,null,{"$f":"VLOOKUP($G$2:$G$50000,'Location Type (FICM Codes)'!$A$7:$B$188,2,FALSE)","v":{"$error":"#N/A"}},null,null,null,null,null,{"$f":"VLOOKUP(G719:G10717,'Location Type (FICM Codes)'!$A$7:$C$188,3,FALSE)","v":{"$error":"#N/A"}}]
[null,null,null,null,null,null,null,{"$f":"VLOOKUP($G$2:$G$50000,'Location Type (FICM Codes)'!$A$7:$B$188,2,FALSE)","v":{"$error":"#N/A"}},null,null,null,null,null,{"$f":"VLOOKUP(G720:G10718,'Location Type (FICM Codes)'!$A$7:$C$188,3,FALSE)","v":{"$error":"#N/A"}}]
[null,null,null,null,null,null,null,{"$f":"VLOOKUP($G$2:$G$50000,'Location Type (FICM Codes)'!$A$7:$B$188,2,FALSE)","v":{"$error":"#N/A"}},null,null,null,null,null,{"$f":"VLOOKUP(G721:G10719,'Location Type (FICM Codes)'!$A$7:$C$188,3,FALSE)","v":{"$error":"#N/A"}}]
[null,null,null,null,null,null,null,{"$f":"VLOOKUP($G$2:$G$50000,'Location Type (FICM Codes)'!$A$7:$B$188,2,FALSE)","v":{"$error":"#N/A"}},null,null,null,null,null,{"$f":"VLOOKUP(G722:G10720,'Location Type (FICM Codes)'!$A$7:$C$188,3,FALSE)","v":{"$error":"#N/A"}}]
[null,null,null,null,null,null,null,{"$f":"VLOOKUP($G$2:$G$50000,'Location Type (FICM Codes)'!$A$7:$B$188,2,FALSE)","v":{"$error":"#N/A"}},null,null,null,null,null,{"$f":"VLOOKUP(G723:G10721,'Location Type (FICM Codes)'!$A$7:$C$188,3,FALSE)","v":{"$error":"#N/A"}}]
[null,null,null,null,null,null,null,{"$f":"VLOOKUP($G$2:$G$50000,'Location Type (FICM Codes)'!$A$7:$B$188,2,FALSE)","v":{"$error":"#N/A"}},null,null,null,null,null,{"$f":"VLOOKUP(G724:G10722,'Location Type (FICM Codes)'!$A$7:$C$188,3,FALSE)","v":{"$error":"#N/A"}}]
[null,null,null,null,null,null,null,{"$f":"VLOOKUP($G$2:$G$50000,'Location Type (FICM Codes)'!$A$7:$B$188,2,FALSE)","v":{"$error":"#N/A"}},null,null,null,null,null,{"$f":"VLOOKUP(G725:G10723,'Location Type (FICM Codes)'!$A$7:$C$188,3,FALSE)","v":{"$error":"#N/A"}}]
[null,null,null,null,null,null,null,{"$f":"VLOOKUP($G$2:$G$50000,'Location Type (FICM Codes)'!$A$7:$B$188,2,FALSE)","v":{"$error":"#N/A"}},null,null,null,null,null,{"$f":"VLOOKUP(G726:G10724,'Location Type (FICM Codes)'!$A$7:$C$188,3,FALSE)","v":{"$error":"#N/A"}}]
[null,null,null,null,null,null,null,{"$f":"VLOOKUP($G$2:$G$50000,'Location Type (FICM Codes)'!$A$7:$B$188,2,FALSE)","v":{"$error":"#N/A"}},null,null,null,null,null,{"$f":"VLOOKUP(G727:G10725,'Location Type (FICM Codes)'!$A$7:$C$188,3,FALSE)","v":{"$error":"#N/A"}}]
[null,null,null,null,null,null,null,{"$f":"VLOOKUP($G$2:$G$50000,'Location Type (FICM Codes)'!$A$7:$B$188,2,FALSE)","v":{"$error":"#N/A"}},null,null,null,null,null,{"$f":"VLOOKUP(G728:G10726,'Location Type (FICM Codes)'!$A$7:$C$188,3,FALSE)","v":{"$error":"#N/A"}}]
[null,null,null,null,null,null,null,{"$f":"VLOOKUP($G$2:$G$50000,'Location Type (FICM Codes)'!$A$7:$B$188,2,FALSE)","v":{"$error":"#N/A"}},null,null,null,null,null,{"$f":"VLOOKUP(G729:G10727,'Location Type (FICM Codes)'!$A$7:$C$188,3,FALSE)","v":{"$error":"#N/A"}}]
[null,null,null,null,null,null,null,{"$f":"VLOOKUP($G$2:$G$50000,'Location Type (FICM Codes)'!$A$7:$B$188,2,FALSE)","v":{"$error":"#N/A"}},null,null,null,null,null,{"$f":"VLOOKUP(G730:G10728,'Location Type (FICM Codes)'!$A$7:$C$188,3,FALSE)","v":{"$error":"#N/A"}}]
[null,null,null,null,null,null,null,{"$f":"VLOOKUP($G$2:$G$50000,'Location Type (FICM Codes)'!$A$7:$B$188,2,FALSE)","v":{"$error":"#N/A"}},null,null,null,null,null,{"$f":"VLOOKUP(G731:G10729,'Location Type (FICM Codes)'!$A$7:$C$188,3,FALSE)","v":{"$error":"#N/A"}}]
[null,null,null,null,null,null,null,{"$f":"VLOOKUP($G$2:$G$50000,'Location Type (FICM Codes)'!$A$7:$B$188,2,FALSE)","v":{"$error":"#N/A"}},null,null,null,null,null,{"$f":"VLOOKUP(G732:G10730,'Location Type (FICM Codes)'!$A$7:$C$188,3,FALSE)","v":{"$error":"#N/A"}}]
[null,null,null,null,null,null,null,{"$f":"VLOOKUP($G$2:$G$50000,'Location Type (FICM Codes)'!$A$7:$B$188,2,FALSE)","v":{"$error":"#N/A"}},null,null,null,null,null,{"$f":"VLOOKUP(G733:G10731,'Location Type (FICM Codes)'!$A$7:$C$188,3,FALSE)","v":{"$error":"#N/A"}}]
[null,null,null,null,null,null,null,{"$f":"VLOOKUP($G$2:$G$50000,'Location Type (FICM Codes)'!$A$7:$B$188,2,FALSE)","v":{"$error":"#N/A"}},null,null,null,null,null,{"$f":"VLOOKUP(G734:G10732,'Location Type (FICM Codes)'!$A$7:$C$188,3,FALSE)","v":{"$error":"#N/A"}}]
[null,null,null,null,null,null,null,{"$f":"VLOOKUP($G$2:$G$50000,'Location Type (FICM Codes)'!$A$7:$B$188,2,FALSE)","v":{"$error":"#N/A"}},null,null,null,null,null,{"$f":"VLOOKUP(G735:G10733,'Location Type (FICM Codes)'!$A$7:$C$188,3,FALSE)","v":{"$error":"#N/A"}}]
[null,null,null,null,null,null,null,{"$f":"VLOOKUP($G$2:$G$50000,'Location Type (FICM Codes)'!$A$7:$B$188,2,FALSE)","v":{"$error":"#N/A"}},null,null,null,null,null,{"$f":"VLOOKUP(G736:G10734,'Location Type (FICM Codes)'!$A$7:$C$188,3,FALSE)","v":{"$error":"#N/A"}}]
[null,null,null,null,null,null,null,{"$f":"VLOOKUP($G$2:$G$50000,'Location Type (FICM Codes)'!$A$7:$B$188,2,FALSE)","v":{"$error":"#N/A"}},null,null,null,null,null,{"$f":"VLOOKUP(G737:G10735,'Location Type (FICM Codes)'!$A$7:$C$188,3,FALSE)","v":{"$error":"#N/A"}}]
[null,null,null,null,null,null,null,{"$f":"VLOOKUP($G$2:$G$50000,'Location Type (FICM Codes)'!$A$7:$B$188,2,FALSE)","v":{"$error":"#N/A"}},null,null,null,null,null,{"$f":"VLOOKUP(G738:G10736,'Location Type (FICM Codes)'!$A$7:$C$188,3,FALSE)","v":{"$error":"#N/A"}}]
[null,null,null,null,null,null,null,{"$f":"VLOOKUP($G$2:$G$50000,'Location Type (FICM Codes)'!$A$7:$B$188,2,FALSE)","v":{"$error":"#N/A"}},null,null,null,null,null,{"$f":"VLOOKUP(G739:G10737,'Location Type (FICM Codes)'!$A$7:$C$188,3,FALSE)","v":{"$error":"#N/A"}}]
[null,null,null,null,null,null,null,{"$f":"VLOOKUP($G$2:$G$50000,'Location Type (FICM Codes)'!$A$7:$B$188,2,FALSE)","v":{"$error":"#N/A"}},null,null,null,null,null,{"$f":"VLOOKUP(G740:G10738,'Location Type (FICM Codes)'!$A$7:$C$188,3,FALSE)","v":{"$error":"#N/A"}}]
[null,null,null,null,null,null,null,{"$f":"VLOOKUP($G$2:$G$50000,'Location Type (FICM Codes)'!$A$7:$B$188,2,FALSE)","v":{"$error":"#N/A"}},null,null,null,null,null,{"$f":"VLOOKUP(G741:G10739,'Location Type (FICM Codes)'!$A$7:$C$188,3,FALSE)","v":{"$error":"#N/A"}}]
[null,null,null,null,null,null,null,{"$f":"VLOOKUP($G$2:$G$50000,'Location Type (FICM Codes)'!$A$7:$B$188,2,FALSE)","v":{"$error":"#N/A"}},null,null,null,null,null,{"$f":"VLOOKUP(G742:G10740,'Location Type (FICM Codes)'!$A$7:$C$188,3,FALSE)","v":{"$error":"#N/A"}}]
[null,null,null,null,null,null,null,{"$f":"VLOOKUP($G$2:$G$50000,'Location Type (FICM Codes)'!$A$7:$B$188,2,FALSE)","v":{"$error":"#N/A"}},null,null,null,null,null,{"$f":"VLOOKUP(G743:G10741,'Location Type (FICM Codes)'!$A$7:$C$188,3,FALSE)","v":{"$error":"#N/A"}}]
[null,null,null,null,null,null,null,{"$f":"VLOOKUP($G$2:$G$50000,'Location Type (FICM Codes)'!$A$7:$B$188,2,FALSE)","v":{"$error":"#N/A"}},null,null,null,null,null,{"$f":"VLOOKUP(G744:G10742,'Location Type (FICM Codes)'!$A$7:$C$188,3,FALSE)","v":{"$error":"#N/A"}}]
[null,null,null,null,null,null,null,{"$f":"VLOOKUP($G$2:$G$50000,'Location Type (FICM Codes)'!$A$7:$B$188,2,FALSE)","v":{"$error":"#N/A"}},null,null,null,null,null,{"$f":"VLOOKUP(G745:G10743,'Location Type (FICM Codes)'!$A$7:$C$188,3,FALSE)","v":{"$error":"#N/A"}}]
[null,null,null,null,null,null,null,{"$f":"VLOOKUP($G$2:$G$50000,'Location Type (FICM Codes)'!$A$7:$B$188,2,FALSE)","v":{"$error":"#N/A"}},null,null,null,null,null,{"$f":"VLOOKUP(G746:G10744,'Location Type (FICM Codes)'!$A$7:$C$188,3,FALSE)","v":{"$error":"#N/A"}}]
[null,null,null,null,null,null,null,{"$f":"VLOOKUP($G$2:$G$50000,'Location Type (FICM Codes)'!$A$7:$B$188,2,FALSE)","v":{"$error":"#N/A"}},null,null,null,null,null,{"$f":"VLOOKUP(G747:G10745,'Location Type (FICM Codes)'!$A$7:$C$188,3,FALSE)","v":{"$error":"#N/A"}}]
[null,null,null,null,null,null,null,{"$f":"VLOOKUP($G$2:$G$50000,'Location Type (FICM Codes)'!$A$7:$B$188,2,FALSE)","v":{"$error":"#N/A"}},null,null,null,null,null,{"$f":"VLOOKUP(G748:G10746,'Location Type (FICM Codes)'!$A$7:$C$188,3,FALSE)","v":{"$error":"#N/A"}}]
[null,null,null,null,null,null,null,{"$f":"VLOOKUP($G$2:$G$50000,'Location Type (FICM Codes)'!$A$7:$B$188,2,FALSE)","v":{"$error":"#N/A"}},null,null,null,null,null,{"$f":"VLOOKUP(G749:G10747,'Location Type (FICM Codes)'!$A$7:$C$188,3,FALSE)","v":{"$error":"#N/A"}}]
[null,null,null,null,null,null,null,{"$f":"VLOOKUP($G$2:$G$50000,'Location Type (FICM Codes)'!$A$7:$B$188,2,FALSE)","v":{"$error":"#N/A"}},null,null,null,null,null,{"$f":"VLOOKUP(G750:G10748,'Location Type (FICM Codes)'!$A$7:$C$188,3,FALSE)","v":{"$error":"#N/A"}}]
[null,null,null,null,null,null,null,{"$f":"VLOOKUP($G$2:$G$50000,'Location Type (FICM Codes)'!$A$7:$B$188,2,FALSE)","v":{"$error":"#N/A"}},null,null,null,null,null,{"$f":"VLOOKUP(G751:G10749,'Location Type (FICM Codes)'!$A$7:$C$188,3,FALSE)","v":{"$error":"#N/A"}}]
[null,null,null,null,null,null,null,{"$f":"VLOOKUP($G$2:$G$50000,'Location Type (FICM Codes)'!$A$7:$B$188,2,FALSE)","v":{"$error":"#N/A"}},null,null,null,null,null,{"$f":"VLOOKUP(G752:G10750,'Location Type (FICM Codes)'!$A$7:$C$188,3,FALSE)","v":{"$error":"#N/A"}}]
[null,null,null,null,null,null,null,{"$f":"VLOOKUP($G$2:$G$50000,'Location Type (FICM Codes)'!$A$7:$B$188,2,FALSE)","v":{"$error":"#N/A"}},null,null,null,null,null,{"$f":"VLOOKUP(G753:G10751,'Location Type (FICM Codes)'!$A$7:$C$188,3,FALSE)","v":{"$error":"#N/A"}}]
[null,null,null,null,null,null,null,{"$f":"VLOOKUP($G$2:$G$50000,'Location Type (FICM Codes)'!$A$7:$B$188,2,FALSE)","v":{"$error":"#N/A"}},null,null,null,null,null,{"$f":"VLOOKUP(G754:G10752,'Location Type (FICM Codes)'!$A$7:$C$188,3,FALSE)","v":{"$error":"#N/A"}}]
[null,null,null,null,null,null,null,{"$f":"VLOOKUP($G$2:$G$50000,'Location Type (FICM Codes)'!$A$7:$B$188,2,FALSE)","v":{"$error":"#N/A"}},null,null,null,null,null,{"$f":"VLOOKUP(G755:G10753,'Location Type (FICM Codes)'!$A$7:$C$188,3,FALSE)","v":{"$error":"#N/A"}}]
[null,null,null,null,null,null,null,{"$f":"VLOOKUP($G$2:$G$50000,'Location Type (FICM Codes)'!$A$7:$B$188,2,FALSE)","v":{"$error":"#N/A"}},null,null,null,null,null,{"$f":"VLOOKUP(G756:G10754,'Location Type (FICM Codes)'!$A$7:$C$188,3,FALSE)","v":{"$error":"#N/A"}}]
[null,null,null,null,null,null,null,{"$f":"VLOOKUP($G$2:$G$50000,'Location Type (FICM Codes)'!$A$7:$B$188,2,FALSE)","v":{"$error":"#N/A"}},null,null,null,null,null,{"$f":"VLOOKUP(G757:G10755,'Location Type (FICM Codes)'!$A$7:$C$188,3,FALSE)","v":{"$error":"#N/A"}}]
[null,null,null,null,null,null,null,{"$f":"VLOOKUP($G$2:$G$50000,'Location Type (FICM Codes)'!$A$7:$B$188,2,FALSE)","v":{"$error":"#N/A"}},null,null,null,null,null,{"$f":"VLOOKUP(G758:G10756,'Location Type (FICM Codes)'!$A$7:$C$188,3,FALSE)","v":{"$error":"#N/A"}}]
[null,null,null,null,null,null,null,{"$f":"VLOOKUP($G$2:$G$50000,'Location Type (FICM Codes)'!$A$7:$B$188,2,FALSE)","v":{"$error":"#N/A"}},null,null,null,null,null,{"$f":"VLOOKUP(G759:G10757,'Location Type (FICM Codes)'!$A$7:$C$188,3,FALSE)","v":{"$error":"#N/A"}}]
[null,null,null,null,null,null,null,{"$f":"VLOOKUP($G$2:$G$50000,'Location Type (FICM Codes)'!$A$7:$B$188,2,FALSE)","v":{"$error":"#N/A"}},null,null,null,null,null,{"$f":"VLOOKUP(G760:G10758,'Location Type (FICM Codes)'!$A$7:$C$188,3,FALSE)","v":{"$error":"#N/A"}}]
[null,null,null,null,null,null,null,{"$f":"VLOOKUP($G$2:$G$50000,'Location Type (FICM Codes)'!$A$7:$B$188,2,FALSE)","v":{"$error":"#N/A"}},null,null,null,null,null,{"$f":"VLOOKUP(G761:G10759,'Location Type (FICM Codes)'!$A$7:$C$188,3,FALSE)","v":{"$error":"#N/A"}}]
[null,null,null,null,null,null,null,{"$f":"VLOOKUP($G$2:$G$50000,'Location Type (FICM Codes)'!$A$7:$B$188,2,FALSE)","v":{"$error":"#N/A"}},null,null,null,null,null,{"$f":"VLOOKUP(G762:G10760,'Location Type (FICM Codes)'!$A$7:$C$188,3,FALSE)","v":{"$error":"#N/A"}}]
[null,null,null,null,null,null,null,{"$f":"VLOOKUP($G$2:$G$50000,'Location Type (FICM Codes)'!$A$7:$B$188,2,FALSE)","v":{"$error":"#N/A"}},null,null,null,null,null,{"$f":"VLOOKUP(G763:G10761,'Location Type (FICM Codes)'!$A$7:$C$188,3,FALSE)","v":{"$error":"#N/A"}}]
[null,null,null,null,null,null,null,{"$f":"VLOOKUP($G$2:$G$50000,'Location Type (FICM Codes)'!$A$7:$B$188,2,FALSE)","v":{"$error":"#N/A"}},null,null,null,null,null,{"$f":"VLOOKUP(G764:G10762,'Location Type (FICM Codes)'!$A$7:$C$188,3,FALSE)","v":{"$error":"#N/A"}}]
[null,null,null,null,null,null,null,{"$f":"VLOOKUP($G$2:$G$50000,'Location Type (FICM Codes)'!$A$7:$B$188,2,FALSE)","v":{"$error":"#N/A"}},null,null,null,null,null,{"$f":"VLOOKUP(G765:G10763,'Location Type (FICM Codes)'!$A$7:$C$188,3,FALSE)","v":{"$error":"#N/A"}}]
[null,null,null,null,null,null,null,{"$f":"VLOOKUP($G$2:$G$50000,'Location Type (FICM Codes)'!$A$7:$B$188,2,FALSE)","v":{"$error":"#N/A"}},null,null,null,null,null,{"$f":"VLOOKUP(G766:G10764,'Location Type (FICM Codes)'!$A$7:$C$188,3,FALSE)","v":{"$error":"#N/A"}}]
[null,null,null,null,null,null,null,{"$f":"VLOOKUP($G$2:$G$50000,'Location Type (FICM Codes)'!$A$7:$B$188,2,FALSE)","v":{"$error":"#N/A"}},null,null,null,null,null,{"$f":"VLOOKUP(G767:G10765,'Location Type (FICM Codes)'!$A$7:$C$188,3,FALSE)","v":{"$error":"#N/A"}}]
[null,null,null,null,null,null,null,{"$f":"VLOOKUP($G$2:$G$50000,'Location Type (FICM Codes)'!$A$7:$B$188,2,FALSE)","v":{"$error":"#N/A"}},null,null,null,null,null,{"$f":"VLOOKUP(G768:G10766,'Location Type (FICM Codes)'!$A$7:$C$188,3,FALSE)","v":{"$error":"#N/A"}}]
[null,null,null,null,null,null,null,{"$f":"VLOOKUP($G$2:$G$50000,'Location Type (FICM Codes)'!$A$7:$B$188,2,FALSE)","v":{"$error":"#N/A"}},null,null,null,null,null,{"$f":"VLOOKUP(G769:G10767,'Location Type (FICM Codes)'!$A$7:$C$188,3,FALSE)","v":{"$error":"#N/A"}}]
[null,null,null,null,null,null,null,{"$f":"VLOOKUP($G$2:$G$50000,'Location Type (FICM Codes)'!$A$7:$B$188,2,FALSE)","v":{"$error":"#N/A"}},null,null,null,null,null,{"$f":"VLOOKUP(G770:G10768,'Location Type (FICM Codes)'!$A$7:$C$188,3,FALSE)","v":{"$error":"#N/A"}}]
[null,null,null,null,null,null,null,{"$f":"VLOOKUP($G$2:$G$50000,'Location Type (FICM Codes)'!$A$7:$B$188,2,FALSE)","v":{"$error":"#N/A"}},null,null,null,null,null,{"$f":"VLOOKUP(G771:G10769,'Location Type (FICM Codes)'!$A$7:$C$188,3,FALSE)","v":{"$error":"#N/A"}}]
[null,null,null,null,null,null,null,{"$f":"VLOOKUP($G$2:$G$50000,'Location Type (FICM Codes)'!$A$7:$B$188,2,FALSE)","v":{"$error":"#N/A"}},null,null,null,null,null,{"$f":"VLOOKUP(G772:G10770,'Location Type (FICM Codes)'!$A$7:$C$188,3,FALSE)","v":{"$error":"#N/A"}}]
[null,null,null,null,null,null,null,{"$f":"VLOOKUP($G$2:$G$50000,'Location Type (FICM Codes)'!$A$7:$B$188,2,FALSE)","v":{"$error":"#N/A"}},null,null,null,null,null,{"$f":"VLOOKUP(G773:G10771,'Location Type (FICM Codes)'!$A$7:$C$188,3,FALSE)","v":{"$error":"#N/A"}}]
[null,null,null,null,null,null,null,{"$f":"VLOOKUP($G$2:$G$50000,'Location Type (FICM Codes)'!$A$7:$B$188,2,FALSE)","v":{"$error":"#N/A"}},null,null,null,null,null,{"$f":"VLOOKUP(G774:G10772,'Location Type (FICM Codes)'!$A$7:$C$188,3,FALSE)","v":{"$error":"#N/A"}}]
[null,null,null,null,null,null,null,{"$f":"VLOOKUP($G$2:$G$50000,'Location Type (FICM Codes)'!$A$7:$B$188,2,FALSE)","v":{"$error":"#N/A"}},null,null,null,null,null,{"$f":"VLOOKUP(G775:G10773,'Location Type (FICM Codes)'!$A$7:$C$188,3,FALSE)","v":{"$error":"#N/A"}}]
[null,null,null,null,null,null,null,{"$f":"VLOOKUP($G$2:$G$50000,'Location Type (FICM Codes)'!$A$7:$B$188,2,FALSE)","v":{"$error":"#N/A"}},null,null,null,null,null,{"$f":"VLOOKUP(G776:G10774,'Location Type (FICM Codes)'!$A$7:$C$188,3,FALSE)","v":{"$error":"#N/A"}}]
[null,null,null,null,null,null,null,{"$f":"VLOOKUP($G$2:$G$50000,'Location Type (FICM Codes)'!$A$7:$B$188,2,FALSE)","v":{"$error":"#N/A"}},null,null,null,null,null,{"$f":"VLOOKUP(G777:G10775,'Location Type (FICM Codes)'!$A$7:$C$188,3,FALSE)","v":{"$error":"#N/A"}}]
[null,null,null,null,null,null,null,{"$f":"VLOOKUP($G$2:$G$50000,'Location Type (FICM Codes)'!$A$7:$B$188,2,FALSE)","v":{"$error":"#N/A"}},null,null,null,null,null,{"$f":"VLOOKUP(G778:G10776,'Location Type (FICM Codes)'!$A$7:$C$188,3,FALSE)","v":{"$error":"#N/A"}}]
[null,null,null,null,null,null,null,{"$f":"VLOOKUP($G$2:$G$50000,'Location Type (FICM Codes)'!$A$7:$B$188,2,FALSE)","v":{"$error":"#N/A"}},null,null,null,null,null,{"$f":"VLOOKUP(G779:G10777,'Location Type (FICM Codes)'!$A$7:$C$188,3,FALSE)","v":{"$error":"#N/A"}}]
[null,null,null,null,null,null,null,{"$f":"VLOOKUP($G$2:$G$50000,'Location Type (FICM Codes)'!$A$7:$B$188,2,FALSE)","v":{"$error":"#N/A"}},null,null,null,null,null,{"$f":"VLOOKUP(G780:G10778,'Location Type (FICM Codes)'!$A$7:$C$188,3,FALSE)","v":{"$error":"#N/A"}}]
[null,null,null,null,null,null,null,{"$f":"VLOOKUP($G$2:$G$50000,'Location Type (FICM Codes)'!$A$7:$B$188,2,FALSE)","v":{"$error":"#N/A"}},null,null,null,null,null,{"$f":"VLOOKUP(G781:G10779,'Location Type (FICM Codes)'!$A$7:$C$188,3,FALSE)","v":{"$error":"#N/A"}}]
[null,null,null,null,null,null,null,{"$f":"VLOOKUP($G$2:$G$50000,'Location Type (FICM Codes)'!$A$7:$B$188,2,FALSE)","v":{"$error":"#N/A"}},null,null,null,null,null,{"$f":"VLOOKUP(G782:G10780,'Location Type (FICM Codes)'!$A$7:$C$188,3,FALSE)","v":{"$error":"#N/A"}}]
[null,null,null,null,null,null,null,{"$f":"VLOOKUP($G$2:$G$50000,'Location Type (FICM Codes)'!$A$7:$B$188,2,FALSE)","v":{"$error":"#N/A"}},null,null,null,null,null,{"$f":"VLOOKUP(G783:G10781,'Location Type (FICM Codes)'!$A$7:$C$188,3,FALSE)","v":{"$error":"#N/A"}}]
[null,null,null,null,null,null,null,{"$f":"VLOOKUP($G$2:$G$50000,'Location Type (FICM Codes)'!$A$7:$B$188,2,FALSE)","v":{"$error":"#N/A"}},null,null,null,null,null,{"$f":"VLOOKUP(G784:G10782,'Location Type (FICM Codes)'!$A$7:$C$188,3,FALSE)","v":{"$error":"#N/A"}}]
[null,null,null,null,null,null,null,{"$f":"VLOOKUP($G$2:$G$50000,'Location Type (FICM Codes)'!$A$7:$B$188,2,FALSE)","v":{"$error":"#N/A"}},null,null,null,null,null,{"$f":"VLOOKUP(G785:G10783,'Location Type (FICM Codes)'!$A$7:$C$188,3,FALSE)","v":{"$error":"#N/A"}}]
[null,null,null,null,null,null,null,{"$f":"VLOOKUP($G$2:$G$50000,'Location Type (FICM Codes)'!$A$7:$B$188,2,FALSE)","v":{"$error":"#N/A"}},null,null,null,null,null,{"$f":"VLOOKUP(G786:G10784,'Location Type (FICM Codes)'!$A$7:$C$188,3,FALSE)","v":{"$error":"#N/A"}}]
[null,null,null,null,null,null,null,{"$f":"VLOOKUP($G$2:$G$50000,'Location Type (FICM Codes)'!$A$7:$B$188,2,FALSE)","v":{"$error":"#N/A"}},null,null,null,null,null,{"$f":"VLOOKUP(G787:G10785,'Location Type (FICM Codes)'!$A$7:$C$188,3,FALSE)","v":{"$error":"#N/A"}}]
[null,null,null,null,null,null,null,{"$f":"VLOOKUP($G$2:$G$50000,'Location Type (FICM Codes)'!$A$7:$B$188,2,FALSE)","v":{"$error":"#N/A"}},null,null,null,null,null,{"$f":"VLOOKUP(G788:G10786,'Location Type (FICM Codes)'!$A$7:$C$188,3,FALSE)","v":{"$error":"#N/A"}}]
[null,null,null,null,null,null,null,{"$f":"VLOOKUP($G$2:$G$50000,'Location Type (FICM Codes)'!$A$7:$B$188,2,FALSE)","v":{"$error":"#N/A"}},null,null,null,null,null,{"$f":"VLOOKUP(G789:G10787,'Location Type (FICM Codes)'!$A$7:$C$188,3,FALSE)","v":{"$error":"#N/A"}}]
[null,null,null,null,null,null,null,{"$f":"VLOOKUP($G$2:$G$50000,'Location Type (FICM Codes)'!$A$7:$B$188,2,FALSE)","v":{"$error":"#N/A"}},null,null,null,null,null,{"$f":"VLOOKUP(G790:G10788,'Location Type (FICM Codes)'!$A$7:$C$188,3,FALSE)","v":{"$error":"#N/A"}}]
[null,null,null,null,null,null,null,{"$f":"VLOOKUP($G$2:$G$50000,'Location Type (FICM Codes)'!$A$7:$B$188,2,FALSE)","v":{"$error":"#N/A"}},null,null,null,null,null,{"$f":"VLOOKUP(G791:G10789,'Location Type (FICM Codes)'!$A$7:$C$188,3,FALSE)","v":{"$error":"#N/A"}}]
[null,null,null,null,null,null,null,{"$f":"VLOOKUP($G$2:$G$50000,'Location Type (FICM Codes)'!$A$7:$B$188,2,FALSE)","v":{"$error":"#N/A"}},null,null,null,null,null,{"$f":"VLOOKUP(G792:G10790,'Location Type (FICM Codes)'!$A$7:$C$188,3,FALSE)","v":{"$error":"#N/A"}}]
[null,null,null,null,null,null,null,{"$f":"VLOOKUP($G$2:$G$50000,'Location Type (FICM Codes)'!$A$7:$B$188,2,FALSE)","v":{"$error":"#N/A"}},null,null,null,null,null,{"$f":"VLOOKUP(G793:G10791,'Location Type (FICM Codes)'!$A$7:$C$188,3,FALSE)","v":{"$error":"#N/A"}}]
[null,null,null,null,null,null,null,{"$f":"VLOOKUP($G$2:$G$50000,'Location Type (FICM Codes)'!$A$7:$B$188,2,FALSE)","v":{"$error":"#N/A"}},null,null,null,null,null,{"$f":"VLOOKUP(G794:G10792,'Location Type (FICM Codes)'!$A$7:$C$188,3,FALSE)","v":{"$error":"#N/A"}}]
[null,null,null,null,null,null,null,{"$f":"VLOOKUP($G$2:$G$50000,'Location Type (FICM Codes)'!$A$7:$B$188,2,FALSE)","v":{"$error":"#N/A"}},null,null,null,null,null,{"$f":"VLOOKUP(G795:G10793,'Location Type (FICM Codes)'!$A$7:$C$188,3,FALSE)","v":{"$error":"#N/A"}}]
[null,null,null,null,null,null,null,{"$f":"VLOOKUP($G$2:$G$50000,'Location Type (FICM Codes)'!$A$7:$B$188,2,FALSE)","v":{"$error":"#N/A"}},null,null,null,null,null,{"$f":"VLOOKUP(G796:G10794,'Location Type (FICM Codes)'!$A$7:$C$188,3,FALSE)","v":{"$error":"#N/A"}}]
[null,null,null,null,null,null,null,{"$f":"VLOOKUP($G$2:$G$50000,'Location Type (FICM Codes)'!$A$7:$B$188,2,FALSE)","v":{"$error":"#N/A"}},null,null,null,null,null,{"$f":"VLOOKUP(G797:G10795,'Location Type (FICM Codes)'!$A$7:$C$188,3,FALSE)","v":{"$error":"#N/A"}}]
[null,null,null,null,null,null,null,{"$f":"VLOOKUP($G$2:$G$50000,'Location Type (FICM Codes)'!$A$7:$B$188,2,FALSE)","v":{"$error":"#N/A"}},null,null,null,null,null,{"$f":"VLOOKUP(G798:G10796,'Location Type (FICM Codes)'!$A$7:$C$188,3,FALSE)","v":{"$error":"#N/A"}}]
[null,null,null,null,null,null,null,{"$f":"VLOOKUP($G$2:$G$50000,'Location Type (FICM Codes)'!$A$7:$B$188,2,FALSE)","v":{"$error":"#N/A"}},null,null,null,null,null,{"$f":"VLOOKUP(G799:G10797,'Location Type (FICM Codes)'!$A$7:$C$188,3,FALSE)","v":{"$error":"#N/A"}}]
[null,null,null,null,null,null,null,{"$f":"VLOOKUP($G$2:$G$50000,'Location Type (FICM Codes)'!$A$7:$B$188,2,FALSE)","v":{"$error":"#N/A"}},null,null,null,null,null,{"$f":"VLOOKUP(G800:G10798,'Location Type (FICM Codes)'!$A$7:$C$188,3,FALSE)","v":{"$error":"#N/A"}}]
[null,null,null,null,null,null,null,{"$f":"VLOOKUP($G$2:$G$50000,'Location Type (FICM Codes)'!$A$7:$B$188,2,FALSE)","v":{"$error":"#N/A"}},null,null,null,null,null,{"$f":"VLOOKUP(G801:G10799,'Location Type (FICM Codes)'!$A$7:$C$188,3,FALSE)","v":{"$error":"#N/A"}}]
[null,null,null,null,null,null,null,{"$f":"VLOOKUP($G$2:$G$50000,'Location Type (FICM Codes)'!$A$7:$B$188,2,FALSE)","v":{"$error":"#N/A"}},null,null,null,null,null,{"$f":"VLOOKUP(G802:G10800,'Location Type (FICM Codes)'!$A$7:$C$188,3,FALSE)","v":{"$error":"#N/A"}}]
[null,null,null,null,null,null,null,{"$f":"VLOOKUP($G$2:$G$50000,'Location Type (FICM Codes)'!$A$7:$B$188,2,FALSE)","v":{"$error":"#N/A"}},null,null,null,null,null,{"$f":"VLOOKUP(G803:G10801,'Location Type (FICM Codes)'!$A$7:$C$188,3,FALSE)","v":{"$error":"#N/A"}}]
[null,null,null,null,null,null,null,{"$f":"VLOOKUP($G$2:$G$50000,'Location Type (FICM Codes)'!$A$7:$B$188,2,FALSE)","v":{"$error":"#N/A"}},null,null,null,null,null,{"$f":"VLOOKUP(G804:G10802,'Location Type (FICM Codes)'!$A$7:$C$188,3,FALSE)","v":{"$error":"#N/A"}}]
[null,null,null,null,null,null,null,{"$f":"VLOOKUP($G$2:$G$50000,'Location Type (FICM Codes)'!$A$7:$B$188,2,FALSE)","v":{"$error":"#N/A"}},null,null,null,null,null,{"$f":"VLOOKUP(G805:G10803,'Location Type (FICM Codes)'!$A$7:$C$188,3,FALSE)","v":{"$error":"#N/A"}}]
[null,null,null,null,null,null,null,{"$f":"VLOOKUP($G$2:$G$50000,'Location Type (FICM Codes)'!$A$7:$B$188,2,FALSE)","v":{"$error":"#N/A"}},null,null,null,null,null,{"$f":"VLOOKUP(G806:G10804,'Location Type (FICM Codes)'!$A$7:$C$188,3,FALSE)","v":{"$error":"#N/A"}}]
[null,null,null,null,null,null,null,{"$f":"VLOOKUP($G$2:$G$50000,'Location Type (FICM Codes)'!$A$7:$B$188,2,FALSE)","v":{"$error":"#N/A"}},null,null,null,null,null,{"$f":"VLOOKUP(G807:G10805,'Location Type (FICM Codes)'!$A$7:$C$188,3,FALSE)","v":{"$error":"#N/A"}}]
[null,null,null,null,null,null,null,{"$f":"VLOOKUP($G$2:$G$50000,'Location Type (FICM Codes)'!$A$7:$B$188,2,FALSE)","v":{"$error":"#N/A"}},null,null,null,null,null,{"$f":"VLOOKUP(G808:G10806,'Location Type (FICM Codes)'!$A$7:$C$188,3,FALSE)","v":{"$error":"#N/A"}}]
[null,null,null,null,null,null,null,{"$f":"VLOOKUP($G$2:$G$50000,'Location Type (FICM Codes)'!$A$7:$B$188,2,FALSE)","v":{"$error":"#N/A"}},null,null,null,null,null,{"$f":"VLOOKUP(G809:G10807,'Location Type (FICM Codes)'!$A$7:$C$188,3,FALSE)","v":{"$error":"#N/A"}}]
[null,null,null,null,null,null,null,{"$f":"VLOOKUP($G$2:$G$50000,'Location Type (FICM Codes)'!$A$7:$B$188,2,FALSE)","v":{"$error":"#N/A"}},null,null,null,null,null,{"$f":"VLOOKUP(G810:G10808,'Location Type (FICM Codes)'!$A$7:$C$188,3,FALSE)","v":{"$error":"#N/A"}}]
[null,null,null,null,null,null,null,{"$f":"VLOOKUP($G$2:$G$50000,'Location Type (FICM Codes)'!$A$7:$B$188,2,FALSE)","v":{"$error":"#N/A"}},null,null,null,null,null,{"$f":"VLOOKUP(G811:G10809,'Location Type (FICM Codes)'!$A$7:$C$188,3,FALSE)","v":{"$error":"#N/A"}}]
[null,null,null,null,null,null,null,{"$f":"VLOOKUP($G$2:$G$50000,'Location Type (FICM Codes)'!$A$7:$B$188,2,FALSE)","v":{"$error":"#N/A"}},null,null,null,null,null,{"$f":"VLOOKUP(G812:G10810,'Location Type (FICM Codes)'!$A$7:$C$188,3,FALSE)","v":{"$error":"#N/A"}}]
[null,null,null,null,null,null,null,{"$f":"VLOOKUP($G$2:$G$50000,'Location Type (FICM Codes)'!$A$7:$B$188,2,FALSE)","v":{"$error":"#N/A"}},null,null,null,null,null,{"$f":"VLOOKUP(G813:G10811,'Location Type (FICM Codes)'!$A$7:$C$188,3,FALSE)","v":{"$error":"#N/A"}}]
[null,null,null,null,null,null,null,{"$f":"VLOOKUP($G$2:$G$50000,'Location Type (FICM Codes)'!$A$7:$B$188,2,FALSE)","v":{"$error":"#N/A"}},null,null,null,null,null,{"$f":"VLOOKUP(G814:G10812,'Location Type (FICM Codes)'!$A$7:$C$188,3,FALSE)","v":{"$error":"#N/A"}}]
[null,null,null,null,null,null,null,{"$f":"VLOOKUP($G$2:$G$50000,'Location Type (FICM Codes)'!$A$7:$B$188,2,FALSE)","v":{"$error":"#N/A"}},null,null,null,null,null,{"$f":"VLOOKUP(G815:G10813,'Location Type (FICM Codes)'!$A$7:$C$188,3,FALSE)","v":{"$error":"#N/A"}}]
[null,null,null,null,null,null,null,{"$f":"VLOOKUP($G$2:$G$50000,'Location Type (FICM Codes)'!$A$7:$B$188,2,FALSE)","v":{"$error":"#N/A"}},null,null,null,null,null,{"$f":"VLOOKUP(G816:G10814,'Location Type (FICM Codes)'!$A$7:$C$188,3,FALSE)","v":{"$error":"#N/A"}}]
[null,null,null,null,null,null,null,{"$f":"VLOOKUP($G$2:$G$50000,'Location Type (FICM Codes)'!$A$7:$B$188,2,FALSE)","v":{"$error":"#N/A"}},null,null,null,null,null,{"$f":"VLOOKUP(G817:G10815,'Location Type (FICM Codes)'!$A$7:$C$188,3,FALSE)","v":{"$error":"#N/A"}}]
[null,null,null,null,null,null,null,{"$f":"VLOOKUP($G$2:$G$50000,'Location Type (FICM Codes)'!$A$7:$B$188,2,FALSE)","v":{"$error":"#N/A"}},null,null,null,null,null,{"$f":"VLOOKUP(G818:G10816,'Location Type (FICM Codes)'!$A$7:$C$188,3,FALSE)","v":{"$error":"#N/A"}}]
[null,null,null,null,null,null,null,{"$f":"VLOOKUP($G$2:$G$50000,'Location Type (FICM Codes)'!$A$7:$B$188,2,FALSE)","v":{"$error":"#N/A"}},null,null,null,null,null,{"$f":"VLOOKUP(G819:G10817,'Location Type (FICM Codes)'!$A$7:$C$188,3,FALSE)","v":{"$error":"#N/A"}}]
[null,null,null,null,null,null,null,{"$f":"VLOOKUP($G$2:$G$50000,'Location Type (FICM Codes)'!$A$7:$B$188,2,FALSE)","v":{"$error":"#N/A"}},null,null,null,null,null,{"$f":"VLOOKUP(G820:G10818,'Location Type (FICM Codes)'!$A$7:$C$188,3,FALSE)","v":{"$error":"#N/A"}}]
[null,null,null,null,null,null,null,{"$f":"VLOOKUP($G$2:$G$50000,'Location Type (FICM Codes)'!$A$7:$B$188,2,FALSE)","v":{"$error":"#N/A"}},null,null,null,null,null,{"$f":"VLOOKUP(G821:G10819,'Location Type (FICM Codes)'!$A$7:$C$188,3,FALSE)","v":{"$error":"#N/A"}}]
[null,null,null,null,null,null,null,{"$f":"VLOOKUP($G$2:$G$50000,'Location Type (FICM Codes)'!$A$7:$B$188,2,FALSE)","v":{"$error":"#N/A"}},null,null,null,null,null,{"$f":"VLOOKUP(G822:G10820,'Location Type (FICM Codes)'!$A$7:$C$188,3,FALSE)","v":{"$error":"#N/A"}}]
[null,null,null,null,null,null,null,{"$f":"VLOOKUP($G$2:$G$50000,'Location Type (FICM Codes)'!$A$7:$B$188,2,FALSE)","v":{"$error":"#N/A"}},null,null,null,null,null,{"$f":"VLOOKUP(G823:G10821,'Location Type (FICM Codes)'!$A$7:$C$188,3,FALSE)","v":{"$error":"#N/A"}}]
[null,null,null,null,null,null,null,{"$f":"VLOOKUP($G$2:$G$50000,'Location Type (FICM Codes)'!$A$7:$B$188,2,FALSE)","v":{"$error":"#N/A"}},null,null,null,null,null,{"$f":"VLOOKUP(G824:G10822,'Location Type (FICM Codes)'!$A$7:$C$188,3,FALSE)","v":{"$error":"#N/A"}}]
[null,null,null,null,null,null,null,{"$f":"VLOOKUP($G$2:$G$50000,'Location Type (FICM Codes)'!$A$7:$B$188,2,FALSE)","v":{"$error":"#N/A"}},null,null,null,null,null,{"$f":"VLOOKUP(G825:G10823,'Location Type (FICM Codes)'!$A$7:$C$188,3,FALSE)","v":{"$error":"#N/A"}}]
[null,null,null,null,null,null,null,{"$f":"VLOOKUP($G$2:$G$50000,'Location Type (FICM Codes)'!$A$7:$B$188,2,FALSE)","v":{"$error":"#N/A"}},null,null,null,null,null,{"$f":"VLOOKUP(G826:G10824,'Location Type (FICM Codes)'!$A$7:$C$188,3,FALSE)","v":{"$error":"#N/A"}}]
[null,null,null,null,null,null,null,{"$f":"VLOOKUP($G$2:$G$50000,'Location Type (FICM Codes)'!$A$7:$B$188,2,FALSE)","v":{"$error":"#N/A"}},null,null,null,null,null,{"$f":"VLOOKUP(G827:G10825,'Location Type (FICM Codes)'!$A$7:$C$188,3,FALSE)","v":{"$error":"#N/A"}}]
[null,null,null,null,null,null,null,{"$f":"VLOOKUP($G$2:$G$50000,'Location Type (FICM Codes)'!$A$7:$B$188,2,FALSE)","v":{"$error":"#N/A"}},null,null,null,null,null,{"$f":"VLOOKUP(G828:G10826,'Location Type (FICM Codes)'!$A$7:$C$188,3,FALSE)","v":{"$error":"#N/A"}}]
[null,null,null,null,null,null,null,{"$f":"VLOOKUP($G$2:$G$50000,'Location Type (FICM Codes)'!$A$7:$B$188,2,FALSE)","v":{"$error":"#N/A"}},null,null,null,null,null,{"$f":"VLOOKUP(G829:G10827,'Location Type (FICM Codes)'!$A$7:$C$188,3,FALSE)","v":{"$error":"#N/A"}}]
[null,null,null,null,null,null,null,{"$f":"VLOOKUP($G$2:$G$50000,'Location Type (FICM Codes)'!$A$7:$B$188,2,FALSE)","v":{"$error":"#N/A"}},null,null,null,null,null,{"$f":"VLOOKUP(G830:G10828,'Location Type (FICM Codes)'!$A$7:$C$188,3,FALSE)","v":{"$error":"#N/A"}}]
[null,null,null,null,null,null,null,{"$f":"VLOOKUP($G$2:$G$50000,'Location Type (FICM Codes)'!$A$7:$B$188,2,FALSE)","v":{"$error":"#N/A"}},null,null,null,null,null,{"$f":"VLOOKUP(G831:G10829,'Location Type (FICM Codes)'!$A$7:$C$188,3,FALSE)","v":{"$error":"#N/A"}}]
[null,null,null,null,null,null,null,{"$f":"VLOOKUP($G$2:$G$50000,'Location Type (FICM Codes)'!$A$7:$B$188,2,FALSE)","v":{"$error":"#N/A"}},null,null,null,null,null,{"$f":"VLOOKUP(G832:G10830,'Location Type (FICM Codes)'!$A$7:$C$188,3,FALSE)","v":{"$error":"#N/A"}}]
[null,null,null,null,null,null,null,{"$f":"VLOOKUP($G$2:$G$50000,'Location Type (FICM Codes)'!$A$7:$B$188,2,FALSE)","v":{"$error":"#N/A"}},null,null,null,null,null,{"$f":"VLOOKUP(G833:G10831,'Location Type (FICM Codes)'!$A$7:$C$188,3,FALSE)","v":{"$error":"#N/A"}}]
[null,null,null,null,null,null,null,{"$f":"VLOOKUP($G$2:$G$50000,'Location Type (FICM Codes)'!$A$7:$B$188,2,FALSE)","v":{"$error":"#N/A"}},null,null,null,null,null,{"$f":"VLOOKUP(G834:G10832,'Location Type (FICM Codes)'!$A$7:$C$188,3,FALSE)","v":{"$error":"#N/A"}}]
[null,null,null,null,null,null,null,{"$f":"VLOOKUP($G$2:$G$50000,'Location Type (FICM Codes)'!$A$7:$B$188,2,FALSE)","v":{"$error":"#N/A"}},null,null,null,null,null,{"$f":"VLOOKUP(G835:G10833,'Location Type (FICM Codes)'!$A$7:$C$188,3,FALSE)","v":{"$error":"#N/A"}}]
[null,null,null,null,null,null,null,{"$f":"VLOOKUP($G$2:$G$50000,'Location Type (FICM Codes)'!$A$7:$B$188,2,FALSE)","v":{"$error":"#N/A"}},null,null,null,null,null,{"$f":"VLOOKUP(G836:G10834,'Location Type (FICM Codes)'!$A$7:$C$188,3,FALSE)","v":{"$error":"#N/A"}}]
[null,null,null,null,null,null,null,{"$f":"VLOOKUP($G$2:$G$50000,'Location Type (FICM Codes)'!$A$7:$B$188,2,FALSE)","v":{"$error":"#N/A"}},null,null,null,null,null,{"$f":"VLOOKUP(G837:G10835,'Location Type (FICM Codes)'!$A$7:$C$188,3,FALSE)","v":{"$error":"#N/A"}}]
[null,null,null,null,null,null,null,{"$f":"VLOOKUP($G$2:$G$50000,'Location Type (FICM Codes)'!$A$7:$B$188,2,FALSE)","v":{"$error":"#N/A"}},null,null,null,null,null,{"$f":"VLOOKUP(G838:G10836,'Location Type (FICM Codes)'!$A$7:$C$188,3,FALSE)","v":{"$error":"#N/A"}}]
[null,null,null,null,null,null,null,{"$f":"VLOOKUP($G$2:$G$50000,'Location Type (FICM Codes)'!$A$7:$B$188,2,FALSE)","v":{"$error":"#N/A"}},null,null,null,null,null,{"$f":"VLOOKUP(G839:G10837,'Location Type (FICM Codes)'!$A$7:$C$188,3,FALSE)","v":{"$error":"#N/A"}}]
[null,null,null,null,null,null,null,{"$f":"VLOOKUP($G$2:$G$50000,'Location Type (FICM Codes)'!$A$7:$B$188,2,FALSE)","v":{"$error":"#N/A"}},null,null,null,null,null,{"$f":"VLOOKUP(G840:G10838,'Location Type (FICM Codes)'!$A$7:$C$188,3,FALSE)","v":{"$error":"#N/A"}}]
[null,null,null,null,null,null,null,{"$f":"VLOOKUP($G$2:$G$50000,'Location Type (FICM Codes)'!$A$7:$B$188,2,FALSE)","v":{"$error":"#N/A"}},null,null,null,null,null,{"$f":"VLOOKUP(G841:G10839,'Location Type (FICM Codes)'!$A$7:$C$188,3,FALSE)","v":{"$error":"#N/A"}}]
[null,null,null,null,null,null,null,{"$f":"VLOOKUP($G$2:$G$50000,'Location Type (FICM Codes)'!$A$7:$B$188,2,FALSE)","v":{"$error":"#N/A"}},null,null,null,null,null,{"$f":"VLOOKUP(G842:G10840,'Location Type (FICM Codes)'!$A$7:$C$188,3,FALSE)","v":{"$error":"#N/A"}}]
[null,null,null,null,null,null,null,{"$f":"VLOOKUP($G$2:$G$50000,'Location Type (FICM Codes)'!$A$7:$B$188,2,FALSE)","v":{"$error":"#N/A"}},null,null,null,null,null,{"$f":"VLOOKUP(G843:G10841,'Location Type (FICM Codes)'!$A$7:$C$188,3,FALSE)","v":{"$error":"#N/A"}}]
[null,null,null,null,null,null,null,{"$f":"VLOOKUP($G$2:$G$50000,'Location Type (FICM Codes)'!$A$7:$B$188,2,FALSE)","v":{"$error":"#N/A"}},null,null,null,null,null,{"$f":"VLOOKUP(G844:G10842,'Location Type (FICM Codes)'!$A$7:$C$188,3,FALSE)","v":{"$error":"#N/A"}}]
[null,null,null,null,null,null,null,{"$f":"VLOOKUP($G$2:$G$50000,'Location Type (FICM Codes)'!$A$7:$B$188,2,FALSE)","v":{"$error":"#N/A"}},null,null,null,null,null,{"$f":"VLOOKUP(G845:G10843,'Location Type (FICM Codes)'!$A$7:$C$188,3,FALSE)","v":{"$error":"#N/A"}}]
[null,null,null,null,null,null,null,{"$f":"VLOOKUP($G$2:$G$50000,'Location Type (FICM Codes)'!$A$7:$B$188,2,FALSE)","v":{"$error":"#N/A"}},null,null,null,null,null,{"$f":"VLOOKUP(G846:G10844,'Location Type (FICM Codes)'!$A$7:$C$188,3,FALSE)","v":{"$error":"#N/A"}}]
[null,null,null,null,null,null,null,{"$f":"VLOOKUP($G$2:$G$50000,'Location Type (FICM Codes)'!$A$7:$B$188,2,FALSE)","v":{"$error":"#N/A"}},null,null,null,null,null,{"$f":"VLOOKUP(G847:G10845,'Location Type (FICM Codes)'!$A$7:$C$188,3,FALSE)","v":{"$error":"#N/A"}}]
[null,null,null,null,null,null,null,{"$f":"VLOOKUP($G$2:$G$50000,'Location Type (FICM Codes)'!$A$7:$B$188,2,FALSE)","v":{"$error":"#N/A"}},null,null,null,null,null,{"$f":"VLOOKUP(G848:G10846,'Location Type (FICM Codes)'!$A$7:$C$188,3,FALSE)","v":{"$error":"#N/A"}}]
[null,null,null,null,null,null,null,{"$f":"VLOOKUP($G$2:$G$50000,'Location Type (FICM Codes)'!$A$7:$B$188,2,FALSE)","v":{"$error":"#N/A"}},null,null,null,null,null,{"$f":"VLOOKUP(G849:G10847,'Location Type (FICM Codes)'!$A$7:$C$188,3,FALSE)","v":{"$error":"#N/A"}}]
[null,null,null,null,null,null,null,{"$f":"VLOOKUP($G$2:$G$50000,'Location Type (FICM Codes)'!$A$7:$B$188,2,FALSE)","v":{"$error":"#N/A"}},null,null,null,null,null,{"$f":"VLOOKUP(G850:G10848,'Location Type (FICM Codes)'!$A$7:$C$188,3,FALSE)","v":{"$error":"#N/A"}}]
[null,null,null,null,null,null,null,{"$f":"VLOOKUP($G$2:$G$50000,'Location Type (FICM Codes)'!$A$7:$B$188,2,FALSE)","v":{"$error":"#N/A"}},null,null,null,null,null,{"$f":"VLOOKUP(G851:G10849,'Location Type (FICM Codes)'!$A$7:$C$188,3,FALSE)","v":{"$error":"#N/A"}}]
[null,null,null,null,null,null,null,{"$f":"VLOOKUP($G$2:$G$50000,'Location Type (FICM Codes)'!$A$7:$B$188,2,FALSE)","v":{"$error":"#N/A"}},null,null,null,null,null,{"$f":"VLOOKUP(G852:G10850,'Location Type (FICM Codes)'!$A$7:$C$188,3,FALSE)","v":{"$error":"#N/A"}}]
[null,null,null,null,null,null,null,{"$f":"VLOOKUP($G$2:$G$50000,'Location Type (FICM Codes)'!$A$7:$B$188,2,FALSE)","v":{"$error":"#N/A"}},null,null,null,null,null,{"$f":"VLOOKUP(G853:G10851,'Location Type (FICM Codes)'!$A$7:$C$188,3,FALSE)","v":{"$error":"#N/A"}}]
[null,null,null,null,null,null,null,{"$f":"VLOOKUP($G$2:$G$50000,'Location Type (FICM Codes)'!$A$7:$B$188,2,FALSE)","v":{"$error":"#N/A"}},null,null,null,null,null,{"$f":"VLOOKUP(G854:G10852,'Location Type (FICM Codes)'!$A$7:$C$188,3,FALSE)","v":{"$error":"#N/A"}}]
[null,null,null,null,null,null,null,{"$f":"VLOOKUP($G$2:$G$50000,'Location Type (FICM Codes)'!$A$7:$B$188,2,FALSE)","v":{"$error":"#N/A"}},null,null,null,null,null,{"$f":"VLOOKUP(G855:G10853,'Location Type (FICM Codes)'!$A$7:$C$188,3,FALSE)","v":{"$error":"#N/A"}}]
[null,null,null,null,null,null,null,{"$f":"VLOOKUP($G$2:$G$50000,'Location Type (FICM Codes)'!$A$7:$B$188,2,FALSE)","v":{"$error":"#N/A"}},null,null,null,null,null,{"$f":"VLOOKUP(G856:G10854,'Location Type (FICM Codes)'!$A$7:$C$188,3,FALSE)","v":{"$error":"#N/A"}}]
[null,null,null,null,null,null,null,{"$f":"VLOOKUP($G$2:$G$50000,'Location Type (FICM Codes)'!$A$7:$B$188,2,FALSE)","v":{"$error":"#N/A"}},null,null,null,null,null,{"$f":"VLOOKUP(G857:G10855,'Location Type (FICM Codes)'!$A$7:$C$188,3,FALSE)","v":{"$error":"#N/A"}}]
[null,null,null,null,null,null,null,{"$f":"VLOOKUP($G$2:$G$50000,'Location Type (FICM Codes)'!$A$7:$B$188,2,FALSE)","v":{"$error":"#N/A"}},null,null,null,null,null,{"$f":"VLOOKUP(G858:G10856,'Location Type (FICM Codes)'!$A$7:$C$188,3,FALSE)","v":{"$error":"#N/A"}}]
[null,null,null,null,null,null,null,{"$f":"VLOOKUP($G$2:$G$50000,'Location Type (FICM Codes)'!$A$7:$B$188,2,FALSE)","v":{"$error":"#N/A"}},null,null,null,null,null,{"$f":"VLOOKUP(G859:G10857,'Location Type (FICM Codes)'!$A$7:$C$188,3,FALSE)","v":{"$error":"#N/A"}}]
[null,null,null,null,null,null,null,{"$f":"VLOOKUP($G$2:$G$50000,'Location Type (FICM Codes)'!$A$7:$B$188,2,FALSE)","v":{"$error":"#N/A"}},null,null,null,null,null,{"$f":"VLOOKUP(G860:G10858,'Location Type (FICM Codes)'!$A$7:$C$188,3,FALSE)","v":{"$error":"#N/A"}}]
[null,null,null,null,null,null,null,{"$f":"VLOOKUP($G$2:$G$50000,'Location Type (FICM Codes)'!$A$7:$B$188,2,FALSE)","v":{"$error":"#N/A"}},null,null,null,null,null,{"$f":"VLOOKUP(G861:G10859,'Location Type (FICM Codes)'!$A$7:$C$188,3,FALSE)","v":{"$error":"#N/A"}}]
[null,null,null,null,null,null,null,{"$f":"VLOOKUP($G$2:$G$50000,'Location Type (FICM Codes)'!$A$7:$B$188,2,FALSE)","v":{"$error":"#N/A"}},null,null,null,null,null,{"$f":"VLOOKUP(G862:G10860,'Location Type (FICM Codes)'!$A$7:$C$188,3,FALSE)","v":{"$error":"#N/A"}}]
[null,null,null,null,null,null,null,{"$f":"VLOOKUP($G$2:$G$50000,'Location Type (FICM Codes)'!$A$7:$B$188,2,FALSE)","v":{"$error":"#N/A"}},null,null,null,null,null,{"$f":"VLOOKUP(G863:G10861,'Location Type (FICM Codes)'!$A$7:$C$188,3,FALSE)","v":{"$error":"#N/A"}}]
[null,null,null,null,null,null,null,{"$f":"VLOOKUP($G$2:$G$50000,'Location Type (FICM Codes)'!$A$7:$B$188,2,FALSE)","v":{"$error":"#N/A"}},null,null,null,null,null,{"$f":"VLOOKUP(G864:G10862,'Location Type (FICM Codes)'!$A$7:$C$188,3,FALSE)","v":{"$error":"#N/A"}}]
[null,null,null,null,null,null,null,{"$f":"VLOOKUP($G$2:$G$50000,'Location Type (FICM Codes)'!$A$7:$B$188,2,FALSE)","v":{"$error":"#N/A"}},null,null,null,null,null,{"$f":"VLOOKUP(G865:G10863,'Location Type (FICM Codes)'!$A$7:$C$188,3,FALSE)","v":{"$error":"#N/A"}}]
[null,null,null,null,null,null,null,{"$f":"VLOOKUP($G$2:$G$50000,'Location Type (FICM Codes)'!$A$7:$B$188,2,FALSE)","v":{"$error":"#N/A"}},null,null,null,null,null,{"$f":"VLOOKUP(G866:G10864,'Location Type (FICM Codes)'!$A$7:$C$188,3,FALSE)","v":{"$error":"#N/A"}}]
[null,null,null,null,null,null,null,{"$f":"VLOOKUP($G$2:$G$50000,'Location Type (FICM Codes)'!$A$7:$B$188,2,FALSE)","v":{"$error":"#N/A"}},null,null,null,null,null,{"$f":"VLOOKUP(G867:G10865,'Location Type (FICM Codes)'!$A$7:$C$188,3,FALSE)","v":{"$error":"#N/A"}}]
[null,null,null,null,null,null,null,{"$f":"VLOOKUP($G$2:$G$50000,'Location Type (FICM Codes)'!$A$7:$B$188,2,FALSE)","v":{"$error":"#N/A"}},null,null,null,null,null,{"$f":"VLOOKUP(G868:G10866,'Location Type (FICM Codes)'!$A$7:$C$188,3,FALSE)","v":{"$error":"#N/A"}}]
[null,null,null,null,null,null,null,{"$f":"VLOOKUP($G$2:$G$50000,'Location Type (FICM Codes)'!$A$7:$B$188,2,FALSE)","v":{"$error":"#N/A"}},null,null,null,null,null,{"$f":"VLOOKUP(G869:G10867,'Location Type (FICM Codes)'!$A$7:$C$188,3,FALSE)","v":{"$error":"#N/A"}}]
[null,null,null,null,null,null,null,{"$f":"VLOOKUP($G$2:$G$50000,'Location Type (FICM Codes)'!$A$7:$B$188,2,FALSE)","v":{"$error":"#N/A"}},null,null,null,null,null,{"$f":"VLOOKUP(G870:G10868,'Location Type (FICM Codes)'!$A$7:$C$188,3,FALSE)","v":{"$error":"#N/A"}}]
[null,null,null,null,null,null,null,{"$f":"VLOOKUP($G$2:$G$50000,'Location Type (FICM Codes)'!$A$7:$B$188,2,FALSE)","v":{"$error":"#N/A"}},null,null,null,null,null,{"$f":"VLOOKUP(G871:G10869,'Location Type (FICM Codes)'!$A$7:$C$188,3,FALSE)","v":{"$error":"#N/A"}}]
[null,null,null,null,null,null,null,{"$f":"VLOOKUP($G$2:$G$50000,'Location Type (FICM Codes)'!$A$7:$B$188,2,FALSE)","v":{"$error":"#N/A"}},null,null,null,null,null,{"$f":"VLOOKUP(G872:G10870,'Location Type (FICM Codes)'!$A$7:$C$188,3,FALSE)","v":{"$error":"#N/A"}}]
[null,null,null,null,null,null,null,{"$f":"VLOOKUP($G$2:$G$50000,'Location Type (FICM Codes)'!$A$7:$B$188,2,FALSE)","v":{"$error":"#N/A"}},null,null,null,null,null,{"$f":"VLOOKUP(G873:G10871,'Location Type (FICM Codes)'!$A$7:$C$188,3,FALSE)","v":{"$error":"#N/A"}}]
[null,null,null,null,null,null,null,{"$f":"VLOOKUP($G$2:$G$50000,'Location Type (FICM Codes)'!$A$7:$B$188,2,FALSE)","v":{"$error":"#N/A"}},null,null,null,null,null,{"$f":"VLOOKUP(G874:G10872,'Location Type (FICM Codes)'!$A$7:$C$188,3,FALSE)","v":{"$error":"#N/A"}}]
[null,null,null,null,null,null,null,{"$f":"VLOOKUP($G$2:$G$50000,'Location Type (FICM Codes)'!$A$7:$B$188,2,FALSE)","v":{"$error":"#N/A"}},null,null,null,null,null,{"$f":"VLOOKUP(G875:G10873,'Location Type (FICM Codes)'!$A$7:$C$188,3,FALSE)","v":{"$error":"#N/A"}}]
[null,null,null,null,null,null,null,{"$f":"VLOOKUP($G$2:$G$50000,'Location Type (FICM Codes)'!$A$7:$B$188,2,FALSE)","v":{"$error":"#N/A"}},null,null,null,null,null,{"$f":"VLOOKUP(G876:G10874,'Location Type (FICM Codes)'!$A$7:$C$188,3,FALSE)","v":{"$error":"#N/A"}}]
[null,null,null,null,null,null,null,{"$f":"VLOOKUP($G$2:$G$50000,'Location Type (FICM Codes)'!$A$7:$B$188,2,FALSE)","v":{"$error":"#N/A"}},null,null,null,null,null,{"$f":"VLOOKUP(G877:G10875,'Location Type (FICM Codes)'!$A$7:$C$188,3,FALSE)","v":{"$error":"#N/A"}}]
[null,null,null,null,null,null,null,{"$f":"VLOOKUP($G$2:$G$50000,'Location Type (FICM Codes)'!$A$7:$B$188,2,FALSE)","v":{"$error":"#N/A"}},null,null,null,null,null,{"$f":"VLOOKUP(G878:G10876,'Location Type (FICM Codes)'!$A$7:$C$188,3,FALSE)","v":{"$error":"#N/A"}}]
[null,null,null,null,null,null,null,{"$f":"VLOOKUP($G$2:$G$50000,'Location Type (FICM Codes)'!$A$7:$B$188,2,FALSE)","v":{"$error":"#N/A"}},null,null,null,null,null,{"$f":"VLOOKUP(G879:G10877,'Location Type (FICM Codes)'!$A$7:$C$188,3,FALSE)","v":{"$error":"#N/A"}}]
[null,null,null,null,null,null,null,{"$f":"VLOOKUP($G$2:$G$50000,'Location Type (FICM Codes)'!$A$7:$B$188,2,FALSE)","v":{"$error":"#N/A"}},null,null,null,null,null,{"$f":"VLOOKUP(G880:G10878,'Location Type (FICM Codes)'!$A$7:$C$188,3,FALSE)","v":{"$error":"#N/A"}}]
[null,null,null,null,null,null,null,{"$f":"VLOOKUP($G$2:$G$50000,'Location Type (FICM Codes)'!$A$7:$B$188,2,FALSE)","v":{"$error":"#N/A"}},null,null,null,null,null,{"$f":"VLOOKUP(G881:G10879,'Location Type (FICM Codes)'!$A$7:$C$188,3,FALSE)","v":{"$error":"#N/A"}}]
[null,null,null,null,null,null,null,{"$f":"VLOOKUP($G$2:$G$50000,'Location Type (FICM Codes)'!$A$7:$B$188,2,FALSE)","v":{"$error":"#N/A"}},null,null,null,null,null,{"$f":"VLOOKUP(G882:G10880,'Location Type (FICM Codes)'!$A$7:$C$188,3,FALSE)","v":{"$error":"#N/A"}}]
[null,null,null,null,null,null,null,{"$f":"VLOOKUP($G$2:$G$50000,'Location Type (FICM Codes)'!$A$7:$B$188,2,FALSE)","v":{"$error":"#N/A"}},null,null,null,null,null,{"$f":"VLOOKUP(G883:G10881,'Location Type (FICM Codes)'!$A$7:$C$188,3,FALSE)","v":{"$error":"#N/A"}}]
[null,null,null,null,null,null,null,{"$f":"VLOOKUP($G$2:$G$50000,'Location Type (FICM Codes)'!$A$7:$B$188,2,FALSE)","v":{"$error":"#N/A"}},null,null,null,null,null,{"$f":"VLOOKUP(G884:G10882,'Location Type (FICM Codes)'!$A$7:$C$188,3,FALSE)","v":{"$error":"#N/A"}}]
[null,null,null,null,null,null,null,{"$f":"VLOOKUP($G$2:$G$50000,'Location Type (FICM Codes)'!$A$7:$B$188,2,FALSE)","v":{"$error":"#N/A"}},null,null,null,null,null,{"$f":"VLOOKUP(G885:G10883,'Location Type (FICM Codes)'!$A$7:$C$188,3,FALSE)","v":{"$error":"#N/A"}}]
[null,null,null,null,null,null,null,{"$f":"VLOOKUP($G$2:$G$50000,'Location Type (FICM Codes)'!$A$7:$B$188,2,FALSE)","v":{"$error":"#N/A"}},null,null,null,null,null,{"$f":"VLOOKUP(G886:G10884,'Location Type (FICM Codes)'!$A$7:$C$188,3,FALSE)","v":{"$error":"#N/A"}}]
[null,null,null,null,null,null,null,{"$f":"VLOOKUP($G$2:$G$50000,'Location Type (FICM Codes)'!$A$7:$B$188,2,FALSE)","v":{"$error":"#N/A"}},null,null,null,null,null,{"$f":"VLOOKUP(G887:G10885,'Location Type (FICM Codes)'!$A$7:$C$188,3,FALSE)","v":{"$error":"#N/A"}}]
[null,null,null,null,null,null,null,{"$f":"VLOOKUP($G$2:$G$50000,'Location Type (FICM Codes)'!$A$7:$B$188,2,FALSE)","v":{"$error":"#N/A"}},null,null,null,null,null,{"$f":"VLOOKUP(G888:G10886,'Location Type (FICM Codes)'!$A$7:$C$188,3,FALSE)","v":{"$error":"#N/A"}}]
[null,null,null,null,null,null,null,{"$f":"VLOOKUP($G$2:$G$50000,'Location Type (FICM Codes)'!$A$7:$B$188,2,FALSE)","v":{"$error":"#N/A"}},null,null,null,null,null,{"$f":"VLOOKUP(G889:G10887,'Location Type (FICM Codes)'!$A$7:$C$188,3,FALSE)","v":{"$error":"#N/A"}}]
[null,null,null,null,null,null,null,{"$f":"VLOOKUP($G$2:$G$50000,'Location Type (FICM Codes)'!$A$7:$B$188,2,FALSE)","v":{"$error":"#N/A"}},null,null,null,null,null,{"$f":"VLOOKUP(G890:G10888,'Location Type (FICM Codes)'!$A$7:$C$188,3,FALSE)","v":{"$error":"#N/A"}}]
[null,null,null,null,null,null,null,{"$f":"VLOOKUP($G$2:$G$50000,'Location Type (FICM Codes)'!$A$7:$B$188,2,FALSE)","v":{"$error":"#N/A"}},null,null,null,null,null,{"$f":"VLOOKUP(G891:G10889,'Location Type (FICM Codes)'!$A$7:$C$188,3,FALSE)","v":{"$error":"#N/A"}}]
[null,null,null,null,null,null,null,{"$f":"VLOOKUP($G$2:$G$50000,'Location Type (FICM Codes)'!$A$7:$B$188,2,FALSE)","v":{"$error":"#N/A"}},null,null,null,null,null,{"$f":"VLOOKUP(G892:G10890,'Location Type (FICM Codes)'!$A$7:$C$188,3,FALSE)","v":{"$error":"#N/A"}}]
[null,null,null,null,null,null,null,{"$f":"VLOOKUP($G$2:$G$50000,'Location Type (FICM Codes)'!$A$7:$B$188,2,FALSE)","v":{"$error":"#N/A"}},null,null,null,null,null,{"$f":"VLOOKUP(G893:G10891,'Location Type (FICM Codes)'!$A$7:$C$188,3,FALSE)","v":{"$error":"#N/A"}}]
[null,null,null,null,null,null,null,{"$f":"VLOOKUP($G$2:$G$50000,'Location Type (FICM Codes)'!$A$7:$B$188,2,FALSE)","v":{"$error":"#N/A"}},null,null,null,null,null,{"$f":"VLOOKUP(G894:G10892,'Location Type (FICM Codes)'!$A$7:$C$188,3,FALSE)","v":{"$error":"#N/A"}}]
[null,null,null,null,null,null,null,{"$f":"VLOOKUP($G$2:$G$50000,'Location Type (FICM Codes)'!$A$7:$B$188,2,FALSE)","v":{"$error":"#N/A"}},null,null,null,null,null,{"$f":"VLOOKUP(G895:G10893,'Location Type (FICM Codes)'!$A$7:$C$188,3,FALSE)","v":{"$error":"#N/A"}}]
[null,null,null,null,null,null,null,{"$f":"VLOOKUP($G$2:$G$50000,'Location Type (FICM Codes)'!$A$7:$B$188,2,FALSE)","v":{"$error":"#N/A"}},null,null,null,null,null,{"$f":"VLOOKUP(G896:G10894,'Location Type (FICM Codes)'!$A$7:$C$188,3,FALSE)","v":{"$error":"#N/A"}}]
[null,null,null,null,null,null,null,{"$f":"VLOOKUP($G$2:$G$50000,'Location Type (FICM Codes)'!$A$7:$B$188,2,FALSE)","v":{"$error":"#N/A"}},null,null,null,null,null,{"$f":"VLOOKUP(G897:G10895,'Location Type (FICM Codes)'!$A$7:$C$188,3,FALSE)","v":{"$error":"#N/A"}}]
[null,null,null,null,null,null,null,{"$f":"VLOOKUP($G$2:$G$50000,'Location Type (FICM Codes)'!$A$7:$B$188,2,FALSE)","v":{"$error":"#N/A"}},null,null,null,null,null,{"$f":"VLOOKUP(G898:G10896,'Location Type (FICM Codes)'!$A$7:$C$188,3,FALSE)","v":{"$error":"#N/A"}}]
[null,null,null,null,null,null,null,{"$f":"VLOOKUP($G$2:$G$50000,'Location Type (FICM Codes)'!$A$7:$B$188,2,FALSE)","v":{"$error":"#N/A"}},null,null,null,null,null,{"$f":"VLOOKUP(G899:G10897,'Location Type (FICM Codes)'!$A$7:$C$188,3,FALSE)","v":{"$error":"#N/A"}}]
[null,null,null,null,null,null,null,{"$f":"VLOOKUP($G$2:$G$50000,'Location Type (FICM Codes)'!$A$7:$B$188,2,FALSE)","v":{"$error":"#N/A"}},null,null,null,null,null,{"$f":"VLOOKUP(G900:G10898,'Location Type (FICM Codes)'!$A$7:$C$188,3,FALSE)","v":{"$error":"#N/A"}}]
[null,null,null,null,null,null,null,{"$f":"VLOOKUP($G$2:$G$50000,'Location Type (FICM Codes)'!$A$7:$B$188,2,FALSE)","v":{"$error":"#N/A"}},null,null,null,null,null,{"$f":"VLOOKUP(G901:G10899,'Location Type (FICM Codes)'!$A$7:$C$188,3,FALSE)","v":{"$error":"#N/A"}}]
[null,null,null,null,null,null,null,{"$f":"VLOOKUP($G$2:$G$50000,'Location Type (FICM Codes)'!$A$7:$B$188,2,FALSE)","v":{"$error":"#N/A"}},null,null,null,null,null,{"$f":"VLOOKUP(G902:G10900,'Location Type (FICM Codes)'!$A$7:$C$188,3,FALSE)","v":{"$error":"#N/A"}}]
[null,null,null,null,null,null,null,{"$f":"VLOOKUP($G$2:$G$50000,'Location Type (FICM Codes)'!$A$7:$B$188,2,FALSE)","v":{"$error":"#N/A"}},null,null,null,null,null,{"$f":"VLOOKUP(G903:G10901,'Location Type (FICM Codes)'!$A$7:$C$188,3,FALSE)","v":{"$error":"#N/A"}}]
[null,null,null,null,null,null,null,{"$f":"VLOOKUP($G$2:$G$50000,'Location Type (FICM Codes)'!$A$7:$B$188,2,FALSE)","v":{"$error":"#N/A"}},null,null,null,null,null,{"$f":"VLOOKUP(G904:G10902,'Location Type (FICM Codes)'!$A$7:$C$188,3,FALSE)","v":{"$error":"#N/A"}}]
[null,null,null,null,null,null,null,{"$f":"VLOOKUP($G$2:$G$50000,'Location Type (FICM Codes)'!$A$7:$B$188,2,FALSE)","v":{"$error":"#N/A"}},null,null,null,null,null,{"$f":"VLOOKUP(G905:G10903,'Location Type (FICM Codes)'!$A$7:$C$188,3,FALSE)","v":{"$error":"#N/A"}}]
[null,null,null,null,null,null,null,{"$f":"VLOOKUP($G$2:$G$50000,'Location Type (FICM Codes)'!$A$7:$B$188,2,FALSE)","v":{"$error":"#N/A"}},null,null,null,null,null,{"$f":"VLOOKUP(G906:G10904,'Location Type (FICM Codes)'!$A$7:$C$188,3,FALSE)","v":{"$error":"#N/A"}}]
[null,null,null,null,null,null,null,{"$f":"VLOOKUP($G$2:$G$50000,'Location Type (FICM Codes)'!$A$7:$B$188,2,FALSE)","v":{"$error":"#N/A"}},null,null,null,null,null,{"$f":"VLOOKUP(G907:G10905,'Location Type (FICM Codes)'!$A$7:$C$188,3,FALSE)","v":{"$error":"#N/A"}}]
[null,null,null,null,null,null,null,{"$f":"VLOOKUP($G$2:$G$50000,'Location Type (FICM Codes)'!$A$7:$B$188,2,FALSE)","v":{"$error":"#N/A"}},null,null,null,null,null,{"$f":"VLOOKUP(G908:G10906,'Location Type (FICM Codes)'!$A$7:$C$188,3,FALSE)","v":{"$error":"#N/A"}}]
[null,null,null,null,null,null,null,{"$f":"VLOOKUP($G$2:$G$50000,'Location Type (FICM Codes)'!$A$7:$B$188,2,FALSE)","v":{"$error":"#N/A"}},null,null,null,null,null,{"$f":"VLOOKUP(G909:G10907,'Location Type (FICM Codes)'!$A$7:$C$188,3,FALSE)","v":{"$error":"#N/A"}}]
[null,null,null,null,null,null,null,{"$f":"VLOOKUP($G$2:$G$50000,'Location Type (FICM Codes)'!$A$7:$B$188,2,FALSE)","v":{"$error":"#N/A"}},null,null,null,null,null,{"$f":"VLOOKUP(G910:G10908,'Location Type (FICM Codes)'!$A$7:$C$188,3,FALSE)","v":{"$error":"#N/A"}}]
[null,null,null,null,null,null,null,{"$f":"VLOOKUP($G$2:$G$50000,'Location Type (FICM Codes)'!$A$7:$B$188,2,FALSE)","v":{"$error":"#N/A"}},null,null,null,null,null,{"$f":"VLOOKUP(G911:G10909,'Location Type (FICM Codes)'!$A$7:$C$188,3,FALSE)","v":{"$error":"#N/A"}}]
[null,null,null,null,null,null,null,{"$f":"VLOOKUP($G$2:$G$50000,'Location Type (FICM Codes)'!$A$7:$B$188,2,FALSE)","v":{"$error":"#N/A"}},null,null,null,null,null,{"$f":"VLOOKUP(G912:G10910,'Location Type (FICM Codes)'!$A$7:$C$188,3,FALSE)","v":{"$error":"#N/A"}}]
[null,null,null,null,null,null,null,{"$f":"VLOOKUP($G$2:$G$50000,'Location Type (FICM Codes)'!$A$7:$B$188,2,FALSE)","v":{"$error":"#N/A"}},null,null,null,null,null,{"$f":"VLOOKUP(G913:G10911,'Location Type (FICM Codes)'!$A$7:$C$188,3,FALSE)","v":{"$error":"#N/A"}}]
[null,null,null,null,null,null,null,{"$f":"VLOOKUP($G$2:$G$50000,'Location Type (FICM Codes)'!$A$7:$B$188,2,FALSE)","v":{"$error":"#N/A"}},null,null,null,null,null,{"$f":"VLOOKUP(G914:G10912,'Location Type (FICM Codes)'!$A$7:$C$188,3,FALSE)","v":{"$error":"#N/A"}}]
[null,null,null,null,null,null,null,{"$f":"VLOOKUP($G$2:$G$50000,'Location Type (FICM Codes)'!$A$7:$B$188,2,FALSE)","v":{"$error":"#N/A"}},null,null,null,null,null,{"$f":"VLOOKUP(G915:G10913,'Location Type (FICM Codes)'!$A$7:$C$188,3,FALSE)","v":{"$error":"#N/A"}}]
[null,null,null,null,null,null,null,{"$f":"VLOOKUP($G$2:$G$50000,'Location Type (FICM Codes)'!$A$7:$B$188,2,FALSE)","v":{"$error":"#N/A"}},null,null,null,null,null,{"$f":"VLOOKUP(G916:G10914,'Location Type (FICM Codes)'!$A$7:$C$188,3,FALSE)","v":{"$error":"#N/A"}}]
[null,null,null,null,null,null,null,{"$f":"VLOOKUP($G$2:$G$50000,'Location Type (FICM Codes)'!$A$7:$B$188,2,FALSE)","v":{"$error":"#N/A"}},null,null,null,null,null,{"$f":"VLOOKUP(G917:G10915,'Location Type (FICM Codes)'!$A$7:$C$188,3,FALSE)","v":{"$error":"#N/A"}}]
[null,null,null,null,null,null,null,{"$f":"VLOOKUP($G$2:$G$50000,'Location Type (FICM Codes)'!$A$7:$B$188,2,FALSE)","v":{"$error":"#N/A"}},null,null,null,null,null,{"$f":"VLOOKUP(G918:G10916,'Location Type (FICM Codes)'!$A$7:$C$188,3,FALSE)","v":{"$error":"#N/A"}}]
[null,null,null,null,null,null,null,{"$f":"VLOOKUP($G$2:$G$50000,'Location Type (FICM Codes)'!$A$7:$B$188,2,FALSE)","v":{"$error":"#N/A"}},null,null,null,null,null,{"$f":"VLOOKUP(G919:G10917,'Location Type (FICM Codes)'!$A$7:$C$188,3,FALSE)","v":{"$error":"#N/A"}}]
[null,null,null,null,null,null,null,{"$f":"VLOOKUP($G$2:$G$50000,'Location Type (FICM Codes)'!$A$7:$B$188,2,FALSE)","v":{"$error":"#N/A"}},null,null,null,null,null,{"$f":"VLOOKUP(G920:G10918,'Location Type (FICM Codes)'!$A$7:$C$188,3,FALSE)","v":{"$error":"#N/A"}}]
[null,null,null,null,null,null,null,{"$f":"VLOOKUP($G$2:$G$50000,'Location Type (FICM Codes)'!$A$7:$B$188,2,FALSE)","v":{"$error":"#N/A"}},null,null,null,null,null,{"$f":"VLOOKUP(G921:G10919,'Location Type (FICM Codes)'!$A$7:$C$188,3,FALSE)","v":{"$error":"#N/A"}}]
[null,null,null,null,null,null,null,{"$f":"VLOOKUP($G$2:$G$50000,'Location Type (FICM Codes)'!$A$7:$B$188,2,FALSE)","v":{"$error":"#N/A"}},null,null,null,null,null,{"$f":"VLOOKUP(G922:G10920,'Location Type (FICM Codes)'!$A$7:$C$188,3,FALSE)","v":{"$error":"#N/A"}}]
[null,null,null,null,null,null,null,{"$f":"VLOOKUP($G$2:$G$50000,'Location Type (FICM Codes)'!$A$7:$B$188,2,FALSE)","v":{"$error":"#N/A"}},null,null,null,null,null,{"$f":"VLOOKUP(G923:G10921,'Location Type (FICM Codes)'!$A$7:$C$188,3,FALSE)","v":{"$error":"#N/A"}}]
[null,null,null,null,null,null,null,{"$f":"VLOOKUP($G$2:$G$50000,'Location Type (FICM Codes)'!$A$7:$B$188,2,FALSE)","v":{"$error":"#N/A"}},null,null,null,null,null,{"$f":"VLOOKUP(G924:G10922,'Location Type (FICM Codes)'!$A$7:$C$188,3,FALSE)","v":{"$error":"#N/A"}}]
[null,null,null,null,null,null,null,{"$f":"VLOOKUP($G$2:$G$50000,'Location Type (FICM Codes)'!$A$7:$B$188,2,FALSE)","v":{"$error":"#N/A"}},null,null,null,null,null,{"$f":"VLOOKUP(G925:G10923,'Location Type (FICM Codes)'!$A$7:$C$188,3,FALSE)","v":{"$error":"#N/A"}}]
[null,null,null,null,null,null,null,{"$f":"VLOOKUP($G$2:$G$50000,'Location Type (FICM Codes)'!$A$7:$B$188,2,FALSE)","v":{"$error":"#N/A"}},null,null,null,null,null,{"$f":"VLOOKUP(G926:G10924,'Location Type (FICM Codes)'!$A$7:$C$188,3,FALSE)","v":{"$error":"#N/A"}}]
[null,null,null,null,null,null,null,{"$f":"VLOOKUP($G$2:$G$50000,'Location Type (FICM Codes)'!$A$7:$B$188,2,FALSE)","v":{"$error":"#N/A"}},null,null,null,null,null,{"$f":"VLOOKUP(G927:G10925,'Location Type (FICM Codes)'!$A$7:$C$188,3,FALSE)","v":{"$error":"#N/A"}}]
[null,null,null,null,null,null,null,{"$f":"VLOOKUP($G$2:$G$50000,'Location Type (FICM Codes)'!$A$7:$B$188,2,FALSE)","v":{"$error":"#N/A"}},null,null,null,null,null,{"$f":"VLOOKUP(G928:G10926,'Location Type (FICM Codes)'!$A$7:$C$188,3,FALSE)","v":{"$error":"#N/A"}}]
[null,null,null,null,null,null,null,{"$f":"VLOOKUP($G$2:$G$50000,'Location Type (FICM Codes)'!$A$7:$B$188,2,FALSE)","v":{"$error":"#N/A"}},null,null,null,null,null,{"$f":"VLOOKUP(G929:G10927,'Location Type (FICM Codes)'!$A$7:$C$188,3,FALSE)","v":{"$error":"#N/A"}}]
[null,null,null,null,null,null,null,{"$f":"VLOOKUP($G$2:$G$50000,'Location Type (FICM Codes)'!$A$7:$B$188,2,FALSE)","v":{"$error":"#N/A"}},null,null,null,null,null,{"$f":"VLOOKUP(G930:G10928,'Location Type (FICM Codes)'!$A$7:$C$188,3,FALSE)","v":{"$error":"#N/A"}}]
[null,null,null,null,null,null,null,{"$f":"VLOOKUP($G$2:$G$50000,'Location Type (FICM Codes)'!$A$7:$B$188,2,FALSE)","v":{"$error":"#N/A"}},null,null,null,null,null,{"$f":"VLOOKUP(G931:G10929,'Location Type (FICM Codes)'!$A$7:$C$188,3,FALSE)","v":{"$error":"#N/A"}}]
[null,null,null,null,null,null,null,{"$f":"VLOOKUP($G$2:$G$50000,'Location Type (FICM Codes)'!$A$7:$B$188,2,FALSE)","v":{"$error":"#N/A"}},null,null,null,null,null,{"$f":"VLOOKUP(G932:G10930,'Location Type (FICM Codes)'!$A$7:$C$188,3,FALSE)","v":{"$error":"#N/A"}}]
[null,null,null,null,null,null,null,{"$f":"VLOOKUP($G$2:$G$50000,'Location Type (FICM Codes)'!$A$7:$B$188,2,FALSE)","v":{"$error":"#N/A"}},null,null,null,null,null,{"$f":"VLOOKUP(G933:G10931,'Location Type (FICM Codes)'!$A$7:$C$188,3,FALSE)","v":{"$error":"#N/A"}}]
[null,null,null,null,null,null,null,{"$f":"VLOOKUP($G$2:$G$50000,'Location Type (FICM Codes)'!$A$7:$B$188,2,FALSE)","v":{"$error":"#N/A"}},null,null,null,null,null,{"$f":"VLOOKUP(G934:G10932,'Location Type (FICM Codes)'!$A$7:$C$188,3,FALSE)","v":{"$error":"#N/A"}}]
[null,null,null,null,null,null,null,{"$f":"VLOOKUP($G$2:$G$50000,'Location Type (FICM Codes)'!$A$7:$B$188,2,FALSE)","v":{"$error":"#N/A"}},null,null,null,null,null,{"$f":"VLOOKUP(G935:G10933,'Location Type (FICM Codes)'!$A$7:$C$188,3,FALSE)","v":{"$error":"#N/A"}}]
[null,null,null,null,null,null,null,{"$f":"VLOOKUP($G$2:$G$50000,'Location Type (FICM Codes)'!$A$7:$B$188,2,FALSE)","v":{"$error":"#N/A"}},null,null,null,null,null,{"$f":"VLOOKUP(G936:G10934,'Location Type (FICM Codes)'!$A$7:$C$188,3,FALSE)","v":{"$error":"#N/A"}}]
[null,null,null,null,null,null,null,{"$f":"VLOOKUP($G$2:$G$50000,'Location Type (FICM Codes)'!$A$7:$B$188,2,FALSE)","v":{"$error":"#N/A"}},null,null,null,null,null,{"$f":"VLOOKUP(G937:G10935,'Location Type (FICM Codes)'!$A$7:$C$188,3,FALSE)","v":{"$error":"#N/A"}}]
[null,null,null,null,null,null,null,{"$f":"VLOOKUP($G$2:$G$50000,'Location Type (FICM Codes)'!$A$7:$B$188,2,FALSE)","v":{"$error":"#N/A"}},null,null,null,null,null,{"$f":"VLOOKUP(G938:G10936,'Location Type (FICM Codes)'!$A$7:$C$188,3,FALSE)","v":{"$error":"#N/A"}}]
[null,null,null,null,null,null,null,{"$f":"VLOOKUP($G$2:$G$50000,'Location Type (FICM Codes)'!$A$7:$B$188,2,FALSE)","v":{"$error":"#N/A"}},null,null,null,null,null,{"$f":"VLOOKUP(G939:G10937,'Location Type (FICM Codes)'!$A$7:$C$188,3,FALSE)","v":{"$error":"#N/A"}}]
[null,null,null,null,null,null,null,{"$f":"VLOOKUP($G$2:$G$50000,'Location Type (FICM Codes)'!$A$7:$B$188,2,FALSE)","v":{"$error":"#N/A"}},null,null,null,null,null,{"$f":"VLOOKUP(G940:G10938,'Location Type (FICM Codes)'!$A$7:$C$188,3,FALSE)","v":{"$error":"#N/A"}}]
[null,null,null,null,null,null,null,{"$f":"VLOOKUP($G$2:$G$50000,'Location Type (FICM Codes)'!$A$7:$B$188,2,FALSE)","v":{"$error":"#N/A"}},null,null,null,null,null,{"$f":"VLOOKUP(G941:G10939,'Location Type (FICM Codes)'!$A$7:$C$188,3,FALSE)","v":{"$error":"#N/A"}}]
[null,null,null,null,null,null,null,{"$f":"VLOOKUP($G$2:$G$50000,'Location Type (FICM Codes)'!$A$7:$B$188,2,FALSE)","v":{"$error":"#N/A"}},null,null,null,null,null,{"$f":"VLOOKUP(G942:G10940,'Location Type (FICM Codes)'!$A$7:$C$188,3,FALSE)","v":{"$error":"#N/A"}}]
[null,null,null,null,null,null,null,{"$f":"VLOOKUP($G$2:$G$50000,'Location Type (FICM Codes)'!$A$7:$B$188,2,FALSE)","v":{"$error":"#N/A"}},null,null,null,null,null,{"$f":"VLOOKUP(G943:G10941,'Location Type (FICM Codes)'!$A$7:$C$188,3,FALSE)","v":{"$error":"#N/A"}}]
[null,null,null,null,null,null,null,{"$f":"VLOOKUP($G$2:$G$50000,'Location Type (FICM Codes)'!$A$7:$B$188,2,FALSE)","v":{"$error":"#N/A"}},null,null,null,null,null,{"$f":"VLOOKUP(G944:G10942,'Location Type (FICM Codes)'!$A$7:$C$188,3,FALSE)","v":{"$error":"#N/A"}}]
[null,null,null,null,null,null,null,{"$f":"VLOOKUP($G$2:$G$50000,'Location Type (FICM Codes)'!$A$7:$B$188,2,FALSE)","v":{"$error":"#N/A"}},null,null,null,null,null,{"$f":"VLOOKUP(G945:G10943,'Location Type (FICM Codes)'!$A$7:$C$188,3,FALSE)","v":{"$error":"#N/A"}}]
[null,null,null,null,null,null,null,{"$f":"VLOOKUP($G$2:$G$50000,'Location Type (FICM Codes)'!$A$7:$B$188,2,FALSE)","v":{"$error":"#N/A"}},null,null,null,null,null,{"$f":"VLOOKUP(G946:G10944,'Location Type (FICM Codes)'!$A$7:$C$188,3,FALSE)","v":{"$error":"#N/A"}}]
[null,null,null,null,null,null,null,{"$f":"VLOOKUP($G$2:$G$50000,'Location Type (FICM Codes)'!$A$7:$B$188,2,FALSE)","v":{"$error":"#N/A"}},null,null,null,null,null,{"$f":"VLOOKUP(G947:G10945,'Location Type (FICM Codes)'!$A$7:$C$188,3,FALSE)","v":{"$error":"#N/A"}}]
[null,null,null,null,null,null,null,{"$f":"VLOOKUP($G$2:$G$50000,'Location Type (FICM Codes)'!$A$7:$B$188,2,FALSE)","v":{"$error":"#N/A"}},null,null,null,null,null,{"$f":"VLOOKUP(G948:G10946,'Location Type (FICM Codes)'!$A$7:$C$188,3,FALSE)","v":{"$error":"#N/A"}}]
[null,null,null,null,null,null,null,{"$f":"VLOOKUP($G$2:$G$50000,'Location Type (FICM Codes)'!$A$7:$B$188,2,FALSE)","v":{"$error":"#N/A"}},null,null,null,null,null,{"$f":"VLOOKUP(G949:G10947,'Location Type (FICM Codes)'!$A$7:$C$188,3,FALSE)","v":{"$error":"#N/A"}}]
[null,null,null,null,null,null,null,{"$f":"VLOOKUP($G$2:$G$50000,'Location Type (FICM Codes)'!$A$7:$B$188,2,FALSE)","v":{"$error":"#N/A"}},null,null,null,null,null,{"$f":"VLOOKUP(G950:G10948,'Location Type (FICM Codes)'!$A$7:$C$188,3,FALSE)","v":{"$error":"#N/A"}}]
[null,null,null,null,null,null,null,{"$f":"VLOOKUP($G$2:$G$50000,'Location Type (FICM Codes)'!$A$7:$B$188,2,FALSE)","v":{"$error":"#N/A"}},null,null,null,null,null,{"$f":"VLOOKUP(G951:G10949,'Location Type (FICM Codes)'!$A$7:$C$188,3,FALSE)","v":{"$error":"#N/A"}}]
[null,null,null,null,null,null,null,{"$f":"VLOOKUP($G$2:$G$50000,'Location Type (FICM Codes)'!$A$7:$B$188,2,FALSE)","v":{"$error":"#N/A"}},null,null,null,null,null,{"$f":"VLOOKUP(G952:G10950,'Location Type (FICM Codes)'!$A$7:$C$188,3,FALSE)","v":{"$error":"#N/A"}}]
[null,null,null,null,null,null,null,{"$f":"VLOOKUP($G$2:$G$50000,'Location Type (FICM Codes)'!$A$7:$B$188,2,FALSE)","v":{"$error":"#N/A"}},null,null,null,null,null,{"$f":"VLOOKUP(G953:G10951,'Location Type (FICM Codes)'!$A$7:$C$188,3,FALSE)","v":{"$error":"#N/A"}}]
[null,null,null,null,null,null,null,{"$f":"VLOOKUP($G$2:$G$50000,'Location Type (FICM Codes)'!$A$7:$B$188,2,FALSE)","v":{"$error":"#N/A"}},null,null,null,null,null,{"$f":"VLOOKUP(G954:G10952,'Location Type (FICM Codes)'!$A$7:$C$188,3,FALSE)","v":{"$error":"#N/A"}}]
[null,null,null,null,null,null,null,{"$f":"VLOOKUP($G$2:$G$50000,'Location Type (FICM Codes)'!$A$7:$B$188,2,FALSE)","v":{"$error":"#N/A"}},null,null,null,null,null,{"$f":"VLOOKUP(G955:G10953,'Location Type (FICM Codes)'!$A$7:$C$188,3,FALSE)","v":{"$error":"#N/A"}}]
[null,null,null,null,null,null,null,{"$f":"VLOOKUP($G$2:$G$50000,'Location Type (FICM Codes)'!$A$7:$B$188,2,FALSE)","v":{"$error":"#N/A"}},null,null,null,null,null,{"$f":"VLOOKUP(G956:G10954,'Location Type (FICM Codes)'!$A$7:$C$188,3,FALSE)","v":{"$error":"#N/A"}}]
[null,null,null,null,null,null,null,{"$f":"VLOOKUP($G$2:$G$50000,'Location Type (FICM Codes)'!$A$7:$B$188,2,FALSE)","v":{"$error":"#N/A"}},null,null,null,null,null,{"$f":"VLOOKUP(G957:G10955,'Location Type (FICM Codes)'!$A$7:$C$188,3,FALSE)","v":{"$error":"#N/A"}}]
[null,null,null,null,null,null,null,{"$f":"VLOOKUP($G$2:$G$50000,'Location Type (FICM Codes)'!$A$7:$B$188,2,FALSE)","v":{"$error":"#N/A"}},null,null,null,null,null,{"$f":"VLOOKUP(G958:G10956,'Location Type (FICM Codes)'!$A$7:$C$188,3,FALSE)","v":{"$error":"#N/A"}}]
[null,null,null,null,null,null,null,{"$f":"VLOOKUP($G$2:$G$50000,'Location Type (FICM Codes)'!$A$7:$B$188,2,FALSE)","v":{"$error":"#N/A"}},null,null,null,null,null,{"$f":"VLOOKUP(G959:G10957,'Location Type (FICM Codes)'!$A$7:$C$188,3,FALSE)","v":{"$error":"#N/A"}}]
[null,null,null,null,null,null,null,{"$f":"VLOOKUP($G$2:$G$50000,'Location Type (FICM Codes)'!$A$7:$B$188,2,FALSE)","v":{"$error":"#N/A"}},null,null,null,null,null,{"$f":"VLOOKUP(G960:G10958,'Location Type (FICM Codes)'!$A$7:$C$188,3,FALSE)","v":{"$error":"#N/A"}}]
[null,null,null,null,null,null,null,{"$f":"VLOOKUP($G$2:$G$50000,'Location Type (FICM Codes)'!$A$7:$B$188,2,FALSE)","v":{"$error":"#N/A"}},null,null,null,null,null,{"$f":"VLOOKUP(G961:G10959,'Location Type (FICM Codes)'!$A$7:$C$188,3,FALSE)","v":{"$error":"#N/A"}}]
[null,null,null,null,null,null,null,{"$f":"VLOOKUP($G$2:$G$50000,'Location Type (FICM Codes)'!$A$7:$B$188,2,FALSE)","v":{"$error":"#N/A"}},null,null,null,null,null,{"$f":"VLOOKUP(G962:G10960,'Location Type (FICM Codes)'!$A$7:$C$188,3,FALSE)","v":{"$error":"#N/A"}}]
[null,null,null,null,null,null,null,{"$f":"VLOOKUP($G$2:$G$50000,'Location Type (FICM Codes)'!$A$7:$B$188,2,FALSE)","v":{"$error":"#N/A"}},null,null,null,null,null,{"$f":"VLOOKUP(G963:G10961,'Location Type (FICM Codes)'!$A$7:$C$188,3,FALSE)","v":{"$error":"#N/A"}}]
[null,null,null,null,null,null,null,{"$f":"VLOOKUP($G$2:$G$50000,'Location Type (FICM Codes)'!$A$7:$B$188,2,FALSE)","v":{"$error":"#N/A"}},null,null,null,null,null,{"$f":"VLOOKUP(G964:G10962,'Location Type (FICM Codes)'!$A$7:$C$188,3,FALSE)","v":{"$error":"#N/A"}}]
[null,null,null,null,null,null,null,{"$f":"VLOOKUP($G$2:$G$50000,'Location Type (FICM Codes)'!$A$7:$B$188,2,FALSE)","v":{"$error":"#N/A"}},null,null,null,null,null,{"$f":"VLOOKUP(G965:G10963,'Location Type (FICM Codes)'!$A$7:$C$188,3,FALSE)","v":{"$error":"#N/A"}}]
[null,null,null,null,null,null,null,{"$f":"VLOOKUP($G$2:$G$50000,'Location Type (FICM Codes)'!$A$7:$B$188,2,FALSE)","v":{"$error":"#N/A"}},null,null,null,null,null,{"$f":"VLOOKUP(G966:G10964,'Location Type (FICM Codes)'!$A$7:$C$188,3,FALSE)","v":{"$error":"#N/A"}}]
[null,null,null,null,null,null,null,{"$f":"VLOOKUP($G$2:$G$50000,'Location Type (FICM Codes)'!$A$7:$B$188,2,FALSE)","v":{"$error":"#N/A"}},null,null,null,null,null,{"$f":"VLOOKUP(G967:G10965,'Location Type (FICM Codes)'!$A$7:$C$188,3,FALSE)","v":{"$error":"#N/A"}}]
[null,null,null,null,null,null,null,{"$f":"VLOOKUP($G$2:$G$50000,'Location Type (FICM Codes)'!$A$7:$B$188,2,FALSE)","v":{"$error":"#N/A"}},null,null,null,null,null,{"$f":"VLOOKUP(G968:G10966,'Location Type (FICM Codes)'!$A$7:$C$188,3,FALSE)","v":{"$error":"#N/A"}}]
[null,null,null,null,null,null,null,{"$f":"VLOOKUP($G$2:$G$50000,'Location Type (FICM Codes)'!$A$7:$B$188,2,FALSE)","v":{"$error":"#N/A"}},null,null,null,null,null,{"$f":"VLOOKUP(G969:G10967,'Location Type (FICM Codes)'!$A$7:$C$188,3,FALSE)","v":{"$error":"#N/A"}}]
[null,null,null,null,null,null,null,{"$f":"VLOOKUP($G$2:$G$50000,'Location Type (FICM Codes)'!$A$7:$B$188,2,FALSE)","v":{"$error":"#N/A"}},null,null,null,null,null,{"$f":"VLOOKUP(G970:G10968,'Location Type (FICM Codes)'!$A$7:$C$188,3,FALSE)","v":{"$error":"#N/A"}}]
[null,null,null,null,null,null,null,{"$f":"VLOOKUP($G$2:$G$50000,'Location Type (FICM Codes)'!$A$7:$B$188,2,FALSE)","v":{"$error":"#N/A"}},null,null,null,null,null,{"$f":"VLOOKUP(G971:G10969,'Location Type (FICM Codes)'!$A$7:$C$188,3,FALSE)","v":{"$error":"#N/A"}}]
[null,null,null,null,null,null,null,{"$f":"VLOOKUP($G$2:$G$50000,'Location Type (FICM Codes)'!$A$7:$B$188,2,FALSE)","v":{"$error":"#N/A"}},null,null,null,null,null,{"$f":"VLOOKUP(G972:G10970,'Location Type (FICM Codes)'!$A$7:$C$188,3,FALSE)","v":{"$error":"#N/A"}}]
[null,null,null,null,null,null,null,{"$f":"VLOOKUP($G$2:$G$50000,'Location Type (FICM Codes)'!$A$7:$B$188,2,FALSE)","v":{"$error":"#N/A"}},null,null,null,null,null,{"$f":"VLOOKUP(G973:G10971,'Location Type (FICM Codes)'!$A$7:$C$188,3,FALSE)","v":{"$error":"#N/A"}}]
[null,null,null,null,null,null,null,{"$f":"VLOOKUP($G$2:$G$50000,'Location Type (FICM Codes)'!$A$7:$B$188,2,FALSE)","v":{"$error":"#N/A"}},null,null,null,null,null,{"$f":"VLOOKUP(G974:G10972,'Location Type (FICM Codes)'!$A$7:$C$188,3,FALSE)","v":{"$error":"#N/A"}}]
[null,null,null,null,null,null,null,{"$f":"VLOOKUP($G$2:$G$50000,'Location Type (FICM Codes)'!$A$7:$B$188,2,FALSE)","v":{"$error":"#N/A"}},null,null,null,null,null,{"$f":"VLOOKUP(G975:G10973,'Location Type (FICM Codes)'!$A$7:$C$188,3,FALSE)","v":{"$error":"#N/A"}}]
[null,null,null,null,null,null,null,{"$f":"VLOOKUP($G$2:$G$50000,'Location Type (FICM Codes)'!$A$7:$B$188,2,FALSE)","v":{"$error":"#N/A"}},null,null,null,null,null,{"$f":"VLOOKUP(G976:G10974,'Location Type (FICM Codes)'!$A$7:$C$188,3,FALSE)","v":{"$error":"#N/A"}}]
[null,null,null,null,null,null,null,{"$f":"VLOOKUP($G$2:$G$50000,'Location Type (FICM Codes)'!$A$7:$B$188,2,FALSE)","v":{"$error":"#N/A"}},null,null,null,null,null,{"$f":"VLOOKUP(G977:G10975,'Location Type (FICM Codes)'!$A$7:$C$188,3,FALSE)","v":{"$error":"#N/A"}}]
[null,null,null,null,null,null,null,{"$f":"VLOOKUP($G$2:$G$50000,'Location Type (FICM Codes)'!$A$7:$B$188,2,FALSE)","v":{"$error":"#N/A"}},null,null,null,null,null,{"$f":"VLOOKUP(G978:G10976,'Location Type (FICM Codes)'!$A$7:$C$188,3,FALSE)","v":{"$error":"#N/A"}}]
[null,null,null,null,null,null,null,{"$f":"VLOOKUP($G$2:$G$50000,'Location Type (FICM Codes)'!$A$7:$B$188,2,FALSE)","v":{"$error":"#N/A"}},null,null,null,null,null,{"$f":"VLOOKUP(G979:G10977,'Location Type (FICM Codes)'!$A$7:$C$188,3,FALSE)","v":{"$error":"#N/A"}}]
[null,null,null,null,null,null,null,{"$f":"VLOOKUP($G$2:$G$50000,'Location Type (FICM Codes)'!$A$7:$B$188,2,FALSE)","v":{"$error":"#N/A"}},null,null,null,null,null,{"$f":"VLOOKUP(G980:G10978,'Location Type (FICM Codes)'!$A$7:$C$188,3,FALSE)","v":{"$error":"#N/A"}}]
[null,null,null,null,null,null,null,{"$f":"VLOOKUP($G$2:$G$50000,'Location Type (FICM Codes)'!$A$7:$B$188,2,FALSE)","v":{"$error":"#N/A"}},null,null,null,null,null,{"$f":"VLOOKUP(G981:G10979,'Location Type (FICM Codes)'!$A$7:$C$188,3,FALSE)","v":{"$error":"#N/A"}}]
[null,null,null,null,null,null,null,{"$f":"VLOOKUP($G$2:$G$50000,'Location Type (FICM Codes)'!$A$7:$B$188,2,FALSE)","v":{"$error":"#N/A"}},null,null,null,null,null,{"$f":"VLOOKUP(G982:G10980,'Location Type (FICM Codes)'!$A$7:$C$188,3,FALSE)","v":{"$error":"#N/A"}}]
[null,null,null,null,null,null,null,{"$f":"VLOOKUP($G$2:$G$50000,'Location Type (FICM Codes)'!$A$7:$B$188,2,FALSE)","v":{"$error":"#N/A"}},null,null,null,null,null,{"$f":"VLOOKUP(G983:G10981,'Location Type (FICM Codes)'!$A$7:$C$188,3,FALSE)","v":{"$error":"#N/A"}}]
[null,null,null,null,null,null,null,{"$f":"VLOOKUP($G$2:$G$50000,'Location Type (FICM Codes)'!$A$7:$B$188,2,FALSE)","v":{"$error":"#N/A"}},null,null,null,null,null,{"$f":"VLOOKUP(G984:G10982,'Location Type (FICM Codes)'!$A$7:$C$188,3,FALSE)","v":{"$error":"#N/A"}}]
[null,null,null,null,null,null,null,{"$f":"VLOOKUP($G$2:$G$50000,'Location Type (FICM Codes)'!$A$7:$B$188,2,FALSE)","v":{"$error":"#N/A"}},null,null,null,null,null,{"$f":"VLOOKUP(G985:G10983,'Location Type (FICM Codes)'!$A$7:$C$188,3,FALSE)","v":{"$error":"#N/A"}}]
[null,null,null,null,null,null,null,{"$f":"VLOOKUP($G$2:$G$50000,'Location Type (FICM Codes)'!$A$7:$B$188,2,FALSE)","v":{"$error":"#N/A"}},null,null,null,null,null,{"$f":"VLOOKUP(G986:G10984,'Location Type (FICM Codes)'!$A$7:$C$188,3,FALSE)","v":{"$error":"#N/A"}}]
[null,null,null,null,null,null,null,{"$f":"VLOOKUP($G$2:$G$50000,'Location Type (FICM Codes)'!$A$7:$B$188,2,FALSE)","v":{"$error":"#N/A"}},null,null,null,null,null,{"$f":"VLOOKUP(G987:G10985,'Location Type (FICM Codes)'!$A$7:$C$188,3,FALSE)","v":{"$error":"#N/A"}}]
[null,null,null,null,null,null,null,{"$f":"VLOOKUP($G$2:$G$50000,'Location Type (FICM Codes)'!$A$7:$B$188,2,FALSE)","v":{"$error":"#N/A"}},null,null,null,null,null,{"$f":"VLOOKUP(G988:G10986,'Location Type (FICM Codes)'!$A$7:$C$188,3,FALSE)","v":{"$error":"#N/A"}}]
[null,null,null,null,null,null,null,{"$f":"VLOOKUP($G$2:$G$50000,'Location Type (FICM Codes)'!$A$7:$B$188,2,FALSE)","v":{"$error":"#N/A"}},null,null,null,null,null,{"$f":"VLOOKUP(G989:G10987,'Location Type (FICM Codes)'!$A$7:$C$188,3,FALSE)","v":{"$error":"#N/A"}}]
[null,null,null,null,null,null,null,{"$f":"VLOOKUP($G$2:$G$50000,'Location Type (FICM Codes)'!$A$7:$B$188,2,FALSE)","v":{"$error":"#N/A"}},null,null,null,null,null,{"$f":"VLOOKUP(G990:G10988,'Location Type (FICM Codes)'!$A$7:$C$188,3,FALSE)","v":{"$error":"#N/A"}}]
[null,null,null,null,null,null,null,{"$f":"VLOOKUP($G$2:$G$50000,'Location Type (FICM Codes)'!$A$7:$B$188,2,FALSE)","v":{"$error":"#N/A"}},null,null,null,null,null,{"$f":"VLOOKUP(G991:G10989,'Location Type (FICM Codes)'!$A$7:$C$188,3,FALSE)","v":{"$error":"#N/A"}}]
[null,null,null,null,null,null,null,{"$f":"VLOOKUP($G$2:$G$50000,'Location Type (FICM Codes)'!$A$7:$B$188,2,FALSE)","v":{"$error":"#N/A"}},null,null,null,null,null,{"$f":"VLOOKUP(G992:G10990,'Location Type (FICM Codes)'!$A$7:$C$188,3,FALSE)","v":{"$error":"#N/A"}}]
[null,null,null,null,null,null,null,{"$f":"VLOOKUP($G$2:$G$50000,'Location Type (FICM Codes)'!$A$7:$B$188,2,FALSE)","v":{"$error":"#N/A"}},null,null,null,null,null,{"$f":"VLOOKUP(G993:G10991,'Location Type (FICM Codes)'!$A$7:$C$188,3,FALSE)","v":{"$error":"#N/A"}}]
[null,null,null,null,null,null,null,{"$f":"VLOOKUP($G$2:$G$50000,'Location Type (FICM Codes)'!$A$7:$B$188,2,FALSE)","v":{"$error":"#N/A"}},null,null,null,null,null,{"$f":"VLOOKUP(G994:G10992,'Location Type (FICM Codes)'!$A$7:$C$188,3,FALSE)","v":{"$error":"#N/A"}}]
[null,null,null,null,null,null,null,{"$f":"VLOOKUP($G$2:$G$50000,'Location Type (FICM Codes)'!$A$7:$B$188,2,FALSE)","v":{"$error":"#N/A"}},null,null,null,null,null,{"$f":"VLOOKUP(G995:G10993,'Location Type (FICM Codes)'!$A$7:$C$188,3,FALSE)","v":{"$error":"#N/A"}}]
[null,null,null,null,null,null,null,{"$f":"VLOOKUP($G$2:$G$50000,'Location Type (FICM Codes)'!$A$7:$B$188,2,FALSE)","v":{"$error":"#N/A"}},null,null,null,null,null,{"$f":"VLOOKUP(G996:G10994,'Location Type (FICM Codes)'!$A$7:$C$188,3,FALSE)","v":{"$error":"#N/A"}}]
[null,null,null,null,null,null,null,{"$f":"VLOOKUP($G$2:$G$50000,'Location Type (FICM Codes)'!$A$7:$B$188,2,FALSE)","v":{"$error":"#N/A"}},null,null,null,null,null,{"$f":"VLOOKUP(G997:G10995,'Location Type (FICM Codes)'!$A$7:$C$188,3,FALSE)","v":{"$error":"#N/A"}}]
[null,null,null,null,null,null,null,{"$f":"VLOOKUP($G$2:$G$50000,'Location Type (FICM Codes)'!$A$7:$B$188,2,FALSE)","v":{"$error":"#N/A"}},null,null,null,null,null,{"$f":"VLOOKUP(G998:G10996,'Location Type (FICM Codes)'!$A$7:$C$188,3,FALSE)","v":{"$error":"#N/A"}}]
[null,null,null,null,null,null,null,{"$f":"VLOOKUP($G$2:$G$50000,'Location Type (FICM Codes)'!$A$7:$B$188,2,FALSE)","v":{"$error":"#N/A"}},null,null,null,null,null,{"$f":"VLOOKUP(G999:G10997,'Location Type (FICM Codes)'!$A$7:$C$188,3,FALSE)","v":{"$error":"#N/A"}}]
[null,null,null,null,null,null,null,{"$f":"VLOOKUP($G$2:$G$50000,'Location Type (FICM Codes)'!$A$7:$B$188,2,FALSE)","v":{"$error":"#N/A"}},null,null,null,null,null,{"$f":"VLOOKUP(G1000:G10998,'Location Type (FICM Codes)'!$A$7:$C$188,3,FALSE)","v":{"$error":"#N/A"}}]
[null,null,null,null,null,null,null,{"$f":"VLOOKUP($G$2:$G$50000,'Location Type (FICM Codes)'!$A$7:$B$188,2,FALSE)","v":{"$error":"#N/A"}},null,null,null,null,null,{"$f":"VLOOKUP(G1001:G10999,'Location Type (FICM Codes)'!$A$7:$C$188,3,FALSE)","v":{"$error":"#N/A"}}]
[null,null,null,null,null,null,null,{"$f":"VLOOKUP($G$2:$G$50000,'Location Type (FICM Codes)'!$A$7:$B$188,2,FALSE)","v":{"$error":"#N/A"}},null,null,null,null,null,{"$f":"VLOOKUP(G1002:G11000,'Location Type (FICM Codes)'!$A$7:$C$188,3,FALSE)","v":{"$error":"#N/A"}}]
[null,null,null,null,null,null,null,{"$f":"VLOOKUP($G$2:$G$50000,'Location Type (FICM Codes)'!$A$7:$B$188,2,FALSE)","v":{"$error":"#N/A"}},null,null,null,null,null,{"$f":"VLOOKUP(G1003:G11001,'Location Type (FICM Codes)'!$A$7:$C$188,3,FALSE)","v":{"$error":"#N/A"}}]
[null,null,null,null,null,null,null,{"$f":"VLOOKUP($G$2:$G$50000,'Location Type (FICM Codes)'!$A$7:$B$188,2,FALSE)","v":{"$error":"#N/A"}},null,null,null,null,null,{"$f":"VLOOKUP(G1004:G11002,'Location Type (FICM Codes)'!$A$7:$C$188,3,FALSE)","v":{"$error":"#N/A"}}]
[null,null,null,null,null,null,null,{"$f":"VLOOKUP($G$2:$G$50000,'Location Type (FICM Codes)'!$A$7:$B$188,2,FALSE)","v":{"$error":"#N/A"}},null,null,null,null,null,{"$f":"VLOOKUP(G1005:G11003,'Location Type (FICM Codes)'!$A$7:$C$188,3,FALSE)","v":{"$error":"#N/A"}}]
[null,null,null,null,null,null,null,{"$f":"VLOOKUP($G$2:$G$50000,'Location Type (FICM Codes)'!$A$7:$B$188,2,FALSE)","v":{"$error":"#N/A"}},null,null,null,null,null,{"$f":"VLOOKUP(G1006:G11004,'Location Type (FICM Codes)'!$A$7:$C$188,3,FALSE)","v":{"$error":"#N/A"}}]
[null,null,null,null,null,null,null,{"$f":"VLOOKUP($G$2:$G$50000,'Location Type (FICM Codes)'!$A$7:$B$188,2,FALSE)","v":{"$error":"#N/A"}},null,null,null,null,null,{"$f":"VLOOKUP(G1007:G11005,'Location Type (FICM Codes)'!$A$7:$C$188,3,FALSE)","v":{"$error":"#N/A"}}]
[null,null,null,null,null,null,null,{"$f":"VLOOKUP($G$2:$G$50000,'Location Type (FICM Codes)'!$A$7:$B$188,2,FALSE)","v":{"$error":"#N/A"}},null,null,null,null,null,{"$f":"VLOOKUP(G1008:G11006,'Location Type (FICM Codes)'!$A$7:$C$188,3,FALSE)","v":{"$error":"#N/A"}}]
[null,null,null,null,null,null,null,{"$f":"VLOOKUP($G$2:$G$50000,'Location Type (FICM Codes)'!$A$7:$B$188,2,FALSE)","v":{"$error":"#N/A"}},null,null,null,null,null,{"$f":"VLOOKUP(G1009:G11007,'Location Type (FICM Codes)'!$A$7:$C$188,3,FALSE)","v":{"$error":"#N/A"}}]
[null,null,null,null,null,null,null,{"$f":"VLOOKUP($G$2:$G$50000,'Location Type (FICM Codes)'!$A$7:$B$188,2,FALSE)","v":{"$error":"#N/A"}},null,null,null,null,null,{"$f":"VLOOKUP(G1010:G11008,'Location Type (FICM Codes)'!$A$7:$C$188,3,FALSE)","v":{"$error":"#N/A"}}]
[null,null,null,null,null,null,null,{"$f":"VLOOKUP($G$2:$G$50000,'Location Type (FICM Codes)'!$A$7:$B$188,2,FALSE)","v":{"$error":"#N/A"}},null,null,null,null,null,{"$f":"VLOOKUP(G1011:G11009,'Location Type (FICM Codes)'!$A$7:$C$188,3,FALSE)","v":{"$error":"#N/A"}}]
[null,null,null,null,null,null,null,{"$f":"VLOOKUP($G$2:$G$50000,'Location Type (FICM Codes)'!$A$7:$B$188,2,FALSE)","v":{"$error":"#N/A"}},null,null,null,null,null,{"$f":"VLOOKUP(G1012:G11010,'Location Type (FICM Codes)'!$A$7:$C$188,3,FALSE)","v":{"$error":"#N/A"}}]
[null,null,null,null,null,null,null,{"$f":"VLOOKUP($G$2:$G$50000,'Location Type (FICM Codes)'!$A$7:$B$188,2,FALSE)","v":{"$error":"#N/A"}},null,null,null,null,null,{"$f":"VLOOKUP(G1013:G11011,'Location Type (FICM Codes)'!$A$7:$C$188,3,FALSE)","v":{"$error":"#N/A"}}]
[null,null,null,null,null,null,null,{"$f":"VLOOKUP($G$2:$G$50000,'Location Type (FICM Codes)'!$A$7:$B$188,2,FALSE)","v":{"$error":"#N/A"}},null,null,null,null,null,{"$f":"VLOOKUP(G1014:G11012,'Location Type (FICM Codes)'!$A$7:$C$188,3,FALSE)","v":{"$error":"#N/A"}}]
[null,null,null,null,null,null,null,{"$f":"VLOOKUP($G$2:$G$50000,'Location Type (FICM Codes)'!$A$7:$B$188,2,FALSE)","v":{"$error":"#N/A"}},null,null,null,null,null,{"$f":"VLOOKUP(G1015:G11013,'Location Type (FICM Codes)'!$A$7:$C$188,3,FALSE)","v":{"$error":"#N/A"}}]
[null,null,null,null,null,null,null,{"$f":"VLOOKUP($G$2:$G$50000,'Location Type (FICM Codes)'!$A$7:$B$188,2,FALSE)","v":{"$error":"#N/A"}},null,null,null,null,null,{"$f":"VLOOKUP(G1016:G11014,'Location Type (FICM Codes)'!$A$7:$C$188,3,FALSE)","v":{"$error":"#N/A"}}]
[null,null,null,null,null,null,null,{"$f":"VLOOKUP($G$2:$G$50000,'Location Type (FICM Codes)'!$A$7:$B$188,2,FALSE)","v":{"$error":"#N/A"}},null,null,null,null,null,{"$f":"VLOOKUP(G1017:G11015,'Location Type (FICM Codes)'!$A$7:$C$188,3,FALSE)","v":{"$error":"#N/A"}}]
[null,null,null,null,null,null,null,{"$f":"VLOOKUP($G$2:$G$50000,'Location Type (FICM Codes)'!$A$7:$B$188,2,FALSE)","v":{"$error":"#N/A"}},null,null,null,null,null,{"$f":"VLOOKUP(G1018:G11016,'Location Type (FICM Codes)'!$A$7:$C$188,3,FALSE)","v":{"$error":"#N/A"}}]
[null,null,null,null,null,null,null,{"$f":"VLOOKUP($G$2:$G$50000,'Location Type (FICM Codes)'!$A$7:$B$188,2,FALSE)","v":{"$error":"#N/A"}},null,null,null,null,null,{"$f":"VLOOKUP(G1019:G11017,'Location Type (FICM Codes)'!$A$7:$C$188,3,FALSE)","v":{"$error":"#N/A"}}]
[null,null,null,null,null,null,null,{"$f":"VLOOKUP($G$2:$G$50000,'Location Type (FICM Codes)'!$A$7:$B$188,2,FALSE)","v":{"$error":"#N/A"}},null,null,null,null,null,{"$f":"VLOOKUP(G1020:G11018,'Location Type (FICM Codes)'!$A$7:$C$188,3,FALSE)","v":{"$error":"#N/A"}}]
[null,null,null,null,null,null,null,{"$f":"VLOOKUP($G$2:$G$50000,'Location Type (FICM Codes)'!$A$7:$B$188,2,FALSE)","v":{"$error":"#N/A"}},null,null,null,null,null,{"$f":"VLOOKUP(G1021:G11019,'Location Type (FICM Codes)'!$A$7:$C$188,3,FALSE)","v":{"$error":"#N/A"}}]
[null,null,null,null,null,null,null,{"$f":"VLOOKUP($G$2:$G$50000,'Location Type (FICM Codes)'!$A$7:$B$188,2,FALSE)","v":{"$error":"#N/A"}},null,null,null,null,null,{"$f":"VLOOKUP(G1022:G11020,'Location Type (FICM Codes)'!$A$7:$C$188,3,FALSE)","v":{"$error":"#N/A"}}]
[null,null,null,null,null,null,null,{"$f":"VLOOKUP($G$2:$G$50000,'Location Type (FICM Codes)'!$A$7:$B$188,2,FALSE)","v":{"$error":"#N/A"}},null,null,null,null,null,{"$f":"VLOOKUP(G1023:G11021,'Location Type (FICM Codes)'!$A$7:$C$188,3,FALSE)","v":{"$error":"#N/A"}}]
[null,null,null,null,null,null,null,{"$f":"VLOOKUP($G$2:$G$50000,'Location Type (FICM Codes)'!$A$7:$B$188,2,FALSE)","v":{"$error":"#N/A"}},null,null,null,null,null,{"$f":"VLOOKUP(G1024:G11022,'Location Type (FICM Codes)'!$A$7:$C$188,3,FALSE)","v":{"$error":"#N/A"}}]
[null,null,null,null,null,null,null,{"$f":"VLOOKUP($G$2:$G$50000,'Location Type (FICM Codes)'!$A$7:$B$188,2,FALSE)","v":{"$error":"#N/A"}},null,null,null,null,null,{"$f":"VLOOKUP(G1025:G11023,'Location Type (FICM Codes)'!$A$7:$C$188,3,FALSE)","v":{"$error":"#N/A"}}]
[null,null,null,null,null,null,null,{"$f":"VLOOKUP($G$2:$G$50000,'Location Type (FICM Codes)'!$A$7:$B$188,2,FALSE)","v":{"$error":"#N/A"}},null,null,null,null,null,{"$f":"VLOOKUP(G1026:G11024,'Location Type (FICM Codes)'!$A$7:$C$188,3,FALSE)","v":{"$error":"#N/A"}}]
[null,null,null,null,null,null,null,{"$f":"VLOOKUP($G$2:$G$50000,'Location Type (FICM Codes)'!$A$7:$B$188,2,FALSE)","v":{"$error":"#N/A"}},null,null,null,null,null,{"$f":"VLOOKUP(G1027:G11025,'Location Type (FICM Codes)'!$A$7:$C$188,3,FALSE)","v":{"$error":"#N/A"}}]
[null,null,null,null,null,null,null,{"$f":"VLOOKUP($G$2:$G$50000,'Location Type (FICM Codes)'!$A$7:$B$188,2,FALSE)","v":{"$error":"#N/A"}},null,null,null,null,null,{"$f":"VLOOKUP(G1028:G11026,'Location Type (FICM Codes)'!$A$7:$C$188,3,FALSE)","v":{"$error":"#N/A"}}]
[null,null,null,null,null,null,null,{"$f":"VLOOKUP($G$2:$G$50000,'Location Type (FICM Codes)'!$A$7:$B$188,2,FALSE)","v":{"$error":"#N/A"}},null,null,null,null,null,{"$f":"VLOOKUP(G1029:G11027,'Location Type (FICM Codes)'!$A$7:$C$188,3,FALSE)","v":{"$error":"#N/A"}}]
[null,null,null,null,null,null,null,{"$f":"VLOOKUP($G$2:$G$50000,'Location Type (FICM Codes)'!$A$7:$B$188,2,FALSE)","v":{"$error":"#N/A"}},null,null,null,null,null,{"$f":"VLOOKUP(G1030:G11028,'Location Type (FICM Codes)'!$A$7:$C$188,3,FALSE)","v":{"$error":"#N/A"}}]
[null,null,null,null,null,null,null,{"$f":"VLOOKUP($G$2:$G$50000,'Location Type (FICM Codes)'!$A$7:$B$188,2,FALSE)","v":{"$error":"#N/A"}},null,null,null,null,null,{"$f":"VLOOKUP(G1031:G11029,'Location Type (FICM Codes)'!$A$7:$C$188,3,FALSE)","v":{"$error":"#N/A"}}]
[null,null,null,null,null,null,null,{"$f":"VLOOKUP($G$2:$G$50000,'Location Type (FICM Codes)'!$A$7:$B$188,2,FALSE)","v":{"$error":"#N/A"}},null,null,null,null,null,{"$f":"VLOOKUP(G1032:G11030,'Location Type (FICM Codes)'!$A$7:$C$188,3,FALSE)","v":{"$error":"#N/A"}}]
[null,null,null,null,null,null,null,{"$f":"VLOOKUP($G$2:$G$50000,'Location Type (FICM Codes)'!$A$7:$B$188,2,FALSE)","v":{"$error":"#N/A"}},null,null,null,null,null,{"$f":"VLOOKUP(G1033:G11031,'Location Type (FICM Codes)'!$A$7:$C$188,3,FALSE)","v":{"$error":"#N/A"}}]
[null,null,null,null,null,null,null,{"$f":"VLOOKUP($G$2:$G$50000,'Location Type (FICM Codes)'!$A$7:$B$188,2,FALSE)","v":{"$error":"#N/A"}},null,null,null,null,null,{"$f":"VLOOKUP(G1034:G11032,'Location Type (FICM Codes)'!$A$7:$C$188,3,FALSE)","v":{"$error":"#N/A"}}]
[null,null,null,null,null,null,null,{"$f":"VLOOKUP($G$2:$G$50000,'Location Type (FICM Codes)'!$A$7:$B$188,2,FALSE)","v":{"$error":"#N/A"}},null,null,null,null,null,{"$f":"VLOOKUP(G1035:G11033,'Location Type (FICM Codes)'!$A$7:$C$188,3,FALSE)","v":{"$error":"#N/A"}}]
[null,null,null,null,null,null,null,{"$f":"VLOOKUP($G$2:$G$50000,'Location Type (FICM Codes)'!$A$7:$B$188,2,FALSE)","v":{"$error":"#N/A"}},null,null,null,null,null,{"$f":"VLOOKUP(G1036:G11034,'Location Type (FICM Codes)'!$A$7:$C$188,3,FALSE)","v":{"$error":"#N/A"}}]
[null,null,null,null,null,null,null,{"$f":"VLOOKUP($G$2:$G$50000,'Location Type (FICM Codes)'!$A$7:$B$188,2,FALSE)","v":{"$error":"#N/A"}},null,null,null,null,null,{"$f":"VLOOKUP(G1037:G11035,'Location Type (FICM Codes)'!$A$7:$C$188,3,FALSE)","v":{"$error":"#N/A"}}]
[null,null,null,null,null,null,null,{"$f":"VLOOKUP($G$2:$G$50000,'Location Type (FICM Codes)'!$A$7:$B$188,2,FALSE)","v":{"$error":"#N/A"}},null,null,null,null,null,{"$f":"VLOOKUP(G1038:G11036,'Location Type (FICM Codes)'!$A$7:$C$188,3,FALSE)","v":{"$error":"#N/A"}}]
[null,null,null,null,null,null,null,{"$f":"VLOOKUP($G$2:$G$50000,'Location Type (FICM Codes)'!$A$7:$B$188,2,FALSE)","v":{"$error":"#N/A"}},null,null,null,null,null,{"$f":"VLOOKUP(G1039:G11037,'Location Type (FICM Codes)'!$A$7:$C$188,3,FALSE)","v":{"$error":"#N/A"}}]
[null,null,null,null,null,null,null,{"$f":"VLOOKUP($G$2:$G$50000,'Location Type (FICM Codes)'!$A$7:$B$188,2,FALSE)","v":{"$error":"#N/A"}},null,null,null,null,null,{"$f":"VLOOKUP(G1040:G11038,'Location Type (FICM Codes)'!$A$7:$C$188,3,FALSE)","v":{"$error":"#N/A"}}]
[null,null,null,null,null,null,null,{"$f":"VLOOKUP($G$2:$G$50000,'Location Type (FICM Codes)'!$A$7:$B$188,2,FALSE)","v":{"$error":"#N/A"}},null,null,null,null,null,{"$f":"VLOOKUP(G1041:G11039,'Location Type (FICM Codes)'!$A$7:$C$188,3,FALSE)","v":{"$error":"#N/A"}}]
[null,null,null,null,null,null,null,{"$f":"VLOOKUP($G$2:$G$50000,'Location Type (FICM Codes)'!$A$7:$B$188,2,FALSE)","v":{"$error":"#N/A"}},null,null,null,null,null,{"$f":"VLOOKUP(G1042:G11040,'Location Type (FICM Codes)'!$A$7:$C$188,3,FALSE)","v":{"$error":"#N/A"}}]
[null,null,null,null,null,null,null,{"$f":"VLOOKUP($G$2:$G$50000,'Location Type (FICM Codes)'!$A$7:$B$188,2,FALSE)","v":{"$error":"#N/A"}},null,null,null,null,null,{"$f":"VLOOKUP(G1043:G11041,'Location Type (FICM Codes)'!$A$7:$C$188,3,FALSE)","v":{"$error":"#N/A"}}]
[null,null,null,null,null,null,null,{"$f":"VLOOKUP($G$2:$G$50000,'Location Type (FICM Codes)'!$A$7:$B$188,2,FALSE)","v":{"$error":"#N/A"}},null,null,null,null,null,{"$f":"VLOOKUP(G1044:G11042,'Location Type (FICM Codes)'!$A$7:$C$188,3,FALSE)","v":{"$error":"#N/A"}}]
[null,null,null,null,null,null,null,{"$f":"VLOOKUP($G$2:$G$50000,'Location Type (FICM Codes)'!$A$7:$B$188,2,FALSE)","v":{"$error":"#N/A"}},null,null,null,null,null,{"$f":"VLOOKUP(G1045:G11043,'Location Type (FICM Codes)'!$A$7:$C$188,3,FALSE)","v":{"$error":"#N/A"}}]
[null,null,null,null,null,null,null,{"$f":"VLOOKUP($G$2:$G$50000,'Location Type (FICM Codes)'!$A$7:$B$188,2,FALSE)","v":{"$error":"#N/A"}},null,null,null,null,null,{"$f":"VLOOKUP(G1046:G11044,'Location Type (FICM Codes)'!$A$7:$C$188,3,FALSE)","v":{"$error":"#N/A"}}]
[null,null,null,null,null,null,null,{"$f":"VLOOKUP($G$2:$G$50000,'Location Type (FICM Codes)'!$A$7:$B$188,2,FALSE)","v":{"$error":"#N/A"}},null,null,null,null,null,{"$f":"VLOOKUP(G1047:G11045,'Location Type (FICM Codes)'!$A$7:$C$188,3,FALSE)","v":{"$error":"#N/A"}}]
[null,null,null,null,null,null,null,{"$f":"VLOOKUP($G$2:$G$50000,'Location Type (FICM Codes)'!$A$7:$B$188,2,FALSE)","v":{"$error":"#N/A"}},null,null,null,null,null,{"$f":"VLOOKUP(G1048:G11046,'Location Type (FICM Codes)'!$A$7:$C$188,3,FALSE)","v":{"$error":"#N/A"}}]
[null,null,null,null,null,null,null,{"$f":"VLOOKUP($G$2:$G$50000,'Location Type (FICM Codes)'!$A$7:$B$188,2,FALSE)","v":{"$error":"#N/A"}},null,null,null,null,null,{"$f":"VLOOKUP(G1049:G11047,'Location Type (FICM Codes)'!$A$7:$C$188,3,FALSE)","v":{"$error":"#N/A"}}]
[null,null,null,null,null,null,null,{"$f":"VLOOKUP($G$2:$G$50000,'Location Type (FICM Codes)'!$A$7:$B$188,2,FALSE)","v":{"$error":"#N/A"}},null,null,null,null,null,{"$f":"VLOOKUP(G1050:G11048,'Location Type (FICM Codes)'!$A$7:$C$188,3,FALSE)","v":{"$error":"#N/A"}}]
[null,null,null,null,null,null,null,{"$f":"VLOOKUP($G$2:$G$50000,'Location Type (FICM Codes)'!$A$7:$B$188,2,FALSE)","v":{"$error":"#N/A"}},null,null,null,null,null,{"$f":"VLOOKUP(G1051:G11049,'Location Type (FICM Codes)'!$A$7:$C$188,3,FALSE)","v":{"$error":"#N/A"}}]
[null,null,null,null,null,null,null,{"$f":"VLOOKUP($G$2:$G$50000,'Location Type (FICM Codes)'!$A$7:$B$188,2,FALSE)","v":{"$error":"#N/A"}},null,null,null,null,null,{"$f":"VLOOKUP(G1052:G11050,'Location Type (FICM Codes)'!$A$7:$C$188,3,FALSE)","v":{"$error":"#N/A"}}]
[null,null,null,null,null,null,null,{"$f":"VLOOKUP($G$2:$G$50000,'Location Type (FICM Codes)'!$A$7:$B$188,2,FALSE)","v":{"$error":"#N/A"}},null,null,null,null,null,{"$f":"VLOOKUP(G1053:G11051,'Location Type (FICM Codes)'!$A$7:$C$188,3,FALSE)","v":{"$error":"#N/A"}}]
[null,null,null,null,null,null,null,{"$f":"VLOOKUP($G$2:$G$50000,'Location Type (FICM Codes)'!$A$7:$B$188,2,FALSE)","v":{"$error":"#N/A"}},null,null,null,null,null,{"$f":"VLOOKUP(G1054:G11052,'Location Type (FICM Codes)'!$A$7:$C$188,3,FALSE)","v":{"$error":"#N/A"}}]
[null,null,null,null,null,null,null,{"$f":"VLOOKUP($G$2:$G$50000,'Location Type (FICM Codes)'!$A$7:$B$188,2,FALSE)","v":{"$error":"#N/A"}},null,null,null,null,null,{"$f":"VLOOKUP(G1055:G11053,'Location Type (FICM Codes)'!$A$7:$C$188,3,FALSE)","v":{"$error":"#N/A"}}]
[null,null,null,null,null,null,null,{"$f":"VLOOKUP($G$2:$G$50000,'Location Type (FICM Codes)'!$A$7:$B$188,2,FALSE)","v":{"$error":"#N/A"}},null,null,null,null,null,{"$f":"VLOOKUP(G1056:G11054,'Location Type (FICM Codes)'!$A$7:$C$188,3,FALSE)","v":{"$error":"#N/A"}}]
[null,null,null,null,null,null,null,{"$f":"VLOOKUP($G$2:$G$50000,'Location Type (FICM Codes)'!$A$7:$B$188,2,FALSE)","v":{"$error":"#N/A"}},null,null,null,null,null,{"$f":"VLOOKUP(G1057:G11055,'Location Type (FICM Codes)'!$A$7:$C$188,3,FALSE)","v":{"$error":"#N/A"}}]
[null,null,null,null,null,null,null,{"$f":"VLOOKUP($G$2:$G$50000,'Location Type (FICM Codes)'!$A$7:$B$188,2,FALSE)","v":{"$error":"#N/A"}},null,null,null,null,null,{"$f":"VLOOKUP(G1058:G11056,'Location Type (FICM Codes)'!$A$7:$C$188,3,FALSE)","v":{"$error":"#N/A"}}]
[null,null,null,null,null,null,null,{"$f":"VLOOKUP($G$2:$G$50000,'Location Type (FICM Codes)'!$A$7:$B$188,2,FALSE)","v":{"$error":"#N/A"}},null,null,null,null,null,{"$f":"VLOOKUP(G1059:G11057,'Location Type (FICM Codes)'!$A$7:$C$188,3,FALSE)","v":{"$error":"#N/A"}}]
[null,null,null,null,null,null,null,{"$f":"VLOOKUP($G$2:$G$50000,'Location Type (FICM Codes)'!$A$7:$B$188,2,FALSE)","v":{"$error":"#N/A"}},null,null,null,null,null,{"$f":"VLOOKUP(G1060:G11058,'Location Type (FICM Codes)'!$A$7:$C$188,3,FALSE)","v":{"$error":"#N/A"}}]
[null,null,null,null,null,null,null,{"$f":"VLOOKUP($G$2:$G$50000,'Location Type (FICM Codes)'!$A$7:$B$188,2,FALSE)","v":{"$error":"#N/A"}},null,null,null,null,null,{"$f":"VLOOKUP(G1061:G11059,'Location Type (FICM Codes)'!$A$7:$C$188,3,FALSE)","v":{"$error":"#N/A"}}]
[null,null,null,null,null,null,null,{"$f":"VLOOKUP($G$2:$G$50000,'Location Type (FICM Codes)'!$A$7:$B$188,2,FALSE)","v":{"$error":"#N/A"}},null,null,null,null,null,{"$f":"VLOOKUP(G1062:G11060,'Location Type (FICM Codes)'!$A$7:$C$188,3,FALSE)","v":{"$error":"#N/A"}}]
[null,null,null,null,null,null,null,{"$f":"VLOOKUP($G$2:$G$50000,'Location Type (FICM Codes)'!$A$7:$B$188,2,FALSE)","v":{"$error":"#N/A"}},null,null,null,null,null,{"$f":"VLOOKUP(G1063:G11061,'Location Type (FICM Codes)'!$A$7:$C$188,3,FALSE)","v":{"$error":"#N/A"}}]
[null,null,null,null,null,null,null,{"$f":"VLOOKUP($G$2:$G$50000,'Location Type (FICM Codes)'!$A$7:$B$188,2,FALSE)","v":{"$error":"#N/A"}},null,null,null,null,null,{"$f":"VLOOKUP(G1064:G11062,'Location Type (FICM Codes)'!$A$7:$C$188,3,FALSE)","v":{"$error":"#N/A"}}]
[null,null,null,null,null,null,null,{"$f":"VLOOKUP($G$2:$G$50000,'Location Type (FICM Codes)'!$A$7:$B$188,2,FALSE)","v":{"$error":"#N/A"}},null,null,null,null,null,{"$f":"VLOOKUP(G1065:G11063,'Location Type (FICM Codes)'!$A$7:$C$188,3,FALSE)","v":{"$error":"#N/A"}}]
[null,null,null,null,null,null,null,{"$f":"VLOOKUP($G$2:$G$50000,'Location Type (FICM Codes)'!$A$7:$B$188,2,FALSE)","v":{"$error":"#N/A"}},null,null,null,null,null,{"$f":"VLOOKUP(G1066:G11064,'Location Type (FICM Codes)'!$A$7:$C$188,3,FALSE)","v":{"$error":"#N/A"}}]
[null,null,null,null,null,null,null,{"$f":"VLOOKUP($G$2:$G$50000,'Location Type (FICM Codes)'!$A$7:$B$188,2,FALSE)","v":{"$error":"#N/A"}},null,null,null,null,null,{"$f":"VLOOKUP(G1067:G11065,'Location Type (FICM Codes)'!$A$7:$C$188,3,FALSE)","v":{"$error":"#N/A"}}]
[null,null,null,null,null,null,null,{"$f":"VLOOKUP($G$2:$G$50000,'Location Type (FICM Codes)'!$A$7:$B$188,2,FALSE)","v":{"$error":"#N/A"}},null,null,null,null,null,{"$f":"VLOOKUP(G1068:G11066,'Location Type (FICM Codes)'!$A$7:$C$188,3,FALSE)","v":{"$error":"#N/A"}}]
[null,null,null,null,null,null,null,{"$f":"VLOOKUP($G$2:$G$50000,'Location Type (FICM Codes)'!$A$7:$B$188,2,FALSE)","v":{"$error":"#N/A"}},null,null,null,null,null,{"$f":"VLOOKUP(G1069:G11067,'Location Type (FICM Codes)'!$A$7:$C$188,3,FALSE)","v":{"$error":"#N/A"}}]
[null,null,null,null,null,null,null,{"$f":"VLOOKUP($G$2:$G$50000,'Location Type (FICM Codes)'!$A$7:$B$188,2,FALSE)","v":{"$error":"#N/A"}},null,null,null,null,null,{"$f":"VLOOKUP(G1070:G11068,'Location Type (FICM Codes)'!$A$7:$C$188,3,FALSE)","v":{"$error":"#N/A"}}]
[null,null,null,null,null,null,null,{"$f":"VLOOKUP($G$2:$G$50000,'Location Type (FICM Codes)'!$A$7:$B$188,2,FALSE)","v":{"$error":"#N/A"}},null,null,null,null,null,{"$f":"VLOOKUP(G1071:G11069,'Location Type (FICM Codes)'!$A$7:$C$188,3,FALSE)","v":{"$error":"#N/A"}}]
[null,null,null,null,null,null,null,{"$f":"VLOOKUP($G$2:$G$50000,'Location Type (FICM Codes)'!$A$7:$B$188,2,FALSE)","v":{"$error":"#N/A"}},null,null,null,null,null,{"$f":"VLOOKUP(G1072:G11070,'Location Type (FICM Codes)'!$A$7:$C$188,3,FALSE)","v":{"$error":"#N/A"}}]
[null,null,null,null,null,null,null,{"$f":"VLOOKUP($G$2:$G$50000,'Location Type (FICM Codes)'!$A$7:$B$188,2,FALSE)","v":{"$error":"#N/A"}},null,null,null,null,null,{"$f":"VLOOKUP(G1073:G11071,'Location Type (FICM Codes)'!$A$7:$C$188,3,FALSE)","v":{"$error":"#N/A"}}]
[null,null,null,null,null,null,null,{"$f":"VLOOKUP($G$2:$G$50000,'Location Type (FICM Codes)'!$A$7:$B$188,2,FALSE)","v":{"$error":"#N/A"}},null,null,null,null,null,{"$f":"VLOOKUP(G1074:G11072,'Location Type (FICM Codes)'!$A$7:$C$188,3,FALSE)","v":{"$error":"#N/A"}}]
[null,null,null,null,null,null,null,{"$f":"VLOOKUP($G$2:$G$50000,'Location Type (FICM Codes)'!$A$7:$B$188,2,FALSE)","v":{"$error":"#N/A"}},null,null,null,null,null,{"$f":"VLOOKUP(G1075:G11073,'Location Type (FICM Codes)'!$A$7:$C$188,3,FALSE)","v":{"$error":"#N/A"}}]
[null,null,null,null,null,null,null,{"$f":"VLOOKUP($G$2:$G$50000,'Location Type (FICM Codes)'!$A$7:$B$188,2,FALSE)","v":{"$error":"#N/A"}},null,null,null,null,null,{"$f":"VLOOKUP(G1076:G11074,'Location Type (FICM Codes)'!$A$7:$C$188,3,FALSE)","v":{"$error":"#N/A"}}]
[null,null,null,null,null,null,null,{"$f":"VLOOKUP($G$2:$G$50000,'Location Type (FICM Codes)'!$A$7:$B$188,2,FALSE)","v":{"$error":"#N/A"}},null,null,null,null,null,{"$f":"VLOOKUP(G1077:G11075,'Location Type (FICM Codes)'!$A$7:$C$188,3,FALSE)","v":{"$error":"#N/A"}}]
[null,null,null,null,null,null,null,{"$f":"VLOOKUP($G$2:$G$50000,'Location Type (FICM Codes)'!$A$7:$B$188,2,FALSE)","v":{"$error":"#N/A"}},null,null,null,null,null,{"$f":"VLOOKUP(G1078:G11076,'Location Type (FICM Codes)'!$A$7:$C$188,3,FALSE)","v":{"$error":"#N/A"}}]
[null,null,null,null,null,null,null,{"$f":"VLOOKUP($G$2:$G$50000,'Location Type (FICM Codes)'!$A$7:$B$188,2,FALSE)","v":{"$error":"#N/A"}},null,null,null,null,null,{"$f":"VLOOKUP(G1079:G11077,'Location Type (FICM Codes)'!$A$7:$C$188,3,FALSE)","v":{"$error":"#N/A"}}]
[null,null,null,null,null,null,null,{"$f":"VLOOKUP($G$2:$G$50000,'Location Type (FICM Codes)'!$A$7:$B$188,2,FALSE)","v":{"$error":"#N/A"}},null,null,null,null,null,{"$f":"VLOOKUP(G1080:G11078,'Location Type (FICM Codes)'!$A$7:$C$188,3,FALSE)","v":{"$error":"#N/A"}}]
[null,null,null,null,null,null,null,{"$f":"VLOOKUP($G$2:$G$50000,'Location Type (FICM Codes)'!$A$7:$B$188,2,FALSE)","v":{"$error":"#N/A"}},null,null,null,null,null,{"$f":"VLOOKUP(G1081:G11079,'Location Type (FICM Codes)'!$A$7:$C$188,3,FALSE)","v":{"$error":"#N/A"}}]
[null,null,null,null,null,null,null,{"$f":"VLOOKUP($G$2:$G$50000,'Location Type (FICM Codes)'!$A$7:$B$188,2,FALSE)","v":{"$error":"#N/A"}},null,null,null,null,null,{"$f":"VLOOKUP(G1082:G11080,'Location Type (FICM Codes)'!$A$7:$C$188,3,FALSE)","v":{"$error":"#N/A"}}]
[null,null,null,null,null,null,null,{"$f":"VLOOKUP($G$2:$G$50000,'Location Type (FICM Codes)'!$A$7:$B$188,2,FALSE)","v":{"$error":"#N/A"}},null,null,null,null,null,{"$f":"VLOOKUP(G1083:G11081,'Location Type (FICM Codes)'!$A$7:$C$188,3,FALSE)","v":{"$error":"#N/A"}}]
[null,null,null,null,null,null,null,{"$f":"VLOOKUP($G$2:$G$50000,'Location Type (FICM Codes)'!$A$7:$B$188,2,FALSE)","v":{"$error":"#N/A"}},null,null,null,null,null,{"$f":"VLOOKUP(G1084:G11082,'Location Type (FICM Codes)'!$A$7:$C$188,3,FALSE)","v":{"$error":"#N/A"}}]
[null,null,null,null,null,null,null,{"$f":"VLOOKUP($G$2:$G$50000,'Location Type (FICM Codes)'!$A$7:$B$188,2,FALSE)","v":{"$error":"#N/A"}},null,null,null,null,null,{"$f":"VLOOKUP(G1085:G11083,'Location Type (FICM Codes)'!$A$7:$C$188,3,FALSE)","v":{"$error":"#N/A"}}]
[null,null,null,null,null,null,null,{"$f":"VLOOKUP($G$2:$G$50000,'Location Type (FICM Codes)'!$A$7:$B$188,2,FALSE)","v":{"$error":"#N/A"}},null,null,null,null,null,{"$f":"VLOOKUP(G1086:G11084,'Location Type (FICM Codes)'!$A$7:$C$188,3,FALSE)","v":{"$error":"#N/A"}}]
[null,null,null,null,null,null,null,{"$f":"VLOOKUP($G$2:$G$50000,'Location Type (FICM Codes)'!$A$7:$B$188,2,FALSE)","v":{"$error":"#N/A"}},null,null,null,null,null,{"$f":"VLOOKUP(G1087:G11085,'Location Type (FICM Codes)'!$A$7:$C$188,3,FALSE)","v":{"$error":"#N/A"}}]
[null,null,null,null,null,null,null,{"$f":"VLOOKUP($G$2:$G$50000,'Location Type (FICM Codes)'!$A$7:$B$188,2,FALSE)","v":{"$error":"#N/A"}},null,null,null,null,null,{"$f":"VLOOKUP(G1088:G11086,'Location Type (FICM Codes)'!$A$7:$C$188,3,FALSE)","v":{"$error":"#N/A"}}]
[null,null,null,null,null,null,null,{"$f":"VLOOKUP($G$2:$G$50000,'Location Type (FICM Codes)'!$A$7:$B$188,2,FALSE)","v":{"$error":"#N/A"}},null,null,null,null,null,{"$f":"VLOOKUP(G1089:G11087,'Location Type (FICM Codes)'!$A$7:$C$188,3,FALSE)","v":{"$error":"#N/A"}}]
[null,null,null,null,null,null,null,{"$f":"VLOOKUP($G$2:$G$50000,'Location Type (FICM Codes)'!$A$7:$B$188,2,FALSE)","v":{"$error":"#N/A"}},null,null,null,null,null,{"$f":"VLOOKUP(G1090:G11088,'Location Type (FICM Codes)'!$A$7:$C$188,3,FALSE)","v":{"$error":"#N/A"}}]
[null,null,null,null,null,null,null,{"$f":"VLOOKUP($G$2:$G$50000,'Location Type (FICM Codes)'!$A$7:$B$188,2,FALSE)","v":{"$error":"#N/A"}},null,null,null,null,null,{"$f":"VLOOKUP(G1091:G11089,'Location Type (FICM Codes)'!$A$7:$C$188,3,FALSE)","v":{"$error":"#N/A"}}]
[null,null,null,null,null,null,null,{"$f":"VLOOKUP($G$2:$G$50000,'Location Type (FICM Codes)'!$A$7:$B$188,2,FALSE)","v":{"$error":"#N/A"}},null,null,null,null,null,{"$f":"VLOOKUP(G1092:G11090,'Location Type (FICM Codes)'!$A$7:$C$188,3,FALSE)","v":{"$error":"#N/A"}}]
[null,null,null,null,null,null,null,{"$f":"VLOOKUP($G$2:$G$50000,'Location Type (FICM Codes)'!$A$7:$B$188,2,FALSE)","v":{"$error":"#N/A"}},null,null,null,null,null,{"$f":"VLOOKUP(G1093:G11091,'Location Type (FICM Codes)'!$A$7:$C$188,3,FALSE)","v":{"$error":"#N/A"}}]
[null,null,null,null,null,null,null,{"$f":"VLOOKUP($G$2:$G$50000,'Location Type (FICM Codes)'!$A$7:$B$188,2,FALSE)","v":{"$error":"#N/A"}},null,null,null,null,null,{"$f":"VLOOKUP(G1094:G11092,'Location Type (FICM Codes)'!$A$7:$C$188,3,FALSE)","v":{"$error":"#N/A"}}]
[null,null,null,null,null,null,null,{"$f":"VLOOKUP($G$2:$G$50000,'Location Type (FICM Codes)'!$A$7:$B$188,2,FALSE)","v":{"$error":"#N/A"}},null,null,null,null,null,{"$f":"VLOOKUP(G1095:G11093,'Location Type (FICM Codes)'!$A$7:$C$188,3,FALSE)","v":{"$error":"#N/A"}}]
[null,null,null,null,null,null,null,{"$f":"VLOOKUP($G$2:$G$50000,'Location Type (FICM Codes)'!$A$7:$B$188,2,FALSE)","v":{"$error":"#N/A"}},null,null,null,null,null,{"$f":"VLOOKUP(G1096:G11094,'Location Type (FICM Codes)'!$A$7:$C$188,3,FALSE)","v":{"$error":"#N/A"}}]
[null,null,null,null,null,null,null,{"$f":"VLOOKUP($G$2:$G$50000,'Location Type (FICM Codes)'!$A$7:$B$188,2,FALSE)","v":{"$error":"#N/A"}},null,null,null,null,null,{"$f":"VLOOKUP(G1097:G11095,'Location Type (FICM Codes)'!$A$7:$C$188,3,FALSE)","v":{"$error":"#N/A"}}]
[null,null,null,null,null,null,null,{"$f":"VLOOKUP($G$2:$G$50000,'Location Type (FICM Codes)'!$A$7:$B$188,2,FALSE)","v":{"$error":"#N/A"}},null,null,null,null,null,{"$f":"VLOOKUP(G1098:G11096,'Location Type (FICM Codes)'!$A$7:$C$188,3,FALSE)","v":{"$error":"#N/A"}}]
[null,null,null,null,null,null,null,{"$f":"VLOOKUP($G$2:$G$50000,'Location Type (FICM Codes)'!$A$7:$B$188,2,FALSE)","v":{"$error":"#N/A"}},null,null,null,null,null,{"$f":"VLOOKUP(G1099:G11097,'Location Type (FICM Codes)'!$A$7:$C$188,3,FALSE)","v":{"$error":"#N/A"}}]
[null,null,null,null,null,null,null,{"$f":"VLOOKUP($G$2:$G$50000,'Location Type (FICM Codes)'!$A$7:$B$188,2,FALSE)","v":{"$error":"#N/A"}},null,null,null,null,null,{"$f":"VLOOKUP(G1100:G11098,'Location Type (FICM Codes)'!$A$7:$C$188,3,FALSE)","v":{"$error":"#N/A"}}]
[null,null,null,null,null,null,null,{"$f":"VLOOKUP($G$2:$G$50000,'Location Type (FICM Codes)'!$A$7:$B$188,2,FALSE)","v":{"$error":"#N/A"}},null,null,null,null,null,{"$f":"VLOOKUP(G1101:G11099,'Location Type (FICM Codes)'!$A$7:$C$188,3,FALSE)","v":{"$error":"#N/A"}}]
[null,null,null,null,null,null,null,{"$f":"VLOOKUP($G$2:$G$50000,'Location Type (FICM Codes)'!$A$7:$B$188,2,FALSE)","v":{"$error":"#N/A"}},null,null,null,null,null,{"$f":"VLOOKUP(G1102:G11100,'Location Type (FICM Codes)'!$A$7:$C$188,3,FALSE)","v":{"$error":"#N/A"}}]
[null,null,null,null,null,null,null,{"$f":"VLOOKUP($G$2:$G$50000,'Location Type (FICM Codes)'!$A$7:$B$188,2,FALSE)","v":{"$error":"#N/A"}},null,null,null,null,null,{"$f":"VLOOKUP(G1103:G11101,'Location Type (FICM Codes)'!$A$7:$C$188,3,FALSE)","v":{"$error":"#N/A"}}]
[null,null,null,null,null,null,null,{"$f":"VLOOKUP($G$2:$G$50000,'Location Type (FICM Codes)'!$A$7:$B$188,2,FALSE)","v":{"$error":"#N/A"}},null,null,null,null,null,{"$f":"VLOOKUP(G1104:G11102,'Location Type (FICM Codes)'!$A$7:$C$188,3,FALSE)","v":{"$error":"#N/A"}}]
[null,null,null,null,null,null,null,{"$f":"VLOOKUP($G$2:$G$50000,'Location Type (FICM Codes)'!$A$7:$B$188,2,FALSE)","v":{"$error":"#N/A"}},null,null,null,null,null,{"$f":"VLOOKUP(G1105:G11103,'Location Type (FICM Codes)'!$A$7:$C$188,3,FALSE)","v":{"$error":"#N/A"}}]
[null,null,null,null,null,null,null,{"$f":"VLOOKUP($G$2:$G$50000,'Location Type (FICM Codes)'!$A$7:$B$188,2,FALSE)","v":{"$error":"#N/A"}},null,null,null,null,null,{"$f":"VLOOKUP(G1106:G11104,'Location Type (FICM Codes)'!$A$7:$C$188,3,FALSE)","v":{"$error":"#N/A"}}]
[null,null,null,null,null,null,null,{"$f":"VLOOKUP($G$2:$G$50000,'Location Type (FICM Codes)'!$A$7:$B$188,2,FALSE)","v":{"$error":"#N/A"}},null,null,null,null,null,{"$f":"VLOOKUP(G1107:G11105,'Location Type (FICM Codes)'!$A$7:$C$188,3,FALSE)","v":{"$error":"#N/A"}}]
[null,null,null,null,null,null,null,{"$f":"VLOOKUP($G$2:$G$50000,'Location Type (FICM Codes)'!$A$7:$B$188,2,FALSE)","v":{"$error":"#N/A"}},null,null,null,null,null,{"$f":"VLOOKUP(G1108:G11106,'Location Type (FICM Codes)'!$A$7:$C$188,3,FALSE)","v":{"$error":"#N/A"}}]
[null,null,null,null,null,null,null,{"$f":"VLOOKUP($G$2:$G$50000,'Location Type (FICM Codes)'!$A$7:$B$188,2,FALSE)","v":{"$error":"#N/A"}},null,null,null,null,null,{"$f":"VLOOKUP(G1109:G11107,'Location Type (FICM Codes)'!$A$7:$C$188,3,FALSE)","v":{"$error":"#N/A"}}]
[null,null,null,null,null,null,null,{"$f":"VLOOKUP($G$2:$G$50000,'Location Type (FICM Codes)'!$A$7:$B$188,2,FALSE)","v":{"$error":"#N/A"}},null,null,null,null,null,{"$f":"VLOOKUP(G1110:G11108,'Location Type (FICM Codes)'!$A$7:$C$188,3,FALSE)","v":{"$error":"#N/A"}}]
[null,null,null,null,null,null,null,{"$f":"VLOOKUP($G$2:$G$50000,'Location Type (FICM Codes)'!$A$7:$B$188,2,FALSE)","v":{"$error":"#N/A"}},null,null,null,null,null,{"$f":"VLOOKUP(G1111:G11109,'Location Type (FICM Codes)'!$A$7:$C$188,3,FALSE)","v":{"$error":"#N/A"}}]
[null,null,null,null,null,null,null,{"$f":"VLOOKUP($G$2:$G$50000,'Location Type (FICM Codes)'!$A$7:$B$188,2,FALSE)","v":{"$error":"#N/A"}},null,null,null,null,null,{"$f":"VLOOKUP(G1112:G11110,'Location Type (FICM Codes)'!$A$7:$C$188,3,FALSE)","v":{"$error":"#N/A"}}]
[null,null,null,null,null,null,null,{"$f":"VLOOKUP($G$2:$G$50000,'Location Type (FICM Codes)'!$A$7:$B$188,2,FALSE)","v":{"$error":"#N/A"}},null,null,null,null,null,{"$f":"VLOOKUP(G1113:G11111,'Location Type (FICM Codes)'!$A$7:$C$188,3,FALSE)","v":{"$error":"#N/A"}}]
[null,null,null,null,null,null,null,{"$f":"VLOOKUP($G$2:$G$50000,'Location Type (FICM Codes)'!$A$7:$B$188,2,FALSE)","v":{"$error":"#N/A"}},null,null,null,null,null,{"$f":"VLOOKUP(G1114:G11112,'Location Type (FICM Codes)'!$A$7:$C$188,3,FALSE)","v":{"$error":"#N/A"}}]
[null,null,null,null,null,null,null,{"$f":"VLOOKUP($G$2:$G$50000,'Location Type (FICM Codes)'!$A$7:$B$188,2,FALSE)","v":{"$error":"#N/A"}},null,null,null,null,null,{"$f":"VLOOKUP(G1115:G11113,'Location Type (FICM Codes)'!$A$7:$C$188,3,FALSE)","v":{"$error":"#N/A"}}]
[null,null,null,null,null,null,null,{"$f":"VLOOKUP($G$2:$G$50000,'Location Type (FICM Codes)'!$A$7:$B$188,2,FALSE)","v":{"$error":"#N/A"}},null,null,null,null,null,{"$f":"VLOOKUP(G1116:G11114,'Location Type (FICM Codes)'!$A$7:$C$188,3,FALSE)","v":{"$error":"#N/A"}}]
[null,null,null,null,null,null,null,{"$f":"VLOOKUP($G$2:$G$50000,'Location Type (FICM Codes)'!$A$7:$B$188,2,FALSE)","v":{"$error":"#N/A"}},null,null,null,null,null,{"$f":"VLOOKUP(G1117:G11115,'Location Type (FICM Codes)'!$A$7:$C$188,3,FALSE)","v":{"$error":"#N/A"}}]
[null,null,null,null,null,null,null,{"$f":"VLOOKUP($G$2:$G$50000,'Location Type (FICM Codes)'!$A$7:$B$188,2,FALSE)","v":{"$error":"#N/A"}},null,null,null,null,null,{"$f":"VLOOKUP(G1118:G11116,'Location Type (FICM Codes)'!$A$7:$C$188,3,FALSE)","v":{"$error":"#N/A"}}]
[null,null,null,null,null,null,null,{"$f":"VLOOKUP($G$2:$G$50000,'Location Type (FICM Codes)'!$A$7:$B$188,2,FALSE)","v":{"$error":"#N/A"}},null,null,null,null,null,{"$f":"VLOOKUP(G1119:G11117,'Location Type (FICM Codes)'!$A$7:$C$188,3,FALSE)","v":{"$error":"#N/A"}}]
[null,null,null,null,null,null,null,{"$f":"VLOOKUP($G$2:$G$50000,'Location Type (FICM Codes)'!$A$7:$B$188,2,FALSE)","v":{"$error":"#N/A"}},null,null,null,null,null,{"$f":"VLOOKUP(G1120:G11118,'Location Type (FICM Codes)'!$A$7:$C$188,3,FALSE)","v":{"$error":"#N/A"}}]
[null,null,null,null,null,null,null,{"$f":"VLOOKUP($G$2:$G$50000,'Location Type (FICM Codes)'!$A$7:$B$188,2,FALSE)","v":{"$error":"#N/A"}},null,null,null,null,null,{"$f":"VLOOKUP(G1121:G11119,'Location Type (FICM Codes)'!$A$7:$C$188,3,FALSE)","v":{"$error":"#N/A"}}]
[null,null,null,null,null,null,null,{"$f":"VLOOKUP($G$2:$G$50000,'Location Type (FICM Codes)'!$A$7:$B$188,2,FALSE)","v":{"$error":"#N/A"}},null,null,null,null,null,{"$f":"VLOOKUP(G1122:G11120,'Location Type (FICM Codes)'!$A$7:$C$188,3,FALSE)","v":{"$error":"#N/A"}}]
[null,null,null,null,null,null,null,{"$f":"VLOOKUP($G$2:$G$50000,'Location Type (FICM Codes)'!$A$7:$B$188,2,FALSE)","v":{"$error":"#N/A"}},null,null,null,null,null,{"$f":"VLOOKUP(G1123:G11121,'Location Type (FICM Codes)'!$A$7:$C$188,3,FALSE)","v":{"$error":"#N/A"}}]
[null,null,null,null,null,null,null,{"$f":"VLOOKUP($G$2:$G$50000,'Location Type (FICM Codes)'!$A$7:$B$188,2,FALSE)","v":{"$error":"#N/A"}},null,null,null,null,null,{"$f":"VLOOKUP(G1124:G11122,'Location Type (FICM Codes)'!$A$7:$C$188,3,FALSE)","v":{"$error":"#N/A"}}]
[null,null,null,null,null,null,null,{"$f":"VLOOKUP($G$2:$G$50000,'Location Type (FICM Codes)'!$A$7:$B$188,2,FALSE)","v":{"$error":"#N/A"}},null,null,null,null,null,{"$f":"VLOOKUP(G1125:G11123,'Location Type (FICM Codes)'!$A$7:$C$188,3,FALSE)","v":{"$error":"#N/A"}}]
[null,null,null,null,null,null,null,{"$f":"VLOOKUP($G$2:$G$50000,'Location Type (FICM Codes)'!$A$7:$B$188,2,FALSE)","v":{"$error":"#N/A"}},null,null,null,null,null,{"$f":"VLOOKUP(G1126:G11124,'Location Type (FICM Codes)'!$A$7:$C$188,3,FALSE)","v":{"$error":"#N/A"}}]
[null,null,null,null,null,null,null,{"$f":"VLOOKUP($G$2:$G$50000,'Location Type (FICM Codes)'!$A$7:$B$188,2,FALSE)","v":{"$error":"#N/A"}},null,null,null,null,null,{"$f":"VLOOKUP(G1127:G11125,'Location Type (FICM Codes)'!$A$7:$C$188,3,FALSE)","v":{"$error":"#N/A"}}]
[null,null,null,null,null,null,null,{"$f":"VLOOKUP($G$2:$G$50000,'Location Type (FICM Codes)'!$A$7:$B$188,2,FALSE)","v":{"$error":"#N/A"}},null,null,null,null,null,{"$f":"VLOOKUP(G1128:G11126,'Location Type (FICM Codes)'!$A$7:$C$188,3,FALSE)","v":{"$error":"#N/A"}}]
[null,null,null,null,null,null,null,{"$f":"VLOOKUP($G$2:$G$50000,'Location Type (FICM Codes)'!$A$7:$B$188,2,FALSE)","v":{"$error":"#N/A"}},null,null,null,null,null,{"$f":"VLOOKUP(G1129:G11127,'Location Type (FICM Codes)'!$A$7:$C$188,3,FALSE)","v":{"$error":"#N/A"}}]
[null,null,null,null,null,null,null,{"$f":"VLOOKUP($G$2:$G$50000,'Location Type (FICM Codes)'!$A$7:$B$188,2,FALSE)","v":{"$error":"#N/A"}},null,null,null,null,null,{"$f":"VLOOKUP(G1130:G11128,'Location Type (FICM Codes)'!$A$7:$C$188,3,FALSE)","v":{"$error":"#N/A"}}]
[null,null,null,null,null,null,null,{"$f":"VLOOKUP($G$2:$G$50000,'Location Type (FICM Codes)'!$A$7:$B$188,2,FALSE)","v":{"$error":"#N/A"}},null,null,null,null,null,{"$f":"VLOOKUP(G1131:G11129,'Location Type (FICM Codes)'!$A$7:$C$188,3,FALSE)","v":{"$error":"#N/A"}}]
[null,null,null,null,null,null,null,{"$f":"VLOOKUP($G$2:$G$50000,'Location Type (FICM Codes)'!$A$7:$B$188,2,FALSE)","v":{"$error":"#N/A"}},null,null,null,null,null,{"$f":"VLOOKUP(G1132:G11130,'Location Type (FICM Codes)'!$A$7:$C$188,3,FALSE)","v":{"$error":"#N/A"}}]
[null,null,null,null,null,null,null,{"$f":"VLOOKUP($G$2:$G$50000,'Location Type (FICM Codes)'!$A$7:$B$188,2,FALSE)","v":{"$error":"#N/A"}},null,null,null,null,null,{"$f":"VLOOKUP(G1133:G11131,'Location Type (FICM Codes)'!$A$7:$C$188,3,FALSE)","v":{"$error":"#N/A"}}]
[null,null,null,null,null,null,null,{"$f":"VLOOKUP($G$2:$G$50000,'Location Type (FICM Codes)'!$A$7:$B$188,2,FALSE)","v":{"$error":"#N/A"}},null,null,null,null,null,{"$f":"VLOOKUP(G1134:G11132,'Location Type (FICM Codes)'!$A$7:$C$188,3,FALSE)","v":{"$error":"#N/A"}}]
[null,null,null,null,null,null,null,{"$f":"VLOOKUP($G$2:$G$50000,'Location Type (FICM Codes)'!$A$7:$B$188,2,FALSE)","v":{"$error":"#N/A"}},null,null,null,null,null,{"$f":"VLOOKUP(G1135:G11133,'Location Type (FICM Codes)'!$A$7:$C$188,3,FALSE)","v":{"$error":"#N/A"}}]
[null,null,null,null,null,null,null,{"$f":"VLOOKUP($G$2:$G$50000,'Location Type (FICM Codes)'!$A$7:$B$188,2,FALSE)","v":{"$error":"#N/A"}},null,null,null,null,null,{"$f":"VLOOKUP(G1136:G11134,'Location Type (FICM Codes)'!$A$7:$C$188,3,FALSE)","v":{"$error":"#N/A"}}]
[null,null,null,null,null,null,null,{"$f":"VLOOKUP($G$2:$G$50000,'Location Type (FICM Codes)'!$A$7:$B$188,2,FALSE)","v":{"$error":"#N/A"}},null,null,null,null,null,{"$f":"VLOOKUP(G1137:G11135,'Location Type (FICM Codes)'!$A$7:$C$188,3,FALSE)","v":{"$error":"#N/A"}}]
[null,null,null,null,null,null,null,{"$f":"VLOOKUP($G$2:$G$50000,'Location Type (FICM Codes)'!$A$7:$B$188,2,FALSE)","v":{"$error":"#N/A"}},null,null,null,null,null,{"$f":"VLOOKUP(G1138:G11136,'Location Type (FICM Codes)'!$A$7:$C$188,3,FALSE)","v":{"$error":"#N/A"}}]
[null,null,null,null,null,null,null,{"$f":"VLOOKUP($G$2:$G$50000,'Location Type (FICM Codes)'!$A$7:$B$188,2,FALSE)","v":{"$error":"#N/A"}},null,null,null,null,null,{"$f":"VLOOKUP(G1139:G11137,'Location Type (FICM Codes)'!$A$7:$C$188,3,FALSE)","v":{"$error":"#N/A"}}]
[null,null,null,null,null,null,null,{"$f":"VLOOKUP($G$2:$G$50000,'Location Type (FICM Codes)'!$A$7:$B$188,2,FALSE)","v":{"$error":"#N/A"}},null,null,null,null,null,{"$f":"VLOOKUP(G1140:G11138,'Location Type (FICM Codes)'!$A$7:$C$188,3,FALSE)","v":{"$error":"#N/A"}}]
[null,null,null,null,null,null,null,{"$f":"VLOOKUP($G$2:$G$50000,'Location Type (FICM Codes)'!$A$7:$B$188,2,FALSE)","v":{"$error":"#N/A"}},null,null,null,null,null,{"$f":"VLOOKUP(G1141:G11139,'Location Type (FICM Codes)'!$A$7:$C$188,3,FALSE)","v":{"$error":"#N/A"}}]
[null,null,null,null,null,null,null,{"$f":"VLOOKUP($G$2:$G$50000,'Location Type (FICM Codes)'!$A$7:$B$188,2,FALSE)","v":{"$error":"#N/A"}},null,null,null,null,null,{"$f":"VLOOKUP(G1142:G11140,'Location Type (FICM Codes)'!$A$7:$C$188,3,FALSE)","v":{"$error":"#N/A"}}]
[null,null,null,null,null,null,null,{"$f":"VLOOKUP($G$2:$G$50000,'Location Type (FICM Codes)'!$A$7:$B$188,2,FALSE)","v":{"$error":"#N/A"}},null,null,null,null,null,{"$f":"VLOOKUP(G1143:G11141,'Location Type (FICM Codes)'!$A$7:$C$188,3,FALSE)","v":{"$error":"#N/A"}}]
[null,null,null,null,null,null,null,{"$f":"VLOOKUP($G$2:$G$50000,'Location Type (FICM Codes)'!$A$7:$B$188,2,FALSE)","v":{"$error":"#N/A"}},null,null,null,null,null,{"$f":"VLOOKUP(G1144:G11142,'Location Type (FICM Codes)'!$A$7:$C$188,3,FALSE)","v":{"$error":"#N/A"}}]
[null,null,null,null,null,null,null,{"$f":"VLOOKUP($G$2:$G$50000,'Location Type (FICM Codes)'!$A$7:$B$188,2,FALSE)","v":{"$error":"#N/A"}},null,null,null,null,null,{"$f":"VLOOKUP(G1145:G11143,'Location Type (FICM Codes)'!$A$7:$C$188,3,FALSE)","v":{"$error":"#N/A"}}]
[null,null,null,null,null,null,null,{"$f":"VLOOKUP($G$2:$G$50000,'Location Type (FICM Codes)'!$A$7:$B$188,2,FALSE)","v":{"$error":"#N/A"}},null,null,null,null,null,{"$f":"VLOOKUP(G1146:G11144,'Location Type (FICM Codes)'!$A$7:$C$188,3,FALSE)","v":{"$error":"#N/A"}}]
[null,null,null,null,null,null,null,{"$f":"VLOOKUP($G$2:$G$50000,'Location Type (FICM Codes)'!$A$7:$B$188,2,FALSE)","v":{"$error":"#N/A"}},null,null,null,null,null,{"$f":"VLOOKUP(G1147:G11145,'Location Type (FICM Codes)'!$A$7:$C$188,3,FALSE)","v":{"$error":"#N/A"}}]
[null,null,null,null,null,null,null,{"$f":"VLOOKUP($G$2:$G$50000,'Location Type (FICM Codes)'!$A$7:$B$188,2,FALSE)","v":{"$error":"#N/A"}},null,null,null,null,null,{"$f":"VLOOKUP(G1148:G11146,'Location Type (FICM Codes)'!$A$7:$C$188,3,FALSE)","v":{"$error":"#N/A"}}]
[null,null,null,null,null,null,null,{"$f":"VLOOKUP($G$2:$G$50000,'Location Type (FICM Codes)'!$A$7:$B$188,2,FALSE)","v":{"$error":"#N/A"}},null,null,null,null,null,{"$f":"VLOOKUP(G1149:G11147,'Location Type (FICM Codes)'!$A$7:$C$188,3,FALSE)","v":{"$error":"#N/A"}}]
[null,null,null,null,null,null,null,{"$f":"VLOOKUP($G$2:$G$50000,'Location Type (FICM Codes)'!$A$7:$B$188,2,FALSE)","v":{"$error":"#N/A"}},null,null,null,null,null,{"$f":"VLOOKUP(G1150:G11148,'Location Type (FICM Codes)'!$A$7:$C$188,3,FALSE)","v":{"$error":"#N/A"}}]
[null,null,null,null,null,null,null,{"$f":"VLOOKUP($G$2:$G$50000,'Location Type (FICM Codes)'!$A$7:$B$188,2,FALSE)","v":{"$error":"#N/A"}},null,null,null,null,null,{"$f":"VLOOKUP(G1151:G11149,'Location Type (FICM Codes)'!$A$7:$C$188,3,FALSE)","v":{"$error":"#N/A"}}]
[null,null,null,null,null,null,null,{"$f":"VLOOKUP($G$2:$G$50000,'Location Type (FICM Codes)'!$A$7:$B$188,2,FALSE)","v":{"$error":"#N/A"}},null,null,null,null,null,{"$f":"VLOOKUP(G1152:G11150,'Location Type (FICM Codes)'!$A$7:$C$188,3,FALSE)","v":{"$error":"#N/A"}}]
[null,null,null,null,null,null,null,{"$f":"VLOOKUP($G$2:$G$50000,'Location Type (FICM Codes)'!$A$7:$B$188,2,FALSE)","v":{"$error":"#N/A"}},null,null,null,null,null,{"$f":"VLOOKUP(G1153:G11151,'Location Type (FICM Codes)'!$A$7:$C$188,3,FALSE)","v":{"$error":"#N/A"}}]
[null,null,null,null,null,null,null,{"$f":"VLOOKUP($G$2:$G$50000,'Location Type (FICM Codes)'!$A$7:$B$188,2,FALSE)","v":{"$error":"#N/A"}},null,null,null,null,null,{"$f":"VLOOKUP(G1154:G11152,'Location Type (FICM Codes)'!$A$7:$C$188,3,FALSE)","v":{"$error":"#N/A"}}]
[null,null,null,null,null,null,null,{"$f":"VLOOKUP($G$2:$G$50000,'Location Type (FICM Codes)'!$A$7:$B$188,2,FALSE)","v":{"$error":"#N/A"}},null,null,null,null,null,{"$f":"VLOOKUP(G1155:G11153,'Location Type (FICM Codes)'!$A$7:$C$188,3,FALSE)","v":{"$error":"#N/A"}}]
[null,null,null,null,null,null,null,{"$f":"VLOOKUP($G$2:$G$50000,'Location Type (FICM Codes)'!$A$7:$B$188,2,FALSE)","v":{"$error":"#N/A"}},null,null,null,null,null,{"$f":"VLOOKUP(G1156:G11154,'Location Type (FICM Codes)'!$A$7:$C$188,3,FALSE)","v":{"$error":"#N/A"}}]
[null,null,null,null,null,null,null,{"$f":"VLOOKUP($G$2:$G$50000,'Location Type (FICM Codes)'!$A$7:$B$188,2,FALSE)","v":{"$error":"#N/A"}},null,null,null,null,null,{"$f":"VLOOKUP(G1157:G11155,'Location Type (FICM Codes)'!$A$7:$C$188,3,FALSE)","v":{"$error":"#N/A"}}]
[null,null,null,null,null,null,null,{"$f":"VLOOKUP($G$2:$G$50000,'Location Type (FICM Codes)'!$A$7:$B$188,2,FALSE)","v":{"$error":"#N/A"}},null,null,null,null,null,{"$f":"VLOOKUP(G1158:G11156,'Location Type (FICM Codes)'!$A$7:$C$188,3,FALSE)","v":{"$error":"#N/A"}}]
[null,null,null,null,null,null,null,{"$f":"VLOOKUP($G$2:$G$50000,'Location Type (FICM Codes)'!$A$7:$B$188,2,FALSE)","v":{"$error":"#N/A"}},null,null,null,null,null,{"$f":"VLOOKUP(G1159:G11157,'Location Type (FICM Codes)'!$A$7:$C$188,3,FALSE)","v":{"$error":"#N/A"}}]
[null,null,null,null,null,null,null,{"$f":"VLOOKUP($G$2:$G$50000,'Location Type (FICM Codes)'!$A$7:$B$188,2,FALSE)","v":{"$error":"#N/A"}},null,null,null,null,null,{"$f":"VLOOKUP(G1160:G11158,'Location Type (FICM Codes)'!$A$7:$C$188,3,FALSE)","v":{"$error":"#N/A"}}]
[null,null,null,null,null,null,null,{"$f":"VLOOKUP($G$2:$G$50000,'Location Type (FICM Codes)'!$A$7:$B$188,2,FALSE)","v":{"$error":"#N/A"}},null,null,null,null,null,{"$f":"VLOOKUP(G1161:G11159,'Location Type (FICM Codes)'!$A$7:$C$188,3,FALSE)","v":{"$error":"#N/A"}}]
[null,null,null,null,null,null,null,{"$f":"VLOOKUP($G$2:$G$50000,'Location Type (FICM Codes)'!$A$7:$B$188,2,FALSE)","v":{"$error":"#N/A"}},null,null,null,null,null,{"$f":"VLOOKUP(G1162:G11160,'Location Type (FICM Codes)'!$A$7:$C$188,3,FALSE)","v":{"$error":"#N/A"}}]
[null,null,null,null,null,null,null,{"$f":"VLOOKUP($G$2:$G$50000,'Location Type (FICM Codes)'!$A$7:$B$188,2,FALSE)","v":{"$error":"#N/A"}},null,null,null,null,null,{"$f":"VLOOKUP(G1163:G11161,'Location Type (FICM Codes)'!$A$7:$C$188,3,FALSE)","v":{"$error":"#N/A"}}]
[null,null,null,null,null,null,null,{"$f":"VLOOKUP($G$2:$G$50000,'Location Type (FICM Codes)'!$A$7:$B$188,2,FALSE)","v":{"$error":"#N/A"}},null,null,null,null,null,{"$f":"VLOOKUP(G1164:G11162,'Location Type (FICM Codes)'!$A$7:$C$188,3,FALSE)","v":{"$error":"#N/A"}}]
[null,null,null,null,null,null,null,{"$f":"VLOOKUP($G$2:$G$50000,'Location Type (FICM Codes)'!$A$7:$B$188,2,FALSE)","v":{"$error":"#N/A"}},null,null,null,null,null,{"$f":"VLOOKUP(G1165:G11163,'Location Type (FICM Codes)'!$A$7:$C$188,3,FALSE)","v":{"$error":"#N/A"}}]
[null,null,null,null,null,null,null,{"$f":"VLOOKUP($G$2:$G$50000,'Location Type (FICM Codes)'!$A$7:$B$188,2,FALSE)","v":{"$error":"#N/A"}},null,null,null,null,null,{"$f":"VLOOKUP(G1166:G11164,'Location Type (FICM Codes)'!$A$7:$C$188,3,FALSE)","v":{"$error":"#N/A"}}]
[null,null,null,null,null,null,null,{"$f":"VLOOKUP($G$2:$G$50000,'Location Type (FICM Codes)'!$A$7:$B$188,2,FALSE)","v":{"$error":"#N/A"}},null,null,null,null,null,{"$f":"VLOOKUP(G1167:G11165,'Location Type (FICM Codes)'!$A$7:$C$188,3,FALSE)","v":{"$error":"#N/A"}}]
[null,null,null,null,null,null,null,{"$f":"VLOOKUP($G$2:$G$50000,'Location Type (FICM Codes)'!$A$7:$B$188,2,FALSE)","v":{"$error":"#N/A"}},null,null,null,null,null,{"$f":"VLOOKUP(G1168:G11166,'Location Type (FICM Codes)'!$A$7:$C$188,3,FALSE)","v":{"$error":"#N/A"}}]
[null,null,null,null,null,null,null,{"$f":"VLOOKUP($G$2:$G$50000,'Location Type (FICM Codes)'!$A$7:$B$188,2,FALSE)","v":{"$error":"#N/A"}},null,null,null,null,null,{"$f":"VLOOKUP(G1169:G11167,'Location Type (FICM Codes)'!$A$7:$C$188,3,FALSE)","v":{"$error":"#N/A"}}]
[null,null,null,null,null,null,null,{"$f":"VLOOKUP($G$2:$G$50000,'Location Type (FICM Codes)'!$A$7:$B$188,2,FALSE)","v":{"$error":"#N/A"}},null,null,null,null,null,{"$f":"VLOOKUP(G1170:G11168,'Location Type (FICM Codes)'!$A$7:$C$188,3,FALSE)","v":{"$error":"#N/A"}}]
[null,null,null,null,null,null,null,{"$f":"VLOOKUP($G$2:$G$50000,'Location Type (FICM Codes)'!$A$7:$B$188,2,FALSE)","v":{"$error":"#N/A"}},null,null,null,null,null,{"$f":"VLOOKUP(G1171:G11169,'Location Type (FICM Codes)'!$A$7:$C$188,3,FALSE)","v":{"$error":"#N/A"}}]
[null,null,null,null,null,null,null,{"$f":"VLOOKUP($G$2:$G$50000,'Location Type (FICM Codes)'!$A$7:$B$188,2,FALSE)","v":{"$error":"#N/A"}},null,null,null,null,null,{"$f":"VLOOKUP(G1172:G11170,'Location Type (FICM Codes)'!$A$7:$C$188,3,FALSE)","v":{"$error":"#N/A"}}]
[null,null,null,null,null,null,null,{"$f":"VLOOKUP($G$2:$G$50000,'Location Type (FICM Codes)'!$A$7:$B$188,2,FALSE)","v":{"$error":"#N/A"}},null,null,null,null,null,{"$f":"VLOOKUP(G1173:G11171,'Location Type (FICM Codes)'!$A$7:$C$188,3,FALSE)","v":{"$error":"#N/A"}}]
[null,null,null,null,null,null,null,{"$f":"VLOOKUP($G$2:$G$50000,'Location Type (FICM Codes)'!$A$7:$B$188,2,FALSE)","v":{"$error":"#N/A"}},null,null,null,null,null,{"$f":"VLOOKUP(G1174:G11172,'Location Type (FICM Codes)'!$A$7:$C$188,3,FALSE)","v":{"$error":"#N/A"}}]
[null,null,null,null,null,null,null,{"$f":"VLOOKUP($G$2:$G$50000,'Location Type (FICM Codes)'!$A$7:$B$188,2,FALSE)","v":{"$error":"#N/A"}},null,null,null,null,null,{"$f":"VLOOKUP(G1175:G11173,'Location Type (FICM Codes)'!$A$7:$C$188,3,FALSE)","v":{"$error":"#N/A"}}]
[null,null,null,null,null,null,null,{"$f":"VLOOKUP($G$2:$G$50000,'Location Type (FICM Codes)'!$A$7:$B$188,2,FALSE)","v":{"$error":"#N/A"}},null,null,null,null,null,{"$f":"VLOOKUP(G1176:G11174,'Location Type (FICM Codes)'!$A$7:$C$188,3,FALSE)","v":{"$error":"#N/A"}}]
[null,null,null,null,null,null,null,{"$f":"VLOOKUP($G$2:$G$50000,'Location Type (FICM Codes)'!$A$7:$B$188,2,FALSE)","v":{"$error":"#N/A"}},null,null,null,null,null,{"$f":"VLOOKUP(G1177:G11175,'Location Type (FICM Codes)'!$A$7:$C$188,3,FALSE)","v":{"$error":"#N/A"}}]
[null,null,null,null,null,null,null,{"$f":"VLOOKUP($G$2:$G$50000,'Location Type (FICM Codes)'!$A$7:$B$188,2,FALSE)","v":{"$error":"#N/A"}},null,null,null,null,null,{"$f":"VLOOKUP(G1178:G11176,'Location Type (FICM Codes)'!$A$7:$C$188,3,FALSE)","v":{"$error":"#N/A"}}]
[null,null,null,null,null,null,null,{"$f":"VLOOKUP($G$2:$G$50000,'Location Type (FICM Codes)'!$A$7:$B$188,2,FALSE)","v":{"$error":"#N/A"}},null,null,null,null,null,{"$f":"VLOOKUP(G1179:G11177,'Location Type (FICM Codes)'!$A$7:$C$188,3,FALSE)","v":{"$error":"#N/A"}}]
[null,null,null,null,null,null,null,{"$f":"VLOOKUP($G$2:$G$50000,'Location Type (FICM Codes)'!$A$7:$B$188,2,FALSE)","v":{"$error":"#N/A"}},null,null,null,null,null,{"$f":"VLOOKUP(G1180:G11178,'Location Type (FICM Codes)'!$A$7:$C$188,3,FALSE)","v":{"$error":"#N/A"}}]
[null,null,null,null,null,null,null,{"$f":"VLOOKUP($G$2:$G$50000,'Location Type (FICM Codes)'!$A$7:$B$188,2,FALSE)","v":{"$error":"#N/A"}},null,null,null,null,null,{"$f":"VLOOKUP(G1181:G11179,'Location Type (FICM Codes)'!$A$7:$C$188,3,FALSE)","v":{"$error":"#N/A"}}]
[null,null,null,null,null,null,null,{"$f":"VLOOKUP($G$2:$G$50000,'Location Type (FICM Codes)'!$A$7:$B$188,2,FALSE)","v":{"$error":"#N/A"}},null,null,null,null,null,{"$f":"VLOOKUP(G1182:G11180,'Location Type (FICM Codes)'!$A$7:$C$188,3,FALSE)","v":{"$error":"#N/A"}}]
[null,null,null,null,null,null,null,{"$f":"VLOOKUP($G$2:$G$50000,'Location Type (FICM Codes)'!$A$7:$B$188,2,FALSE)","v":{"$error":"#N/A"}},null,null,null,null,null,{"$f":"VLOOKUP(G1183:G11181,'Location Type (FICM Codes)'!$A$7:$C$188,3,FALSE)","v":{"$error":"#N/A"}}]
[null,null,null,null,null,null,null,{"$f":"VLOOKUP($G$2:$G$50000,'Location Type (FICM Codes)'!$A$7:$B$188,2,FALSE)","v":{"$error":"#N/A"}},null,null,null,null,null,{"$f":"VLOOKUP(G1184:G11182,'Location Type (FICM Codes)'!$A$7:$C$188,3,FALSE)","v":{"$error":"#N/A"}}]
[null,null,null,null,null,null,null,{"$f":"VLOOKUP($G$2:$G$50000,'Location Type (FICM Codes)'!$A$7:$B$188,2,FALSE)","v":{"$error":"#N/A"}},null,null,null,null,null,{"$f":"VLOOKUP(G1185:G11183,'Location Type (FICM Codes)'!$A$7:$C$188,3,FALSE)","v":{"$error":"#N/A"}}]
[null,null,null,null,null,null,null,{"$f":"VLOOKUP($G$2:$G$50000,'Location Type (FICM Codes)'!$A$7:$B$188,2,FALSE)","v":{"$error":"#N/A"}},null,null,null,null,null,{"$f":"VLOOKUP(G1186:G11184,'Location Type (FICM Codes)'!$A$7:$C$188,3,FALSE)","v":{"$error":"#N/A"}}]
[null,null,null,null,null,null,null,{"$f":"VLOOKUP($G$2:$G$50000,'Location Type (FICM Codes)'!$A$7:$B$188,2,FALSE)","v":{"$error":"#N/A"}},null,null,null,null,null,{"$f":"VLOOKUP(G1187:G11185,'Location Type (FICM Codes)'!$A$7:$C$188,3,FALSE)","v":{"$error":"#N/A"}}]
[null,null,null,null,null,null,null,{"$f":"VLOOKUP($G$2:$G$50000,'Location Type (FICM Codes)'!$A$7:$B$188,2,FALSE)","v":{"$error":"#N/A"}},null,null,null,null,null,{"$f":"VLOOKUP(G1188:G11186,'Location Type (FICM Codes)'!$A$7:$C$188,3,FALSE)","v":{"$error":"#N/A"}}]
[null,null,null,null,null,null,null,{"$f":"VLOOKUP($G$2:$G$50000,'Location Type (FICM Codes)'!$A$7:$B$188,2,FALSE)","v":{"$error":"#N/A"}},null,null,null,null,null,{"$f":"VLOOKUP(G1189:G11187,'Location Type (FICM Codes)'!$A$7:$C$188,3,FALSE)","v":{"$error":"#N/A"}}]
[null,null,null,null,null,null,null,{"$f":"VLOOKUP($G$2:$G$50000,'Location Type (FICM Codes)'!$A$7:$B$188,2,FALSE)","v":{"$error":"#N/A"}},null,null,null,null,null,{"$f":"VLOOKUP(G1190:G11188,'Location Type (FICM Codes)'!$A$7:$C$188,3,FALSE)","v":{"$error":"#N/A"}}]
[null,null,null,null,null,null,null,{"$f":"VLOOKUP($G$2:$G$50000,'Location Type (FICM Codes)'!$A$7:$B$188,2,FALSE)","v":{"$error":"#N/A"}},null,null,null,null,null,{"$f":"VLOOKUP(G1191:G11189,'Location Type (FICM Codes)'!$A$7:$C$188,3,FALSE)","v":{"$error":"#N/A"}}]
[null,null,null,null,null,null,null,{"$f":"VLOOKUP($G$2:$G$50000,'Location Type (FICM Codes)'!$A$7:$B$188,2,FALSE)","v":{"$error":"#N/A"}},null,null,null,null,null,{"$f":"VLOOKUP(G1192:G11190,'Location Type (FICM Codes)'!$A$7:$C$188,3,FALSE)","v":{"$error":"#N/A"}}]
[null,null,null,null,null,null,null,{"$f":"VLOOKUP($G$2:$G$50000,'Location Type (FICM Codes)'!$A$7:$B$188,2,FALSE)","v":{"$error":"#N/A"}},null,null,null,null,null,{"$f":"VLOOKUP(G1193:G11191,'Location Type (FICM Codes)'!$A$7:$C$188,3,FALSE)","v":{"$error":"#N/A"}}]
[null,null,null,null,null,null,null,{"$f":"VLOOKUP($G$2:$G$50000,'Location Type (FICM Codes)'!$A$7:$B$188,2,FALSE)","v":{"$error":"#N/A"}},null,null,null,null,null,{"$f":"VLOOKUP(G1194:G11192,'Location Type (FICM Codes)'!$A$7:$C$188,3,FALSE)","v":{"$error":"#N/A"}}]
[null,null,null,null,null,null,null,{"$f":"VLOOKUP($G$2:$G$50000,'Location Type (FICM Codes)'!$A$7:$B$188,2,FALSE)","v":{"$error":"#N/A"}},null,null,null,null,null,{"$f":"VLOOKUP(G1195:G11193,'Location Type (FICM Codes)'!$A$7:$C$188,3,FALSE)","v":{"$error":"#N/A"}}]
[null,null,null,null,null,null,null,{"$f":"VLOOKUP($G$2:$G$50000,'Location Type (FICM Codes)'!$A$7:$B$188,2,FALSE)","v":{"$error":"#N/A"}},null,null,null,null,null,{"$f":"VLOOKUP(G1196:G11194,'Location Type (FICM Codes)'!$A$7:$C$188,3,FALSE)","v":{"$error":"#N/A"}}]
[null,null,null,null,null,null,null,{"$f":"VLOOKUP($G$2:$G$50000,'Location Type (FICM Codes)'!$A$7:$B$188,2,FALSE)","v":{"$error":"#N/A"}},null,null,null,null,null,{"$f":"VLOOKUP(G1197:G11195,'Location Type (FICM Codes)'!$A$7:$C$188,3,FALSE)","v":{"$error":"#N/A"}}]
[null,null,null,null,null,null,null,{"$f":"VLOOKUP($G$2:$G$50000,'Location Type (FICM Codes)'!$A$7:$B$188,2,FALSE)","v":{"$error":"#N/A"}},null,null,null,null,null,{"$f":"VLOOKUP(G1198:G11196,'Location Type (FICM Codes)'!$A$7:$C$188,3,FALSE)","v":{"$error":"#N/A"}}]
[null,null,null,null,null,null,null,{"$f":"VLOOKUP($G$2:$G$50000,'Location Type (FICM Codes)'!$A$7:$B$188,2,FALSE)","v":{"$error":"#N/A"}},null,null,null,null,null,{"$f":"VLOOKUP(G1199:G11197,'Location Type (FICM Codes)'!$A$7:$C$188,3,FALSE)","v":{"$error":"#N/A"}}]
[null,null,null,null,null,null,null,{"$f":"VLOOKUP($G$2:$G$50000,'Location Type (FICM Codes)'!$A$7:$B$188,2,FALSE)","v":{"$error":"#N/A"}},null,null,null,null,null,{"$f":"VLOOKUP(G1200:G11198,'Location Type (FICM Codes)'!$A$7:$C$188,3,FALSE)","v":{"$error":"#N/A"}}]
[null,null,null,null,null,null,null,{"$f":"VLOOKUP($G$2:$G$50000,'Location Type (FICM Codes)'!$A$7:$B$188,2,FALSE)","v":{"$error":"#N/A"}},null,null,null,null,null,{"$f":"VLOOKUP(G1201:G11199,'Location Type (FICM Codes)'!$A$7:$C$188,3,FALSE)","v":{"$error":"#N/A"}}]
[null,null,null,null,null,null,null,{"$f":"VLOOKUP($G$2:$G$50000,'Location Type (FICM Codes)'!$A$7:$B$188,2,FALSE)","v":{"$error":"#N/A"}},null,null,null,null,null,{"$f":"VLOOKUP(G1202:G11200,'Location Type (FICM Codes)'!$A$7:$C$188,3,FALSE)","v":{"$error":"#N/A"}}]
[null,null,null,null,null,null,null,{"$f":"VLOOKUP($G$2:$G$50000,'Location Type (FICM Codes)'!$A$7:$B$188,2,FALSE)","v":{"$error":"#N/A"}},null,null,null,null,null,{"$f":"VLOOKUP(G1203:G11201,'Location Type (FICM Codes)'!$A$7:$C$188,3,FALSE)","v":{"$error":"#N/A"}}]
[null,null,null,null,null,null,null,{"$f":"VLOOKUP($G$2:$G$50000,'Location Type (FICM Codes)'!$A$7:$B$188,2,FALSE)","v":{"$error":"#N/A"}},null,null,null,null,null,{"$f":"VLOOKUP(G1204:G11202,'Location Type (FICM Codes)'!$A$7:$C$188,3,FALSE)","v":{"$error":"#N/A"}}]
[null,null,null,null,null,null,null,{"$f":"VLOOKUP($G$2:$G$50000,'Location Type (FICM Codes)'!$A$7:$B$188,2,FALSE)","v":{"$error":"#N/A"}},null,null,null,null,null,{"$f":"VLOOKUP(G1205:G11203,'Location Type (FICM Codes)'!$A$7:$C$188,3,FALSE)","v":{"$error":"#N/A"}}]
[null,null,null,null,null,null,null,{"$f":"VLOOKUP($G$2:$G$50000,'Location Type (FICM Codes)'!$A$7:$B$188,2,FALSE)","v":{"$error":"#N/A"}},null,null,null,null,null,{"$f":"VLOOKUP(G1206:G11204,'Location Type (FICM Codes)'!$A$7:$C$188,3,FALSE)","v":{"$error":"#N/A"}}]
[null,null,null,null,null,null,null,{"$f":"VLOOKUP($G$2:$G$50000,'Location Type (FICM Codes)'!$A$7:$B$188,2,FALSE)","v":{"$error":"#N/A"}},null,null,null,null,null,{"$f":"VLOOKUP(G1207:G11205,'Location Type (FICM Codes)'!$A$7:$C$188,3,FALSE)","v":{"$error":"#N/A"}}]
[null,null,null,null,null,null,null,{"$f":"VLOOKUP($G$2:$G$50000,'Location Type (FICM Codes)'!$A$7:$B$188,2,FALSE)","v":{"$error":"#N/A"}},null,null,null,null,null,{"$f":"VLOOKUP(G1208:G11206,'Location Type (FICM Codes)'!$A$7:$C$188,3,FALSE)","v":{"$error":"#N/A"}}]
[null,null,null,null,null,null,null,{"$f":"VLOOKUP($G$2:$G$50000,'Location Type (FICM Codes)'!$A$7:$B$188,2,FALSE)","v":{"$error":"#N/A"}},null,null,null,null,null,{"$f":"VLOOKUP(G1209:G11207,'Location Type (FICM Codes)'!$A$7:$C$188,3,FALSE)","v":{"$error":"#N/A"}}]
[null,null,null,null,null,null,null,{"$f":"VLOOKUP($G$2:$G$50000,'Location Type (FICM Codes)'!$A$7:$B$188,2,FALSE)","v":{"$error":"#N/A"}},null,null,null,null,null,{"$f":"VLOOKUP(G1210:G11208,'Location Type (FICM Codes)'!$A$7:$C$188,3,FALSE)","v":{"$error":"#N/A"}}]
[null,null,null,null,null,null,null,{"$f":"VLOOKUP($G$2:$G$50000,'Location Type (FICM Codes)'!$A$7:$B$188,2,FALSE)","v":{"$error":"#N/A"}},null,null,null,null,null,{"$f":"VLOOKUP(G1211:G11209,'Location Type (FICM Codes)'!$A$7:$C$188,3,FALSE)","v":{"$error":"#N/A"}}]
[null,null,null,null,null,null,null,{"$f":"VLOOKUP($G$2:$G$50000,'Location Type (FICM Codes)'!$A$7:$B$188,2,FALSE)","v":{"$error":"#N/A"}},null,null,null,null,null,{"$f":"VLOOKUP(G1212:G11210,'Location Type (FICM Codes)'!$A$7:$C$188,3,FALSE)","v":{"$error":"#N/A"}}]
[null,null,null,null,null,null,null,{"$f":"VLOOKUP($G$2:$G$50000,'Location Type (FICM Codes)'!$A$7:$B$188,2,FALSE)","v":{"$error":"#N/A"}},null,null,null,null,null,{"$f":"VLOOKUP(G1213:G11211,'Location Type (FICM Codes)'!$A$7:$C$188,3,FALSE)","v":{"$error":"#N/A"}}]
[null,null,null,null,null,null,null,{"$f":"VLOOKUP($G$2:$G$50000,'Location Type (FICM Codes)'!$A$7:$B$188,2,FALSE)","v":{"$error":"#N/A"}},null,null,null,null,null,{"$f":"VLOOKUP(G1214:G11212,'Location Type (FICM Codes)'!$A$7:$C$188,3,FALSE)","v":{"$error":"#N/A"}}]
[null,null,null,null,null,null,null,{"$f":"VLOOKUP($G$2:$G$50000,'Location Type (FICM Codes)'!$A$7:$B$188,2,FALSE)","v":{"$error":"#N/A"}},null,null,null,null,null,{"$f":"VLOOKUP(G1215:G11213,'Location Type (FICM Codes)'!$A$7:$C$188,3,FALSE)","v":{"$error":"#N/A"}}]
[null,null,null,null,null,null,null,{"$f":"VLOOKUP($G$2:$G$50000,'Location Type (FICM Codes)'!$A$7:$B$188,2,FALSE)","v":{"$error":"#N/A"}},null,null,null,null,null,{"$f":"VLOOKUP(G1216:G11214,'Location Type (FICM Codes)'!$A$7:$C$188,3,FALSE)","v":{"$error":"#N/A"}}]
[null,null,null,null,null,null,null,{"$f":"VLOOKUP($G$2:$G$50000,'Location Type (FICM Codes)'!$A$7:$B$188,2,FALSE)","v":{"$error":"#N/A"}},null,null,null,null,null,{"$f":"VLOOKUP(G1217:G11215,'Location Type (FICM Codes)'!$A$7:$C$188,3,FALSE)","v":{"$error":"#N/A"}}]
[null,null,null,null,null,null,null,{"$f":"VLOOKUP($G$2:$G$50000,'Location Type (FICM Codes)'!$A$7:$B$188,2,FALSE)","v":{"$error":"#N/A"}},null,null,null,null,null,{"$f":"VLOOKUP(G1218:G11216,'Location Type (FICM Codes)'!$A$7:$C$188,3,FALSE)","v":{"$error":"#N/A"}}]
[null,null,null,null,null,null,null,{"$f":"VLOOKUP($G$2:$G$50000,'Location Type (FICM Codes)'!$A$7:$B$188,2,FALSE)","v":{"$error":"#N/A"}},null,null,null,null,null,{"$f":"VLOOKUP(G1219:G11217,'Location Type (FICM Codes)'!$A$7:$C$188,3,FALSE)","v":{"$error":"#N/A"}}]
[null,null,null,null,null,null,null,{"$f":"VLOOKUP($G$2:$G$50000,'Location Type (FICM Codes)'!$A$7:$B$188,2,FALSE)","v":{"$error":"#N/A"}},null,null,null,null,null,{"$f":"VLOOKUP(G1220:G11218,'Location Type (FICM Codes)'!$A$7:$C$188,3,FALSE)","v":{"$error":"#N/A"}}]
[null,null,null,null,null,null,null,{"$f":"VLOOKUP($G$2:$G$50000,'Location Type (FICM Codes)'!$A$7:$B$188,2,FALSE)","v":{"$error":"#N/A"}},null,null,null,null,null,{"$f":"VLOOKUP(G1221:G11219,'Location Type (FICM Codes)'!$A$7:$C$188,3,FALSE)","v":{"$error":"#N/A"}}]
[null,null,null,null,null,null,null,{"$f":"VLOOKUP($G$2:$G$50000,'Location Type (FICM Codes)'!$A$7:$B$188,2,FALSE)","v":{"$error":"#N/A"}},null,null,null,null,null,{"$f":"VLOOKUP(G1222:G11220,'Location Type (FICM Codes)'!$A$7:$C$188,3,FALSE)","v":{"$error":"#N/A"}}]
[null,null,null,null,null,null,null,{"$f":"VLOOKUP($G$2:$G$50000,'Location Type (FICM Codes)'!$A$7:$B$188,2,FALSE)","v":{"$error":"#N/A"}},null,null,null,null,null,{"$f":"VLOOKUP(G1223:G11221,'Location Type (FICM Codes)'!$A$7:$C$188,3,FALSE)","v":{"$error":"#N/A"}}]
[null,null,null,null,null,null,null,{"$f":"VLOOKUP($G$2:$G$50000,'Location Type (FICM Codes)'!$A$7:$B$188,2,FALSE)","v":{"$error":"#N/A"}},null,null,null,null,null,{"$f":"VLOOKUP(G1224:G11222,'Location Type (FICM Codes)'!$A$7:$C$188,3,FALSE)","v":{"$error":"#N/A"}}]
[null,null,null,null,null,null,null,{"$f":"VLOOKUP($G$2:$G$50000,'Location Type (FICM Codes)'!$A$7:$B$188,2,FALSE)","v":{"$error":"#N/A"}},null,null,null,null,null,{"$f":"VLOOKUP(G1225:G11223,'Location Type (FICM Codes)'!$A$7:$C$188,3,FALSE)","v":{"$error":"#N/A"}}]
[null,null,null,null,null,null,null,{"$f":"VLOOKUP($G$2:$G$50000,'Location Type (FICM Codes)'!$A$7:$B$188,2,FALSE)","v":{"$error":"#N/A"}},null,null,null,null,null,{"$f":"VLOOKUP(G1226:G11224,'Location Type (FICM Codes)'!$A$7:$C$188,3,FALSE)","v":{"$error":"#N/A"}}]
[null,null,null,null,null,null,null,{"$f":"VLOOKUP($G$2:$G$50000,'Location Type (FICM Codes)'!$A$7:$B$188,2,FALSE)","v":{"$error":"#N/A"}},null,null,null,null,null,{"$f":"VLOOKUP(G1227:G11225,'Location Type (FICM Codes)'!$A$7:$C$188,3,FALSE)","v":{"$error":"#N/A"}}]
[null,null,null,null,null,null,null,{"$f":"VLOOKUP($G$2:$G$50000,'Location Type (FICM Codes)'!$A$7:$B$188,2,FALSE)","v":{"$error":"#N/A"}},null,null,null,null,null,{"$f":"VLOOKUP(G1228:G11226,'Location Type (FICM Codes)'!$A$7:$C$188,3,FALSE)","v":{"$error":"#N/A"}}]
[null,null,null,null,null,null,null,{"$f":"VLOOKUP($G$2:$G$50000,'Location Type (FICM Codes)'!$A$7:$B$188,2,FALSE)","v":{"$error":"#N/A"}},null,null,null,null,null,{"$f":"VLOOKUP(G1229:G11227,'Location Type (FICM Codes)'!$A$7:$C$188,3,FALSE)","v":{"$error":"#N/A"}}]
[null,null,null,null,null,null,null,{"$f":"VLOOKUP($G$2:$G$50000,'Location Type (FICM Codes)'!$A$7:$B$188,2,FALSE)","v":{"$error":"#N/A"}},null,null,null,null,null,{"$f":"VLOOKUP(G1230:G11228,'Location Type (FICM Codes)'!$A$7:$C$188,3,FALSE)","v":{"$error":"#N/A"}}]
[null,null,null,null,null,null,null,{"$f":"VLOOKUP($G$2:$G$50000,'Location Type (FICM Codes)'!$A$7:$B$188,2,FALSE)","v":{"$error":"#N/A"}},null,null,null,null,null,{"$f":"VLOOKUP(G1231:G11229,'Location Type (FICM Codes)'!$A$7:$C$188,3,FALSE)","v":{"$error":"#N/A"}}]
[null,null,null,null,null,null,null,{"$f":"VLOOKUP($G$2:$G$50000,'Location Type (FICM Codes)'!$A$7:$B$188,2,FALSE)","v":{"$error":"#N/A"}},null,null,null,null,null,{"$f":"VLOOKUP(G1232:G11230,'Location Type (FICM Codes)'!$A$7:$C$188,3,FALSE)","v":{"$error":"#N/A"}}]
[null,null,null,null,null,null,null,{"$f":"VLOOKUP($G$2:$G$50000,'Location Type (FICM Codes)'!$A$7:$B$188,2,FALSE)","v":{"$error":"#N/A"}},null,null,null,null,null,{"$f":"VLOOKUP(G1233:G11231,'Location Type (FICM Codes)'!$A$7:$C$188,3,FALSE)","v":{"$error":"#N/A"}}]
[null,null,null,null,null,null,null,{"$f":"VLOOKUP($G$2:$G$50000,'Location Type (FICM Codes)'!$A$7:$B$188,2,FALSE)","v":{"$error":"#N/A"}},null,null,null,null,null,{"$f":"VLOOKUP(G1234:G11232,'Location Type (FICM Codes)'!$A$7:$C$188,3,FALSE)","v":{"$error":"#N/A"}}]
[null,null,null,null,null,null,null,{"$f":"VLOOKUP($G$2:$G$50000,'Location Type (FICM Codes)'!$A$7:$B$188,2,FALSE)","v":{"$error":"#N/A"}},null,null,null,null,null,{"$f":"VLOOKUP(G1235:G11233,'Location Type (FICM Codes)'!$A$7:$C$188,3,FALSE)","v":{"$error":"#N/A"}}]
[null,null,null,null,null,null,null,{"$f":"VLOOKUP($G$2:$G$50000,'Location Type (FICM Codes)'!$A$7:$B$188,2,FALSE)","v":{"$error":"#N/A"}},null,null,null,null,null,{"$f":"VLOOKUP(G1236:G11234,'Location Type (FICM Codes)'!$A$7:$C$188,3,FALSE)","v":{"$error":"#N/A"}}]
[null,null,null,null,null,null,null,{"$f":"VLOOKUP($G$2:$G$50000,'Location Type (FICM Codes)'!$A$7:$B$188,2,FALSE)","v":{"$error":"#N/A"}},null,null,null,null,null,{"$f":"VLOOKUP(G1237:G11235,'Location Type (FICM Codes)'!$A$7:$C$188,3,FALSE)","v":{"$error":"#N/A"}}]
[null,null,null,null,null,null,null,{"$f":"VLOOKUP($G$2:$G$50000,'Location Type (FICM Codes)'!$A$7:$B$188,2,FALSE)","v":{"$error":"#N/A"}},null,null,null,null,null,{"$f":"VLOOKUP(G1238:G11236,'Location Type (FICM Codes)'!$A$7:$C$188,3,FALSE)","v":{"$error":"#N/A"}}]
[null,null,null,null,null,null,null,{"$f":"VLOOKUP($G$2:$G$50000,'Location Type (FICM Codes)'!$A$7:$B$188,2,FALSE)","v":{"$error":"#N/A"}},null,null,null,null,null,{"$f":"VLOOKUP(G1239:G11237,'Location Type (FICM Codes)'!$A$7:$C$188,3,FALSE)","v":{"$error":"#N/A"}}]
[null,null,null,null,null,null,null,{"$f":"VLOOKUP($G$2:$G$50000,'Location Type (FICM Codes)'!$A$7:$B$188,2,FALSE)","v":{"$error":"#N/A"}},null,null,null,null,null,{"$f":"VLOOKUP(G1240:G11238,'Location Type (FICM Codes)'!$A$7:$C$188,3,FALSE)","v":{"$error":"#N/A"}}]
[null,null,null,null,null,null,null,{"$f":"VLOOKUP($G$2:$G$50000,'Location Type (FICM Codes)'!$A$7:$B$188,2,FALSE)","v":{"$error":"#N/A"}},null,null,null,null,null,{"$f":"VLOOKUP(G1241:G11239,'Location Type (FICM Codes)'!$A$7:$C$188,3,FALSE)","v":{"$error":"#N/A"}}]
[null,null,null,null,null,null,null,{"$f":"VLOOKUP($G$2:$G$50000,'Location Type (FICM Codes)'!$A$7:$B$188,2,FALSE)","v":{"$error":"#N/A"}},null,null,null,null,null,{"$f":"VLOOKUP(G1242:G11240,'Location Type (FICM Codes)'!$A$7:$C$188,3,FALSE)","v":{"$error":"#N/A"}}]
[null,null,null,null,null,null,null,{"$f":"VLOOKUP($G$2:$G$50000,'Location Type (FICM Codes)'!$A$7:$B$188,2,FALSE)","v":{"$error":"#N/A"}},null,null,null,null,null,{"$f":"VLOOKUP(G1243:G11241,'Location Type (FICM Codes)'!$A$7:$C$188,3,FALSE)","v":{"$error":"#N/A"}}]
[null,null,null,null,null,null,null,{"$f":"VLOOKUP($G$2:$G$50000,'Location Type (FICM Codes)'!$A$7:$B$188,2,FALSE)","v":{"$error":"#N/A"}},null,null,null,null,null,{"$f":"VLOOKUP(G1244:G11242,'Location Type (FICM Codes)'!$A$7:$C$188,3,FALSE)","v":{"$error":"#N/A"}}]
[null,null,null,null,null,null,null,{"$f":"VLOOKUP($G$2:$G$50000,'Location Type (FICM Codes)'!$A$7:$B$188,2,FALSE)","v":{"$error":"#N/A"}},null,null,null,null,null,{"$f":"VLOOKUP(G1245:G11243,'Location Type (FICM Codes)'!$A$7:$C$188,3,FALSE)","v":{"$error":"#N/A"}}]
[null,null,null,null,null,null,null,{"$f":"VLOOKUP($G$2:$G$50000,'Location Type (FICM Codes)'!$A$7:$B$188,2,FALSE)","v":{"$error":"#N/A"}},null,null,null,null,null,{"$f":"VLOOKUP(G1246:G11244,'Location Type (FICM Codes)'!$A$7:$C$188,3,FALSE)","v":{"$error":"#N/A"}}]
[null,null,null,null,null,null,null,{"$f":"VLOOKUP($G$2:$G$50000,'Location Type (FICM Codes)'!$A$7:$B$188,2,FALSE)","v":{"$error":"#N/A"}},null,null,null,null,null,{"$f":"VLOOKUP(G1247:G11245,'Location Type (FICM Codes)'!$A$7:$C$188,3,FALSE)","v":{"$error":"#N/A"}}]
[null,null,null,null,null,null,null,{"$f":"VLOOKUP($G$2:$G$50000,'Location Type (FICM Codes)'!$A$7:$B$188,2,FALSE)","v":{"$error":"#N/A"}},null,null,null,null,null,{"$f":"VLOOKUP(G1248:G11246,'Location Type (FICM Codes)'!$A$7:$C$188,3,FALSE)","v":{"$error":"#N/A"}}]
[null,null,null,null,null,null,null,{"$f":"VLOOKUP($G$2:$G$50000,'Location Type (FICM Codes)'!$A$7:$B$188,2,FALSE)","v":{"$error":"#N/A"}},null,null,null,null,null,{"$f":"VLOOKUP(G1249:G11247,'Location Type (FICM Codes)'!$A$7:$C$188,3,FALSE)","v":{"$error":"#N/A"}}]
[null,null,null,null,null,null,null,{"$f":"VLOOKUP($G$2:$G$50000,'Location Type (FICM Codes)'!$A$7:$B$188,2,FALSE)","v":{"$error":"#N/A"}},null,null,null,null,null,{"$f":"VLOOKUP(G1250:G11248,'Location Type (FICM Codes)'!$A$7:$C$188,3,FALSE)","v":{"$error":"#N/A"}}]
[null,null,null,null,null,null,null,{"$f":"VLOOKUP($G$2:$G$50000,'Location Type (FICM Codes)'!$A$7:$B$188,2,FALSE)","v":{"$error":"#N/A"}},null,null,null,null,null,{"$f":"VLOOKUP(G1251:G11249,'Location Type (FICM Codes)'!$A$7:$C$188,3,FALSE)","v":{"$error":"#N/A"}}]
[null,null,null,null,null,null,null,{"$f":"VLOOKUP($G$2:$G$50000,'Location Type (FICM Codes)'!$A$7:$B$188,2,FALSE)","v":{"$error":"#N/A"}},null,null,null,null,null,{"$f":"VLOOKUP(G1252:G11250,'Location Type (FICM Codes)'!$A$7:$C$188,3,FALSE)","v":{"$error":"#N/A"}}]
[null,null,null,null,null,null,null,{"$f":"VLOOKUP($G$2:$G$50000,'Location Type (FICM Codes)'!$A$7:$B$188,2,FALSE)","v":{"$error":"#N/A"}},null,null,null,null,null,{"$f":"VLOOKUP(G1253:G11251,'Location Type (FICM Codes)'!$A$7:$C$188,3,FALSE)","v":{"$error":"#N/A"}}]
[null,null,null,null,null,null,null,{"$f":"VLOOKUP($G$2:$G$50000,'Location Type (FICM Codes)'!$A$7:$B$188,2,FALSE)","v":{"$error":"#N/A"}},null,null,null,null,null,{"$f":"VLOOKUP(G1254:G11252,'Location Type (FICM Codes)'!$A$7:$C$188,3,FALSE)","v":{"$error":"#N/A"}}]
[null,null,null,null,null,null,null,{"$f":"VLOOKUP($G$2:$G$50000,'Location Type (FICM Codes)'!$A$7:$B$188,2,FALSE)","v":{"$error":"#N/A"}},null,null,null,null,null,{"$f":"VLOOKUP(G1255:G11253,'Location Type (FICM Codes)'!$A$7:$C$188,3,FALSE)","v":{"$error":"#N/A"}}]
[null,null,null,null,null,null,null,{"$f":"VLOOKUP($G$2:$G$50000,'Location Type (FICM Codes)'!$A$7:$B$188,2,FALSE)","v":{"$error":"#N/A"}},null,null,null,null,null,{"$f":"VLOOKUP(G1256:G11254,'Location Type (FICM Codes)'!$A$7:$C$188,3,FALSE)","v":{"$error":"#N/A"}}]
[null,null,null,null,null,null,null,{"$f":"VLOOKUP($G$2:$G$50000,'Location Type (FICM Codes)'!$A$7:$B$188,2,FALSE)","v":{"$error":"#N/A"}},null,null,null,null,null,{"$f":"VLOOKUP(G1257:G11255,'Location Type (FICM Codes)'!$A$7:$C$188,3,FALSE)","v":{"$error":"#N/A"}}]
[null,null,null,null,null,null,null,{"$f":"VLOOKUP($G$2:$G$50000,'Location Type (FICM Codes)'!$A$7:$B$188,2,FALSE)","v":{"$error":"#N/A"}},null,null,null,null,null,{"$f":"VLOOKUP(G1258:G11256,'Location Type (FICM Codes)'!$A$7:$C$188,3,FALSE)","v":{"$error":"#N/A"}}]
[null,null,null,null,null,null,null,{"$f":"VLOOKUP($G$2:$G$50000,'Location Type (FICM Codes)'!$A$7:$B$188,2,FALSE)","v":{"$error":"#N/A"}},null,null,null,null,null,{"$f":"VLOOKUP(G1259:G11257,'Location Type (FICM Codes)'!$A$7:$C$188,3,FALSE)","v":{"$error":"#N/A"}}]
[null,null,null,null,null,null,null,{"$f":"VLOOKUP($G$2:$G$50000,'Location Type (FICM Codes)'!$A$7:$B$188,2,FALSE)","v":{"$error":"#N/A"}},null,null,null,null,null,{"$f":"VLOOKUP(G1260:G11258,'Location Type (FICM Codes)'!$A$7:$C$188,3,FALSE)","v":{"$error":"#N/A"}}]
[null,null,null,null,null,null,null,{"$f":"VLOOKUP($G$2:$G$50000,'Location Type (FICM Codes)'!$A$7:$B$188,2,FALSE)","v":{"$error":"#N/A"}},null,null,null,null,null,{"$f":"VLOOKUP(G1261:G11259,'Location Type (FICM Codes)'!$A$7:$C$188,3,FALSE)","v":{"$error":"#N/A"}}]
[null,null,null,null,null,null,null,{"$f":"VLOOKUP($G$2:$G$50000,'Location Type (FICM Codes)'!$A$7:$B$188,2,FALSE)","v":{"$error":"#N/A"}},null,null,null,null,null,{"$f":"VLOOKUP(G1262:G11260,'Location Type (FICM Codes)'!$A$7:$C$188,3,FALSE)","v":{"$error":"#N/A"}}]
[null,null,null,null,null,null,null,{"$f":"VLOOKUP($G$2:$G$50000,'Location Type (FICM Codes)'!$A$7:$B$188,2,FALSE)","v":{"$error":"#N/A"}},null,null,null,null,null,{"$f":"VLOOKUP(G1263:G11261,'Location Type (FICM Codes)'!$A$7:$C$188,3,FALSE)","v":{"$error":"#N/A"}}]
[null,null,null,null,null,null,null,{"$f":"VLOOKUP($G$2:$G$50000,'Location Type (FICM Codes)'!$A$7:$B$188,2,FALSE)","v":{"$error":"#N/A"}},null,null,null,null,null,{"$f":"VLOOKUP(G1264:G11262,'Location Type (FICM Codes)'!$A$7:$C$188,3,FALSE)","v":{"$error":"#N/A"}}]
[null,null,null,null,null,null,null,{"$f":"VLOOKUP($G$2:$G$50000,'Location Type (FICM Codes)'!$A$7:$B$188,2,FALSE)","v":{"$error":"#N/A"}},null,null,null,null,null,{"$f":"VLOOKUP(G1265:G11263,'Location Type (FICM Codes)'!$A$7:$C$188,3,FALSE)","v":{"$error":"#N/A"}}]
[null,null,null,null,null,null,null,{"$f":"VLOOKUP($G$2:$G$50000,'Location Type (FICM Codes)'!$A$7:$B$188,2,FALSE)","v":{"$error":"#N/A"}},null,null,null,null,null,{"$f":"VLOOKUP(G1266:G11264,'Location Type (FICM Codes)'!$A$7:$C$188,3,FALSE)","v":{"$error":"#N/A"}}]
[null,null,null,null,null,null,null,{"$f":"VLOOKUP($G$2:$G$50000,'Location Type (FICM Codes)'!$A$7:$B$188,2,FALSE)","v":{"$error":"#N/A"}},null,null,null,null,null,{"$f":"VLOOKUP(G1267:G11265,'Location Type (FICM Codes)'!$A$7:$C$188,3,FALSE)","v":{"$error":"#N/A"}}]
[null,null,null,null,null,null,null,{"$f":"VLOOKUP($G$2:$G$50000,'Location Type (FICM Codes)'!$A$7:$B$188,2,FALSE)","v":{"$error":"#N/A"}},null,null,null,null,null,{"$f":"VLOOKUP(G1268:G11266,'Location Type (FICM Codes)'!$A$7:$C$188,3,FALSE)","v":{"$error":"#N/A"}}]
[null,null,null,null,null,null,null,{"$f":"VLOOKUP($G$2:$G$50000,'Location Type (FICM Codes)'!$A$7:$B$188,2,FALSE)","v":{"$error":"#N/A"}},null,null,null,null,null,{"$f":"VLOOKUP(G1269:G11267,'Location Type (FICM Codes)'!$A$7:$C$188,3,FALSE)","v":{"$error":"#N/A"}}]
[null,null,null,null,null,null,null,{"$f":"VLOOKUP($G$2:$G$50000,'Location Type (FICM Codes)'!$A$7:$B$188,2,FALSE)","v":{"$error":"#N/A"}},null,null,null,null,null,{"$f":"VLOOKUP(G1270:G11268,'Location Type (FICM Codes)'!$A$7:$C$188,3,FALSE)","v":{"$error":"#N/A"}}]
[null,null,null,null,null,null,null,{"$f":"VLOOKUP($G$2:$G$50000,'Location Type (FICM Codes)'!$A$7:$B$188,2,FALSE)","v":{"$error":"#N/A"}},null,null,null,null,null,{"$f":"VLOOKUP(G1271:G11269,'Location Type (FICM Codes)'!$A$7:$C$188,3,FALSE)","v":{"$error":"#N/A"}}]
[null,null,null,null,null,null,null,{"$f":"VLOOKUP($G$2:$G$50000,'Location Type (FICM Codes)'!$A$7:$B$188,2,FALSE)","v":{"$error":"#N/A"}},null,null,null,null,null,{"$f":"VLOOKUP(G1272:G11270,'Location Type (FICM Codes)'!$A$7:$C$188,3,FALSE)","v":{"$error":"#N/A"}}]
[null,null,null,null,null,null,null,{"$f":"VLOOKUP($G$2:$G$50000,'Location Type (FICM Codes)'!$A$7:$B$188,2,FALSE)","v":{"$error":"#N/A"}},null,null,null,null,null,{"$f":"VLOOKUP(G1273:G11271,'Location Type (FICM Codes)'!$A$7:$C$188,3,FALSE)","v":{"$error":"#N/A"}}]
[null,null,null,null,null,null,null,{"$f":"VLOOKUP($G$2:$G$50000,'Location Type (FICM Codes)'!$A$7:$B$188,2,FALSE)","v":{"$error":"#N/A"}},null,null,null,null,null,{"$f":"VLOOKUP(G1274:G11272,'Location Type (FICM Codes)'!$A$7:$C$188,3,FALSE)","v":{"$error":"#N/A"}}]
[null,null,null,null,null,null,null,{"$f":"VLOOKUP($G$2:$G$50000,'Location Type (FICM Codes)'!$A$7:$B$188,2,FALSE)","v":{"$error":"#N/A"}},null,null,null,null,null,{"$f":"VLOOKUP(G1275:G11273,'Location Type (FICM Codes)'!$A$7:$C$188,3,FALSE)","v":{"$error":"#N/A"}}]
[null,null,null,null,null,null,null,{"$f":"VLOOKUP($G$2:$G$50000,'Location Type (FICM Codes)'!$A$7:$B$188,2,FALSE)","v":{"$error":"#N/A"}},null,null,null,null,null,{"$f":"VLOOKUP(G1276:G11274,'Location Type (FICM Codes)'!$A$7:$C$188,3,FALSE)","v":{"$error":"#N/A"}}]
[null,null,null,null,null,null,null,{"$f":"VLOOKUP($G$2:$G$50000,'Location Type (FICM Codes)'!$A$7:$B$188,2,FALSE)","v":{"$error":"#N/A"}},null,null,null,null,null,{"$f":"VLOOKUP(G1277:G11275,'Location Type (FICM Codes)'!$A$7:$C$188,3,FALSE)","v":{"$error":"#N/A"}}]
[null,null,null,null,null,null,null,{"$f":"VLOOKUP($G$2:$G$50000,'Location Type (FICM Codes)'!$A$7:$B$188,2,FALSE)","v":{"$error":"#N/A"}},null,null,null,null,null,{"$f":"VLOOKUP(G1278:G11276,'Location Type (FICM Codes)'!$A$7:$C$188,3,FALSE)","v":{"$error":"#N/A"}}]
[null,null,null,null,null,null,null,{"$f":"VLOOKUP($G$2:$G$50000,'Location Type (FICM Codes)'!$A$7:$B$188,2,FALSE)","v":{"$error":"#N/A"}},null,null,null,null,null,{"$f":"VLOOKUP(G1279:G11277,'Location Type (FICM Codes)'!$A$7:$C$188,3,FALSE)","v":{"$error":"#N/A"}}]
[null,null,null,null,null,null,null,{"$f":"VLOOKUP($G$2:$G$50000,'Location Type (FICM Codes)'!$A$7:$B$188,2,FALSE)","v":{"$error":"#N/A"}},null,null,null,null,null,{"$f":"VLOOKUP(G1280:G11278,'Location Type (FICM Codes)'!$A$7:$C$188,3,FALSE)","v":{"$error":"#N/A"}}]
[null,null,null,null,null,null,null,{"$f":"VLOOKUP($G$2:$G$50000,'Location Type (FICM Codes)'!$A$7:$B$188,2,FALSE)","v":{"$error":"#N/A"}},null,null,null,null,null,{"$f":"VLOOKUP(G1281:G11279,'Location Type (FICM Codes)'!$A$7:$C$188,3,FALSE)","v":{"$error":"#N/A"}}]
[null,null,null,null,null,null,null,{"$f":"VLOOKUP($G$2:$G$50000,'Location Type (FICM Codes)'!$A$7:$B$188,2,FALSE)","v":{"$error":"#N/A"}},null,null,null,null,null,{"$f":"VLOOKUP(G1282:G11280,'Location Type (FICM Codes)'!$A$7:$C$188,3,FALSE)","v":{"$error":"#N/A"}}]
[null,null,null,null,null,null,null,{"$f":"VLOOKUP($G$2:$G$50000,'Location Type (FICM Codes)'!$A$7:$B$188,2,FALSE)","v":{"$error":"#N/A"}},null,null,null,null,null,{"$f":"VLOOKUP(G1283:G11281,'Location Type (FICM Codes)'!$A$7:$C$188,3,FALSE)","v":{"$error":"#N/A"}}]
[null,null,null,null,null,null,null,{"$f":"VLOOKUP($G$2:$G$50000,'Location Type (FICM Codes)'!$A$7:$B$188,2,FALSE)","v":{"$error":"#N/A"}},null,null,null,null,null,{"$f":"VLOOKUP(G1284:G11282,'Location Type (FICM Codes)'!$A$7:$C$188,3,FALSE)","v":{"$error":"#N/A"}}]
[null,null,null,null,null,null,null,{"$f":"VLOOKUP($G$2:$G$50000,'Location Type (FICM Codes)'!$A$7:$B$188,2,FALSE)","v":{"$error":"#N/A"}},null,null,null,null,null,{"$f":"VLOOKUP(G1285:G11283,'Location Type (FICM Codes)'!$A$7:$C$188,3,FALSE)","v":{"$error":"#N/A"}}]
[null,null,null,null,null,null,null,{"$f":"VLOOKUP($G$2:$G$50000,'Location Type (FICM Codes)'!$A$7:$B$188,2,FALSE)","v":{"$error":"#N/A"}},null,null,null,null,null,{"$f":"VLOOKUP(G1286:G11284,'Location Type (FICM Codes)'!$A$7:$C$188,3,FALSE)","v":{"$error":"#N/A"}}]
[null,null,null,null,null,null,null,{"$f":"VLOOKUP($G$2:$G$50000,'Location Type (FICM Codes)'!$A$7:$B$188,2,FALSE)","v":{"$error":"#N/A"}},null,null,null,null,null,{"$f":"VLOOKUP(G1287:G11285,'Location Type (FICM Codes)'!$A$7:$C$188,3,FALSE)","v":{"$error":"#N/A"}}]
[null,null,null,null,null,null,null,{"$f":"VLOOKUP($G$2:$G$50000,'Location Type (FICM Codes)'!$A$7:$B$188,2,FALSE)","v":{"$error":"#N/A"}},null,null,null,null,null,{"$f":"VLOOKUP(G1288:G11286,'Location Type (FICM Codes)'!$A$7:$C$188,3,FALSE)","v":{"$error":"#N/A"}}]
[null,null,null,null,null,null,null,{"$f":"VLOOKUP($G$2:$G$50000,'Location Type (FICM Codes)'!$A$7:$B$188,2,FALSE)","v":{"$error":"#N/A"}},null,null,null,null,null,{"$f":"VLOOKUP(G1289:G11287,'Location Type (FICM Codes)'!$A$7:$C$188,3,FALSE)","v":{"$error":"#N/A"}}]
[null,null,null,null,null,null,null,{"$f":"VLOOKUP($G$2:$G$50000,'Location Type (FICM Codes)'!$A$7:$B$188,2,FALSE)","v":{"$error":"#N/A"}},null,null,null,null,null,{"$f":"VLOOKUP(G1290:G11288,'Location Type (FICM Codes)'!$A$7:$C$188,3,FALSE)","v":{"$error":"#N/A"}}]
[null,null,null,null,null,null,null,{"$f":"VLOOKUP($G$2:$G$50000,'Location Type (FICM Codes)'!$A$7:$B$188,2,FALSE)","v":{"$error":"#N/A"}},null,null,null,null,null,{"$f":"VLOOKUP(G1291:G11289,'Location Type (FICM Codes)'!$A$7:$C$188,3,FALSE)","v":{"$error":"#N/A"}}]
[null,null,null,null,null,null,null,{"$f":"VLOOKUP($G$2:$G$50000,'Location Type (FICM Codes)'!$A$7:$B$188,2,FALSE)","v":{"$error":"#N/A"}},null,null,null,null,null,{"$f":"VLOOKUP(G1292:G11290,'Location Type (FICM Codes)'!$A$7:$C$188,3,FALSE)","v":{"$error":"#N/A"}}]
[null,null,null,null,null,null,null,{"$f":"VLOOKUP($G$2:$G$50000,'Location Type (FICM Codes)'!$A$7:$B$188,2,FALSE)","v":{"$error":"#N/A"}},null,null,null,null,null,{"$f":"VLOOKUP(G1293:G11291,'Location Type (FICM Codes)'!$A$7:$C$188,3,FALSE)","v":{"$error":"#N/A"}}]
[null,null,null,null,null,null,null,{"$f":"VLOOKUP($G$2:$G$50000,'Location Type (FICM Codes)'!$A$7:$B$188,2,FALSE)","v":{"$error":"#N/A"}},null,null,null,null,null,{"$f":"VLOOKUP(G1294:G11292,'Location Type (FICM Codes)'!$A$7:$C$188,3,FALSE)","v":{"$error":"#N/A"}}]
[null,null,null,null,null,null,null,{"$f":"VLOOKUP($G$2:$G$50000,'Location Type (FICM Codes)'!$A$7:$B$188,2,FALSE)","v":{"$error":"#N/A"}},null,null,null,null,null,{"$f":"VLOOKUP(G1295:G11293,'Location Type (FICM Codes)'!$A$7:$C$188,3,FALSE)","v":{"$error":"#N/A"}}]
[null,null,null,null,null,null,null,{"$f":"VLOOKUP($G$2:$G$50000,'Location Type (FICM Codes)'!$A$7:$B$188,2,FALSE)","v":{"$error":"#N/A"}},null,null,null,null,null,{"$f":"VLOOKUP(G1296:G11294,'Location Type (FICM Codes)'!$A$7:$C$188,3,FALSE)","v":{"$error":"#N/A"}}]
[null,null,null,null,null,null,null,{"$f":"VLOOKUP($G$2:$G$50000,'Location Type (FICM Codes)'!$A$7:$B$188,2,FALSE)","v":{"$error":"#N/A"}},null,null,null,null,null,{"$f":"VLOOKUP(G1297:G11295,'Location Type (FICM Codes)'!$A$7:$C$188,3,FALSE)","v":{"$error":"#N/A"}}]
[null,null,null,null,null,null,null,{"$f":"VLOOKUP($G$2:$G$50000,'Location Type (FICM Codes)'!$A$7:$B$188,2,FALSE)","v":{"$error":"#N/A"}},null,null,null,null,null,{"$f":"VLOOKUP(G1298:G11296,'Location Type (FICM Codes)'!$A$7:$C$188,3,FALSE)","v":{"$error":"#N/A"}}]
[null,null,null,null,null,null,null,{"$f":"VLOOKUP($G$2:$G$50000,'Location Type (FICM Codes)'!$A$7:$B$188,2,FALSE)","v":{"$error":"#N/A"}},null,null,null,null,null,{"$f":"VLOOKUP(G1299:G11297,'Location Type (FICM Codes)'!$A$7:$C$188,3,FALSE)","v":{"$error":"#N/A"}}]
[null,null,null,null,null,null,null,{"$f":"VLOOKUP($G$2:$G$50000,'Location Type (FICM Codes)'!$A$7:$B$188,2,FALSE)","v":{"$error":"#N/A"}},null,null,null,null,null,{"$f":"VLOOKUP(G1300:G11298,'Location Type (FICM Codes)'!$A$7:$C$188,3,FALSE)","v":{"$error":"#N/A"}}]
[null,null,null,null,null,null,null,{"$f":"VLOOKUP($G$2:$G$50000,'Location Type (FICM Codes)'!$A$7:$B$188,2,FALSE)","v":{"$error":"#N/A"}},null,null,null,null,null,{"$f":"VLOOKUP(G1301:G11299,'Location Type (FICM Codes)'!$A$7:$C$188,3,FALSE)","v":{"$error":"#N/A"}}]
[null,null,null,null,null,null,null,{"$f":"VLOOKUP($G$2:$G$50000,'Location Type (FICM Codes)'!$A$7:$B$188,2,FALSE)","v":{"$error":"#N/A"}},null,null,null,null,null,{"$f":"VLOOKUP(G1302:G11300,'Location Type (FICM Codes)'!$A$7:$C$188,3,FALSE)","v":{"$error":"#N/A"}}]
[null,null,null,null,null,null,null,{"$f":"VLOOKUP($G$2:$G$50000,'Location Type (FICM Codes)'!$A$7:$B$188,2,FALSE)","v":{"$error":"#N/A"}},null,null,null,null,null,{"$f":"VLOOKUP(G1303:G11301,'Location Type (FICM Codes)'!$A$7:$C$188,3,FALSE)","v":{"$error":"#N/A"}}]
[null,null,null,null,null,null,null,{"$f":"VLOOKUP($G$2:$G$50000,'Location Type (FICM Codes)'!$A$7:$B$188,2,FALSE)","v":{"$error":"#N/A"}},null,null,null,null,null,{"$f":"VLOOKUP(G1304:G11302,'Location Type (FICM Codes)'!$A$7:$C$188,3,FALSE)","v":{"$error":"#N/A"}}]
[null,null,null,null,null,null,null,{"$f":"VLOOKUP($G$2:$G$50000,'Location Type (FICM Codes)'!$A$7:$B$188,2,FALSE)","v":{"$error":"#N/A"}},null,null,null,null,null,{"$f":"VLOOKUP(G1305:G11303,'Location Type (FICM Codes)'!$A$7:$C$188,3,FALSE)","v":{"$error":"#N/A"}}]
[null,null,null,null,null,null,null,{"$f":"VLOOKUP($G$2:$G$50000,'Location Type (FICM Codes)'!$A$7:$B$188,2,FALSE)","v":{"$error":"#N/A"}},null,null,null,null,null,{"$f":"VLOOKUP(G1306:G11304,'Location Type (FICM Codes)'!$A$7:$C$188,3,FALSE)","v":{"$error":"#N/A"}}]
[null,null,null,null,null,null,null,{"$f":"VLOOKUP($G$2:$G$50000,'Location Type (FICM Codes)'!$A$7:$B$188,2,FALSE)","v":{"$error":"#N/A"}},null,null,null,null,null,{"$f":"VLOOKUP(G1307:G11305,'Location Type (FICM Codes)'!$A$7:$C$188,3,FALSE)","v":{"$error":"#N/A"}}]
[null,null,null,null,null,null,null,{"$f":"VLOOKUP($G$2:$G$50000,'Location Type (FICM Codes)'!$A$7:$B$188,2,FALSE)","v":{"$error":"#N/A"}},null,null,null,null,null,{"$f":"VLOOKUP(G1308:G11306,'Location Type (FICM Codes)'!$A$7:$C$188,3,FALSE)","v":{"$error":"#N/A"}}]
[null,null,null,null,null,null,null,{"$f":"VLOOKUP($G$2:$G$50000,'Location Type (FICM Codes)'!$A$7:$B$188,2,FALSE)","v":{"$error":"#N/A"}},null,null,null,null,null,{"$f":"VLOOKUP(G1309:G11307,'Location Type (FICM Codes)'!$A$7:$C$188,3,FALSE)","v":{"$error":"#N/A"}}]
[null,null,null,null,null,null,null,{"$f":"VLOOKUP($G$2:$G$50000,'Location Type (FICM Codes)'!$A$7:$B$188,2,FALSE)","v":{"$error":"#N/A"}},null,null,null,null,null,{"$f":"VLOOKUP(G1310:G11308,'Location Type (FICM Codes)'!$A$7:$C$188,3,FALSE)","v":{"$error":"#N/A"}}]
[null,null,null,null,null,null,null,{"$f":"VLOOKUP($G$2:$G$50000,'Location Type (FICM Codes)'!$A$7:$B$188,2,FALSE)","v":{"$error":"#N/A"}},null,null,null,null,null,{"$f":"VLOOKUP(G1311:G11309,'Location Type (FICM Codes)'!$A$7:$C$188,3,FALSE)","v":{"$error":"#N/A"}}]
[null,null,null,null,null,null,null,{"$f":"VLOOKUP($G$2:$G$50000,'Location Type (FICM Codes)'!$A$7:$B$188,2,FALSE)","v":{"$error":"#N/A"}},null,null,null,null,null,{"$f":"VLOOKUP(G1312:G11310,'Location Type (FICM Codes)'!$A$7:$C$188,3,FALSE)","v":{"$error":"#N/A"}}]
[null,null,null,null,null,null,null,{"$f":"VLOOKUP($G$2:$G$50000,'Location Type (FICM Codes)'!$A$7:$B$188,2,FALSE)","v":{"$error":"#N/A"}},null,null,null,null,null,{"$f":"VLOOKUP(G1313:G11311,'Location Type (FICM Codes)'!$A$7:$C$188,3,FALSE)","v":{"$error":"#N/A"}}]
[null,null,null,null,null,null,null,{"$f":"VLOOKUP($G$2:$G$50000,'Location Type (FICM Codes)'!$A$7:$B$188,2,FALSE)","v":{"$error":"#N/A"}},null,null,null,null,null,{"$f":"VLOOKUP(G1314:G11312,'Location Type (FICM Codes)'!$A$7:$C$188,3,FALSE)","v":{"$error":"#N/A"}}]
[null,null,null,null,null,null,null,{"$f":"VLOOKUP($G$2:$G$50000,'Location Type (FICM Codes)'!$A$7:$B$188,2,FALSE)","v":{"$error":"#N/A"}},null,null,null,null,null,{"$f":"VLOOKUP(G1315:G11313,'Location Type (FICM Codes)'!$A$7:$C$188,3,FALSE)","v":{"$error":"#N/A"}}]
[null,null,null,null,null,null,null,{"$f":"VLOOKUP($G$2:$G$50000,'Location Type (FICM Codes)'!$A$7:$B$188,2,FALSE)","v":{"$error":"#N/A"}},null,null,null,null,null,{"$f":"VLOOKUP(G1316:G11314,'Location Type (FICM Codes)'!$A$7:$C$188,3,FALSE)","v":{"$error":"#N/A"}}]
[null,null,null,null,null,null,null,{"$f":"VLOOKUP($G$2:$G$50000,'Location Type (FICM Codes)'!$A$7:$B$188,2,FALSE)","v":{"$error":"#N/A"}},null,null,null,null,null,{"$f":"VLOOKUP(G1317:G11315,'Location Type (FICM Codes)'!$A$7:$C$188,3,FALSE)","v":{"$error":"#N/A"}}]
[null,null,null,null,null,null,null,{"$f":"VLOOKUP($G$2:$G$50000,'Location Type (FICM Codes)'!$A$7:$B$188,2,FALSE)","v":{"$error":"#N/A"}},null,null,null,null,null,{"$f":"VLOOKUP(G1318:G11316,'Location Type (FICM Codes)'!$A$7:$C$188,3,FALSE)","v":{"$error":"#N/A"}}]
[null,null,null,null,null,null,null,{"$f":"VLOOKUP($G$2:$G$50000,'Location Type (FICM Codes)'!$A$7:$B$188,2,FALSE)","v":{"$error":"#N/A"}},null,null,null,null,null,{"$f":"VLOOKUP(G1319:G11317,'Location Type (FICM Codes)'!$A$7:$C$188,3,FALSE)","v":{"$error":"#N/A"}}]
[null,null,null,null,null,null,null,{"$f":"VLOOKUP($G$2:$G$50000,'Location Type (FICM Codes)'!$A$7:$B$188,2,FALSE)","v":{"$error":"#N/A"}},null,null,null,null,null,{"$f":"VLOOKUP(G1320:G11318,'Location Type (FICM Codes)'!$A$7:$C$188,3,FALSE)","v":{"$error":"#N/A"}}]
[null,null,null,null,null,null,null,{"$f":"VLOOKUP($G$2:$G$50000,'Location Type (FICM Codes)'!$A$7:$B$188,2,FALSE)","v":{"$error":"#N/A"}},null,null,null,null,null,{"$f":"VLOOKUP(G1321:G11319,'Location Type (FICM Codes)'!$A$7:$C$188,3,FALSE)","v":{"$error":"#N/A"}}]
[null,null,null,null,null,null,null,{"$f":"VLOOKUP($G$2:$G$50000,'Location Type (FICM Codes)'!$A$7:$B$188,2,FALSE)","v":{"$error":"#N/A"}},null,null,null,null,null,{"$f":"VLOOKUP(G1322:G11320,'Location Type (FICM Codes)'!$A$7:$C$188,3,FALSE)","v":{"$error":"#N/A"}}]
[null,null,null,null,null,null,null,{"$f":"VLOOKUP($G$2:$G$50000,'Location Type (FICM Codes)'!$A$7:$B$188,2,FALSE)","v":{"$error":"#N/A"}},null,null,null,null,null,{"$f":"VLOOKUP(G1323:G11321,'Location Type (FICM Codes)'!$A$7:$C$188,3,FALSE)","v":{"$error":"#N/A"}}]
[null,null,null,null,null,null,null,{"$f":"VLOOKUP($G$2:$G$50000,'Location Type (FICM Codes)'!$A$7:$B$188,2,FALSE)","v":{"$error":"#N/A"}},null,null,null,null,null,{"$f":"VLOOKUP(G1324:G11322,'Location Type (FICM Codes)'!$A$7:$C$188,3,FALSE)","v":{"$error":"#N/A"}}]
[null,null,null,null,null,null,null,{"$f":"VLOOKUP($G$2:$G$50000,'Location Type (FICM Codes)'!$A$7:$B$188,2,FALSE)","v":{"$error":"#N/A"}},null,null,null,null,null,{"$f":"VLOOKUP(G1325:G11323,'Location Type (FICM Codes)'!$A$7:$C$188,3,FALSE)","v":{"$error":"#N/A"}}]
[null,null,null,null,null,null,null,{"$f":"VLOOKUP($G$2:$G$50000,'Location Type (FICM Codes)'!$A$7:$B$188,2,FALSE)","v":{"$error":"#N/A"}},null,null,null,null,null,{"$f":"VLOOKUP(G1326:G11324,'Location Type (FICM Codes)'!$A$7:$C$188,3,FALSE)","v":{"$error":"#N/A"}}]
[null,null,null,null,null,null,null,{"$f":"VLOOKUP($G$2:$G$50000,'Location Type (FICM Codes)'!$A$7:$B$188,2,FALSE)","v":{"$error":"#N/A"}},null,null,null,null,null,{"$f":"VLOOKUP(G1327:G11325,'Location Type (FICM Codes)'!$A$7:$C$188,3,FALSE)","v":{"$error":"#N/A"}}]
[null,null,null,null,null,null,null,{"$f":"VLOOKUP($G$2:$G$50000,'Location Type (FICM Codes)'!$A$7:$B$188,2,FALSE)","v":{"$error":"#N/A"}},null,null,null,null,null,{"$f":"VLOOKUP(G1328:G11326,'Location Type (FICM Codes)'!$A$7:$C$188,3,FALSE)","v":{"$error":"#N/A"}}]
[null,null,null,null,null,null,null,{"$f":"VLOOKUP($G$2:$G$50000,'Location Type (FICM Codes)'!$A$7:$B$188,2,FALSE)","v":{"$error":"#N/A"}},null,null,null,null,null,{"$f":"VLOOKUP(G1329:G11327,'Location Type (FICM Codes)'!$A$7:$C$188,3,FALSE)","v":{"$error":"#N/A"}}]
[null,null,null,null,null,null,null,{"$f":"VLOOKUP($G$2:$G$50000,'Location Type (FICM Codes)'!$A$7:$B$188,2,FALSE)","v":{"$error":"#N/A"}},null,null,null,null,null,{"$f":"VLOOKUP(G1330:G11328,'Location Type (FICM Codes)'!$A$7:$C$188,3,FALSE)","v":{"$error":"#N/A"}}]
[null,null,null,null,null,null,null,{"$f":"VLOOKUP($G$2:$G$50000,'Location Type (FICM Codes)'!$A$7:$B$188,2,FALSE)","v":{"$error":"#N/A"}},null,null,null,null,null,{"$f":"VLOOKUP(G1331:G11329,'Location Type (FICM Codes)'!$A$7:$C$188,3,FALSE)","v":{"$error":"#N/A"}}]
[null,null,null,null,null,null,null,{"$f":"VLOOKUP($G$2:$G$50000,'Location Type (FICM Codes)'!$A$7:$B$188,2,FALSE)","v":{"$error":"#N/A"}},null,null,null,null,null,{"$f":"VLOOKUP(G1332:G11330,'Location Type (FICM Codes)'!$A$7:$C$188,3,FALSE)","v":{"$error":"#N/A"}}]
[null,null,null,null,null,null,null,{"$f":"VLOOKUP($G$2:$G$50000,'Location Type (FICM Codes)'!$A$7:$B$188,2,FALSE)","v":{"$error":"#N/A"}},null,null,null,null,null,{"$f":"VLOOKUP(G1333:G11331,'Location Type (FICM Codes)'!$A$7:$C$188,3,FALSE)","v":{"$error":"#N/A"}}]
[null,null,null,null,null,null,null,{"$f":"VLOOKUP($G$2:$G$50000,'Location Type (FICM Codes)'!$A$7:$B$188,2,FALSE)","v":{"$error":"#N/A"}},null,null,null,null,null,{"$f":"VLOOKUP(G1334:G11332,'Location Type (FICM Codes)'!$A$7:$C$188,3,FALSE)","v":{"$error":"#N/A"}}]
[null,null,null,null,null,null,null,{"$f":"VLOOKUP($G$2:$G$50000,'Location Type (FICM Codes)'!$A$7:$B$188,2,FALSE)","v":{"$error":"#N/A"}},null,null,null,null,null,{"$f":"VLOOKUP(G1335:G11333,'Location Type (FICM Codes)'!$A$7:$C$188,3,FALSE)","v":{"$error":"#N/A"}}]
[null,null,null,null,null,null,null,{"$f":"VLOOKUP($G$2:$G$50000,'Location Type (FICM Codes)'!$A$7:$B$188,2,FALSE)","v":{"$error":"#N/A"}},null,null,null,null,null,{"$f":"VLOOKUP(G1336:G11334,'Location Type (FICM Codes)'!$A$7:$C$188,3,FALSE)","v":{"$error":"#N/A"}}]
[null,null,null,null,null,null,null,{"$f":"VLOOKUP($G$2:$G$50000,'Location Type (FICM Codes)'!$A$7:$B$188,2,FALSE)","v":{"$error":"#N/A"}},null,null,null,null,null,{"$f":"VLOOKUP(G1337:G11335,'Location Type (FICM Codes)'!$A$7:$C$188,3,FALSE)","v":{"$error":"#N/A"}}]
[null,null,null,null,null,null,null,{"$f":"VLOOKUP($G$2:$G$50000,'Location Type (FICM Codes)'!$A$7:$B$188,2,FALSE)","v":{"$error":"#N/A"}},null,null,null,null,null,{"$f":"VLOOKUP(G1338:G11336,'Location Type (FICM Codes)'!$A$7:$C$188,3,FALSE)","v":{"$error":"#N/A"}}]
[null,null,null,null,null,null,null,{"$f":"VLOOKUP($G$2:$G$50000,'Location Type (FICM Codes)'!$A$7:$B$188,2,FALSE)","v":{"$error":"#N/A"}},null,null,null,null,null,{"$f":"VLOOKUP(G1339:G11337,'Location Type (FICM Codes)'!$A$7:$C$188,3,FALSE)","v":{"$error":"#N/A"}}]
[null,null,null,null,null,null,null,{"$f":"VLOOKUP($G$2:$G$50000,'Location Type (FICM Codes)'!$A$7:$B$188,2,FALSE)","v":{"$error":"#N/A"}},null,null,null,null,null,{"$f":"VLOOKUP(G1340:G11338,'Location Type (FICM Codes)'!$A$7:$C$188,3,FALSE)","v":{"$error":"#N/A"}}]
[null,null,null,null,null,null,null,{"$f":"VLOOKUP($G$2:$G$50000,'Location Type (FICM Codes)'!$A$7:$B$188,2,FALSE)","v":{"$error":"#N/A"}},null,null,null,null,null,{"$f":"VLOOKUP(G1341:G11339,'Location Type (FICM Codes)'!$A$7:$C$188,3,FALSE)","v":{"$error":"#N/A"}}]
[null,null,null,null,null,null,null,{"$f":"VLOOKUP($G$2:$G$50000,'Location Type (FICM Codes)'!$A$7:$B$188,2,FALSE)","v":{"$error":"#N/A"}},null,null,null,null,null,{"$f":"VLOOKUP(G1342:G11340,'Location Type (FICM Codes)'!$A$7:$C$188,3,FALSE)","v":{"$error":"#N/A"}}]
[null,null,null,null,null,null,null,{"$f":"VLOOKUP($G$2:$G$50000,'Location Type (FICM Codes)'!$A$7:$B$188,2,FALSE)","v":{"$error":"#N/A"}},null,null,null,null,null,{"$f":"VLOOKUP(G1343:G11341,'Location Type (FICM Codes)'!$A$7:$C$188,3,FALSE)","v":{"$error":"#N/A"}}]
[null,null,null,null,null,null,null,{"$f":"VLOOKUP($G$2:$G$50000,'Location Type (FICM Codes)'!$A$7:$B$188,2,FALSE)","v":{"$error":"#N/A"}},null,null,null,null,null,{"$f":"VLOOKUP(G1344:G11342,'Location Type (FICM Codes)'!$A$7:$C$188,3,FALSE)","v":{"$error":"#N/A"}}]
[null,null,null,null,null,null,null,{"$f":"VLOOKUP($G$2:$G$50000,'Location Type (FICM Codes)'!$A$7:$B$188,2,FALSE)","v":{"$error":"#N/A"}},null,null,null,null,null,{"$f":"VLOOKUP(G1345:G11343,'Location Type (FICM Codes)'!$A$7:$C$188,3,FALSE)","v":{"$error":"#N/A"}}]
[null,null,null,null,null,null,null,{"$f":"VLOOKUP($G$2:$G$50000,'Location Type (FICM Codes)'!$A$7:$B$188,2,FALSE)","v":{"$error":"#N/A"}},null,null,null,null,null,{"$f":"VLOOKUP(G1346:G11344,'Location Type (FICM Codes)'!$A$7:$C$188,3,FALSE)","v":{"$error":"#N/A"}}]
[null,null,null,null,null,null,null,{"$f":"VLOOKUP($G$2:$G$50000,'Location Type (FICM Codes)'!$A$7:$B$188,2,FALSE)","v":{"$error":"#N/A"}},null,null,null,null,null,{"$f":"VLOOKUP(G1347:G11345,'Location Type (FICM Codes)'!$A$7:$C$188,3,FALSE)","v":{"$error":"#N/A"}}]
[null,null,null,null,null,null,null,{"$f":"VLOOKUP($G$2:$G$50000,'Location Type (FICM Codes)'!$A$7:$B$188,2,FALSE)","v":{"$error":"#N/A"}},null,null,null,null,null,{"$f":"VLOOKUP(G1348:G11346,'Location Type (FICM Codes)'!$A$7:$C$188,3,FALSE)","v":{"$error":"#N/A"}}]
[null,null,null,null,null,null,null,{"$f":"VLOOKUP($G$2:$G$50000,'Location Type (FICM Codes)'!$A$7:$B$188,2,FALSE)","v":{"$error":"#N/A"}},null,null,null,null,null,{"$f":"VLOOKUP(G1349:G11347,'Location Type (FICM Codes)'!$A$7:$C$188,3,FALSE)","v":{"$error":"#N/A"}}]
[null,null,null,null,null,null,null,{"$f":"VLOOKUP($G$2:$G$50000,'Location Type (FICM Codes)'!$A$7:$B$188,2,FALSE)","v":{"$error":"#N/A"}},null,null,null,null,null,{"$f":"VLOOKUP(G1350:G11348,'Location Type (FICM Codes)'!$A$7:$C$188,3,FALSE)","v":{"$error":"#N/A"}}]
[null,null,null,null,null,null,null,{"$f":"VLOOKUP($G$2:$G$50000,'Location Type (FICM Codes)'!$A$7:$B$188,2,FALSE)","v":{"$error":"#N/A"}},null,null,null,null,null,{"$f":"VLOOKUP(G1351:G11349,'Location Type (FICM Codes)'!$A$7:$C$188,3,FALSE)","v":{"$error":"#N/A"}}]
[null,null,null,null,null,null,null,{"$f":"VLOOKUP($G$2:$G$50000,'Location Type (FICM Codes)'!$A$7:$B$188,2,FALSE)","v":{"$error":"#N/A"}},null,null,null,null,null,{"$f":"VLOOKUP(G1352:G11350,'Location Type (FICM Codes)'!$A$7:$C$188,3,FALSE)","v":{"$error":"#N/A"}}]
[null,null,null,null,null,null,null,{"$f":"VLOOKUP($G$2:$G$50000,'Location Type (FICM Codes)'!$A$7:$B$188,2,FALSE)","v":{"$error":"#N/A"}},null,null,null,null,null,{"$f":"VLOOKUP(G1353:G11351,'Location Type (FICM Codes)'!$A$7:$C$188,3,FALSE)","v":{"$error":"#N/A"}}]
[null,null,null,null,null,null,null,{"$f":"VLOOKUP($G$2:$G$50000,'Location Type (FICM Codes)'!$A$7:$B$188,2,FALSE)","v":{"$error":"#N/A"}},null,null,null,null,null,{"$f":"VLOOKUP(G1354:G11352,'Location Type (FICM Codes)'!$A$7:$C$188,3,FALSE)","v":{"$error":"#N/A"}}]
[null,null,null,null,null,null,null,{"$f":"VLOOKUP($G$2:$G$50000,'Location Type (FICM Codes)'!$A$7:$B$188,2,FALSE)","v":{"$error":"#N/A"}},null,null,null,null,null,{"$f":"VLOOKUP(G1355:G11353,'Location Type (FICM Codes)'!$A$7:$C$188,3,FALSE)","v":{"$error":"#N/A"}}]
[null,null,null,null,null,null,null,{"$f":"VLOOKUP($G$2:$G$50000,'Location Type (FICM Codes)'!$A$7:$B$188,2,FALSE)","v":{"$error":"#N/A"}},null,null,null,null,null,{"$f":"VLOOKUP(G1356:G11354,'Location Type (FICM Codes)'!$A$7:$C$188,3,FALSE)","v":{"$error":"#N/A"}}]
[null,null,null,null,null,null,null,{"$f":"VLOOKUP($G$2:$G$50000,'Location Type (FICM Codes)'!$A$7:$B$188,2,FALSE)","v":{"$error":"#N/A"}},null,null,null,null,null,{"$f":"VLOOKUP(G1357:G11355,'Location Type (FICM Codes)'!$A$7:$C$188,3,FALSE)","v":{"$error":"#N/A"}}]
[null,null,null,null,null,null,null,{"$f":"VLOOKUP($G$2:$G$50000,'Location Type (FICM Codes)'!$A$7:$B$188,2,FALSE)","v":{"$error":"#N/A"}},null,null,null,null,null,{"$f":"VLOOKUP(G1358:G11356,'Location Type (FICM Codes)'!$A$7:$C$188,3,FALSE)","v":{"$error":"#N/A"}}]
[null,null,null,null,null,null,null,{"$f":"VLOOKUP($G$2:$G$50000,'Location Type (FICM Codes)'!$A$7:$B$188,2,FALSE)","v":{"$error":"#N/A"}},null,null,null,null,null,{"$f":"VLOOKUP(G1359:G11357,'Location Type (FICM Codes)'!$A$7:$C$188,3,FALSE)","v":{"$error":"#N/A"}}]
[null,null,null,null,null,null,null,{"$f":"VLOOKUP($G$2:$G$50000,'Location Type (FICM Codes)'!$A$7:$B$188,2,FALSE)","v":{"$error":"#N/A"}},null,null,null,null,null,{"$f":"VLOOKUP(G1360:G11358,'Location Type (FICM Codes)'!$A$7:$C$188,3,FALSE)","v":{"$error":"#N/A"}}]
[null,null,null,null,null,null,null,{"$f":"VLOOKUP($G$2:$G$50000,'Location Type (FICM Codes)'!$A$7:$B$188,2,FALSE)","v":{"$error":"#N/A"}},null,null,null,null,null,{"$f":"VLOOKUP(G1361:G11359,'Location Type (FICM Codes)'!$A$7:$C$188,3,FALSE)","v":{"$error":"#N/A"}}]
[null,null,null,null,null,null,null,{"$f":"VLOOKUP($G$2:$G$50000,'Location Type (FICM Codes)'!$A$7:$B$188,2,FALSE)","v":{"$error":"#N/A"}},null,null,null,null,null,{"$f":"VLOOKUP(G1362:G11360,'Location Type (FICM Codes)'!$A$7:$C$188,3,FALSE)","v":{"$error":"#N/A"}}]
[null,null,null,null,null,null,null,{"$f":"VLOOKUP($G$2:$G$50000,'Location Type (FICM Codes)'!$A$7:$B$188,2,FALSE)","v":{"$error":"#N/A"}},null,null,null,null,null,{"$f":"VLOOKUP(G1363:G11361,'Location Type (FICM Codes)'!$A$7:$C$188,3,FALSE)","v":{"$error":"#N/A"}}]
[null,null,null,null,null,null,null,{"$f":"VLOOKUP($G$2:$G$50000,'Location Type (FICM Codes)'!$A$7:$B$188,2,FALSE)","v":{"$error":"#N/A"}},null,null,null,null,null,{"$f":"VLOOKUP(G1364:G11362,'Location Type (FICM Codes)'!$A$7:$C$188,3,FALSE)","v":{"$error":"#N/A"}}]
[null,null,null,null,null,null,null,{"$f":"VLOOKUP($G$2:$G$50000,'Location Type (FICM Codes)'!$A$7:$B$188,2,FALSE)","v":{"$error":"#N/A"}},null,null,null,null,null,{"$f":"VLOOKUP(G1365:G11363,'Location Type (FICM Codes)'!$A$7:$C$188,3,FALSE)","v":{"$error":"#N/A"}}]
[null,null,null,null,null,null,null,{"$f":"VLOOKUP($G$2:$G$50000,'Location Type (FICM Codes)'!$A$7:$B$188,2,FALSE)","v":{"$error":"#N/A"}},null,null,null,null,null,{"$f":"VLOOKUP(G1366:G11364,'Location Type (FICM Codes)'!$A$7:$C$188,3,FALSE)","v":{"$error":"#N/A"}}]
[null,null,null,null,null,null,null,{"$f":"VLOOKUP($G$2:$G$50000,'Location Type (FICM Codes)'!$A$7:$B$188,2,FALSE)","v":{"$error":"#N/A"}},null,null,null,null,null,{"$f":"VLOOKUP(G1367:G11365,'Location Type (FICM Codes)'!$A$7:$C$188,3,FALSE)","v":{"$error":"#N/A"}}]
[null,null,null,null,null,null,null,{"$f":"VLOOKUP($G$2:$G$50000,'Location Type (FICM Codes)'!$A$7:$B$188,2,FALSE)","v":{"$error":"#N/A"}},null,null,null,null,null,{"$f":"VLOOKUP(G1368:G11366,'Location Type (FICM Codes)'!$A$7:$C$188,3,FALSE)","v":{"$error":"#N/A"}}]
[null,null,null,null,null,null,null,{"$f":"VLOOKUP($G$2:$G$50000,'Location Type (FICM Codes)'!$A$7:$B$188,2,FALSE)","v":{"$error":"#N/A"}},null,null,null,null,null,{"$f":"VLOOKUP(G1369:G11367,'Location Type (FICM Codes)'!$A$7:$C$188,3,FALSE)","v":{"$error":"#N/A"}}]
[null,null,null,null,null,null,null,{"$f":"VLOOKUP($G$2:$G$50000,'Location Type (FICM Codes)'!$A$7:$B$188,2,FALSE)","v":{"$error":"#N/A"}},null,null,null,null,null,{"$f":"VLOOKUP(G1370:G11368,'Location Type (FICM Codes)'!$A$7:$C$188,3,FALSE)","v":{"$error":"#N/A"}}]
[null,null,null,null,null,null,null,{"$f":"VLOOKUP($G$2:$G$50000,'Location Type (FICM Codes)'!$A$7:$B$188,2,FALSE)","v":{"$error":"#N/A"}},null,null,null,null,null,{"$f":"VLOOKUP(G1371:G11369,'Location Type (FICM Codes)'!$A$7:$C$188,3,FALSE)","v":{"$error":"#N/A"}}]
[null,null,null,null,null,null,null,{"$f":"VLOOKUP($G$2:$G$50000,'Location Type (FICM Codes)'!$A$7:$B$188,2,FALSE)","v":{"$error":"#N/A"}},null,null,null,null,null,{"$f":"VLOOKUP(G1372:G11370,'Location Type (FICM Codes)'!$A$7:$C$188,3,FALSE)","v":{"$error":"#N/A"}}]
[null,null,null,null,null,null,null,{"$f":"VLOOKUP($G$2:$G$50000,'Location Type (FICM Codes)'!$A$7:$B$188,2,FALSE)","v":{"$error":"#N/A"}},null,null,null,null,null,{"$f":"VLOOKUP(G1373:G11371,'Location Type (FICM Codes)'!$A$7:$C$188,3,FALSE)","v":{"$error":"#N/A"}}]
[null,null,null,null,null,null,null,{"$f":"VLOOKUP($G$2:$G$50000,'Location Type (FICM Codes)'!$A$7:$B$188,2,FALSE)","v":{"$error":"#N/A"}},null,null,null,null,null,{"$f":"VLOOKUP(G1374:G11372,'Location Type (FICM Codes)'!$A$7:$C$188,3,FALSE)","v":{"$error":"#N/A"}}]
[null,null,null,null,null,null,null,{"$f":"VLOOKUP($G$2:$G$50000,'Location Type (FICM Codes)'!$A$7:$B$188,2,FALSE)","v":{"$error":"#N/A"}},null,null,null,null,null,{"$f":"VLOOKUP(G1375:G11373,'Location Type (FICM Codes)'!$A$7:$C$188,3,FALSE)","v":{"$error":"#N/A"}}]
[null,null,null,null,null,null,null,{"$f":"VLOOKUP($G$2:$G$50000,'Location Type (FICM Codes)'!$A$7:$B$188,2,FALSE)","v":{"$error":"#N/A"}},null,null,null,null,null,{"$f":"VLOOKUP(G1376:G11374,'Location Type (FICM Codes)'!$A$7:$C$188,3,FALSE)","v":{"$error":"#N/A"}}]
[null,null,null,null,null,null,null,{"$f":"VLOOKUP($G$2:$G$50000,'Location Type (FICM Codes)'!$A$7:$B$188,2,FALSE)","v":{"$error":"#N/A"}},null,null,null,null,null,{"$f":"VLOOKUP(G1377:G11375,'Location Type (FICM Codes)'!$A$7:$C$188,3,FALSE)","v":{"$error":"#N/A"}}]
[null,null,null,null,null,null,null,{"$f":"VLOOKUP($G$2:$G$50000,'Location Type (FICM Codes)'!$A$7:$B$188,2,FALSE)","v":{"$error":"#N/A"}},null,null,null,null,null,{"$f":"VLOOKUP(G1378:G11376,'Location Type (FICM Codes)'!$A$7:$C$188,3,FALSE)","v":{"$error":"#N/A"}}]
[null,null,null,null,null,null,null,{"$f":"VLOOKUP($G$2:$G$50000,'Location Type (FICM Codes)'!$A$7:$B$188,2,FALSE)","v":{"$error":"#N/A"}},null,null,null,null,null,{"$f":"VLOOKUP(G1379:G11377,'Location Type (FICM Codes)'!$A$7:$C$188,3,FALSE)","v":{"$error":"#N/A"}}]
[null,null,null,null,null,null,null,{"$f":"VLOOKUP($G$2:$G$50000,'Location Type (FICM Codes)'!$A$7:$B$188,2,FALSE)","v":{"$error":"#N/A"}},null,null,null,null,null,{"$f":"VLOOKUP(G1380:G11378,'Location Type (FICM Codes)'!$A$7:$C$188,3,FALSE)","v":{"$error":"#N/A"}}]
[null,null,null,null,null,null,null,{"$f":"VLOOKUP($G$2:$G$50000,'Location Type (FICM Codes)'!$A$7:$B$188,2,FALSE)","v":{"$error":"#N/A"}},null,null,null,null,null,{"$f":"VLOOKUP(G1381:G11379,'Location Type (FICM Codes)'!$A$7:$C$188,3,FALSE)","v":{"$error":"#N/A"}}]
[null,null,null,null,null,null,null,{"$f":"VLOOKUP($G$2:$G$50000,'Location Type (FICM Codes)'!$A$7:$B$188,2,FALSE)","v":{"$error":"#N/A"}},null,null,null,null,null,{"$f":"VLOOKUP(G1382:G11380,'Location Type (FICM Codes)'!$A$7:$C$188,3,FALSE)","v":{"$error":"#N/A"}}]
[null,null,null,null,null,null,null,{"$f":"VLOOKUP($G$2:$G$50000,'Location Type (FICM Codes)'!$A$7:$B$188,2,FALSE)","v":{"$error":"#N/A"}},null,null,null,null,null,{"$f":"VLOOKUP(G1383:G11381,'Location Type (FICM Codes)'!$A$7:$C$188,3,FALSE)","v":{"$error":"#N/A"}}]
[null,null,null,null,null,null,null,{"$f":"VLOOKUP($G$2:$G$50000,'Location Type (FICM Codes)'!$A$7:$B$188,2,FALSE)","v":{"$error":"#N/A"}},null,null,null,null,null,{"$f":"VLOOKUP(G1384:G11382,'Location Type (FICM Codes)'!$A$7:$C$188,3,FALSE)","v":{"$error":"#N/A"}}]
[null,null,null,null,null,null,null,{"$f":"VLOOKUP($G$2:$G$50000,'Location Type (FICM Codes)'!$A$7:$B$188,2,FALSE)","v":{"$error":"#N/A"}},null,null,null,null,null,{"$f":"VLOOKUP(G1385:G11383,'Location Type (FICM Codes)'!$A$7:$C$188,3,FALSE)","v":{"$error":"#N/A"}}]
[null,null,null,null,null,null,null,{"$f":"VLOOKUP($G$2:$G$50000,'Location Type (FICM Codes)'!$A$7:$B$188,2,FALSE)","v":{"$error":"#N/A"}},null,null,null,null,null,{"$f":"VLOOKUP(G1386:G11384,'Location Type (FICM Codes)'!$A$7:$C$188,3,FALSE)","v":{"$error":"#N/A"}}]
[null,null,null,null,null,null,null,{"$f":"VLOOKUP($G$2:$G$50000,'Location Type (FICM Codes)'!$A$7:$B$188,2,FALSE)","v":{"$error":"#N/A"}},null,null,null,null,null,{"$f":"VLOOKUP(G1387:G11385,'Location Type (FICM Codes)'!$A$7:$C$188,3,FALSE)","v":{"$error":"#N/A"}}]
[null,null,null,null,null,null,null,{"$f":"VLOOKUP($G$2:$G$50000,'Location Type (FICM Codes)'!$A$7:$B$188,2,FALSE)","v":{"$error":"#N/A"}},null,null,null,null,null,{"$f":"VLOOKUP(G1388:G11386,'Location Type (FICM Codes)'!$A$7:$C$188,3,FALSE)","v":{"$error":"#N/A"}}]
[null,null,null,null,null,null,null,{"$f":"VLOOKUP($G$2:$G$50000,'Location Type (FICM Codes)'!$A$7:$B$188,2,FALSE)","v":{"$error":"#N/A"}},null,null,null,null,null,{"$f":"VLOOKUP(G1389:G11387,'Location Type (FICM Codes)'!$A$7:$C$188,3,FALSE)","v":{"$error":"#N/A"}}]
[null,null,null,null,null,null,null,{"$f":"VLOOKUP($G$2:$G$50000,'Location Type (FICM Codes)'!$A$7:$B$188,2,FALSE)","v":{"$error":"#N/A"}},null,null,null,null,null,{"$f":"VLOOKUP(G1390:G11388,'Location Type (FICM Codes)'!$A$7:$C$188,3,FALSE)","v":{"$error":"#N/A"}}]
[null,null,null,null,null,null,null,{"$f":"VLOOKUP($G$2:$G$50000,'Location Type (FICM Codes)'!$A$7:$B$188,2,FALSE)","v":{"$error":"#N/A"}},null,null,null,null,null,{"$f":"VLOOKUP(G1391:G11389,'Location Type (FICM Codes)'!$A$7:$C$188,3,FALSE)","v":{"$error":"#N/A"}}]
[null,null,null,null,null,null,null,{"$f":"VLOOKUP($G$2:$G$50000,'Location Type (FICM Codes)'!$A$7:$B$188,2,FALSE)","v":{"$error":"#N/A"}},null,null,null,null,null,{"$f":"VLOOKUP(G1392:G11390,'Location Type (FICM Codes)'!$A$7:$C$188,3,FALSE)","v":{"$error":"#N/A"}}]
[null,null,null,null,null,null,null,{"$f":"VLOOKUP($G$2:$G$50000,'Location Type (FICM Codes)'!$A$7:$B$188,2,FALSE)","v":{"$error":"#N/A"}},null,null,null,null,null,{"$f":"VLOOKUP(G1393:G11391,'Location Type (FICM Codes)'!$A$7:$C$188,3,FALSE)","v":{"$error":"#N/A"}}]
[null,null,null,null,null,null,null,{"$f":"VLOOKUP($G$2:$G$50000,'Location Type (FICM Codes)'!$A$7:$B$188,2,FALSE)","v":{"$error":"#N/A"}},null,null,null,null,null,{"$f":"VLOOKUP(G1394:G11392,'Location Type (FICM Codes)'!$A$7:$C$188,3,FALSE)","v":{"$error":"#N/A"}}]
[null,null,null,null,null,null,null,{"$f":"VLOOKUP($G$2:$G$50000,'Location Type (FICM Codes)'!$A$7:$B$188,2,FALSE)","v":{"$error":"#N/A"}},null,null,null,null,null,{"$f":"VLOOKUP(G1395:G11393,'Location Type (FICM Codes)'!$A$7:$C$188,3,FALSE)","v":{"$error":"#N/A"}}]
[null,null,null,null,null,null,null,{"$f":"VLOOKUP($G$2:$G$50000,'Location Type (FICM Codes)'!$A$7:$B$188,2,FALSE)","v":{"$error":"#N/A"}},null,null,null,null,null,{"$f":"VLOOKUP(G1396:G11394,'Location Type (FICM Codes)'!$A$7:$C$188,3,FALSE)","v":{"$error":"#N/A"}}]
[null,null,null,null,null,null,null,{"$f":"VLOOKUP($G$2:$G$50000,'Location Type (FICM Codes)'!$A$7:$B$188,2,FALSE)","v":{"$error":"#N/A"}},null,null,null,null,null,{"$f":"VLOOKUP(G1397:G11395,'Location Type (FICM Codes)'!$A$7:$C$188,3,FALSE)","v":{"$error":"#N/A"}}]
[null,null,null,null,null,null,null,{"$f":"VLOOKUP($G$2:$G$50000,'Location Type (FICM Codes)'!$A$7:$B$188,2,FALSE)","v":{"$error":"#N/A"}},null,null,null,null,null,{"$f":"VLOOKUP(G1398:G11396,'Location Type (FICM Codes)'!$A$7:$C$188,3,FALSE)","v":{"$error":"#N/A"}}]
[null,null,null,null,null,null,null,{"$f":"VLOOKUP($G$2:$G$50000,'Location Type (FICM Codes)'!$A$7:$B$188,2,FALSE)","v":{"$error":"#N/A"}},null,null,null,null,null,{"$f":"VLOOKUP(G1399:G11397,'Location Type (FICM Codes)'!$A$7:$C$188,3,FALSE)","v":{"$error":"#N/A"}}]
[null,null,null,null,null,null,null,{"$f":"VLOOKUP($G$2:$G$50000,'Location Type (FICM Codes)'!$A$7:$B$188,2,FALSE)","v":{"$error":"#N/A"}},null,null,null,null,null,{"$f":"VLOOKUP(G1400:G11398,'Location Type (FICM Codes)'!$A$7:$C$188,3,FALSE)","v":{"$error":"#N/A"}}]
[null,null,null,null,null,null,null,{"$f":"VLOOKUP($G$2:$G$50000,'Location Type (FICM Codes)'!$A$7:$B$188,2,FALSE)","v":{"$error":"#N/A"}},null,null,null,null,null,{"$f":"VLOOKUP(G1401:G11399,'Location Type (FICM Codes)'!$A$7:$C$188,3,FALSE)","v":{"$error":"#N/A"}}]
[null,null,null,null,null,null,null,{"$f":"VLOOKUP($G$2:$G$50000,'Location Type (FICM Codes)'!$A$7:$B$188,2,FALSE)","v":{"$error":"#N/A"}},null,null,null,null,null,{"$f":"VLOOKUP(G1402:G11400,'Location Type (FICM Codes)'!$A$7:$C$188,3,FALSE)","v":{"$error":"#N/A"}}]
[null,null,null,null,null,null,null,{"$f":"VLOOKUP($G$2:$G$50000,'Location Type (FICM Codes)'!$A$7:$B$188,2,FALSE)","v":{"$error":"#N/A"}},null,null,null,null,null,{"$f":"VLOOKUP(G1403:G11401,'Location Type (FICM Codes)'!$A$7:$C$188,3,FALSE)","v":{"$error":"#N/A"}}]
[null,null,null,null,null,null,null,{"$f":"VLOOKUP($G$2:$G$50000,'Location Type (FICM Codes)'!$A$7:$B$188,2,FALSE)","v":{"$error":"#N/A"}},null,null,null,null,null,{"$f":"VLOOKUP(G1404:G11402,'Location Type (FICM Codes)'!$A$7:$C$188,3,FALSE)","v":{"$error":"#N/A"}}]
[null,null,null,null,null,null,null,{"$f":"VLOOKUP($G$2:$G$50000,'Location Type (FICM Codes)'!$A$7:$B$188,2,FALSE)","v":{"$error":"#N/A"}},null,null,null,null,null,{"$f":"VLOOKUP(G1405:G11403,'Location Type (FICM Codes)'!$A$7:$C$188,3,FALSE)","v":{"$error":"#N/A"}}]
[null,null,null,null,null,null,null,{"$f":"VLOOKUP($G$2:$G$50000,'Location Type (FICM Codes)'!$A$7:$B$188,2,FALSE)","v":{"$error":"#N/A"}},null,null,null,null,null,{"$f":"VLOOKUP(G1406:G11404,'Location Type (FICM Codes)'!$A$7:$C$188,3,FALSE)","v":{"$error":"#N/A"}}]
[null,null,null,null,null,null,null,{"$f":"VLOOKUP($G$2:$G$50000,'Location Type (FICM Codes)'!$A$7:$B$188,2,FALSE)","v":{"$error":"#N/A"}},null,null,null,null,null,{"$f":"VLOOKUP(G1407:G11405,'Location Type (FICM Codes)'!$A$7:$C$188,3,FALSE)","v":{"$error":"#N/A"}}]
[null,null,null,null,null,null,null,{"$f":"VLOOKUP($G$2:$G$50000,'Location Type (FICM Codes)'!$A$7:$B$188,2,FALSE)","v":{"$error":"#N/A"}},null,null,null,null,null,{"$f":"VLOOKUP(G1408:G11406,'Location Type (FICM Codes)'!$A$7:$C$188,3,FALSE)","v":{"$error":"#N/A"}}]
[null,null,null,null,null,null,null,{"$f":"VLOOKUP($G$2:$G$50000,'Location Type (FICM Codes)'!$A$7:$B$188,2,FALSE)","v":{"$error":"#N/A"}},null,null,null,null,null,{"$f":"VLOOKUP(G1409:G11407,'Location Type (FICM Codes)'!$A$7:$C$188,3,FALSE)","v":{"$error":"#N/A"}}]
[null,null,null,null,null,null,null,{"$f":"VLOOKUP($G$2:$G$50000,'Location Type (FICM Codes)'!$A$7:$B$188,2,FALSE)","v":{"$error":"#N/A"}},null,null,null,null,null,{"$f":"VLOOKUP(G1410:G11408,'Location Type (FICM Codes)'!$A$7:$C$188,3,FALSE)","v":{"$error":"#N/A"}}]
[null,null,null,null,null,null,null,{"$f":"VLOOKUP($G$2:$G$50000,'Location Type (FICM Codes)'!$A$7:$B$188,2,FALSE)","v":{"$error":"#N/A"}},null,null,null,null,null,{"$f":"VLOOKUP(G1411:G11409,'Location Type (FICM Codes)'!$A$7:$C$188,3,FALSE)","v":{"$error":"#N/A"}}]
[null,null,null,null,null,null,null,{"$f":"VLOOKUP($G$2:$G$50000,'Location Type (FICM Codes)'!$A$7:$B$188,2,FALSE)","v":{"$error":"#N/A"}},null,null,null,null,null,{"$f":"VLOOKUP(G1412:G11410,'Location Type (FICM Codes)'!$A$7:$C$188,3,FALSE)","v":{"$error":"#N/A"}}]
[null,null,null,null,null,null,null,{"$f":"VLOOKUP($G$2:$G$50000,'Location Type (FICM Codes)'!$A$7:$B$188,2,FALSE)","v":{"$error":"#N/A"}},null,null,null,null,null,{"$f":"VLOOKUP(G1413:G11411,'Location Type (FICM Codes)'!$A$7:$C$188,3,FALSE)","v":{"$error":"#N/A"}}]
[null,null,null,null,null,null,null,{"$f":"VLOOKUP($G$2:$G$50000,'Location Type (FICM Codes)'!$A$7:$B$188,2,FALSE)","v":{"$error":"#N/A"}},null,null,null,null,null,{"$f":"VLOOKUP(G1414:G11412,'Location Type (FICM Codes)'!$A$7:$C$188,3,FALSE)","v":{"$error":"#N/A"}}]
[null,null,null,null,null,null,null,{"$f":"VLOOKUP($G$2:$G$50000,'Location Type (FICM Codes)'!$A$7:$B$188,2,FALSE)","v":{"$error":"#N/A"}},null,null,null,null,null,{"$f":"VLOOKUP(G1415:G11413,'Location Type (FICM Codes)'!$A$7:$C$188,3,FALSE)","v":{"$error":"#N/A"}}]
[null,null,null,null,null,null,null,{"$f":"VLOOKUP($G$2:$G$50000,'Location Type (FICM Codes)'!$A$7:$B$188,2,FALSE)","v":{"$error":"#N/A"}},null,null,null,null,null,{"$f":"VLOOKUP(G1416:G11414,'Location Type (FICM Codes)'!$A$7:$C$188,3,FALSE)","v":{"$error":"#N/A"}}]
[null,null,null,null,null,null,null,{"$f":"VLOOKUP($G$2:$G$50000,'Location Type (FICM Codes)'!$A$7:$B$188,2,FALSE)","v":{"$error":"#N/A"}},null,null,null,null,null,{"$f":"VLOOKUP(G1417:G11415,'Location Type (FICM Codes)'!$A$7:$C$188,3,FALSE)","v":{"$error":"#N/A"}}]
[null,null,null,null,null,null,null,{"$f":"VLOOKUP($G$2:$G$50000,'Location Type (FICM Codes)'!$A$7:$B$188,2,FALSE)","v":{"$error":"#N/A"}},null,null,null,null,null,{"$f":"VLOOKUP(G1418:G11416,'Location Type (FICM Codes)'!$A$7:$C$188,3,FALSE)","v":{"$error":"#N/A"}}]
[null,null,null,null,null,null,null,{"$f":"VLOOKUP($G$2:$G$50000,'Location Type (FICM Codes)'!$A$7:$B$188,2,FALSE)","v":{"$error":"#N/A"}},null,null,null,null,null,{"$f":"VLOOKUP(G1419:G11417,'Location Type (FICM Codes)'!$A$7:$C$188,3,FALSE)","v":{"$error":"#N/A"}}]
[null,null,null,null,null,null,null,{"$f":"VLOOKUP($G$2:$G$50000,'Location Type (FICM Codes)'!$A$7:$B$188,2,FALSE)","v":{"$error":"#N/A"}},null,null,null,null,null,{"$f":"VLOOKUP(G1420:G11418,'Location Type (FICM Codes)'!$A$7:$C$188,3,FALSE)","v":{"$error":"#N/A"}}]
[null,null,null,null,null,null,null,{"$f":"VLOOKUP($G$2:$G$50000,'Location Type (FICM Codes)'!$A$7:$B$188,2,FALSE)","v":{"$error":"#N/A"}},null,null,null,null,null,{"$f":"VLOOKUP(G1421:G11419,'Location Type (FICM Codes)'!$A$7:$C$188,3,FALSE)","v":{"$error":"#N/A"}}]
[null,null,null,null,null,null,null,{"$f":"VLOOKUP($G$2:$G$50000,'Location Type (FICM Codes)'!$A$7:$B$188,2,FALSE)","v":{"$error":"#N/A"}},null,null,null,null,null,{"$f":"VLOOKUP(G1422:G11420,'Location Type (FICM Codes)'!$A$7:$C$188,3,FALSE)","v":{"$error":"#N/A"}}]
[null,null,null,null,null,null,null,{"$f":"VLOOKUP($G$2:$G$50000,'Location Type (FICM Codes)'!$A$7:$B$188,2,FALSE)","v":{"$error":"#N/A"}},null,null,null,null,null,{"$f":"VLOOKUP(G1423:G11421,'Location Type (FICM Codes)'!$A$7:$C$188,3,FALSE)","v":{"$error":"#N/A"}}]
[null,null,null,null,null,null,null,{"$f":"VLOOKUP($G$2:$G$50000,'Location Type (FICM Codes)'!$A$7:$B$188,2,FALSE)","v":{"$error":"#N/A"}},null,null,null,null,null,{"$f":"VLOOKUP(G1424:G11422,'Location Type (FICM Codes)'!$A$7:$C$188,3,FALSE)","v":{"$error":"#N/A"}}]
[null,null,null,null,null,null,null,{"$f":"VLOOKUP($G$2:$G$50000,'Location Type (FICM Codes)'!$A$7:$B$188,2,FALSE)","v":{"$error":"#N/A"}},null,null,null,null,null,{"$f":"VLOOKUP(G1425:G11423,'Location Type (FICM Codes)'!$A$7:$C$188,3,FALSE)","v":{"$error":"#N/A"}}]
[null,null,null,null,null,null,null,{"$f":"VLOOKUP($G$2:$G$50000,'Location Type (FICM Codes)'!$A$7:$B$188,2,FALSE)","v":{"$error":"#N/A"}},null,null,null,null,null,{"$f":"VLOOKUP(G1426:G11424,'Location Type (FICM Codes)'!$A$7:$C$188,3,FALSE)","v":{"$error":"#N/A"}}]
[null,null,null,null,null,null,null,{"$f":"VLOOKUP($G$2:$G$50000,'Location Type (FICM Codes)'!$A$7:$B$188,2,FALSE)","v":{"$error":"#N/A"}},null,null,null,null,null,{"$f":"VLOOKUP(G1427:G11425,'Location Type (FICM Codes)'!$A$7:$C$188,3,FALSE)","v":{"$error":"#N/A"}}]
[null,null,null,null,null,null,null,{"$f":"VLOOKUP($G$2:$G$50000,'Location Type (FICM Codes)'!$A$7:$B$188,2,FALSE)","v":{"$error":"#N/A"}},null,null,null,null,null,{"$f":"VLOOKUP(G1428:G11426,'Location Type (FICM Codes)'!$A$7:$C$188,3,FALSE)","v":{"$error":"#N/A"}}]
[null,null,null,null,null,null,null,{"$f":"VLOOKUP($G$2:$G$50000,'Location Type (FICM Codes)'!$A$7:$B$188,2,FALSE)","v":{"$error":"#N/A"}},null,null,null,null,null,{"$f":"VLOOKUP(G1429:G11427,'Location Type (FICM Codes)'!$A$7:$C$188,3,FALSE)","v":{"$error":"#N/A"}}]
[null,null,null,null,null,null,null,{"$f":"VLOOKUP($G$2:$G$50000,'Location Type (FICM Codes)'!$A$7:$B$188,2,FALSE)","v":{"$error":"#N/A"}},null,null,null,null,null,{"$f":"VLOOKUP(G1430:G11428,'Location Type (FICM Codes)'!$A$7:$C$188,3,FALSE)","v":{"$error":"#N/A"}}]
[null,null,null,null,null,null,null,{"$f":"VLOOKUP($G$2:$G$50000,'Location Type (FICM Codes)'!$A$7:$B$188,2,FALSE)","v":{"$error":"#N/A"}},null,null,null,null,null,{"$f":"VLOOKUP(G1431:G11429,'Location Type (FICM Codes)'!$A$7:$C$188,3,FALSE)","v":{"$error":"#N/A"}}]
[null,null,null,null,null,null,null,{"$f":"VLOOKUP($G$2:$G$50000,'Location Type (FICM Codes)'!$A$7:$B$188,2,FALSE)","v":{"$error":"#N/A"}},null,null,null,null,null,{"$f":"VLOOKUP(G1432:G11430,'Location Type (FICM Codes)'!$A$7:$C$188,3,FALSE)","v":{"$error":"#N/A"}}]
[null,null,null,null,null,null,null,{"$f":"VLOOKUP($G$2:$G$50000,'Location Type (FICM Codes)'!$A$7:$B$188,2,FALSE)","v":{"$error":"#N/A"}},null,null,null,null,null,{"$f":"VLOOKUP(G1433:G11431,'Location Type (FICM Codes)'!$A$7:$C$188,3,FALSE)","v":{"$error":"#N/A"}}]
[null,null,null,null,null,null,null,{"$f":"VLOOKUP($G$2:$G$50000,'Location Type (FICM Codes)'!$A$7:$B$188,2,FALSE)","v":{"$error":"#N/A"}},null,null,null,null,null,{"$f":"VLOOKUP(G1434:G11432,'Location Type (FICM Codes)'!$A$7:$C$188,3,FALSE)","v":{"$error":"#N/A"}}]
[null,null,null,null,null,null,null,{"$f":"VLOOKUP($G$2:$G$50000,'Location Type (FICM Codes)'!$A$7:$B$188,2,FALSE)","v":{"$error":"#N/A"}},null,null,null,null,null,{"$f":"VLOOKUP(G1435:G11433,'Location Type (FICM Codes)'!$A$7:$C$188,3,FALSE)","v":{"$error":"#N/A"}}]
[null,null,null,null,null,null,null,{"$f":"VLOOKUP($G$2:$G$50000,'Location Type (FICM Codes)'!$A$7:$B$188,2,FALSE)","v":{"$error":"#N/A"}},null,null,null,null,null,{"$f":"VLOOKUP(G1436:G11434,'Location Type (FICM Codes)'!$A$7:$C$188,3,FALSE)","v":{"$error":"#N/A"}}]
[null,null,null,null,null,null,null,{"$f":"VLOOKUP($G$2:$G$50000,'Location Type (FICM Codes)'!$A$7:$B$188,2,FALSE)","v":{"$error":"#N/A"}},null,null,null,null,null,{"$f":"VLOOKUP(G1437:G11435,'Location Type (FICM Codes)'!$A$7:$C$188,3,FALSE)","v":{"$error":"#N/A"}}]
[null,null,null,null,null,null,null,{"$f":"VLOOKUP($G$2:$G$50000,'Location Type (FICM Codes)'!$A$7:$B$188,2,FALSE)","v":{"$error":"#N/A"}},null,null,null,null,null,{"$f":"VLOOKUP(G1438:G11436,'Location Type (FICM Codes)'!$A$7:$C$188,3,FALSE)","v":{"$error":"#N/A"}}]
[null,null,null,null,null,null,null,{"$f":"VLOOKUP($G$2:$G$50000,'Location Type (FICM Codes)'!$A$7:$B$188,2,FALSE)","v":{"$error":"#N/A"}},null,null,null,null,null,{"$f":"VLOOKUP(G1439:G11437,'Location Type (FICM Codes)'!$A$7:$C$188,3,FALSE)","v":{"$error":"#N/A"}}]
[null,null,null,null,null,null,null,{"$f":"VLOOKUP($G$2:$G$50000,'Location Type (FICM Codes)'!$A$7:$B$188,2,FALSE)","v":{"$error":"#N/A"}},null,null,null,null,null,{"$f":"VLOOKUP(G1440:G11438,'Location Type (FICM Codes)'!$A$7:$C$188,3,FALSE)","v":{"$error":"#N/A"}}]
[null,null,null,null,null,null,null,{"$f":"VLOOKUP($G$2:$G$50000,'Location Type (FICM Codes)'!$A$7:$B$188,2,FALSE)","v":{"$error":"#N/A"}},null,null,null,null,null,{"$f":"VLOOKUP(G1441:G11439,'Location Type (FICM Codes)'!$A$7:$C$188,3,FALSE)","v":{"$error":"#N/A"}}]
[null,null,null,null,null,null,null,{"$f":"VLOOKUP($G$2:$G$50000,'Location Type (FICM Codes)'!$A$7:$B$188,2,FALSE)","v":{"$error":"#N/A"}},null,null,null,null,null,{"$f":"VLOOKUP(G1442:G11440,'Location Type (FICM Codes)'!$A$7:$C$188,3,FALSE)","v":{"$error":"#N/A"}}]
[null,null,null,null,null,null,null,{"$f":"VLOOKUP($G$2:$G$50000,'Location Type (FICM Codes)'!$A$7:$B$188,2,FALSE)","v":{"$error":"#N/A"}},null,null,null,null,null,{"$f":"VLOOKUP(G1443:G11441,'Location Type (FICM Codes)'!$A$7:$C$188,3,FALSE)","v":{"$error":"#N/A"}}]
[null,null,null,null,null,null,null,{"$f":"VLOOKUP($G$2:$G$50000,'Location Type (FICM Codes)'!$A$7:$B$188,2,FALSE)","v":{"$error":"#N/A"}},null,null,null,null,null,{"$f":"VLOOKUP(G1444:G11442,'Location Type (FICM Codes)'!$A$7:$C$188,3,FALSE)","v":{"$error":"#N/A"}}]
[null,null,null,null,null,null,null,{"$f":"VLOOKUP($G$2:$G$50000,'Location Type (FICM Codes)'!$A$7:$B$188,2,FALSE)","v":{"$error":"#N/A"}},null,null,null,null,null,{"$f":"VLOOKUP(G1445:G11443,'Location Type (FICM Codes)'!$A$7:$C$188,3,FALSE)","v":{"$error":"#N/A"}}]
[null,null,null,null,null,null,null,{"$f":"VLOOKUP($G$2:$G$50000,'Location Type (FICM Codes)'!$A$7:$B$188,2,FALSE)","v":{"$error":"#N/A"}},null,null,null,null,null,{"$f":"VLOOKUP(G1446:G11444,'Location Type (FICM Codes)'!$A$7:$C$188,3,FALSE)","v":{"$error":"#N/A"}}]
[null,null,null,null,null,null,null,{"$f":"VLOOKUP($G$2:$G$50000,'Location Type (FICM Codes)'!$A$7:$B$188,2,FALSE)","v":{"$error":"#N/A"}},null,null,null,null,null,{"$f":"VLOOKUP(G1447:G11445,'Location Type (FICM Codes)'!$A$7:$C$188,3,FALSE)","v":{"$error":"#N/A"}}]
[null,null,null,null,null,null,null,{"$f":"VLOOKUP($G$2:$G$50000,'Location Type (FICM Codes)'!$A$7:$B$188,2,FALSE)","v":{"$error":"#N/A"}},null,null,null,null,null,{"$f":"VLOOKUP(G1448:G11446,'Location Type (FICM Codes)'!$A$7:$C$188,3,FALSE)","v":{"$error":"#N/A"}}]
[null,null,null,null,null,null,null,{"$f":"VLOOKUP($G$2:$G$50000,'Location Type (FICM Codes)'!$A$7:$B$188,2,FALSE)","v":{"$error":"#N/A"}},null,null,null,null,null,{"$f":"VLOOKUP(G1449:G11447,'Location Type (FICM Codes)'!$A$7:$C$188,3,FALSE)","v":{"$error":"#N/A"}}]
[null,null,null,null,null,null,null,{"$f":"VLOOKUP($G$2:$G$50000,'Location Type (FICM Codes)'!$A$7:$B$188,2,FALSE)","v":{"$error":"#N/A"}},null,null,null,null,null,{"$f":"VLOOKUP(G1450:G11448,'Location Type (FICM Codes)'!$A$7:$C$188,3,FALSE)","v":{"$error":"#N/A"}}]
[null,null,null,null,null,null,null,{"$f":"VLOOKUP($G$2:$G$50000,'Location Type (FICM Codes)'!$A$7:$B$188,2,FALSE)","v":{"$error":"#N/A"}},null,null,null,null,null,{"$f":"VLOOKUP(G1451:G11449,'Location Type (FICM Codes)'!$A$7:$C$188,3,FALSE)","v":{"$error":"#N/A"}}]
[null,null,null,null,null,null,null,{"$f":"VLOOKUP($G$2:$G$50000,'Location Type (FICM Codes)'!$A$7:$B$188,2,FALSE)","v":{"$error":"#N/A"}},null,null,null,null,null,{"$f":"VLOOKUP(G1452:G11450,'Location Type (FICM Codes)'!$A$7:$C$188,3,FALSE)","v":{"$error":"#N/A"}}]
[null,null,null,null,null,null,null,{"$f":"VLOOKUP($G$2:$G$50000,'Location Type (FICM Codes)'!$A$7:$B$188,2,FALSE)","v":{"$error":"#N/A"}},null,null,null,null,null,{"$f":"VLOOKUP(G1453:G11451,'Location Type (FICM Codes)'!$A$7:$C$188,3,FALSE)","v":{"$error":"#N/A"}}]
[null,null,null,null,null,null,null,{"$f":"VLOOKUP($G$2:$G$50000,'Location Type (FICM Codes)'!$A$7:$B$188,2,FALSE)","v":{"$error":"#N/A"}},null,null,null,null,null,{"$f":"VLOOKUP(G1454:G11452,'Location Type (FICM Codes)'!$A$7:$C$188,3,FALSE)","v":{"$error":"#N/A"}}]
[null,null,null,null,null,null,null,{"$f":"VLOOKUP($G$2:$G$50000,'Location Type (FICM Codes)'!$A$7:$B$188,2,FALSE)","v":{"$error":"#N/A"}},null,null,null,null,null,{"$f":"VLOOKUP(G1455:G11453,'Location Type (FICM Codes)'!$A$7:$C$188,3,FALSE)","v":{"$error":"#N/A"}}]
[null,null,null,null,null,null,null,{"$f":"VLOOKUP($G$2:$G$50000,'Location Type (FICM Codes)'!$A$7:$B$188,2,FALSE)","v":{"$error":"#N/A"}},null,null,null,null,null,{"$f":"VLOOKUP(G1456:G11454,'Location Type (FICM Codes)'!$A$7:$C$188,3,FALSE)","v":{"$error":"#N/A"}}]
[null,null,null,null,null,null,null,{"$f":"VLOOKUP($G$2:$G$50000,'Location Type (FICM Codes)'!$A$7:$B$188,2,FALSE)","v":{"$error":"#N/A"}},null,null,null,null,null,{"$f":"VLOOKUP(G1457:G11455,'Location Type (FICM Codes)'!$A$7:$C$188,3,FALSE)","v":{"$error":"#N/A"}}]
[null,null,null,null,null,null,null,{"$f":"VLOOKUP($G$2:$G$50000,'Location Type (FICM Codes)'!$A$7:$B$188,2,FALSE)","v":{"$error":"#N/A"}},null,null,null,null,null,{"$f":"VLOOKUP(G1458:G11456,'Location Type (FICM Codes)'!$A$7:$C$188,3,FALSE)","v":{"$error":"#N/A"}}]
[null,null,null,null,null,null,null,{"$f":"VLOOKUP($G$2:$G$50000,'Location Type (FICM Codes)'!$A$7:$B$188,2,FALSE)","v":{"$error":"#N/A"}},null,null,null,null,null,{"$f":"VLOOKUP(G1459:G11457,'Location Type (FICM Codes)'!$A$7:$C$188,3,FALSE)","v":{"$error":"#N/A"}}]
[null,null,null,null,null,null,null,{"$f":"VLOOKUP($G$2:$G$50000,'Location Type (FICM Codes)'!$A$7:$B$188,2,FALSE)","v":{"$error":"#N/A"}},null,null,null,null,null,{"$f":"VLOOKUP(G1460:G11458,'Location Type (FICM Codes)'!$A$7:$C$188,3,FALSE)","v":{"$error":"#N/A"}}]
[null,null,null,null,null,null,null,{"$f":"VLOOKUP($G$2:$G$50000,'Location Type (FICM Codes)'!$A$7:$B$188,2,FALSE)","v":{"$error":"#N/A"}},null,null,null,null,null,{"$f":"VLOOKUP(G1461:G11459,'Location Type (FICM Codes)'!$A$7:$C$188,3,FALSE)","v":{"$error":"#N/A"}}]
[null,null,null,null,null,null,null,{"$f":"VLOOKUP($G$2:$G$50000,'Location Type (FICM Codes)'!$A$7:$B$188,2,FALSE)","v":{"$error":"#N/A"}},null,null,null,null,null,{"$f":"VLOOKUP(G1462:G11460,'Location Type (FICM Codes)'!$A$7:$C$188,3,FALSE)","v":{"$error":"#N/A"}}]
[null,null,null,null,null,null,null,{"$f":"VLOOKUP($G$2:$G$50000,'Location Type (FICM Codes)'!$A$7:$B$188,2,FALSE)","v":{"$error":"#N/A"}},null,null,null,null,null,{"$f":"VLOOKUP(G1463:G11461,'Location Type (FICM Codes)'!$A$7:$C$188,3,FALSE)","v":{"$error":"#N/A"}}]
[null,null,null,null,null,null,null,{"$f":"VLOOKUP($G$2:$G$50000,'Location Type (FICM Codes)'!$A$7:$B$188,2,FALSE)","v":{"$error":"#N/A"}},null,null,null,null,null,{"$f":"VLOOKUP(G1464:G11462,'Location Type (FICM Codes)'!$A$7:$C$188,3,FALSE)","v":{"$error":"#N/A"}}]
[null,null,null,null,null,null,null,{"$f":"VLOOKUP($G$2:$G$50000,'Location Type (FICM Codes)'!$A$7:$B$188,2,FALSE)","v":{"$error":"#N/A"}},null,null,null,null,null,{"$f":"VLOOKUP(G1465:G11463,'Location Type (FICM Codes)'!$A$7:$C$188,3,FALSE)","v":{"$error":"#N/A"}}]
[null,null,null,null,null,null,null,{"$f":"VLOOKUP($G$2:$G$50000,'Location Type (FICM Codes)'!$A$7:$B$188,2,FALSE)","v":{"$error":"#N/A"}},null,null,null,null,null,{"$f":"VLOOKUP(G1466:G11464,'Location Type (FICM Codes)'!$A$7:$C$188,3,FALSE)","v":{"$error":"#N/A"}}]
[null,null,null,null,null,null,null,{"$f":"VLOOKUP($G$2:$G$50000,'Location Type (FICM Codes)'!$A$7:$B$188,2,FALSE)","v":{"$error":"#N/A"}},null,null,null,null,null,{"$f":"VLOOKUP(G1467:G11465,'Location Type (FICM Codes)'!$A$7:$C$188,3,FALSE)","v":{"$error":"#N/A"}}]
[null,null,null,null,null,null,null,{"$f":"VLOOKUP($G$2:$G$50000,'Location Type (FICM Codes)'!$A$7:$B$188,2,FALSE)","v":{"$error":"#N/A"}},null,null,null,null,null,{"$f":"VLOOKUP(G1468:G11466,'Location Type (FICM Codes)'!$A$7:$C$188,3,FALSE)","v":{"$error":"#N/A"}}]
[null,null,null,null,null,null,null,{"$f":"VLOOKUP($G$2:$G$50000,'Location Type (FICM Codes)'!$A$7:$B$188,2,FALSE)","v":{"$error":"#N/A"}},null,null,null,null,null,{"$f":"VLOOKUP(G1469:G11467,'Location Type (FICM Codes)'!$A$7:$C$188,3,FALSE)","v":{"$error":"#N/A"}}]
[null,null,null,null,null,null,null,{"$f":"VLOOKUP($G$2:$G$50000,'Location Type (FICM Codes)'!$A$7:$B$188,2,FALSE)","v":{"$error":"#N/A"}},null,null,null,null,null,{"$f":"VLOOKUP(G1470:G11468,'Location Type (FICM Codes)'!$A$7:$C$188,3,FALSE)","v":{"$error":"#N/A"}}]
[null,null,null,null,null,null,null,{"$f":"VLOOKUP($G$2:$G$50000,'Location Type (FICM Codes)'!$A$7:$B$188,2,FALSE)","v":{"$error":"#N/A"}},null,null,null,null,null,{"$f":"VLOOKUP(G1471:G11469,'Location Type (FICM Codes)'!$A$7:$C$188,3,FALSE)","v":{"$error":"#N/A"}}]
[null,null,null,null,null,null,null,{"$f":"VLOOKUP($G$2:$G$50000,'Location Type (FICM Codes)'!$A$7:$B$188,2,FALSE)","v":{"$error":"#N/A"}},null,null,null,null,null,{"$f":"VLOOKUP(G1472:G11470,'Location Type (FICM Codes)'!$A$7:$C$188,3,FALSE)","v":{"$error":"#N/A"}}]
[null,null,null,null,null,null,null,{"$f":"VLOOKUP($G$2:$G$50000,'Location Type (FICM Codes)'!$A$7:$B$188,2,FALSE)","v":{"$error":"#N/A"}},null,null,null,null,null,{"$f":"VLOOKUP(G1473:G11471,'Location Type (FICM Codes)'!$A$7:$C$188,3,FALSE)","v":{"$error":"#N/A"}}]
[null,null,null,null,null,null,null,{"$f":"VLOOKUP($G$2:$G$50000,'Location Type (FICM Codes)'!$A$7:$B$188,2,FALSE)","v":{"$error":"#N/A"}},null,null,null,null,null,{"$f":"VLOOKUP(G1474:G11472,'Location Type (FICM Codes)'!$A$7:$C$188,3,FALSE)","v":{"$error":"#N/A"}}]
[null,null,null,null,null,null,null,{"$f":"VLOOKUP($G$2:$G$50000,'Location Type (FICM Codes)'!$A$7:$B$188,2,FALSE)","v":{"$error":"#N/A"}},null,null,null,null,null,{"$f":"VLOOKUP(G1475:G11473,'Location Type (FICM Codes)'!$A$7:$C$188,3,FALSE)","v":{"$error":"#N/A"}}]
[null,null,null,null,null,null,null,{"$f":"VLOOKUP($G$2:$G$50000,'Location Type (FICM Codes)'!$A$7:$B$188,2,FALSE)","v":{"$error":"#N/A"}},null,null,null,null,null,{"$f":"VLOOKUP(G1476:G11474,'Location Type (FICM Codes)'!$A$7:$C$188,3,FALSE)","v":{"$error":"#N/A"}}]
[null,null,null,null,null,null,null,{"$f":"VLOOKUP($G$2:$G$50000,'Location Type (FICM Codes)'!$A$7:$B$188,2,FALSE)","v":{"$error":"#N/A"}},null,null,null,null,null,{"$f":"VLOOKUP(G1477:G11475,'Location Type (FICM Codes)'!$A$7:$C$188,3,FALSE)","v":{"$error":"#N/A"}}]
[null,null,null,null,null,null,null,{"$f":"VLOOKUP($G$2:$G$50000,'Location Type (FICM Codes)'!$A$7:$B$188,2,FALSE)","v":{"$error":"#N/A"}},null,null,null,null,null,{"$f":"VLOOKUP(G1478:G11476,'Location Type (FICM Codes)'!$A$7:$C$188,3,FALSE)","v":{"$error":"#N/A"}}]
[null,null,null,null,null,null,null,{"$f":"VLOOKUP($G$2:$G$50000,'Location Type (FICM Codes)'!$A$7:$B$188,2,FALSE)","v":{"$error":"#N/A"}},null,null,null,null,null,{"$f":"VLOOKUP(G1479:G11477,'Location Type (FICM Codes)'!$A$7:$C$188,3,FALSE)","v":{"$error":"#N/A"}}]
[null,null,null,null,null,null,null,{"$f":"VLOOKUP($G$2:$G$50000,'Location Type (FICM Codes)'!$A$7:$B$188,2,FALSE)","v":{"$error":"#N/A"}},null,null,null,null,null,{"$f":"VLOOKUP(G1480:G11478,'Location Type (FICM Codes)'!$A$7:$C$188,3,FALSE)","v":{"$error":"#N/A"}}]
[null,null,null,null,null,null,null,{"$f":"VLOOKUP($G$2:$G$50000,'Location Type (FICM Codes)'!$A$7:$B$188,2,FALSE)","v":{"$error":"#N/A"}},null,null,null,null,null,{"$f":"VLOOKUP(G1481:G11479,'Location Type (FICM Codes)'!$A$7:$C$188,3,FALSE)","v":{"$error":"#N/A"}}]
[null,null,null,null,null,null,null,{"$f":"VLOOKUP($G$2:$G$50000,'Location Type (FICM Codes)'!$A$7:$B$188,2,FALSE)","v":{"$error":"#N/A"}},null,null,null,null,null,{"$f":"VLOOKUP(G1482:G11480,'Location Type (FICM Codes)'!$A$7:$C$188,3,FALSE)","v":{"$error":"#N/A"}}]
[null,null,null,null,null,null,null,{"$f":"VLOOKUP($G$2:$G$50000,'Location Type (FICM Codes)'!$A$7:$B$188,2,FALSE)","v":{"$error":"#N/A"}},null,null,null,null,null,{"$f":"VLOOKUP(G1483:G11481,'Location Type (FICM Codes)'!$A$7:$C$188,3,FALSE)","v":{"$error":"#N/A"}}]
[null,null,null,null,null,null,null,{"$f":"VLOOKUP($G$2:$G$50000,'Location Type (FICM Codes)'!$A$7:$B$188,2,FALSE)","v":{"$error":"#N/A"}},null,null,null,null,null,{"$f":"VLOOKUP(G1484:G11482,'Location Type (FICM Codes)'!$A$7:$C$188,3,FALSE)","v":{"$error":"#N/A"}}]
[null,null,null,null,null,null,null,{"$f":"VLOOKUP($G$2:$G$50000,'Location Type (FICM Codes)'!$A$7:$B$188,2,FALSE)","v":{"$error":"#N/A"}},null,null,null,null,null,{"$f":"VLOOKUP(G1485:G11483,'Location Type (FICM Codes)'!$A$7:$C$188,3,FALSE)","v":{"$error":"#N/A"}}]
[null,null,null,null,null,null,null,{"$f":"VLOOKUP($G$2:$G$50000,'Location Type (FICM Codes)'!$A$7:$B$188,2,FALSE)","v":{"$error":"#N/A"}},null,null,null,null,null,{"$f":"VLOOKUP(G1486:G11484,'Location Type (FICM Codes)'!$A$7:$C$188,3,FALSE)","v":{"$error":"#N/A"}}]
[null,null,null,null,null,null,null,{"$f":"VLOOKUP($G$2:$G$50000,'Location Type (FICM Codes)'!$A$7:$B$188,2,FALSE)","v":{"$error":"#N/A"}},null,null,null,null,null,{"$f":"VLOOKUP(G1487:G11485,'Location Type (FICM Codes)'!$A$7:$C$188,3,FALSE)","v":{"$error":"#N/A"}}]
[null,null,null,null,null,null,null,{"$f":"VLOOKUP($G$2:$G$50000,'Location Type (FICM Codes)'!$A$7:$B$188,2,FALSE)","v":{"$error":"#N/A"}},null,null,null,null,null,{"$f":"VLOOKUP(G1488:G11486,'Location Type (FICM Codes)'!$A$7:$C$188,3,FALSE)","v":{"$error":"#N/A"}}]
[null,null,null,null,null,null,null,{"$f":"VLOOKUP($G$2:$G$50000,'Location Type (FICM Codes)'!$A$7:$B$188,2,FALSE)","v":{"$error":"#N/A"}},null,null,null,null,null,{"$f":"VLOOKUP(G1489:G11487,'Location Type (FICM Codes)'!$A$7:$C$188,3,FALSE)","v":{"$error":"#N/A"}}]
[null,null,null,null,null,null,null,{"$f":"VLOOKUP($G$2:$G$50000,'Location Type (FICM Codes)'!$A$7:$B$188,2,FALSE)","v":{"$error":"#N/A"}},null,null,null,null,null,{"$f":"VLOOKUP(G1490:G11488,'Location Type (FICM Codes)'!$A$7:$C$188,3,FALSE)","v":{"$error":"#N/A"}}]
[null,null,null,null,null,null,null,{"$f":"VLOOKUP($G$2:$G$50000,'Location Type (FICM Codes)'!$A$7:$B$188,2,FALSE)","v":{"$error":"#N/A"}},null,null,null,null,null,{"$f":"VLOOKUP(G1491:G11489,'Location Type (FICM Codes)'!$A$7:$C$188,3,FALSE)","v":{"$error":"#N/A"}}]
[null,null,null,null,null,null,null,{"$f":"VLOOKUP($G$2:$G$50000,'Location Type (FICM Codes)'!$A$7:$B$188,2,FALSE)","v":{"$error":"#N/A"}},null,null,null,null,null,{"$f":"VLOOKUP(G1492:G11490,'Location Type (FICM Codes)'!$A$7:$C$188,3,FALSE)","v":{"$error":"#N/A"}}]
[null,null,null,null,null,null,null,{"$f":"VLOOKUP($G$2:$G$50000,'Location Type (FICM Codes)'!$A$7:$B$188,2,FALSE)","v":{"$error":"#N/A"}},null,null,null,null,null,{"$f":"VLOOKUP(G1493:G11491,'Location Type (FICM Codes)'!$A$7:$C$188,3,FALSE)","v":{"$error":"#N/A"}}]
[null,null,null,null,null,null,null,{"$f":"VLOOKUP($G$2:$G$50000,'Location Type (FICM Codes)'!$A$7:$B$188,2,FALSE)","v":{"$error":"#N/A"}},null,null,null,null,null,{"$f":"VLOOKUP(G1494:G11492,'Location Type (FICM Codes)'!$A$7:$C$188,3,FALSE)","v":{"$error":"#N/A"}}]
[null,null,null,null,null,null,null,{"$f":"VLOOKUP($G$2:$G$50000,'Location Type (FICM Codes)'!$A$7:$B$188,2,FALSE)","v":{"$error":"#N/A"}},null,null,null,null,null,{"$f":"VLOOKUP(G1495:G11493,'Location Type (FICM Codes)'!$A$7:$C$188,3,FALSE)","v":{"$error":"#N/A"}}]
[null,null,null,null,null,null,null,{"$f":"VLOOKUP($G$2:$G$50000,'Location Type (FICM Codes)'!$A$7:$B$188,2,FALSE)","v":{"$error":"#N/A"}},null,null,null,null,null,{"$f":"VLOOKUP(G1496:G11494,'Location Type (FICM Codes)'!$A$7:$C$188,3,FALSE)","v":{"$error":"#N/A"}}]
[null,null,null,null,null,null,null,{"$f":"VLOOKUP($G$2:$G$50000,'Location Type (FICM Codes)'!$A$7:$B$188,2,FALSE)","v":{"$error":"#N/A"}},null,null,null,null,null,{"$f":"VLOOKUP(G1497:G11495,'Location Type (FICM Codes)'!$A$7:$C$188,3,FALSE)","v":{"$error":"#N/A"}}]
[null,null,null,null,null,null,null,{"$f":"VLOOKUP($G$2:$G$50000,'Location Type (FICM Codes)'!$A$7:$B$188,2,FALSE)","v":{"$error":"#N/A"}},null,null,null,null,null,{"$f":"VLOOKUP(G1498:G11496,'Location Type (FICM Codes)'!$A$7:$C$188,3,FALSE)","v":{"$error":"#N/A"}}]
[null,null,null,null,null,null,null,{"$f":"VLOOKUP($G$2:$G$50000,'Location Type (FICM Codes)'!$A$7:$B$188,2,FALSE)","v":{"$error":"#N/A"}},null,null,null,null,null,{"$f":"VLOOKUP(G1499:G11497,'Location Type (FICM Codes)'!$A$7:$C$188,3,FALSE)","v":{"$error":"#N/A"}}]
[null,null,null,null,null,null,null,{"$f":"VLOOKUP($G$2:$G$50000,'Location Type (FICM Codes)'!$A$7:$B$188,2,FALSE)","v":{"$error":"#N/A"}},null,null,null,null,null,{"$f":"VLOOKUP(G1500:G11498,'Location Type (FICM Codes)'!$A$7:$C$188,3,FALSE)","v":{"$error":"#N/A"}}]
[null,null,null,null,null,null,null,{"$f":"VLOOKUP($G$2:$G$50000,'Location Type (FICM Codes)'!$A$7:$B$188,2,FALSE)","v":{"$error":"#N/A"}},null,null,null,null,null,{"$f":"VLOOKUP(G1501:G11499,'Location Type (FICM Codes)'!$A$7:$C$188,3,FALSE)","v":{"$error":"#N/A"}}]
[null,null,null,null,null,null,null,{"$f":"VLOOKUP($G$2:$G$50000,'Location Type (FICM Codes)'!$A$7:$B$188,2,FALSE)","v":{"$error":"#N/A"}},null,null,null,null,null,{"$f":"VLOOKUP(G1502:G11500,'Location Type (FICM Codes)'!$A$7:$C$188,3,FALSE)","v":{"$error":"#N/A"}}]
[null,null,null,null,null,null,null,{"$f":"VLOOKUP($G$2:$G$50000,'Location Type (FICM Codes)'!$A$7:$B$188,2,FALSE)","v":{"$error":"#N/A"}},null,null,null,null,null,{"$f":"VLOOKUP(G1503:G11501,'Location Type (FICM Codes)'!$A$7:$C$188,3,FALSE)","v":{"$error":"#N/A"}}]
[null,null,null,null,null,null,null,{"$f":"VLOOKUP($G$2:$G$50000,'Location Type (FICM Codes)'!$A$7:$B$188,2,FALSE)","v":{"$error":"#N/A"}},null,null,null,null,null,{"$f":"VLOOKUP(G1504:G11502,'Location Type (FICM Codes)'!$A$7:$C$188,3,FALSE)","v":{"$error":"#N/A"}}]
[null,null,null,null,null,null,null,{"$f":"VLOOKUP($G$2:$G$50000,'Location Type (FICM Codes)'!$A$7:$B$188,2,FALSE)","v":{"$error":"#N/A"}},null,null,null,null,null,{"$f":"VLOOKUP(G1505:G11503,'Location Type (FICM Codes)'!$A$7:$C$188,3,FALSE)","v":{"$error":"#N/A"}}]
[null,null,null,null,null,null,null,{"$f":"VLOOKUP($G$2:$G$50000,'Location Type (FICM Codes)'!$A$7:$B$188,2,FALSE)","v":{"$error":"#N/A"}},null,null,null,null,null,{"$f":"VLOOKUP(G1506:G11504,'Location Type (FICM Codes)'!$A$7:$C$188,3,FALSE)","v":{"$error":"#N/A"}}]
[null,null,null,null,null,null,null,{"$f":"VLOOKUP($G$2:$G$50000,'Location Type (FICM Codes)'!$A$7:$B$188,2,FALSE)","v":{"$error":"#N/A"}},null,null,null,null,null,{"$f":"VLOOKUP(G1507:G11505,'Location Type (FICM Codes)'!$A$7:$C$188,3,FALSE)","v":{"$error":"#N/A"}}]
[null,null,null,null,null,null,null,{"$f":"VLOOKUP($G$2:$G$50000,'Location Type (FICM Codes)'!$A$7:$B$188,2,FALSE)","v":{"$error":"#N/A"}},null,null,null,null,null,{"$f":"VLOOKUP(G1508:G11506,'Location Type (FICM Codes)'!$A$7:$C$188,3,FALSE)","v":{"$error":"#N/A"}}]
[null,null,null,null,null,null,null,{"$f":"VLOOKUP($G$2:$G$50000,'Location Type (FICM Codes)'!$A$7:$B$188,2,FALSE)","v":{"$error":"#N/A"}},null,null,null,null,null,{"$f":"VLOOKUP(G1509:G11507,'Location Type (FICM Codes)'!$A$7:$C$188,3,FALSE)","v":{"$error":"#N/A"}}]
[null,null,null,null,null,null,null,{"$f":"VLOOKUP($G$2:$G$50000,'Location Type (FICM Codes)'!$A$7:$B$188,2,FALSE)","v":{"$error":"#N/A"}},null,null,null,null,null,{"$f":"VLOOKUP(G1510:G11508,'Location Type (FICM Codes)'!$A$7:$C$188,3,FALSE)","v":{"$error":"#N/A"}}]
[null,null,null,null,null,null,null,{"$f":"VLOOKUP($G$2:$G$50000,'Location Type (FICM Codes)'!$A$7:$B$188,2,FALSE)","v":{"$error":"#N/A"}},null,null,null,null,null,{"$f":"VLOOKUP(G1511:G11509,'Location Type (FICM Codes)'!$A$7:$C$188,3,FALSE)","v":{"$error":"#N/A"}}]
[null,null,null,null,null,null,null,{"$f":"VLOOKUP($G$2:$G$50000,'Location Type (FICM Codes)'!$A$7:$B$188,2,FALSE)","v":{"$error":"#N/A"}},null,null,null,null,null,{"$f":"VLOOKUP(G1512:G11510,'Location Type (FICM Codes)'!$A$7:$C$188,3,FALSE)","v":{"$error":"#N/A"}}]
[null,null,null,null,null,null,null,{"$f":"VLOOKUP($G$2:$G$50000,'Location Type (FICM Codes)'!$A$7:$B$188,2,FALSE)","v":{"$error":"#N/A"}},null,null,null,null,null,{"$f":"VLOOKUP(G1513:G11511,'Location Type (FICM Codes)'!$A$7:$C$188,3,FALSE)","v":{"$error":"#N/A"}}]
[null,null,null,null,null,null,null,{"$f":"VLOOKUP($G$2:$G$50000,'Location Type (FICM Codes)'!$A$7:$B$188,2,FALSE)","v":{"$error":"#N/A"}},null,null,null,null,null,{"$f":"VLOOKUP(G1514:G11512,'Location Type (FICM Codes)'!$A$7:$C$188,3,FALSE)","v":{"$error":"#N/A"}}]
[null,null,null,null,null,null,null,{"$f":"VLOOKUP($G$2:$G$50000,'Location Type (FICM Codes)'!$A$7:$B$188,2,FALSE)","v":{"$error":"#N/A"}},null,null,null,null,null,{"$f":"VLOOKUP(G1515:G11513,'Location Type (FICM Codes)'!$A$7:$C$188,3,FALSE)","v":{"$error":"#N/A"}}]
[null,null,null,null,null,null,null,{"$f":"VLOOKUP($G$2:$G$50000,'Location Type (FICM Codes)'!$A$7:$B$188,2,FALSE)","v":{"$error":"#N/A"}},null,null,null,null,null,{"$f":"VLOOKUP(G1516:G11514,'Location Type (FICM Codes)'!$A$7:$C$188,3,FALSE)","v":{"$error":"#N/A"}}]
[null,null,null,null,null,null,null,{"$f":"VLOOKUP($G$2:$G$50000,'Location Type (FICM Codes)'!$A$7:$B$188,2,FALSE)","v":{"$error":"#N/A"}},null,null,null,null,null,{"$f":"VLOOKUP(G1517:G11515,'Location Type (FICM Codes)'!$A$7:$C$188,3,FALSE)","v":{"$error":"#N/A"}}]
[null,null,null,null,null,null,null,{"$f":"VLOOKUP($G$2:$G$50000,'Location Type (FICM Codes)'!$A$7:$B$188,2,FALSE)","v":{"$error":"#N/A"}},null,null,null,null,null,{"$f":"VLOOKUP(G1518:G11516,'Location Type (FICM Codes)'!$A$7:$C$188,3,FALSE)","v":{"$error":"#N/A"}}]
[null,null,null,null,null,null,null,{"$f":"VLOOKUP($G$2:$G$50000,'Location Type (FICM Codes)'!$A$7:$B$188,2,FALSE)","v":{"$error":"#N/A"}},null,null,null,null,null,{"$f":"VLOOKUP(G1519:G11517,'Location Type (FICM Codes)'!$A$7:$C$188,3,FALSE)","v":{"$error":"#N/A"}}]
[null,null,null,null,null,null,null,{"$f":"VLOOKUP($G$2:$G$50000,'Location Type (FICM Codes)'!$A$7:$B$188,2,FALSE)","v":{"$error":"#N/A"}},null,null,null,null,null,{"$f":"VLOOKUP(G1520:G11518,'Location Type (FICM Codes)'!$A$7:$C$188,3,FALSE)","v":{"$error":"#N/A"}}]
[null,null,null,null,null,null,null,{"$f":"VLOOKUP($G$2:$G$50000,'Location Type (FICM Codes)'!$A$7:$B$188,2,FALSE)","v":{"$error":"#N/A"}},null,null,null,null,null,{"$f":"VLOOKUP(G1521:G11519,'Location Type (FICM Codes)'!$A$7:$C$188,3,FALSE)","v":{"$error":"#N/A"}}]
[null,null,null,null,null,null,null,{"$f":"VLOOKUP($G$2:$G$50000,'Location Type (FICM Codes)'!$A$7:$B$188,2,FALSE)","v":{"$error":"#N/A"}},null,null,null,null,null,{"$f":"VLOOKUP(G1522:G11520,'Location Type (FICM Codes)'!$A$7:$C$188,3,FALSE)","v":{"$error":"#N/A"}}]
[null,null,null,null,null,null,null,{"$f":"VLOOKUP($G$2:$G$50000,'Location Type (FICM Codes)'!$A$7:$B$188,2,FALSE)","v":{"$error":"#N/A"}},null,null,null,null,null,{"$f":"VLOOKUP(G1523:G11521,'Location Type (FICM Codes)'!$A$7:$C$188,3,FALSE)","v":{"$error":"#N/A"}}]
[null,null,null,null,null,null,null,{"$f":"VLOOKUP($G$2:$G$50000,'Location Type (FICM Codes)'!$A$7:$B$188,2,FALSE)","v":{"$error":"#N/A"}},null,null,null,null,null,{"$f":"VLOOKUP(G1524:G11522,'Location Type (FICM Codes)'!$A$7:$C$188,3,FALSE)","v":{"$error":"#N/A"}}]
[null,null,null,null,null,null,null,{"$f":"VLOOKUP($G$2:$G$50000,'Location Type (FICM Codes)'!$A$7:$B$188,2,FALSE)","v":{"$error":"#N/A"}},null,null,null,null,null,{"$f":"VLOOKUP(G1525:G11523,'Location Type (FICM Codes)'!$A$7:$C$188,3,FALSE)","v":{"$error":"#N/A"}}]
[null,null,null,null,null,null,null,{"$f":"VLOOKUP($G$2:$G$50000,'Location Type (FICM Codes)'!$A$7:$B$188,2,FALSE)","v":{"$error":"#N/A"}},null,null,null,null,null,{"$f":"VLOOKUP(G1526:G11524,'Location Type (FICM Codes)'!$A$7:$C$188,3,FALSE)","v":{"$error":"#N/A"}}]
[null,null,null,null,null,null,null,{"$f":"VLOOKUP($G$2:$G$50000,'Location Type (FICM Codes)'!$A$7:$B$188,2,FALSE)","v":{"$error":"#N/A"}},null,null,null,null,null,{"$f":"VLOOKUP(G1527:G11525,'Location Type (FICM Codes)'!$A$7:$C$188,3,FALSE)","v":{"$error":"#N/A"}}]
[null,null,null,null,null,null,null,{"$f":"VLOOKUP($G$2:$G$50000,'Location Type (FICM Codes)'!$A$7:$B$188,2,FALSE)","v":{"$error":"#N/A"}},null,null,null,null,null,{"$f":"VLOOKUP(G1528:G11526,'Location Type (FICM Codes)'!$A$7:$C$188,3,FALSE)","v":{"$error":"#N/A"}}]
[null,null,null,null,null,null,null,{"$f":"VLOOKUP($G$2:$G$50000,'Location Type (FICM Codes)'!$A$7:$B$188,2,FALSE)","v":{"$error":"#N/A"}},null,null,null,null,null,{"$f":"VLOOKUP(G1529:G11527,'Location Type (FICM Codes)'!$A$7:$C$188,3,FALSE)","v":{"$error":"#N/A"}}]
[null,null,null,null,null,null,null,{"$f":"VLOOKUP($G$2:$G$50000,'Location Type (FICM Codes)'!$A$7:$B$188,2,FALSE)","v":{"$error":"#N/A"}},null,null,null,null,null,{"$f":"VLOOKUP(G1530:G11528,'Location Type (FICM Codes)'!$A$7:$C$188,3,FALSE)","v":{"$error":"#N/A"}}]
[null,null,null,null,null,null,null,{"$f":"VLOOKUP($G$2:$G$50000,'Location Type (FICM Codes)'!$A$7:$B$188,2,FALSE)","v":{"$error":"#N/A"}},null,null,null,null,null,{"$f":"VLOOKUP(G1531:G11529,'Location Type (FICM Codes)'!$A$7:$C$188,3,FALSE)","v":{"$error":"#N/A"}}]
[null,null,null,null,null,null,null,{"$f":"VLOOKUP($G$2:$G$50000,'Location Type (FICM Codes)'!$A$7:$B$188,2,FALSE)","v":{"$error":"#N/A"}},null,null,null,null,null,{"$f":"VLOOKUP(G1532:G11530,'Location Type (FICM Codes)'!$A$7:$C$188,3,FALSE)","v":{"$error":"#N/A"}}]
[null,null,null,null,null,null,null,{"$f":"VLOOKUP($G$2:$G$50000,'Location Type (FICM Codes)'!$A$7:$B$188,2,FALSE)","v":{"$error":"#N/A"}},null,null,null,null,null,{"$f":"VLOOKUP(G1533:G11531,'Location Type (FICM Codes)'!$A$7:$C$188,3,FALSE)","v":{"$error":"#N/A"}}]
[null,null,null,null,null,null,null,{"$f":"VLOOKUP($G$2:$G$50000,'Location Type (FICM Codes)'!$A$7:$B$188,2,FALSE)","v":{"$error":"#N/A"}},null,null,null,null,null,{"$f":"VLOOKUP(G1534:G11532,'Location Type (FICM Codes)'!$A$7:$C$188,3,FALSE)","v":{"$error":"#N/A"}}]
[null,null,null,null,null,null,null,{"$f":"VLOOKUP($G$2:$G$50000,'Location Type (FICM Codes)'!$A$7:$B$188,2,FALSE)","v":{"$error":"#N/A"}},null,null,null,null,null,{"$f":"VLOOKUP(G1535:G11533,'Location Type (FICM Codes)'!$A$7:$C$188,3,FALSE)","v":{"$error":"#N/A"}}]
[null,null,null,null,null,null,null,{"$f":"VLOOKUP($G$2:$G$50000,'Location Type (FICM Codes)'!$A$7:$B$188,2,FALSE)","v":{"$error":"#N/A"}},null,null,null,null,null,{"$f":"VLOOKUP(G1536:G11534,'Location Type (FICM Codes)'!$A$7:$C$188,3,FALSE)","v":{"$error":"#N/A"}}]
[null,null,null,null,null,null,null,{"$f":"VLOOKUP($G$2:$G$50000,'Location Type (FICM Codes)'!$A$7:$B$188,2,FALSE)","v":{"$error":"#N/A"}},null,null,null,null,null,{"$f":"VLOOKUP(G1537:G11535,'Location Type (FICM Codes)'!$A$7:$C$188,3,FALSE)","v":{"$error":"#N/A"}}]
[null,null,null,null,null,null,null,{"$f":"VLOOKUP($G$2:$G$50000,'Location Type (FICM Codes)'!$A$7:$B$188,2,FALSE)","v":{"$error":"#N/A"}},null,null,null,null,null,{"$f":"VLOOKUP(G1538:G11536,'Location Type (FICM Codes)'!$A$7:$C$188,3,FALSE)","v":{"$error":"#N/A"}}]
[null,null,null,null,null,null,null,{"$f":"VLOOKUP($G$2:$G$50000,'Location Type (FICM Codes)'!$A$7:$B$188,2,FALSE)","v":{"$error":"#N/A"}},null,null,null,null,null,{"$f":"VLOOKUP(G1539:G11537,'Location Type (FICM Codes)'!$A$7:$C$188,3,FALSE)","v":{"$error":"#N/A"}}]
[null,null,null,null,null,null,null,{"$f":"VLOOKUP($G$2:$G$50000,'Location Type (FICM Codes)'!$A$7:$B$188,2,FALSE)","v":{"$error":"#N/A"}},null,null,null,null,null,{"$f":"VLOOKUP(G1540:G11538,'Location Type (FICM Codes)'!$A$7:$C$188,3,FALSE)","v":{"$error":"#N/A"}}]
[null,null,null,null,null,null,null,{"$f":"VLOOKUP($G$2:$G$50000,'Location Type (FICM Codes)'!$A$7:$B$188,2,FALSE)","v":{"$error":"#N/A"}},null,null,null,null,null,{"$f":"VLOOKUP(G1541:G11539,'Location Type (FICM Codes)'!$A$7:$C$188,3,FALSE)","v":{"$error":"#N/A"}}]
[null,null,null,null,null,null,null,{"$f":"VLOOKUP($G$2:$G$50000,'Location Type (FICM Codes)'!$A$7:$B$188,2,FALSE)","v":{"$error":"#N/A"}},null,null,null,null,null,{"$f":"VLOOKUP(G1542:G11540,'Location Type (FICM Codes)'!$A$7:$C$188,3,FALSE)","v":{"$error":"#N/A"}}]
[null,null,null,null,null,null,null,{"$f":"VLOOKUP($G$2:$G$50000,'Location Type (FICM Codes)'!$A$7:$B$188,2,FALSE)","v":{"$error":"#N/A"}},null,null,null,null,null,{"$f":"VLOOKUP(G1543:G11541,'Location Type (FICM Codes)'!$A$7:$C$188,3,FALSE)","v":{"$error":"#N/A"}}]
[null,null,null,null,null,null,null,{"$f":"VLOOKUP($G$2:$G$50000,'Location Type (FICM Codes)'!$A$7:$B$188,2,FALSE)","v":{"$error":"#N/A"}},null,null,null,null,null,{"$f":"VLOOKUP(G1544:G11542,'Location Type (FICM Codes)'!$A$7:$C$188,3,FALSE)","v":{"$error":"#N/A"}}]
[null,null,null,null,null,null,null,{"$f":"VLOOKUP($G$2:$G$50000,'Location Type (FICM Codes)'!$A$7:$B$188,2,FALSE)","v":{"$error":"#N/A"}},null,null,null,null,null,{"$f":"VLOOKUP(G1545:G11543,'Location Type (FICM Codes)'!$A$7:$C$188,3,FALSE)","v":{"$error":"#N/A"}}]
[null,null,null,null,null,null,null,{"$f":"VLOOKUP($G$2:$G$50000,'Location Type (FICM Codes)'!$A$7:$B$188,2,FALSE)","v":{"$error":"#N/A"}},null,null,null,null,null,{"$f":"VLOOKUP(G1546:G11544,'Location Type (FICM Codes)'!$A$7:$C$188,3,FALSE)","v":{"$error":"#N/A"}}]
[null,null,null,null,null,null,null,{"$f":"VLOOKUP($G$2:$G$50000,'Location Type (FICM Codes)'!$A$7:$B$188,2,FALSE)","v":{"$error":"#N/A"}},null,null,null,null,null,{"$f":"VLOOKUP(G1547:G11545,'Location Type (FICM Codes)'!$A$7:$C$188,3,FALSE)","v":{"$error":"#N/A"}}]
[null,null,null,null,null,null,null,{"$f":"VLOOKUP($G$2:$G$50000,'Location Type (FICM Codes)'!$A$7:$B$188,2,FALSE)","v":{"$error":"#N/A"}},null,null,null,null,null,{"$f":"VLOOKUP(G1548:G11546,'Location Type (FICM Codes)'!$A$7:$C$188,3,FALSE)","v":{"$error":"#N/A"}}]
[null,null,null,null,null,null,null,{"$f":"VLOOKUP($G$2:$G$50000,'Location Type (FICM Codes)'!$A$7:$B$188,2,FALSE)","v":{"$error":"#N/A"}},null,null,null,null,null,{"$f":"VLOOKUP(G1549:G11547,'Location Type (FICM Codes)'!$A$7:$C$188,3,FALSE)","v":{"$error":"#N/A"}}]
[null,null,null,null,null,null,null,{"$f":"VLOOKUP($G$2:$G$50000,'Location Type (FICM Codes)'!$A$7:$B$188,2,FALSE)","v":{"$error":"#N/A"}},null,null,null,null,null,{"$f":"VLOOKUP(G1550:G11548,'Location Type (FICM Codes)'!$A$7:$C$188,3,FALSE)","v":{"$error":"#N/A"}}]
[null,null,null,null,null,null,null,{"$f":"VLOOKUP($G$2:$G$50000,'Location Type (FICM Codes)'!$A$7:$B$188,2,FALSE)","v":{"$error":"#N/A"}},null,null,null,null,null,{"$f":"VLOOKUP(G1551:G11549,'Location Type (FICM Codes)'!$A$7:$C$188,3,FALSE)","v":{"$error":"#N/A"}}]
[null,null,null,null,null,null,null,{"$f":"VLOOKUP($G$2:$G$50000,'Location Type (FICM Codes)'!$A$7:$B$188,2,FALSE)","v":{"$error":"#N/A"}},null,null,null,null,null,{"$f":"VLOOKUP(G1552:G11550,'Location Type (FICM Codes)'!$A$7:$C$188,3,FALSE)","v":{"$error":"#N/A"}}]
[null,null,null,null,null,null,null,{"$f":"VLOOKUP($G$2:$G$50000,'Location Type (FICM Codes)'!$A$7:$B$188,2,FALSE)","v":{"$error":"#N/A"}},null,null,null,null,null,{"$f":"VLOOKUP(G1553:G11551,'Location Type (FICM Codes)'!$A$7:$C$188,3,FALSE)","v":{"$error":"#N/A"}}]
[null,null,null,null,null,null,null,{"$f":"VLOOKUP($G$2:$G$50000,'Location Type (FICM Codes)'!$A$7:$B$188,2,FALSE)","v":{"$error":"#N/A"}},null,null,null,null,null,{"$f":"VLOOKUP(G1554:G11552,'Location Type (FICM Codes)'!$A$7:$C$188,3,FALSE)","v":{"$error":"#N/A"}}]
[null,null,null,null,null,null,null,{"$f":"VLOOKUP($G$2:$G$50000,'Location Type (FICM Codes)'!$A$7:$B$188,2,FALSE)","v":{"$error":"#N/A"}},null,null,null,null,null,{"$f":"VLOOKUP(G1555:G11553,'Location Type (FICM Codes)'!$A$7:$C$188,3,FALSE)","v":{"$error":"#N/A"}}]
[null,null,null,null,null,null,null,{"$f":"VLOOKUP($G$2:$G$50000,'Location Type (FICM Codes)'!$A$7:$B$188,2,FALSE)","v":{"$error":"#N/A"}},null,null,null,null,null,{"$f":"VLOOKUP(G1556:G11554,'Location Type (FICM Codes)'!$A$7:$C$188,3,FALSE)","v":{"$error":"#N/A"}}]
[null,null,null,null,null,null,null,{"$f":"VLOOKUP($G$2:$G$50000,'Location Type (FICM Codes)'!$A$7:$B$188,2,FALSE)","v":{"$error":"#N/A"}},null,null,null,null,null,{"$f":"VLOOKUP(G1557:G11555,'Location Type (FICM Codes)'!$A$7:$C$188,3,FALSE)","v":{"$error":"#N/A"}}]
[null,null,null,null,null,null,null,{"$f":"VLOOKUP($G$2:$G$50000,'Location Type (FICM Codes)'!$A$7:$B$188,2,FALSE)","v":{"$error":"#N/A"}},null,null,null,null,null,{"$f":"VLOOKUP(G1558:G11556,'Location Type (FICM Codes)'!$A$7:$C$188,3,FALSE)","v":{"$error":"#N/A"}}]
[null,null,null,null,null,null,null,{"$f":"VLOOKUP($G$2:$G$50000,'Location Type (FICM Codes)'!$A$7:$B$188,2,FALSE)","v":{"$error":"#N/A"}},null,null,null,null,null,{"$f":"VLOOKUP(G1559:G11557,'Location Type (FICM Codes)'!$A$7:$C$188,3,FALSE)","v":{"$error":"#N/A"}}]
[null,null,null,null,null,null,null,{"$f":"VLOOKUP($G$2:$G$50000,'Location Type (FICM Codes)'!$A$7:$B$188,2,FALSE)","v":{"$error":"#N/A"}},null,null,null,null,null,{"$f":"VLOOKUP(G1560:G11558,'Location Type (FICM Codes)'!$A$7:$C$188,3,FALSE)","v":{"$error":"#N/A"}}]
[null,null,null,null,null,null,null,{"$f":"VLOOKUP($G$2:$G$50000,'Location Type (FICM Codes)'!$A$7:$B$188,2,FALSE)","v":{"$error":"#N/A"}},null,null,null,null,null,{"$f":"VLOOKUP(G1561:G11559,'Location Type (FICM Codes)'!$A$7:$C$188,3,FALSE)","v":{"$error":"#N/A"}}]
[null,null,null,null,null,null,null,{"$f":"VLOOKUP($G$2:$G$50000,'Location Type (FICM Codes)'!$A$7:$B$188,2,FALSE)","v":{"$error":"#N/A"}},null,null,null,null,null,{"$f":"VLOOKUP(G1562:G11560,'Location Type (FICM Codes)'!$A$7:$C$188,3,FALSE)","v":{"$error":"#N/A"}}]
[null,null,null,null,null,null,null,{"$f":"VLOOKUP($G$2:$G$50000,'Location Type (FICM Codes)'!$A$7:$B$188,2,FALSE)","v":{"$error":"#N/A"}},null,null,null,null,null,{"$f":"VLOOKUP(G1563:G11561,'Location Type (FICM Codes)'!$A$7:$C$188,3,FALSE)","v":{"$error":"#N/A"}}]
[null,null,null,null,null,null,null,{"$f":"VLOOKUP($G$2:$G$50000,'Location Type (FICM Codes)'!$A$7:$B$188,2,FALSE)","v":{"$error":"#N/A"}},null,null,null,null,null,{"$f":"VLOOKUP(G1564:G11562,'Location Type (FICM Codes)'!$A$7:$C$188,3,FALSE)","v":{"$error":"#N/A"}}]
[null,null,null,null,null,null,null,{"$f":"VLOOKUP($G$2:$G$50000,'Location Type (FICM Codes)'!$A$7:$B$188,2,FALSE)","v":{"$error":"#N/A"}},null,null,null,null,null,{"$f":"VLOOKUP(G1565:G11563,'Location Type (FICM Codes)'!$A$7:$C$188,3,FALSE)","v":{"$error":"#N/A"}}]
[null,null,null,null,null,null,null,{"$f":"VLOOKUP($G$2:$G$50000,'Location Type (FICM Codes)'!$A$7:$B$188,2,FALSE)","v":{"$error":"#N/A"}},null,null,null,null,null,{"$f":"VLOOKUP(G1566:G11564,'Location Type (FICM Codes)'!$A$7:$C$188,3,FALSE)","v":{"$error":"#N/A"}}]
[null,null,null,null,null,null,null,{"$f":"VLOOKUP($G$2:$G$50000,'Location Type (FICM Codes)'!$A$7:$B$188,2,FALSE)","v":{"$error":"#N/A"}},null,null,null,null,null,{"$f":"VLOOKUP(G1567:G11565,'Location Type (FICM Codes)'!$A$7:$C$188,3,FALSE)","v":{"$error":"#N/A"}}]
[null,null,null,null,null,null,null,{"$f":"VLOOKUP($G$2:$G$50000,'Location Type (FICM Codes)'!$A$7:$B$188,2,FALSE)","v":{"$error":"#N/A"}},null,null,null,null,null,{"$f":"VLOOKUP(G1568:G11566,'Location Type (FICM Codes)'!$A$7:$C$188,3,FALSE)","v":{"$error":"#N/A"}}]
[null,null,null,null,null,null,null,{"$f":"VLOOKUP($G$2:$G$50000,'Location Type (FICM Codes)'!$A$7:$B$188,2,FALSE)","v":{"$error":"#N/A"}},null,null,null,null,null,{"$f":"VLOOKUP(G1569:G11567,'Location Type (FICM Codes)'!$A$7:$C$188,3,FALSE)","v":{"$error":"#N/A"}}]
[null,null,null,null,null,null,null,{"$f":"VLOOKUP($G$2:$G$50000,'Location Type (FICM Codes)'!$A$7:$B$188,2,FALSE)","v":{"$error":"#N/A"}},null,null,null,null,null,{"$f":"VLOOKUP(G1570:G11568,'Location Type (FICM Codes)'!$A$7:$C$188,3,FALSE)","v":{"$error":"#N/A"}}]
[null,null,null,null,null,null,null,{"$f":"VLOOKUP($G$2:$G$50000,'Location Type (FICM Codes)'!$A$7:$B$188,2,FALSE)","v":{"$error":"#N/A"}},null,null,null,null,null,{"$f":"VLOOKUP(G1571:G11569,'Location Type (FICM Codes)'!$A$7:$C$188,3,FALSE)","v":{"$error":"#N/A"}}]
[null,null,null,null,null,null,null,{"$f":"VLOOKUP($G$2:$G$50000,'Location Type (FICM Codes)'!$A$7:$B$188,2,FALSE)","v":{"$error":"#N/A"}},null,null,null,null,null,{"$f":"VLOOKUP(G1572:G11570,'Location Type (FICM Codes)'!$A$7:$C$188,3,FALSE)","v":{"$error":"#N/A"}}]
[null,null,null,null,null,null,null,{"$f":"VLOOKUP($G$2:$G$50000,'Location Type (FICM Codes)'!$A$7:$B$188,2,FALSE)","v":{"$error":"#N/A"}},null,null,null,null,null,{"$f":"VLOOKUP(G1573:G11571,'Location Type (FICM Codes)'!$A$7:$C$188,3,FALSE)","v":{"$error":"#N/A"}}]
[null,null,null,null,null,null,null,{"$f":"VLOOKUP($G$2:$G$50000,'Location Type (FICM Codes)'!$A$7:$B$188,2,FALSE)","v":{"$error":"#N/A"}},null,null,null,null,null,{"$f":"VLOOKUP(G1574:G11572,'Location Type (FICM Codes)'!$A$7:$C$188,3,FALSE)","v":{"$error":"#N/A"}}]
[null,null,null,null,null,null,null,{"$f":"VLOOKUP($G$2:$G$50000,'Location Type (FICM Codes)'!$A$7:$B$188,2,FALSE)","v":{"$error":"#N/A"}},null,null,null,null,null,{"$f":"VLOOKUP(G1575:G11573,'Location Type (FICM Codes)'!$A$7:$C$188,3,FALSE)","v":{"$error":"#N/A"}}]
[null,null,null,null,null,null,null,{"$f":"VLOOKUP($G$2:$G$50000,'Location Type (FICM Codes)'!$A$7:$B$188,2,FALSE)","v":{"$error":"#N/A"}},null,null,null,null,null,{"$f":"VLOOKUP(G1576:G11574,'Location Type (FICM Codes)'!$A$7:$C$188,3,FALSE)","v":{"$error":"#N/A"}}]
[null,null,null,null,null,null,null,{"$f":"VLOOKUP($G$2:$G$50000,'Location Type (FICM Codes)'!$A$7:$B$188,2,FALSE)","v":{"$error":"#N/A"}},null,null,null,null,null,{"$f":"VLOOKUP(G1577:G11575,'Location Type (FICM Codes)'!$A$7:$C$188,3,FALSE)","v":{"$error":"#N/A"}}]
[null,null,null,null,null,null,null,{"$f":"VLOOKUP($G$2:$G$50000,'Location Type (FICM Codes)'!$A$7:$B$188,2,FALSE)","v":{"$error":"#N/A"}},null,null,null,null,null,{"$f":"VLOOKUP(G1578:G11576,'Location Type (FICM Codes)'!$A$7:$C$188,3,FALSE)","v":{"$error":"#N/A"}}]
[null,null,null,null,null,null,null,{"$f":"VLOOKUP($G$2:$G$50000,'Location Type (FICM Codes)'!$A$7:$B$188,2,FALSE)","v":{"$error":"#N/A"}},null,null,null,null,null,{"$f":"VLOOKUP(G1579:G11577,'Location Type (FICM Codes)'!$A$7:$C$188,3,FALSE)","v":{"$error":"#N/A"}}]
[null,null,null,null,null,null,null,{"$f":"VLOOKUP($G$2:$G$50000,'Location Type (FICM Codes)'!$A$7:$B$188,2,FALSE)","v":{"$error":"#N/A"}},null,null,null,null,null,{"$f":"VLOOKUP(G1580:G11578,'Location Type (FICM Codes)'!$A$7:$C$188,3,FALSE)","v":{"$error":"#N/A"}}]
[null,null,null,null,null,null,null,{"$f":"VLOOKUP($G$2:$G$50000,'Location Type (FICM Codes)'!$A$7:$B$188,2,FALSE)","v":{"$error":"#N/A"}},null,null,null,null,null,{"$f":"VLOOKUP(G1581:G11579,'Location Type (FICM Codes)'!$A$7:$C$188,3,FALSE)","v":{"$error":"#N/A"}}]
[null,null,null,null,null,null,null,{"$f":"VLOOKUP($G$2:$G$50000,'Location Type (FICM Codes)'!$A$7:$B$188,2,FALSE)","v":{"$error":"#N/A"}},null,null,null,null,null,{"$f":"VLOOKUP(G1582:G11580,'Location Type (FICM Codes)'!$A$7:$C$188,3,FALSE)","v":{"$error":"#N/A"}}]
[null,null,null,null,null,null,null,{"$f":"VLOOKUP($G$2:$G$50000,'Location Type (FICM Codes)'!$A$7:$B$188,2,FALSE)","v":{"$error":"#N/A"}},null,null,null,null,null,{"$f":"VLOOKUP(G1583:G11581,'Location Type (FICM Codes)'!$A$7:$C$188,3,FALSE)","v":{"$error":"#N/A"}}]
[null,null,null,null,null,null,null,{"$f":"VLOOKUP($G$2:$G$50000,'Location Type (FICM Codes)'!$A$7:$B$188,2,FALSE)","v":{"$error":"#N/A"}},null,null,null,null,null,{"$f":"VLOOKUP(G1584:G11582,'Location Type (FICM Codes)'!$A$7:$C$188,3,FALSE)","v":{"$error":"#N/A"}}]
[null,null,null,null,null,null,null,{"$f":"VLOOKUP($G$2:$G$50000,'Location Type (FICM Codes)'!$A$7:$B$188,2,FALSE)","v":{"$error":"#N/A"}},null,null,null,null,null,{"$f":"VLOOKUP(G1585:G11583,'Location Type (FICM Codes)'!$A$7:$C$188,3,FALSE)","v":{"$error":"#N/A"}}]
[null,null,null,null,null,null,null,{"$f":"VLOOKUP($G$2:$G$50000,'Location Type (FICM Codes)'!$A$7:$B$188,2,FALSE)","v":{"$error":"#N/A"}},null,null,null,null,null,{"$f":"VLOOKUP(G1586:G11584,'Location Type (FICM Codes)'!$A$7:$C$188,3,FALSE)","v":{"$error":"#N/A"}}]
[null,null,null,null,null,null,null,{"$f":"VLOOKUP($G$2:$G$50000,'Location Type (FICM Codes)'!$A$7:$B$188,2,FALSE)","v":{"$error":"#N/A"}},null,null,null,null,null,{"$f":"VLOOKUP(G1587:G11585,'Location Type (FICM Codes)'!$A$7:$C$188,3,FALSE)","v":{"$error":"#N/A"}}]
[null,null,null,null,null,null,null,{"$f":"VLOOKUP($G$2:$G$50000,'Location Type (FICM Codes)'!$A$7:$B$188,2,FALSE)","v":{"$error":"#N/A"}},null,null,null,null,null,{"$f":"VLOOKUP(G1588:G11586,'Location Type (FICM Codes)'!$A$7:$C$188,3,FALSE)","v":{"$error":"#N/A"}}]
[null,null,null,null,null,null,null,{"$f":"VLOOKUP($G$2:$G$50000,'Location Type (FICM Codes)'!$A$7:$B$188,2,FALSE)","v":{"$error":"#N/A"}},null,null,null,null,null,{"$f":"VLOOKUP(G1589:G11587,'Location Type (FICM Codes)'!$A$7:$C$188,3,FALSE)","v":{"$error":"#N/A"}}]
[null,null,null,null,null,null,null,{"$f":"VLOOKUP($G$2:$G$50000,'Location Type (FICM Codes)'!$A$7:$B$188,2,FALSE)","v":{"$error":"#N/A"}},null,null,null,null,null,{"$f":"VLOOKUP(G1590:G11588,'Location Type (FICM Codes)'!$A$7:$C$188,3,FALSE)","v":{"$error":"#N/A"}}]
[null,null,null,null,null,null,null,{"$f":"VLOOKUP($G$2:$G$50000,'Location Type (FICM Codes)'!$A$7:$B$188,2,FALSE)","v":{"$error":"#N/A"}},null,null,null,null,null,{"$f":"VLOOKUP(G1591:G11589,'Location Type (FICM Codes)'!$A$7:$C$188,3,FALSE)","v":{"$error":"#N/A"}}]
[null,null,null,null,null,null,null,{"$f":"VLOOKUP($G$2:$G$50000,'Location Type (FICM Codes)'!$A$7:$B$188,2,FALSE)","v":{"$error":"#N/A"}},null,null,null,null,null,{"$f":"VLOOKUP(G1592:G11590,'Location Type (FICM Codes)'!$A$7:$C$188,3,FALSE)","v":{"$error":"#N/A"}}]
[null,null,null,null,null,null,null,{"$f":"VLOOKUP($G$2:$G$50000,'Location Type (FICM Codes)'!$A$7:$B$188,2,FALSE)","v":{"$error":"#N/A"}},null,null,null,null,null,{"$f":"VLOOKUP(G1593:G11591,'Location Type (FICM Codes)'!$A$7:$C$188,3,FALSE)","v":{"$error":"#N/A"}}]
[null,null,null,null,null,null,null,{"$f":"VLOOKUP($G$2:$G$50000,'Location Type (FICM Codes)'!$A$7:$B$188,2,FALSE)","v":{"$error":"#N/A"}},null,null,null,null,null,{"$f":"VLOOKUP(G1594:G11592,'Location Type (FICM Codes)'!$A$7:$C$188,3,FALSE)","v":{"$error":"#N/A"}}]
[null,null,null,null,null,null,null,{"$f":"VLOOKUP($G$2:$G$50000,'Location Type (FICM Codes)'!$A$7:$B$188,2,FALSE)","v":{"$error":"#N/A"}},null,null,null,null,null,{"$f":"VLOOKUP(G1595:G11593,'Location Type (FICM Codes)'!$A$7:$C$188,3,FALSE)","v":{"$error":"#N/A"}}]
[null,null,null,null,null,null,null,{"$f":"VLOOKUP($G$2:$G$50000,'Location Type (FICM Codes)'!$A$7:$B$188,2,FALSE)","v":{"$error":"#N/A"}},null,null,null,null,null,{"$f":"VLOOKUP(G1596:G11594,'Location Type (FICM Codes)'!$A$7:$C$188,3,FALSE)","v":{"$error":"#N/A"}}]
[null,null,null,null,null,null,null,{"$f":"VLOOKUP($G$2:$G$50000,'Location Type (FICM Codes)'!$A$7:$B$188,2,FALSE)","v":{"$error":"#N/A"}},null,null,null,null,null,{"$f":"VLOOKUP(G1597:G11595,'Location Type (FICM Codes)'!$A$7:$C$188,3,FALSE)","v":{"$error":"#N/A"}}]
[null,null,null,null,null,null,null,{"$f":"VLOOKUP($G$2:$G$50000,'Location Type (FICM Codes)'!$A$7:$B$188,2,FALSE)","v":{"$error":"#N/A"}},null,null,null,null,null,{"$f":"VLOOKUP(G1598:G11596,'Location Type (FICM Codes)'!$A$7:$C$188,3,FALSE)","v":{"$error":"#N/A"}}]
[null,null,null,null,null,null,null,{"$f":"VLOOKUP($G$2:$G$50000,'Location Type (FICM Codes)'!$A$7:$B$188,2,FALSE)","v":{"$error":"#N/A"}},null,null,null,null,null,{"$f":"VLOOKUP(G1599:G11597,'Location Type (FICM Codes)'!$A$7:$C$188,3,FALSE)","v":{"$error":"#N/A"}}]
[null,null,null,null,null,null,null,{"$f":"VLOOKUP($G$2:$G$50000,'Location Type (FICM Codes)'!$A$7:$B$188,2,FALSE)","v":{"$error":"#N/A"}},null,null,null,null,null,{"$f":"VLOOKUP(G1600:G11598,'Location Type (FICM Codes)'!$A$7:$C$188,3,FALSE)","v":{"$error":"#N/A"}}]
[null,null,null,null,null,null,null,{"$f":"VLOOKUP($G$2:$G$50000,'Location Type (FICM Codes)'!$A$7:$B$188,2,FALSE)","v":{"$error":"#N/A"}},null,null,null,null,null,{"$f":"VLOOKUP(G1601:G11599,'Location Type (FICM Codes)'!$A$7:$C$188,3,FALSE)","v":{"$error":"#N/A"}}]
[null,null,null,null,null,null,null,{"$f":"VLOOKUP($G$2:$G$50000,'Location Type (FICM Codes)'!$A$7:$B$188,2,FALSE)","v":{"$error":"#N/A"}},null,null,null,null,null,{"$f":"VLOOKUP(G1602:G11600,'Location Type (FICM Codes)'!$A$7:$C$188,3,FALSE)","v":{"$error":"#N/A"}}]
[null,null,null,null,null,null,null,{"$f":"VLOOKUP($G$2:$G$50000,'Location Type (FICM Codes)'!$A$7:$B$188,2,FALSE)","v":{"$error":"#N/A"}},null,null,null,null,null,{"$f":"VLOOKUP(G1603:G11601,'Location Type (FICM Codes)'!$A$7:$C$188,3,FALSE)","v":{"$error":"#N/A"}}]
[null,null,null,null,null,null,null,{"$f":"VLOOKUP($G$2:$G$50000,'Location Type (FICM Codes)'!$A$7:$B$188,2,FALSE)","v":{"$error":"#N/A"}},null,null,null,null,null,{"$f":"VLOOKUP(G1604:G11602,'Location Type (FICM Codes)'!$A$7:$C$188,3,FALSE)","v":{"$error":"#N/A"}}]
[null,null,null,null,null,null,null,{"$f":"VLOOKUP($G$2:$G$50000,'Location Type (FICM Codes)'!$A$7:$B$188,2,FALSE)","v":{"$error":"#N/A"}},null,null,null,null,null,{"$f":"VLOOKUP(G1605:G11603,'Location Type (FICM Codes)'!$A$7:$C$188,3,FALSE)","v":{"$error":"#N/A"}}]
[null,null,null,null,null,null,null,{"$f":"VLOOKUP($G$2:$G$50000,'Location Type (FICM Codes)'!$A$7:$B$188,2,FALSE)","v":{"$error":"#N/A"}},null,null,null,null,null,{"$f":"VLOOKUP(G1606:G11604,'Location Type (FICM Codes)'!$A$7:$C$188,3,FALSE)","v":{"$error":"#N/A"}}]
[null,null,null,null,null,null,null,{"$f":"VLOOKUP($G$2:$G$50000,'Location Type (FICM Codes)'!$A$7:$B$188,2,FALSE)","v":{"$error":"#N/A"}},null,null,null,null,null,{"$f":"VLOOKUP(G1607:G11605,'Location Type (FICM Codes)'!$A$7:$C$188,3,FALSE)","v":{"$error":"#N/A"}}]
[null,null,null,null,null,null,null,{"$f":"VLOOKUP($G$2:$G$50000,'Location Type (FICM Codes)'!$A$7:$B$188,2,FALSE)","v":{"$error":"#N/A"}},null,null,null,null,null,{"$f":"VLOOKUP(G1608:G11606,'Location Type (FICM Codes)'!$A$7:$C$188,3,FALSE)","v":{"$error":"#N/A"}}]
[null,null,null,null,null,null,null,{"$f":"VLOOKUP($G$2:$G$50000,'Location Type (FICM Codes)'!$A$7:$B$188,2,FALSE)","v":{"$error":"#N/A"}},null,null,null,null,null,{"$f":"VLOOKUP(G1609:G11607,'Location Type (FICM Codes)'!$A$7:$C$188,3,FALSE)","v":{"$error":"#N/A"}}]
[null,null,null,null,null,null,null,{"$f":"VLOOKUP($G$2:$G$50000,'Location Type (FICM Codes)'!$A$7:$B$188,2,FALSE)","v":{"$error":"#N/A"}},null,null,null,null,null,{"$f":"VLOOKUP(G1610:G11608,'Location Type (FICM Codes)'!$A$7:$C$188,3,FALSE)","v":{"$error":"#N/A"}}]
[null,null,null,null,null,null,null,{"$f":"VLOOKUP($G$2:$G$50000,'Location Type (FICM Codes)'!$A$7:$B$188,2,FALSE)","v":{"$error":"#N/A"}},null,null,null,null,null,{"$f":"VLOOKUP(G1611:G11609,'Location Type (FICM Codes)'!$A$7:$C$188,3,FALSE)","v":{"$error":"#N/A"}}]
[null,null,null,null,null,null,null,{"$f":"VLOOKUP($G$2:$G$50000,'Location Type (FICM Codes)'!$A$7:$B$188,2,FALSE)","v":{"$error":"#N/A"}},null,null,null,null,null,{"$f":"VLOOKUP(G1612:G11610,'Location Type (FICM Codes)'!$A$7:$C$188,3,FALSE)","v":{"$error":"#N/A"}}]
[null,null,null,null,null,null,null,{"$f":"VLOOKUP($G$2:$G$50000,'Location Type (FICM Codes)'!$A$7:$B$188,2,FALSE)","v":{"$error":"#N/A"}},null,null,null,null,null,{"$f":"VLOOKUP(G1613:G11611,'Location Type (FICM Codes)'!$A$7:$C$188,3,FALSE)","v":{"$error":"#N/A"}}]
[null,null,null,null,null,null,null,{"$f":"VLOOKUP($G$2:$G$50000,'Location Type (FICM Codes)'!$A$7:$B$188,2,FALSE)","v":{"$error":"#N/A"}},null,null,null,null,null,{"$f":"VLOOKUP(G1614:G11612,'Location Type (FICM Codes)'!$A$7:$C$188,3,FALSE)","v":{"$error":"#N/A"}}]
[null,null,null,null,null,null,null,{"$f":"VLOOKUP($G$2:$G$50000,'Location Type (FICM Codes)'!$A$7:$B$188,2,FALSE)","v":{"$error":"#N/A"}},null,null,null,null,null,{"$f":"VLOOKUP(G1615:G11613,'Location Type (FICM Codes)'!$A$7:$C$188,3,FALSE)","v":{"$error":"#N/A"}}]
[null,null,null,null,null,null,null,{"$f":"VLOOKUP($G$2:$G$50000,'Location Type (FICM Codes)'!$A$7:$B$188,2,FALSE)","v":{"$error":"#N/A"}},null,null,null,null,null,{"$f":"VLOOKUP(G1616:G11614,'Location Type (FICM Codes)'!$A$7:$C$188,3,FALSE)","v":{"$error":"#N/A"}}]
[null,null,null,null,null,null,null,{"$f":"VLOOKUP($G$2:$G$50000,'Location Type (FICM Codes)'!$A$7:$B$188,2,FALSE)","v":{"$error":"#N/A"}},null,null,null,null,null,{"$f":"VLOOKUP(G1617:G11615,'Location Type (FICM Codes)'!$A$7:$C$188,3,FALSE)","v":{"$error":"#N/A"}}]
[null,null,null,null,null,null,null,{"$f":"VLOOKUP($G$2:$G$50000,'Location Type (FICM Codes)'!$A$7:$B$188,2,FALSE)","v":{"$error":"#N/A"}},null,null,null,null,null,{"$f":"VLOOKUP(G1618:G11616,'Location Type (FICM Codes)'!$A$7:$C$188,3,FALSE)","v":{"$error":"#N/A"}}]
[null,null,null,null,null,null,null,{"$f":"VLOOKUP($G$2:$G$50000,'Location Type (FICM Codes)'!$A$7:$B$188,2,FALSE)","v":{"$error":"#N/A"}},null,null,null,null,null,{"$f":"VLOOKUP(G1619:G11617,'Location Type (FICM Codes)'!$A$7:$C$188,3,FALSE)","v":{"$error":"#N/A"}}]
[null,null,null,null,null,null,null,{"$f":"VLOOKUP($G$2:$G$50000,'Location Type (FICM Codes)'!$A$7:$B$188,2,FALSE)","v":{"$error":"#N/A"}},null,null,null,null,null,{"$f":"VLOOKUP(G1620:G11618,'Location Type (FICM Codes)'!$A$7:$C$188,3,FALSE)","v":{"$error":"#N/A"}}]
[null,null,null,null,null,null,null,{"$f":"VLOOKUP($G$2:$G$50000,'Location Type (FICM Codes)'!$A$7:$B$188,2,FALSE)","v":{"$error":"#N/A"}},null,null,null,null,null,{"$f":"VLOOKUP(G1621:G11619,'Location Type (FICM Codes)'!$A$7:$C$188,3,FALSE)","v":{"$error":"#N/A"}}]
[null,null,null,null,null,null,null,{"$f":"VLOOKUP($G$2:$G$50000,'Location Type (FICM Codes)'!$A$7:$B$188,2,FALSE)","v":{"$error":"#N/A"}},null,null,null,null,null,{"$f":"VLOOKUP(G1622:G11620,'Location Type (FICM Codes)'!$A$7:$C$188,3,FALSE)","v":{"$error":"#N/A"}}]
[null,null,null,null,null,null,null,{"$f":"VLOOKUP($G$2:$G$50000,'Location Type (FICM Codes)'!$A$7:$B$188,2,FALSE)","v":{"$error":"#N/A"}},null,null,null,null,null,{"$f":"VLOOKUP(G1623:G11621,'Location Type (FICM Codes)'!$A$7:$C$188,3,FALSE)","v":{"$error":"#N/A"}}]
[null,null,null,null,null,null,null,{"$f":"VLOOKUP($G$2:$G$50000,'Location Type (FICM Codes)'!$A$7:$B$188,2,FALSE)","v":{"$error":"#N/A"}},null,null,null,null,null,{"$f":"VLOOKUP(G1624:G11622,'Location Type (FICM Codes)'!$A$7:$C$188,3,FALSE)","v":{"$error":"#N/A"}}]
[null,null,null,null,null,null,null,{"$f":"VLOOKUP($G$2:$G$50000,'Location Type (FICM Codes)'!$A$7:$B$188,2,FALSE)","v":{"$error":"#N/A"}},null,null,null,null,null,{"$f":"VLOOKUP(G1625:G11623,'Location Type (FICM Codes)'!$A$7:$C$188,3,FALSE)","v":{"$error":"#N/A"}}]
[null,null,null,null,null,null,null,{"$f":"VLOOKUP($G$2:$G$50000,'Location Type (FICM Codes)'!$A$7:$B$188,2,FALSE)","v":{"$error":"#N/A"}},null,null,null,null,null,{"$f":"VLOOKUP(G1626:G11624,'Location Type (FICM Codes)'!$A$7:$C$188,3,FALSE)","v":{"$error":"#N/A"}}]
[null,null,null,null,null,null,null,{"$f":"VLOOKUP($G$2:$G$50000,'Location Type (FICM Codes)'!$A$7:$B$188,2,FALSE)","v":{"$error":"#N/A"}},null,null,null,null,null,{"$f":"VLOOKUP(G1627:G11625,'Location Type (FICM Codes)'!$A$7:$C$188,3,FALSE)","v":{"$error":"#N/A"}}]
[null,null,null,null,null,null,null,{"$f":"VLOOKUP($G$2:$G$50000,'Location Type (FICM Codes)'!$A$7:$B$188,2,FALSE)","v":{"$error":"#N/A"}},null,null,null,null,null,{"$f":"VLOOKUP(G1628:G11626,'Location Type (FICM Codes)'!$A$7:$C$188,3,FALSE)","v":{"$error":"#N/A"}}]
[null,null,null,null,null,null,null,{"$f":"VLOOKUP($G$2:$G$50000,'Location Type (FICM Codes)'!$A$7:$B$188,2,FALSE)","v":{"$error":"#N/A"}},null,null,null,null,null,{"$f":"VLOOKUP(G1629:G11627,'Location Type (FICM Codes)'!$A$7:$C$188,3,FALSE)","v":{"$error":"#N/A"}}]
[null,null,null,null,null,null,null,{"$f":"VLOOKUP($G$2:$G$50000,'Location Type (FICM Codes)'!$A$7:$B$188,2,FALSE)","v":{"$error":"#N/A"}},null,null,null,null,null,{"$f":"VLOOKUP(G1630:G11628,'Location Type (FICM Codes)'!$A$7:$C$188,3,FALSE)","v":{"$error":"#N/A"}}]
[null,null,null,null,null,null,null,{"$f":"VLOOKUP($G$2:$G$50000,'Location Type (FICM Codes)'!$A$7:$B$188,2,FALSE)","v":{"$error":"#N/A"}},null,null,null,null,null,{"$f":"VLOOKUP(G1631:G11629,'Location Type (FICM Codes)'!$A$7:$C$188,3,FALSE)","v":{"$error":"#N/A"}}]
[null,null,null,null,null,null,null,{"$f":"VLOOKUP($G$2:$G$50000,'Location Type (FICM Codes)'!$A$7:$B$188,2,FALSE)","v":{"$error":"#N/A"}},null,null,null,null,null,{"$f":"VLOOKUP(G1632:G11630,'Location Type (FICM Codes)'!$A$7:$C$188,3,FALSE)","v":{"$error":"#N/A"}}]
[null,null,null,null,null,null,null,{"$f":"VLOOKUP($G$2:$G$50000,'Location Type (FICM Codes)'!$A$7:$B$188,2,FALSE)","v":{"$error":"#N/A"}},null,null,null,null,null,{"$f":"VLOOKUP(G1633:G11631,'Location Type (FICM Codes)'!$A$7:$C$188,3,FALSE)","v":{"$error":"#N/A"}}]
[null,null,null,null,null,null,null,{"$f":"VLOOKUP($G$2:$G$50000,'Location Type (FICM Codes)'!$A$7:$B$188,2,FALSE)","v":{"$error":"#N/A"}},null,null,null,null,null,{"$f":"VLOOKUP(G1634:G11632,'Location Type (FICM Codes)'!$A$7:$C$188,3,FALSE)","v":{"$error":"#N/A"}}]
[null,null,null,null,null,null,null,{"$f":"VLOOKUP($G$2:$G$50000,'Location Type (FICM Codes)'!$A$7:$B$188,2,FALSE)","v":{"$error":"#N/A"}},null,null,null,null,null,{"$f":"VLOOKUP(G1635:G11633,'Location Type (FICM Codes)'!$A$7:$C$188,3,FALSE)","v":{"$error":"#N/A"}}]
[null,null,null,null,null,null,null,{"$f":"VLOOKUP($G$2:$G$50000,'Location Type (FICM Codes)'!$A$7:$B$188,2,FALSE)","v":{"$error":"#N/A"}},null,null,null,null,null,{"$f":"VLOOKUP(G1636:G11634,'Location Type (FICM Codes)'!$A$7:$C$188,3,FALSE)","v":{"$error":"#N/A"}}]
[null,null,null,null,null,null,null,{"$f":"VLOOKUP($G$2:$G$50000,'Location Type (FICM Codes)'!$A$7:$B$188,2,FALSE)","v":{"$error":"#N/A"}},null,null,null,null,null,{"$f":"VLOOKUP(G1637:G11635,'Location Type (FICM Codes)'!$A$7:$C$188,3,FALSE)","v":{"$error":"#N/A"}}]
[null,null,null,null,null,null,null,{"$f":"VLOOKUP($G$2:$G$50000,'Location Type (FICM Codes)'!$A$7:$B$188,2,FALSE)","v":{"$error":"#N/A"}},null,null,null,null,null,{"$f":"VLOOKUP(G1638:G11636,'Location Type (FICM Codes)'!$A$7:$C$188,3,FALSE)","v":{"$error":"#N/A"}}]
[null,null,null,null,null,null,null,{"$f":"VLOOKUP($G$2:$G$50000,'Location Type (FICM Codes)'!$A$7:$B$188,2,FALSE)","v":{"$error":"#N/A"}},null,null,null,null,null,{"$f":"VLOOKUP(G1639:G11637,'Location Type (FICM Codes)'!$A$7:$C$188,3,FALSE)","v":{"$error":"#N/A"}}]
[null,null,null,null,null,null,null,{"$f":"VLOOKUP($G$2:$G$50000,'Location Type (FICM Codes)'!$A$7:$B$188,2,FALSE)","v":{"$error":"#N/A"}},null,null,null,null,null,{"$f":"VLOOKUP(G1640:G11638,'Location Type (FICM Codes)'!$A$7:$C$188,3,FALSE)","v":{"$error":"#N/A"}}]
[null,null,null,null,null,null,null,{"$f":"VLOOKUP($G$2:$G$50000,'Location Type (FICM Codes)'!$A$7:$B$188,2,FALSE)","v":{"$error":"#N/A"}},null,null,null,null,null,{"$f":"VLOOKUP(G1641:G11639,'Location Type (FICM Codes)'!$A$7:$C$188,3,FALSE)","v":{"$error":"#N/A"}}]
[null,null,null,null,null,null,null,{"$f":"VLOOKUP($G$2:$G$50000,'Location Type (FICM Codes)'!$A$7:$B$188,2,FALSE)","v":{"$error":"#N/A"}},null,null,null,null,null,{"$f":"VLOOKUP(G1642:G11640,'Location Type (FICM Codes)'!$A$7:$C$188,3,FALSE)","v":{"$error":"#N/A"}}]
[null,null,null,null,null,null,null,{"$f":"VLOOKUP($G$2:$G$50000,'Location Type (FICM Codes)'!$A$7:$B$188,2,FALSE)","v":{"$error":"#N/A"}},null,null,null,null,null,{"$f":"VLOOKUP(G1643:G11641,'Location Type (FICM Codes)'!$A$7:$C$188,3,FALSE)","v":{"$error":"#N/A"}}]
[null,null,null,null,null,null,null,{"$f":"VLOOKUP($G$2:$G$50000,'Location Type (FICM Codes)'!$A$7:$B$188,2,FALSE)","v":{"$error":"#N/A"}},null,null,null,null,null,{"$f":"VLOOKUP(G1644:G11642,'Location Type (FICM Codes)'!$A$7:$C$188,3,FALSE)","v":{"$error":"#N/A"}}]
[null,null,null,null,null,null,null,{"$f":"VLOOKUP($G$2:$G$50000,'Location Type (FICM Codes)'!$A$7:$B$188,2,FALSE)","v":{"$error":"#N/A"}},null,null,null,null,null,{"$f":"VLOOKUP(G1645:G11643,'Location Type (FICM Codes)'!$A$7:$C$188,3,FALSE)","v":{"$error":"#N/A"}}]
[null,null,null,null,null,null,null,{"$f":"VLOOKUP($G$2:$G$50000,'Location Type (FICM Codes)'!$A$7:$B$188,2,FALSE)","v":{"$error":"#N/A"}},null,null,null,null,null,{"$f":"VLOOKUP(G1646:G11644,'Location Type (FICM Codes)'!$A$7:$C$188,3,FALSE)","v":{"$error":"#N/A"}}]
[null,null,null,null,null,null,null,{"$f":"VLOOKUP($G$2:$G$50000,'Location Type (FICM Codes)'!$A$7:$B$188,2,FALSE)","v":{"$error":"#N/A"}},null,null,null,null,null,{"$f":"VLOOKUP(G1647:G11645,'Location Type (FICM Codes)'!$A$7:$C$188,3,FALSE)","v":{"$error":"#N/A"}}]
[null,null,null,null,null,null,null,{"$f":"VLOOKUP($G$2:$G$50000,'Location Type (FICM Codes)'!$A$7:$B$188,2,FALSE)","v":{"$error":"#N/A"}},null,null,null,null,null,{"$f":"VLOOKUP(G1648:G11646,'Location Type (FICM Codes)'!$A$7:$C$188,3,FALSE)","v":{"$error":"#N/A"}}]
[null,null,null,null,null,null,null,{"$f":"VLOOKUP($G$2:$G$50000,'Location Type (FICM Codes)'!$A$7:$B$188,2,FALSE)","v":{"$error":"#N/A"}},null,null,null,null,null,{"$f":"VLOOKUP(G1649:G11647,'Location Type (FICM Codes)'!$A$7:$C$188,3,FALSE)","v":{"$error":"#N/A"}}]
[null,null,null,null,null,null,null,{"$f":"VLOOKUP($G$2:$G$50000,'Location Type (FICM Codes)'!$A$7:$B$188,2,FALSE)","v":{"$error":"#N/A"}},null,null,null,null,null,{"$f":"VLOOKUP(G1650:G11648,'Location Type (FICM Codes)'!$A$7:$C$188,3,FALSE)","v":{"$error":"#N/A"}}]
[null,null,null,null,null,null,null,{"$f":"VLOOKUP($G$2:$G$50000,'Location Type (FICM Codes)'!$A$7:$B$188,2,FALSE)","v":{"$error":"#N/A"}},null,null,null,null,null,{"$f":"VLOOKUP(G1651:G11649,'Location Type (FICM Codes)'!$A$7:$C$188,3,FALSE)","v":{"$error":"#N/A"}}]
[null,null,null,null,null,null,null,{"$f":"VLOOKUP($G$2:$G$50000,'Location Type (FICM Codes)'!$A$7:$B$188,2,FALSE)","v":{"$error":"#N/A"}},null,null,null,null,null,{"$f":"VLOOKUP(G1652:G11650,'Location Type (FICM Codes)'!$A$7:$C$188,3,FALSE)","v":{"$error":"#N/A"}}]
[null,null,null,null,null,null,null,{"$f":"VLOOKUP($G$2:$G$50000,'Location Type (FICM Codes)'!$A$7:$B$188,2,FALSE)","v":{"$error":"#N/A"}},null,null,null,null,null,{"$f":"VLOOKUP(G1653:G11651,'Location Type (FICM Codes)'!$A$7:$C$188,3,FALSE)","v":{"$error":"#N/A"}}]
[null,null,null,null,null,null,null,{"$f":"VLOOKUP($G$2:$G$50000,'Location Type (FICM Codes)'!$A$7:$B$188,2,FALSE)","v":{"$error":"#N/A"}},null,null,null,null,null,{"$f":"VLOOKUP(G1654:G11652,'Location Type (FICM Codes)'!$A$7:$C$188,3,FALSE)","v":{"$error":"#N/A"}}]
[null,null,null,null,null,null,null,{"$f":"VLOOKUP($G$2:$G$50000,'Location Type (FICM Codes)'!$A$7:$B$188,2,FALSE)","v":{"$error":"#N/A"}},null,null,null,null,null,{"$f":"VLOOKUP(G1655:G11653,'Location Type (FICM Codes)'!$A$7:$C$188,3,FALSE)","v":{"$error":"#N/A"}}]
[null,null,null,null,null,null,null,{"$f":"VLOOKUP($G$2:$G$50000,'Location Type (FICM Codes)'!$A$7:$B$188,2,FALSE)","v":{"$error":"#N/A"}},null,null,null,null,null,{"$f":"VLOOKUP(G1656:G11654,'Location Type (FICM Codes)'!$A$7:$C$188,3,FALSE)","v":{"$error":"#N/A"}}]
[null,null,null,null,null,null,null,{"$f":"VLOOKUP($G$2:$G$50000,'Location Type (FICM Codes)'!$A$7:$B$188,2,FALSE)","v":{"$error":"#N/A"}},null,null,null,null,null,{"$f":"VLOOKUP(G1657:G11655,'Location Type (FICM Codes)'!$A$7:$C$188,3,FALSE)","v":{"$error":"#N/A"}}]
[null,null,null,null,null,null,null,{"$f":"VLOOKUP($G$2:$G$50000,'Location Type (FICM Codes)'!$A$7:$B$188,2,FALSE)","v":{"$error":"#N/A"}},null,null,null,null,null,{"$f":"VLOOKUP(G1658:G11656,'Location Type (FICM Codes)'!$A$7:$C$188,3,FALSE)","v":{"$error":"#N/A"}}]
[null,null,null,null,null,null,null,{"$f":"VLOOKUP($G$2:$G$50000,'Location Type (FICM Codes)'!$A$7:$B$188,2,FALSE)","v":{"$error":"#N/A"}},null,null,null,null,null,{"$f":"VLOOKUP(G1659:G11657,'Location Type (FICM Codes)'!$A$7:$C$188,3,FALSE)","v":{"$error":"#N/A"}}]
[null,null,null,null,null,null,null,{"$f":"VLOOKUP($G$2:$G$50000,'Location Type (FICM Codes)'!$A$7:$B$188,2,FALSE)","v":{"$error":"#N/A"}},null,null,null,null,null,{"$f":"VLOOKUP(G1660:G11658,'Location Type (FICM Codes)'!$A$7:$C$188,3,FALSE)","v":{"$error":"#N/A"}}]
[null,null,null,null,null,null,null,{"$f":"VLOOKUP($G$2:$G$50000,'Location Type (FICM Codes)'!$A$7:$B$188,2,FALSE)","v":{"$error":"#N/A"}},null,null,null,null,null,{"$f":"VLOOKUP(G1661:G11659,'Location Type (FICM Codes)'!$A$7:$C$188,3,FALSE)","v":{"$error":"#N/A"}}]
[null,null,null,null,null,null,null,{"$f":"VLOOKUP($G$2:$G$50000,'Location Type (FICM Codes)'!$A$7:$B$188,2,FALSE)","v":{"$error":"#N/A"}},null,null,null,null,null,{"$f":"VLOOKUP(G1662:G11660,'Location Type (FICM Codes)'!$A$7:$C$188,3,FALSE)","v":{"$error":"#N/A"}}]
[null,null,null,null,null,null,null,{"$f":"VLOOKUP($G$2:$G$50000,'Location Type (FICM Codes)'!$A$7:$B$188,2,FALSE)","v":{"$error":"#N/A"}},null,null,null,null,null,{"$f":"VLOOKUP(G1663:G11661,'Location Type (FICM Codes)'!$A$7:$C$188,3,FALSE)","v":{"$error":"#N/A"}}]
[null,null,null,null,null,null,null,{"$f":"VLOOKUP($G$2:$G$50000,'Location Type (FICM Codes)'!$A$7:$B$188,2,FALSE)","v":{"$error":"#N/A"}},null,null,null,null,null,{"$f":"VLOOKUP(G1664:G11662,'Location Type (FICM Codes)'!$A$7:$C$188,3,FALSE)","v":{"$error":"#N/A"}}]
[null,null,null,null,null,null,null,{"$f":"VLOOKUP($G$2:$G$50000,'Location Type (FICM Codes)'!$A$7:$B$188,2,FALSE)","v":{"$error":"#N/A"}},null,null,null,null,null,{"$f":"VLOOKUP(G1665:G11663,'Location Type (FICM Codes)'!$A$7:$C$188,3,FALSE)","v":{"$error":"#N/A"}}]
[null,null,null,null,null,null,null,{"$f":"VLOOKUP($G$2:$G$50000,'Location Type (FICM Codes)'!$A$7:$B$188,2,FALSE)","v":{"$error":"#N/A"}},null,null,null,null,null,{"$f":"VLOOKUP(G1666:G11664,'Location Type (FICM Codes)'!$A$7:$C$188,3,FALSE)","v":{"$error":"#N/A"}}]
[null,null,null,null,null,null,null,{"$f":"VLOOKUP($G$2:$G$50000,'Location Type (FICM Codes)'!$A$7:$B$188,2,FALSE)","v":{"$error":"#N/A"}},null,null,null,null,null,{"$f":"VLOOKUP(G1667:G11665,'Location Type (FICM Codes)'!$A$7:$C$188,3,FALSE)","v":{"$error":"#N/A"}}]
[null,null,null,null,null,null,null,{"$f":"VLOOKUP($G$2:$G$50000,'Location Type (FICM Codes)'!$A$7:$B$188,2,FALSE)","v":{"$error":"#N/A"}},null,null,null,null,null,{"$f":"VLOOKUP(G1668:G11666,'Location Type (FICM Codes)'!$A$7:$C$188,3,FALSE)","v":{"$error":"#N/A"}}]
[null,null,null,null,null,null,null,{"$f":"VLOOKUP($G$2:$G$50000,'Location Type (FICM Codes)'!$A$7:$B$188,2,FALSE)","v":{"$error":"#N/A"}},null,null,null,null,null,{"$f":"VLOOKUP(G1669:G11667,'Location Type (FICM Codes)'!$A$7:$C$188,3,FALSE)","v":{"$error":"#N/A"}}]
[null,null,null,null,null,null,null,{"$f":"VLOOKUP($G$2:$G$50000,'Location Type (FICM Codes)'!$A$7:$B$188,2,FALSE)","v":{"$error":"#N/A"}},null,null,null,null,null,{"$f":"VLOOKUP(G1670:G11668,'Location Type (FICM Codes)'!$A$7:$C$188,3,FALSE)","v":{"$error":"#N/A"}}]
[null,null,null,null,null,null,null,{"$f":"VLOOKUP($G$2:$G$50000,'Location Type (FICM Codes)'!$A$7:$B$188,2,FALSE)","v":{"$error":"#N/A"}},null,null,null,null,null,{"$f":"VLOOKUP(G1671:G11669,'Location Type (FICM Codes)'!$A$7:$C$188,3,FALSE)","v":{"$error":"#N/A"}}]
[null,null,null,null,null,null,null,{"$f":"VLOOKUP($G$2:$G$50000,'Location Type (FICM Codes)'!$A$7:$B$188,2,FALSE)","v":{"$error":"#N/A"}},null,null,null,null,null,{"$f":"VLOOKUP(G1672:G11670,'Location Type (FICM Codes)'!$A$7:$C$188,3,FALSE)","v":{"$error":"#N/A"}}]
[null,null,null,null,null,null,null,{"$f":"VLOOKUP($G$2:$G$50000,'Location Type (FICM Codes)'!$A$7:$B$188,2,FALSE)","v":{"$error":"#N/A"}},null,null,null,null,null,{"$f":"VLOOKUP(G1673:G11671,'Location Type (FICM Codes)'!$A$7:$C$188,3,FALSE)","v":{"$error":"#N/A"}}]
[null,null,null,null,null,null,null,{"$f":"VLOOKUP($G$2:$G$50000,'Location Type (FICM Codes)'!$A$7:$B$188,2,FALSE)","v":{"$error":"#N/A"}},null,null,null,null,null,{"$f":"VLOOKUP(G1674:G11672,'Location Type (FICM Codes)'!$A$7:$C$188,3,FALSE)","v":{"$error":"#N/A"}}]
[null,null,null,null,null,null,null,{"$f":"VLOOKUP($G$2:$G$50000,'Location Type (FICM Codes)'!$A$7:$B$188,2,FALSE)","v":{"$error":"#N/A"}},null,null,null,null,null,{"$f":"VLOOKUP(G1675:G11673,'Location Type (FICM Codes)'!$A$7:$C$188,3,FALSE)","v":{"$error":"#N/A"}}]
[null,null,null,null,null,null,null,{"$f":"VLOOKUP($G$2:$G$50000,'Location Type (FICM Codes)'!$A$7:$B$188,2,FALSE)","v":{"$error":"#N/A"}},null,null,null,null,null,{"$f":"VLOOKUP(G1676:G11674,'Location Type (FICM Codes)'!$A$7:$C$188,3,FALSE)","v":{"$error":"#N/A"}}]
[null,null,null,null,null,null,null,{"$f":"VLOOKUP($G$2:$G$50000,'Location Type (FICM Codes)'!$A$7:$B$188,2,FALSE)","v":{"$error":"#N/A"}},null,null,null,null,null,{"$f":"VLOOKUP(G1677:G11675,'Location Type (FICM Codes)'!$A$7:$C$188,3,FALSE)","v":{"$error":"#N/A"}}]
[null,null,null,null,null,null,null,{"$f":"VLOOKUP($G$2:$G$50000,'Location Type (FICM Codes)'!$A$7:$B$188,2,FALSE)","v":{"$error":"#N/A"}},null,null,null,null,null,{"$f":"VLOOKUP(G1678:G11676,'Location Type (FICM Codes)'!$A$7:$C$188,3,FALSE)","v":{"$error":"#N/A"}}]
[null,null,null,null,null,null,null,{"$f":"VLOOKUP($G$2:$G$50000,'Location Type (FICM Codes)'!$A$7:$B$188,2,FALSE)","v":{"$error":"#N/A"}},null,null,null,null,null,{"$f":"VLOOKUP(G1679:G11677,'Location Type (FICM Codes)'!$A$7:$C$188,3,FALSE)","v":{"$error":"#N/A"}}]
[null,null,null,null,null,null,null,{"$f":"VLOOKUP($G$2:$G$50000,'Location Type (FICM Codes)'!$A$7:$B$188,2,FALSE)","v":{"$error":"#N/A"}},null,null,null,null,null,{"$f":"VLOOKUP(G1680:G11678,'Location Type (FICM Codes)'!$A$7:$C$188,3,FALSE)","v":{"$error":"#N/A"}}]
[null,null,null,null,null,null,null,{"$f":"VLOOKUP($G$2:$G$50000,'Location Type (FICM Codes)'!$A$7:$B$188,2,FALSE)","v":{"$error":"#N/A"}},null,null,null,null,null,{"$f":"VLOOKUP(G1681:G11679,'Location Type (FICM Codes)'!$A$7:$C$188,3,FALSE)","v":{"$error":"#N/A"}}]
[null,null,null,null,null,null,null,{"$f":"VLOOKUP($G$2:$G$50000,'Location Type (FICM Codes)'!$A$7:$B$188,2,FALSE)","v":{"$error":"#N/A"}},null,null,null,null,null,{"$f":"VLOOKUP(G1682:G11680,'Location Type (FICM Codes)'!$A$7:$C$188,3,FALSE)","v":{"$error":"#N/A"}}]
[null,null,null,null,null,null,null,{"$f":"VLOOKUP($G$2:$G$50000,'Location Type (FICM Codes)'!$A$7:$B$188,2,FALSE)","v":{"$error":"#N/A"}},null,null,null,null,null,{"$f":"VLOOKUP(G1683:G11681,'Location Type (FICM Codes)'!$A$7:$C$188,3,FALSE)","v":{"$error":"#N/A"}}]
[null,null,null,null,null,null,null,{"$f":"VLOOKUP($G$2:$G$50000,'Location Type (FICM Codes)'!$A$7:$B$188,2,FALSE)","v":{"$error":"#N/A"}},null,null,null,null,null,{"$f":"VLOOKUP(G1684:G11682,'Location Type (FICM Codes)'!$A$7:$C$188,3,FALSE)","v":{"$error":"#N/A"}}]
[null,null,null,null,null,null,null,{"$f":"VLOOKUP($G$2:$G$50000,'Location Type (FICM Codes)'!$A$7:$B$188,2,FALSE)","v":{"$error":"#N/A"}},null,null,null,null,null,{"$f":"VLOOKUP(G1685:G11683,'Location Type (FICM Codes)'!$A$7:$C$188,3,FALSE)","v":{"$error":"#N/A"}}]
[null,null,null,null,null,null,null,{"$f":"VLOOKUP($G$2:$G$50000,'Location Type (FICM Codes)'!$A$7:$B$188,2,FALSE)","v":{"$error":"#N/A"}},null,null,null,null,null,{"$f":"VLOOKUP(G1686:G11684,'Location Type (FICM Codes)'!$A$7:$C$188,3,FALSE)","v":{"$error":"#N/A"}}]
[null,null,null,null,null,null,null,{"$f":"VLOOKUP($G$2:$G$50000,'Location Type (FICM Codes)'!$A$7:$B$188,2,FALSE)","v":{"$error":"#N/A"}},null,null,null,null,null,{"$f":"VLOOKUP(G1687:G11685,'Location Type (FICM Codes)'!$A$7:$C$188,3,FALSE)","v":{"$error":"#N/A"}}]
[null,null,null,null,null,null,null,{"$f":"VLOOKUP($G$2:$G$50000,'Location Type (FICM Codes)'!$A$7:$B$188,2,FALSE)","v":{"$error":"#N/A"}},null,null,null,null,null,{"$f":"VLOOKUP(G1688:G11686,'Location Type (FICM Codes)'!$A$7:$C$188,3,FALSE)","v":{"$error":"#N/A"}}]
[null,null,null,null,null,null,null,{"$f":"VLOOKUP($G$2:$G$50000,'Location Type (FICM Codes)'!$A$7:$B$188,2,FALSE)","v":{"$error":"#N/A"}},null,null,null,null,null,{"$f":"VLOOKUP(G1689:G11687,'Location Type (FICM Codes)'!$A$7:$C$188,3,FALSE)","v":{"$error":"#N/A"}}]
[null,null,null,null,null,null,null,{"$f":"VLOOKUP($G$2:$G$50000,'Location Type (FICM Codes)'!$A$7:$B$188,2,FALSE)","v":{"$error":"#N/A"}},null,null,null,null,null,{"$f":"VLOOKUP(G1690:G11688,'Location Type (FICM Codes)'!$A$7:$C$188,3,FALSE)","v":{"$error":"#N/A"}}]
[null,null,null,null,null,null,null,{"$f":"VLOOKUP($G$2:$G$50000,'Location Type (FICM Codes)'!$A$7:$B$188,2,FALSE)","v":{"$error":"#N/A"}},null,null,null,null,null,{"$f":"VLOOKUP(G1691:G11689,'Location Type (FICM Codes)'!$A$7:$C$188,3,FALSE)","v":{"$error":"#N/A"}}]
[null,null,null,null,null,null,null,{"$f":"VLOOKUP($G$2:$G$50000,'Location Type (FICM Codes)'!$A$7:$B$188,2,FALSE)","v":{"$error":"#N/A"}},null,null,null,null,null,{"$f":"VLOOKUP(G1692:G11690,'Location Type (FICM Codes)'!$A$7:$C$188,3,FALSE)","v":{"$error":"#N/A"}}]
[null,null,null,null,null,null,null,{"$f":"VLOOKUP($G$2:$G$50000,'Location Type (FICM Codes)'!$A$7:$B$188,2,FALSE)","v":{"$error":"#N/A"}},null,null,null,null,null,{"$f":"VLOOKUP(G1693:G11691,'Location Type (FICM Codes)'!$A$7:$C$188,3,FALSE)","v":{"$error":"#N/A"}}]
[null,null,null,null,null,null,null,{"$f":"VLOOKUP($G$2:$G$50000,'Location Type (FICM Codes)'!$A$7:$B$188,2,FALSE)","v":{"$error":"#N/A"}},null,null,null,null,null,{"$f":"VLOOKUP(G1694:G11692,'Location Type (FICM Codes)'!$A$7:$C$188,3,FALSE)","v":{"$error":"#N/A"}}]
[null,null,null,null,null,null,null,{"$f":"VLOOKUP($G$2:$G$50000,'Location Type (FICM Codes)'!$A$7:$B$188,2,FALSE)","v":{"$error":"#N/A"}},null,null,null,null,null,{"$f":"VLOOKUP(G1695:G11693,'Location Type (FICM Codes)'!$A$7:$C$188,3,FALSE)","v":{"$error":"#N/A"}}]
[null,null,null,null,null,null,null,{"$f":"VLOOKUP($G$2:$G$50000,'Location Type (FICM Codes)'!$A$7:$B$188,2,FALSE)","v":{"$error":"#N/A"}},null,null,null,null,null,{"$f":"VLOOKUP(G1696:G11694,'Location Type (FICM Codes)'!$A$7:$C$188,3,FALSE)","v":{"$error":"#N/A"}}]
[null,null,null,null,null,null,null,{"$f":"VLOOKUP($G$2:$G$50000,'Location Type (FICM Codes)'!$A$7:$B$188,2,FALSE)","v":{"$error":"#N/A"}},null,null,null,null,null,{"$f":"VLOOKUP(G1697:G11695,'Location Type (FICM Codes)'!$A$7:$C$188,3,FALSE)","v":{"$error":"#N/A"}}]
[null,null,null,null,null,null,null,{"$f":"VLOOKUP($G$2:$G$50000,'Location Type (FICM Codes)'!$A$7:$B$188,2,FALSE)","v":{"$error":"#N/A"}},null,null,null,null,null,{"$f":"VLOOKUP(G1698:G11696,'Location Type (FICM Codes)'!$A$7:$C$188,3,FALSE)","v":{"$error":"#N/A"}}]
[null,null,null,null,null,null,null,{"$f":"VLOOKUP($G$2:$G$50000,'Location Type (FICM Codes)'!$A$7:$B$188,2,FALSE)","v":{"$error":"#N/A"}},null,null,null,null,null,{"$f":"VLOOKUP(G1699:G11697,'Location Type (FICM Codes)'!$A$7:$C$188,3,FALSE)","v":{"$error":"#N/A"}}]
[null,null,null,null,null,null,null,{"$f":"VLOOKUP($G$2:$G$50000,'Location Type (FICM Codes)'!$A$7:$B$188,2,FALSE)","v":{"$error":"#N/A"}},null,null,null,null,null,{"$f":"VLOOKUP(G1700:G11698,'Location Type (FICM Codes)'!$A$7:$C$188,3,FALSE)","v":{"$error":"#N/A"}}]
[null,null,null,null,null,null,null,{"$f":"VLOOKUP($G$2:$G$50000,'Location Type (FICM Codes)'!$A$7:$B$188,2,FALSE)","v":{"$error":"#N/A"}},null,null,null,null,null,{"$f":"VLOOKUP(G1701:G11699,'Location Type (FICM Codes)'!$A$7:$C$188,3,FALSE)","v":{"$error":"#N/A"}}]
[null,null,null,null,null,null,null,{"$f":"VLOOKUP($G$2:$G$50000,'Location Type (FICM Codes)'!$A$7:$B$188,2,FALSE)","v":{"$error":"#N/A"}},null,null,null,null,null,{"$f":"VLOOKUP(G1702:G11700,'Location Type (FICM Codes)'!$A$7:$C$188,3,FALSE)","v":{"$error":"#N/A"}}]
[null,null,null,null,null,null,null,{"$f":"VLOOKUP($G$2:$G$50000,'Location Type (FICM Codes)'!$A$7:$B$188,2,FALSE)","v":{"$error":"#N/A"}},null,null,null,null,null,{"$f":"VLOOKUP(G1703:G11701,'Location Type (FICM Codes)'!$A$7:$C$188,3,FALSE)","v":{"$error":"#N/A"}}]
[null,null,null,null,null,null,null,{"$f":"VLOOKUP($G$2:$G$50000,'Location Type (FICM Codes)'!$A$7:$B$188,2,FALSE)","v":{"$error":"#N/A"}},null,null,null,null,null,{"$f":"VLOOKUP(G1704:G11702,'Location Type (FICM Codes)'!$A$7:$C$188,3,FALSE)","v":{"$error":"#N/A"}}]
[null,null,null,null,null,null,null,{"$f":"VLOOKUP($G$2:$G$50000,'Location Type (FICM Codes)'!$A$7:$B$188,2,FALSE)","v":{"$error":"#N/A"}},null,null,null,null,null,{"$f":"VLOOKUP(G1705:G11703,'Location Type (FICM Codes)'!$A$7:$C$188,3,FALSE)","v":{"$error":"#N/A"}}]
[null,null,null,null,null,null,null,{"$f":"VLOOKUP($G$2:$G$50000,'Location Type (FICM Codes)'!$A$7:$B$188,2,FALSE)","v":{"$error":"#N/A"}},null,null,null,null,null,{"$f":"VLOOKUP(G1706:G11704,'Location Type (FICM Codes)'!$A$7:$C$188,3,FALSE)","v":{"$error":"#N/A"}}]
[null,null,null,null,null,null,null,{"$f":"VLOOKUP($G$2:$G$50000,'Location Type (FICM Codes)'!$A$7:$B$188,2,FALSE)","v":{"$error":"#N/A"}},null,null,null,null,null,{"$f":"VLOOKUP(G1707:G11705,'Location Type (FICM Codes)'!$A$7:$C$188,3,FALSE)","v":{"$error":"#N/A"}}]
[null,null,null,null,null,null,null,{"$f":"VLOOKUP($G$2:$G$50000,'Location Type (FICM Codes)'!$A$7:$B$188,2,FALSE)","v":{"$error":"#N/A"}},null,null,null,null,null,{"$f":"VLOOKUP(G1708:G11706,'Location Type (FICM Codes)'!$A$7:$C$188,3,FALSE)","v":{"$error":"#N/A"}}]
[null,null,null,null,null,null,null,{"$f":"VLOOKUP($G$2:$G$50000,'Location Type (FICM Codes)'!$A$7:$B$188,2,FALSE)","v":{"$error":"#N/A"}},null,null,null,null,null,{"$f":"VLOOKUP(G1709:G11707,'Location Type (FICM Codes)'!$A$7:$C$188,3,FALSE)","v":{"$error":"#N/A"}}]
[null,null,null,null,null,null,null,{"$f":"VLOOKUP($G$2:$G$50000,'Location Type (FICM Codes)'!$A$7:$B$188,2,FALSE)","v":{"$error":"#N/A"}},null,null,null,null,null,{"$f":"VLOOKUP(G1710:G11708,'Location Type (FICM Codes)'!$A$7:$C$188,3,FALSE)","v":{"$error":"#N/A"}}]
[null,null,null,null,null,null,null,{"$f":"VLOOKUP($G$2:$G$50000,'Location Type (FICM Codes)'!$A$7:$B$188,2,FALSE)","v":{"$error":"#N/A"}},null,null,null,null,null,{"$f":"VLOOKUP(G1711:G11709,'Location Type (FICM Codes)'!$A$7:$C$188,3,FALSE)","v":{"$error":"#N/A"}}]
[null,null,null,null,null,null,null,{"$f":"VLOOKUP($G$2:$G$50000,'Location Type (FICM Codes)'!$A$7:$B$188,2,FALSE)","v":{"$error":"#N/A"}},null,null,null,null,null,{"$f":"VLOOKUP(G1712:G11710,'Location Type (FICM Codes)'!$A$7:$C$188,3,FALSE)","v":{"$error":"#N/A"}}]
[null,null,null,null,null,null,null,{"$f":"VLOOKUP($G$2:$G$50000,'Location Type (FICM Codes)'!$A$7:$B$188,2,FALSE)","v":{"$error":"#N/A"}},null,null,null,null,null,{"$f":"VLOOKUP(G1713:G11711,'Location Type (FICM Codes)'!$A$7:$C$188,3,FALSE)","v":{"$error":"#N/A"}}]
[null,null,null,null,null,null,null,{"$f":"VLOOKUP($G$2:$G$50000,'Location Type (FICM Codes)'!$A$7:$B$188,2,FALSE)","v":{"$error":"#N/A"}},null,null,null,null,null,{"$f":"VLOOKUP(G1714:G11712,'Location Type (FICM Codes)'!$A$7:$C$188,3,FALSE)","v":{"$error":"#N/A"}}]
[null,null,null,null,null,null,null,{"$f":"VLOOKUP($G$2:$G$50000,'Location Type (FICM Codes)'!$A$7:$B$188,2,FALSE)","v":{"$error":"#N/A"}},null,null,null,null,null,{"$f":"VLOOKUP(G1715:G11713,'Location Type (FICM Codes)'!$A$7:$C$188,3,FALSE)","v":{"$error":"#N/A"}}]
[null,null,null,null,null,null,null,{"$f":"VLOOKUP($G$2:$G$50000,'Location Type (FICM Codes)'!$A$7:$B$188,2,FALSE)","v":{"$error":"#N/A"}},null,null,null,null,null,{"$f":"VLOOKUP(G1716:G11714,'Location Type (FICM Codes)'!$A$7:$C$188,3,FALSE)","v":{"$error":"#N/A"}}]
[null,null,null,null,null,null,null,{"$f":"VLOOKUP($G$2:$G$50000,'Location Type (FICM Codes)'!$A$7:$B$188,2,FALSE)","v":{"$error":"#N/A"}},null,null,null,null,null,{"$f":"VLOOKUP(G1717:G11715,'Location Type (FICM Codes)'!$A$7:$C$188,3,FALSE)","v":{"$error":"#N/A"}}]
[null,null,null,null,null,null,null,{"$f":"VLOOKUP($G$2:$G$50000,'Location Type (FICM Codes)'!$A$7:$B$188,2,FALSE)","v":{"$error":"#N/A"}},null,null,null,null,null,{"$f":"VLOOKUP(G1718:G11716,'Location Type (FICM Codes)'!$A$7:$C$188,3,FALSE)","v":{"$error":"#N/A"}}]
[null,null,null,null,null,null,null,{"$f":"VLOOKUP($G$2:$G$50000,'Location Type (FICM Codes)'!$A$7:$B$188,2,FALSE)","v":{"$error":"#N/A"}},null,null,null,null,null,{"$f":"VLOOKUP(G1719:G11717,'Location Type (FICM Codes)'!$A$7:$C$188,3,FALSE)","v":{"$error":"#N/A"}}]
[null,null,null,null,null,null,null,{"$f":"VLOOKUP($G$2:$G$50000,'Location Type (FICM Codes)'!$A$7:$B$188,2,FALSE)","v":{"$error":"#N/A"}},null,null,null,null,null,{"$f":"VLOOKUP(G1720:G11718,'Location Type (FICM Codes)'!$A$7:$C$188,3,FALSE)","v":{"$error":"#N/A"}}]
[null,null,null,null,null,null,null,{"$f":"VLOOKUP($G$2:$G$50000,'Location Type (FICM Codes)'!$A$7:$B$188,2,FALSE)","v":{"$error":"#N/A"}},null,null,null,null,null,{"$f":"VLOOKUP(G1721:G11719,'Location Type (FICM Codes)'!$A$7:$C$188,3,FALSE)","v":{"$error":"#N/A"}}]
[null,null,null,null,null,null,null,{"$f":"VLOOKUP($G$2:$G$50000,'Location Type (FICM Codes)'!$A$7:$B$188,2,FALSE)","v":{"$error":"#N/A"}},null,null,null,null,null,{"$f":"VLOOKUP(G1722:G11720,'Location Type (FICM Codes)'!$A$7:$C$188,3,FALSE)","v":{"$error":"#N/A"}}]
[null,null,null,null,null,null,null,{"$f":"VLOOKUP($G$2:$G$50000,'Location Type (FICM Codes)'!$A$7:$B$188,2,FALSE)","v":{"$error":"#N/A"}},null,null,null,null,null,{"$f":"VLOOKUP(G1723:G11721,'Location Type (FICM Codes)'!$A$7:$C$188,3,FALSE)","v":{"$error":"#N/A"}}]
[null,null,null,null,null,null,null,{"$f":"VLOOKUP($G$2:$G$50000,'Location Type (FICM Codes)'!$A$7:$B$188,2,FALSE)","v":{"$error":"#N/A"}},null,null,null,null,null,{"$f":"VLOOKUP(G1724:G11722,'Location Type (FICM Codes)'!$A$7:$C$188,3,FALSE)","v":{"$error":"#N/A"}}]
[null,null,null,null,null,null,null,{"$f":"VLOOKUP($G$2:$G$50000,'Location Type (FICM Codes)'!$A$7:$B$188,2,FALSE)","v":{"$error":"#N/A"}},null,null,null,null,null,{"$f":"VLOOKUP(G1725:G11723,'Location Type (FICM Codes)'!$A$7:$C$188,3,FALSE)","v":{"$error":"#N/A"}}]
[null,null,null,null,null,null,null,{"$f":"VLOOKUP($G$2:$G$50000,'Location Type (FICM Codes)'!$A$7:$B$188,2,FALSE)","v":{"$error":"#N/A"}},null,null,null,null,null,{"$f":"VLOOKUP(G1726:G11724,'Location Type (FICM Codes)'!$A$7:$C$188,3,FALSE)","v":{"$error":"#N/A"}}]
[null,null,null,null,null,null,null,{"$f":"VLOOKUP($G$2:$G$50000,'Location Type (FICM Codes)'!$A$7:$B$188,2,FALSE)","v":{"$error":"#N/A"}},null,null,null,null,null,{"$f":"VLOOKUP(G1727:G11725,'Location Type (FICM Codes)'!$A$7:$C$188,3,FALSE)","v":{"$error":"#N/A"}}]
[null,null,null,null,null,null,null,{"$f":"VLOOKUP($G$2:$G$50000,'Location Type (FICM Codes)'!$A$7:$B$188,2,FALSE)","v":{"$error":"#N/A"}},null,null,null,null,null,{"$f":"VLOOKUP(G1728:G11726,'Location Type (FICM Codes)'!$A$7:$C$188,3,FALSE)","v":{"$error":"#N/A"}}]
[null,null,null,null,null,null,null,{"$f":"VLOOKUP($G$2:$G$50000,'Location Type (FICM Codes)'!$A$7:$B$188,2,FALSE)","v":{"$error":"#N/A"}},null,null,null,null,null,{"$f":"VLOOKUP(G1729:G11727,'Location Type (FICM Codes)'!$A$7:$C$188,3,FALSE)","v":{"$error":"#N/A"}}]
[null,null,null,null,null,null,null,{"$f":"VLOOKUP($G$2:$G$50000,'Location Type (FICM Codes)'!$A$7:$B$188,2,FALSE)","v":{"$error":"#N/A"}},null,null,null,null,null,{"$f":"VLOOKUP(G1730:G11728,'Location Type (FICM Codes)'!$A$7:$C$188,3,FALSE)","v":{"$error":"#N/A"}}]
[null,null,null,null,null,null,null,{"$f":"VLOOKUP($G$2:$G$50000,'Location Type (FICM Codes)'!$A$7:$B$188,2,FALSE)","v":{"$error":"#N/A"}},null,null,null,null,null,{"$f":"VLOOKUP(G1731:G11729,'Location Type (FICM Codes)'!$A$7:$C$188,3,FALSE)","v":{"$error":"#N/A"}}]
[null,null,null,null,null,null,null,{"$f":"VLOOKUP($G$2:$G$50000,'Location Type (FICM Codes)'!$A$7:$B$188,2,FALSE)","v":{"$error":"#N/A"}},null,null,null,null,null,{"$f":"VLOOKUP(G1732:G11730,'Location Type (FICM Codes)'!$A$7:$C$188,3,FALSE)","v":{"$error":"#N/A"}}]
[null,null,null,null,null,null,null,{"$f":"VLOOKUP($G$2:$G$50000,'Location Type (FICM Codes)'!$A$7:$B$188,2,FALSE)","v":{"$error":"#N/A"}},null,null,null,null,null,{"$f":"VLOOKUP(G1733:G11731,'Location Type (FICM Codes)'!$A$7:$C$188,3,FALSE)","v":{"$error":"#N/A"}}]
[null,null,null,null,null,null,null,{"$f":"VLOOKUP($G$2:$G$50000,'Location Type (FICM Codes)'!$A$7:$B$188,2,FALSE)","v":{"$error":"#N/A"}},null,null,null,null,null,{"$f":"VLOOKUP(G1734:G11732,'Location Type (FICM Codes)'!$A$7:$C$188,3,FALSE)","v":{"$error":"#N/A"}}]
[null,null,null,null,null,null,null,{"$f":"VLOOKUP($G$2:$G$50000,'Location Type (FICM Codes)'!$A$7:$B$188,2,FALSE)","v":{"$error":"#N/A"}},null,null,null,null,null,{"$f":"VLOOKUP(G1735:G11733,'Location Type (FICM Codes)'!$A$7:$C$188,3,FALSE)","v":{"$error":"#N/A"}}]
[null,null,null,null,null,null,null,{"$f":"VLOOKUP($G$2:$G$50000,'Location Type (FICM Codes)'!$A$7:$B$188,2,FALSE)","v":{"$error":"#N/A"}},null,null,null,null,null,{"$f":"VLOOKUP(G1736:G11734,'Location Type (FICM Codes)'!$A$7:$C$188,3,FALSE)","v":{"$error":"#N/A"}}]
[null,null,null,null,null,null,null,{"$f":"VLOOKUP($G$2:$G$50000,'Location Type (FICM Codes)'!$A$7:$B$188,2,FALSE)","v":{"$error":"#N/A"}},null,null,null,null,null,{"$f":"VLOOKUP(G1737:G11735,'Location Type (FICM Codes)'!$A$7:$C$188,3,FALSE)","v":{"$error":"#N/A"}}]
[null,null,null,null,null,null,null,{"$f":"VLOOKUP($G$2:$G$50000,'Location Type (FICM Codes)'!$A$7:$B$188,2,FALSE)","v":{"$error":"#N/A"}},null,null,null,null,null,{"$f":"VLOOKUP(G1738:G11736,'Location Type (FICM Codes)'!$A$7:$C$188,3,FALSE)","v":{"$error":"#N/A"}}]
[null,null,null,null,null,null,null,{"$f":"VLOOKUP($G$2:$G$50000,'Location Type (FICM Codes)'!$A$7:$B$188,2,FALSE)","v":{"$error":"#N/A"}},null,null,null,null,null,{"$f":"VLOOKUP(G1739:G11737,'Location Type (FICM Codes)'!$A$7:$C$188,3,FALSE)","v":{"$error":"#N/A"}}]
[null,null,null,null,null,null,null,{"$f":"VLOOKUP($G$2:$G$50000,'Location Type (FICM Codes)'!$A$7:$B$188,2,FALSE)","v":{"$error":"#N/A"}},null,null,null,null,null,{"$f":"VLOOKUP(G1740:G11738,'Location Type (FICM Codes)'!$A$7:$C$188,3,FALSE)","v":{"$error":"#N/A"}}]
[null,null,null,null,null,null,null,{"$f":"VLOOKUP($G$2:$G$50000,'Location Type (FICM Codes)'!$A$7:$B$188,2,FALSE)","v":{"$error":"#N/A"}},null,null,null,null,null,{"$f":"VLOOKUP(G1741:G11739,'Location Type (FICM Codes)'!$A$7:$C$188,3,FALSE)","v":{"$error":"#N/A"}}]
[null,null,null,null,null,null,null,{"$f":"VLOOKUP($G$2:$G$50000,'Location Type (FICM Codes)'!$A$7:$B$188,2,FALSE)","v":{"$error":"#N/A"}},null,null,null,null,null,{"$f":"VLOOKUP(G1742:G11740,'Location Type (FICM Codes)'!$A$7:$C$188,3,FALSE)","v":{"$error":"#N/A"}}]
[null,null,null,null,null,null,null,{"$f":"VLOOKUP($G$2:$G$50000,'Location Type (FICM Codes)'!$A$7:$B$188,2,FALSE)","v":{"$error":"#N/A"}},null,null,null,null,null,{"$f":"VLOOKUP(G1743:G11741,'Location Type (FICM Codes)'!$A$7:$C$188,3,FALSE)","v":{"$error":"#N/A"}}]
[null,null,null,null,null,null,null,{"$f":"VLOOKUP($G$2:$G$50000,'Location Type (FICM Codes)'!$A$7:$B$188,2,FALSE)","v":{"$error":"#N/A"}},null,null,null,null,null,{"$f":"VLOOKUP(G1744:G11742,'Location Type (FICM Codes)'!$A$7:$C$188,3,FALSE)","v":{"$error":"#N/A"}}]
[null,null,null,null,null,null,null,{"$f":"VLOOKUP($G$2:$G$50000,'Location Type (FICM Codes)'!$A$7:$B$188,2,FALSE)","v":{"$error":"#N/A"}},null,null,null,null,null,{"$f":"VLOOKUP(G1745:G11743,'Location Type (FICM Codes)'!$A$7:$C$188,3,FALSE)","v":{"$error":"#N/A"}}]
[null,null,null,null,null,null,null,{"$f":"VLOOKUP($G$2:$G$50000,'Location Type (FICM Codes)'!$A$7:$B$188,2,FALSE)","v":{"$error":"#N/A"}},null,null,null,null,null,{"$f":"VLOOKUP(G1746:G11744,'Location Type (FICM Codes)'!$A$7:$C$188,3,FALSE)","v":{"$error":"#N/A"}}]
[null,null,null,null,null,null,null,{"$f":"VLOOKUP($G$2:$G$50000,'Location Type (FICM Codes)'!$A$7:$B$188,2,FALSE)","v":{"$error":"#N/A"}},null,null,null,null,null,{"$f":"VLOOKUP(G1747:G11745,'Location Type (FICM Codes)'!$A$7:$C$188,3,FALSE)","v":{"$error":"#N/A"}}]
[null,null,null,null,null,null,null,{"$f":"VLOOKUP($G$2:$G$50000,'Location Type (FICM Codes)'!$A$7:$B$188,2,FALSE)","v":{"$error":"#N/A"}},null,null,null,null,null,{"$f":"VLOOKUP(G1748:G11746,'Location Type (FICM Codes)'!$A$7:$C$188,3,FALSE)","v":{"$error":"#N/A"}}]
[null,null,null,null,null,null,null,{"$f":"VLOOKUP($G$2:$G$50000,'Location Type (FICM Codes)'!$A$7:$B$188,2,FALSE)","v":{"$error":"#N/A"}},null,null,null,null,null,{"$f":"VLOOKUP(G1749:G11747,'Location Type (FICM Codes)'!$A$7:$C$188,3,FALSE)","v":{"$error":"#N/A"}}]
[null,null,null,null,null,null,null,{"$f":"VLOOKUP($G$2:$G$50000,'Location Type (FICM Codes)'!$A$7:$B$188,2,FALSE)","v":{"$error":"#N/A"}},null,null,null,null,null,{"$f":"VLOOKUP(G1750:G11748,'Location Type (FICM Codes)'!$A$7:$C$188,3,FALSE)","v":{"$error":"#N/A"}}]
[null,null,null,null,null,null,null,{"$f":"VLOOKUP($G$2:$G$50000,'Location Type (FICM Codes)'!$A$7:$B$188,2,FALSE)","v":{"$error":"#N/A"}},null,null,null,null,null,{"$f":"VLOOKUP(G1751:G11749,'Location Type (FICM Codes)'!$A$7:$C$188,3,FALSE)","v":{"$error":"#N/A"}}]
[null,null,null,null,null,null,null,{"$f":"VLOOKUP($G$2:$G$50000,'Location Type (FICM Codes)'!$A$7:$B$188,2,FALSE)","v":{"$error":"#N/A"}},null,null,null,null,null,{"$f":"VLOOKUP(G1752:G11750,'Location Type (FICM Codes)'!$A$7:$C$188,3,FALSE)","v":{"$error":"#N/A"}}]
[null,null,null,null,null,null,null,{"$f":"VLOOKUP($G$2:$G$50000,'Location Type (FICM Codes)'!$A$7:$B$188,2,FALSE)","v":{"$error":"#N/A"}},null,null,null,null,null,{"$f":"VLOOKUP(G1753:G11751,'Location Type (FICM Codes)'!$A$7:$C$188,3,FALSE)","v":{"$error":"#N/A"}}]
[null,null,null,null,null,null,null,{"$f":"VLOOKUP($G$2:$G$50000,'Location Type (FICM Codes)'!$A$7:$B$188,2,FALSE)","v":{"$error":"#N/A"}},null,null,null,null,null,{"$f":"VLOOKUP(G1754:G11752,'Location Type (FICM Codes)'!$A$7:$C$188,3,FALSE)","v":{"$error":"#N/A"}}]
[null,null,null,null,null,null,null,{"$f":"VLOOKUP($G$2:$G$50000,'Location Type (FICM Codes)'!$A$7:$B$188,2,FALSE)","v":{"$error":"#N/A"}},null,null,null,null,null,{"$f":"VLOOKUP(G1755:G11753,'Location Type (FICM Codes)'!$A$7:$C$188,3,FALSE)","v":{"$error":"#N/A"}}]
[null,null,null,null,null,null,null,{"$f":"VLOOKUP($G$2:$G$50000,'Location Type (FICM Codes)'!$A$7:$B$188,2,FALSE)","v":{"$error":"#N/A"}},null,null,null,null,null,{"$f":"VLOOKUP(G1756:G11754,'Location Type (FICM Codes)'!$A$7:$C$188,3,FALSE)","v":{"$error":"#N/A"}}]
[null,null,null,null,null,null,null,{"$f":"VLOOKUP($G$2:$G$50000,'Location Type (FICM Codes)'!$A$7:$B$188,2,FALSE)","v":{"$error":"#N/A"}},null,null,null,null,null,{"$f":"VLOOKUP(G1757:G11755,'Location Type (FICM Codes)'!$A$7:$C$188,3,FALSE)","v":{"$error":"#N/A"}}]
[null,null,null,null,null,null,null,{"$f":"VLOOKUP($G$2:$G$50000,'Location Type (FICM Codes)'!$A$7:$B$188,2,FALSE)","v":{"$error":"#N/A"}},null,null,null,null,null,{"$f":"VLOOKUP(G1758:G11756,'Location Type (FICM Codes)'!$A$7:$C$188,3,FALSE)","v":{"$error":"#N/A"}}]
[null,null,null,null,null,null,null,{"$f":"VLOOKUP($G$2:$G$50000,'Location Type (FICM Codes)'!$A$7:$B$188,2,FALSE)","v":{"$error":"#N/A"}},null,null,null,null,null,{"$f":"VLOOKUP(G1759:G11757,'Location Type (FICM Codes)'!$A$7:$C$188,3,FALSE)","v":{"$error":"#N/A"}}]
[null,null,null,null,null,null,null,{"$f":"VLOOKUP($G$2:$G$50000,'Location Type (FICM Codes)'!$A$7:$B$188,2,FALSE)","v":{"$error":"#N/A"}},null,null,null,null,null,{"$f":"VLOOKUP(G1760:G11758,'Location Type (FICM Codes)'!$A$7:$C$188,3,FALSE)","v":{"$error":"#N/A"}}]
[null,null,null,null,null,null,null,{"$f":"VLOOKUP($G$2:$G$50000,'Location Type (FICM Codes)'!$A$7:$B$188,2,FALSE)","v":{"$error":"#N/A"}},null,null,null,null,null,{"$f":"VLOOKUP(G1761:G11759,'Location Type (FICM Codes)'!$A$7:$C$188,3,FALSE)","v":{"$error":"#N/A"}}]
[null,null,null,null,null,null,null,{"$f":"VLOOKUP($G$2:$G$50000,'Location Type (FICM Codes)'!$A$7:$B$188,2,FALSE)","v":{"$error":"#N/A"}},null,null,null,null,null,{"$f":"VLOOKUP(G1762:G11760,'Location Type (FICM Codes)'!$A$7:$C$188,3,FALSE)","v":{"$error":"#N/A"}}]
[null,null,null,null,null,null,null,{"$f":"VLOOKUP($G$2:$G$50000,'Location Type (FICM Codes)'!$A$7:$B$188,2,FALSE)","v":{"$error":"#N/A"}},null,null,null,null,null,{"$f":"VLOOKUP(G1763:G11761,'Location Type (FICM Codes)'!$A$7:$C$188,3,FALSE)","v":{"$error":"#N/A"}}]
[null,null,null,null,null,null,null,{"$f":"VLOOKUP($G$2:$G$50000,'Location Type (FICM Codes)'!$A$7:$B$188,2,FALSE)","v":{"$error":"#N/A"}},null,null,null,null,null,{"$f":"VLOOKUP(G1764:G11762,'Location Type (FICM Codes)'!$A$7:$C$188,3,FALSE)","v":{"$error":"#N/A"}}]
[null,null,null,null,null,null,null,{"$f":"VLOOKUP($G$2:$G$50000,'Location Type (FICM Codes)'!$A$7:$B$188,2,FALSE)","v":{"$error":"#N/A"}},null,null,null,null,null,{"$f":"VLOOKUP(G1765:G11763,'Location Type (FICM Codes)'!$A$7:$C$188,3,FALSE)","v":{"$error":"#N/A"}}]
[null,null,null,null,null,null,null,{"$f":"VLOOKUP($G$2:$G$50000,'Location Type (FICM Codes)'!$A$7:$B$188,2,FALSE)","v":{"$error":"#N/A"}},null,null,null,null,null,{"$f":"VLOOKUP(G1766:G11764,'Location Type (FICM Codes)'!$A$7:$C$188,3,FALSE)","v":{"$error":"#N/A"}}]
[null,null,null,null,null,null,null,{"$f":"VLOOKUP($G$2:$G$50000,'Location Type (FICM Codes)'!$A$7:$B$188,2,FALSE)","v":{"$error":"#N/A"}},null,null,null,null,null,{"$f":"VLOOKUP(G1767:G11765,'Location Type (FICM Codes)'!$A$7:$C$188,3,FALSE)","v":{"$error":"#N/A"}}]
[null,null,null,null,null,null,null,{"$f":"VLOOKUP($G$2:$G$50000,'Location Type (FICM Codes)'!$A$7:$B$188,2,FALSE)","v":{"$error":"#N/A"}},null,null,null,null,null,{"$f":"VLOOKUP(G1768:G11766,'Location Type (FICM Codes)'!$A$7:$C$188,3,FALSE)","v":{"$error":"#N/A"}}]
[null,null,null,null,null,null,null,{"$f":"VLOOKUP($G$2:$G$50000,'Location Type (FICM Codes)'!$A$7:$B$188,2,FALSE)","v":{"$error":"#N/A"}},null,null,null,null,null,{"$f":"VLOOKUP(G1769:G11767,'Location Type (FICM Codes)'!$A$7:$C$188,3,FALSE)","v":{"$error":"#N/A"}}]
[null,null,null,null,null,null,null,{"$f":"VLOOKUP($G$2:$G$50000,'Location Type (FICM Codes)'!$A$7:$B$188,2,FALSE)","v":{"$error":"#N/A"}},null,null,null,null,null,{"$f":"VLOOKUP(G1770:G11768,'Location Type (FICM Codes)'!$A$7:$C$188,3,FALSE)","v":{"$error":"#N/A"}}]
[null,null,null,null,null,null,null,{"$f":"VLOOKUP($G$2:$G$50000,'Location Type (FICM Codes)'!$A$7:$B$188,2,FALSE)","v":{"$error":"#N/A"}},null,null,null,null,null,{"$f":"VLOOKUP(G1771:G11769,'Location Type (FICM Codes)'!$A$7:$C$188,3,FALSE)","v":{"$error":"#N/A"}}]
[null,null,null,null,null,null,null,{"$f":"VLOOKUP($G$2:$G$50000,'Location Type (FICM Codes)'!$A$7:$B$188,2,FALSE)","v":{"$error":"#N/A"}},null,null,null,null,null,{"$f":"VLOOKUP(G1772:G11770,'Location Type (FICM Codes)'!$A$7:$C$188,3,FALSE)","v":{"$error":"#N/A"}}]
[null,null,null,null,null,null,null,{"$f":"VLOOKUP($G$2:$G$50000,'Location Type (FICM Codes)'!$A$7:$B$188,2,FALSE)","v":{"$error":"#N/A"}},null,null,null,null,null,{"$f":"VLOOKUP(G1773:G11771,'Location Type (FICM Codes)'!$A$7:$C$188,3,FALSE)","v":{"$error":"#N/A"}}]
[null,null,null,null,null,null,null,{"$f":"VLOOKUP($G$2:$G$50000,'Location Type (FICM Codes)'!$A$7:$B$188,2,FALSE)","v":{"$error":"#N/A"}},null,null,null,null,null,{"$f":"VLOOKUP(G1774:G11772,'Location Type (FICM Codes)'!$A$7:$C$188,3,FALSE)","v":{"$error":"#N/A"}}]
[null,null,null,null,null,null,null,{"$f":"VLOOKUP($G$2:$G$50000,'Location Type (FICM Codes)'!$A$7:$B$188,2,FALSE)","v":{"$error":"#N/A"}},null,null,null,null,null,{"$f":"VLOOKUP(G1775:G11773,'Location Type (FICM Codes)'!$A$7:$C$188,3,FALSE)","v":{"$error":"#N/A"}}]
[null,null,null,null,null,null,null,{"$f":"VLOOKUP($G$2:$G$50000,'Location Type (FICM Codes)'!$A$7:$B$188,2,FALSE)","v":{"$error":"#N/A"}},null,null,null,null,null,{"$f":"VLOOKUP(G1776:G11774,'Location Type (FICM Codes)'!$A$7:$C$188,3,FALSE)","v":{"$error":"#N/A"}}]
[null,null,null,null,null,null,null,{"$f":"VLOOKUP($G$2:$G$50000,'Location Type (FICM Codes)'!$A$7:$B$188,2,FALSE)","v":{"$error":"#N/A"}},null,null,null,null,null,{"$f":"VLOOKUP(G1777:G11775,'Location Type (FICM Codes)'!$A$7:$C$188,3,FALSE)","v":{"$error":"#N/A"}}]
[null,null,null,null,null,null,null,{"$f":"VLOOKUP($G$2:$G$50000,'Location Type (FICM Codes)'!$A$7:$B$188,2,FALSE)","v":{"$error":"#N/A"}},null,null,null,null,null,{"$f":"VLOOKUP(G1778:G11776,'Location Type (FICM Codes)'!$A$7:$C$188,3,FALSE)","v":{"$error":"#N/A"}}]
[null,null,null,null,null,null,null,{"$f":"VLOOKUP($G$2:$G$50000,'Location Type (FICM Codes)'!$A$7:$B$188,2,FALSE)","v":{"$error":"#N/A"}},null,null,null,null,null,{"$f":"VLOOKUP(G1779:G11777,'Location Type (FICM Codes)'!$A$7:$C$188,3,FALSE)","v":{"$error":"#N/A"}}]
[null,null,null,null,null,null,null,{"$f":"VLOOKUP($G$2:$G$50000,'Location Type (FICM Codes)'!$A$7:$B$188,2,FALSE)","v":{"$error":"#N/A"}},null,null,null,null,null,{"$f":"VLOOKUP(G1780:G11778,'Location Type (FICM Codes)'!$A$7:$C$188,3,FALSE)","v":{"$error":"#N/A"}}]
[null,null,null,null,null,null,null,{"$f":"VLOOKUP($G$2:$G$50000,'Location Type (FICM Codes)'!$A$7:$B$188,2,FALSE)","v":{"$error":"#N/A"}},null,null,null,null,null,{"$f":"VLOOKUP(G1781:G11779,'Location Type (FICM Codes)'!$A$7:$C$188,3,FALSE)","v":{"$error":"#N/A"}}]
[null,null,null,null,null,null,null,{"$f":"VLOOKUP($G$2:$G$50000,'Location Type (FICM Codes)'!$A$7:$B$188,2,FALSE)","v":{"$error":"#N/A"}},null,null,null,null,null,{"$f":"VLOOKUP(G1782:G11780,'Location Type (FICM Codes)'!$A$7:$C$188,3,FALSE)","v":{"$error":"#N/A"}}]
[null,null,null,null,null,null,null,{"$f":"VLOOKUP($G$2:$G$50000,'Location Type (FICM Codes)'!$A$7:$B$188,2,FALSE)","v":{"$error":"#N/A"}},null,null,null,null,null,{"$f":"VLOOKUP(G1783:G11781,'Location Type (FICM Codes)'!$A$7:$C$188,3,FALSE)","v":{"$error":"#N/A"}}]
[null,null,null,null,null,null,null,{"$f":"VLOOKUP($G$2:$G$50000,'Location Type (FICM Codes)'!$A$7:$B$188,2,FALSE)","v":{"$error":"#N/A"}},null,null,null,null,null,{"$f":"VLOOKUP(G1784:G11782,'Location Type (FICM Codes)'!$A$7:$C$188,3,FALSE)","v":{"$error":"#N/A"}}]
[null,null,null,null,null,null,null,{"$f":"VLOOKUP($G$2:$G$50000,'Location Type (FICM Codes)'!$A$7:$B$188,2,FALSE)","v":{"$error":"#N/A"}},null,null,null,null,null,{"$f":"VLOOKUP(G1785:G11783,'Location Type (FICM Codes)'!$A$7:$C$188,3,FALSE)","v":{"$error":"#N/A"}}]
[null,null,null,null,null,null,null,{"$f":"VLOOKUP($G$2:$G$50000,'Location Type (FICM Codes)'!$A$7:$B$188,2,FALSE)","v":{"$error":"#N/A"}},null,null,null,null,null,{"$f":"VLOOKUP(G1786:G11784,'Location Type (FICM Codes)'!$A$7:$C$188,3,FALSE)","v":{"$error":"#N/A"}}]
[null,null,null,null,null,null,null,{"$f":"VLOOKUP($G$2:$G$50000,'Location Type (FICM Codes)'!$A$7:$B$188,2,FALSE)","v":{"$error":"#N/A"}},null,null,null,null,null,{"$f":"VLOOKUP(G1787:G11785,'Location Type (FICM Codes)'!$A$7:$C$188,3,FALSE)","v":{"$error":"#N/A"}}]
[null,null,null,null,null,null,null,{"$f":"VLOOKUP($G$2:$G$50000,'Location Type (FICM Codes)'!$A$7:$B$188,2,FALSE)","v":{"$error":"#N/A"}},null,null,null,null,null,{"$f":"VLOOKUP(G1788:G11786,'Location Type (FICM Codes)'!$A$7:$C$188,3,FALSE)","v":{"$error":"#N/A"}}]
[null,null,null,null,null,null,null,{"$f":"VLOOKUP($G$2:$G$50000,'Location Type (FICM Codes)'!$A$7:$B$188,2,FALSE)","v":{"$error":"#N/A"}},null,null,null,null,null,{"$f":"VLOOKUP(G1789:G11787,'Location Type (FICM Codes)'!$A$7:$C$188,3,FALSE)","v":{"$error":"#N/A"}}]
[null,null,null,null,null,null,null,{"$f":"VLOOKUP($G$2:$G$50000,'Location Type (FICM Codes)'!$A$7:$B$188,2,FALSE)","v":{"$error":"#N/A"}},null,null,null,null,null,{"$f":"VLOOKUP(G1790:G11788,'Location Type (FICM Codes)'!$A$7:$C$188,3,FALSE)","v":{"$error":"#N/A"}}]
[null,null,null,null,null,null,null,{"$f":"VLOOKUP($G$2:$G$50000,'Location Type (FICM Codes)'!$A$7:$B$188,2,FALSE)","v":{"$error":"#N/A"}},null,null,null,null,null,{"$f":"VLOOKUP(G1791:G11789,'Location Type (FICM Codes)'!$A$7:$C$188,3,FALSE)","v":{"$error":"#N/A"}}]
[null,null,null,null,null,null,null,{"$f":"VLOOKUP($G$2:$G$50000,'Location Type (FICM Codes)'!$A$7:$B$188,2,FALSE)","v":{"$error":"#N/A"}},null,null,null,null,null,{"$f":"VLOOKUP(G1792:G11790,'Location Type (FICM Codes)'!$A$7:$C$188,3,FALSE)","v":{"$error":"#N/A"}}]
[null,null,null,null,null,null,null,{"$f":"VLOOKUP($G$2:$G$50000,'Location Type (FICM Codes)'!$A$7:$B$188,2,FALSE)","v":{"$error":"#N/A"}},null,null,null,null,null,{"$f":"VLOOKUP(G1793:G11791,'Location Type (FICM Codes)'!$A$7:$C$188,3,FALSE)","v":{"$error":"#N/A"}}]
[null,null,null,null,null,null,null,{"$f":"VLOOKUP($G$2:$G$50000,'Location Type (FICM Codes)'!$A$7:$B$188,2,FALSE)","v":{"$error":"#N/A"}},null,null,null,null,null,{"$f":"VLOOKUP(G1794:G11792,'Location Type (FICM Codes)'!$A$7:$C$188,3,FALSE)","v":{"$error":"#N/A"}}]
[null,null,null,null,null,null,null,{"$f":"VLOOKUP($G$2:$G$50000,'Location Type (FICM Codes)'!$A$7:$B$188,2,FALSE)","v":{"$error":"#N/A"}},null,null,null,null,null,{"$f":"VLOOKUP(G1795:G11793,'Location Type (FICM Codes)'!$A$7:$C$188,3,FALSE)","v":{"$error":"#N/A"}}]
[null,null,null,null,null,null,null,{"$f":"VLOOKUP($G$2:$G$50000,'Location Type (FICM Codes)'!$A$7:$B$188,2,FALSE)","v":{"$error":"#N/A"}},null,null,null,null,null,{"$f":"VLOOKUP(G1796:G11794,'Location Type (FICM Codes)'!$A$7:$C$188,3,FALSE)","v":{"$error":"#N/A"}}]
[null,null,null,null,null,null,null,{"$f":"VLOOKUP($G$2:$G$50000,'Location Type (FICM Codes)'!$A$7:$B$188,2,FALSE)","v":{"$error":"#N/A"}},null,null,null,null,null,{"$f":"VLOOKUP(G1797:G11795,'Location Type (FICM Codes)'!$A$7:$C$188,3,FALSE)","v":{"$error":"#N/A"}}]
[null,null,null,null,null,null,null,{"$f":"VLOOKUP($G$2:$G$50000,'Location Type (FICM Codes)'!$A$7:$B$188,2,FALSE)","v":{"$error":"#N/A"}},null,null,null,null,null,{"$f":"VLOOKUP(G1798:G11796,'Location Type (FICM Codes)'!$A$7:$C$188,3,FALSE)","v":{"$error":"#N/A"}}]
[null,null,null,null,null,null,null,{"$f":"VLOOKUP($G$2:$G$50000,'Location Type (FICM Codes)'!$A$7:$B$188,2,FALSE)","v":{"$error":"#N/A"}},null,null,null,null,null,{"$f":"VLOOKUP(G1799:G11797,'Location Type (FICM Codes)'!$A$7:$C$188,3,FALSE)","v":{"$error":"#N/A"}}]
[null,null,null,null,null,null,null,{"$f":"VLOOKUP($G$2:$G$50000,'Location Type (FICM Codes)'!$A$7:$B$188,2,FALSE)","v":{"$error":"#N/A"}},null,null,null,null,null,{"$f":"VLOOKUP(G1800:G11798,'Location Type (FICM Codes)'!$A$7:$C$188,3,FALSE)","v":{"$error":"#N/A"}}]
[null,null,null,null,null,null,null,{"$f":"VLOOKUP($G$2:$G$50000,'Location Type (FICM Codes)'!$A$7:$B$188,2,FALSE)","v":{"$error":"#N/A"}},null,null,null,null,null,{"$f":"VLOOKUP(G1801:G11799,'Location Type (FICM Codes)'!$A$7:$C$188,3,FALSE)","v":{"$error":"#N/A"}}]
[null,null,null,null,null,null,null,{"$f":"VLOOKUP($G$2:$G$50000,'Location Type (FICM Codes)'!$A$7:$B$188,2,FALSE)","v":{"$error":"#N/A"}},null,null,null,null,null,{"$f":"VLOOKUP(G1802:G11800,'Location Type (FICM Codes)'!$A$7:$C$188,3,FALSE)","v":{"$error":"#N/A"}}]
[null,null,null,null,null,null,null,{"$f":"VLOOKUP($G$2:$G$50000,'Location Type (FICM Codes)'!$A$7:$B$188,2,FALSE)","v":{"$error":"#N/A"}},null,null,null,null,null,{"$f":"VLOOKUP(G1803:G11801,'Location Type (FICM Codes)'!$A$7:$C$188,3,FALSE)","v":{"$error":"#N/A"}}]
[null,null,null,null,null,null,null,{"$f":"VLOOKUP($G$2:$G$50000,'Location Type (FICM Codes)'!$A$7:$B$188,2,FALSE)","v":{"$error":"#N/A"}},null,null,null,null,null,{"$f":"VLOOKUP(G1804:G11802,'Location Type (FICM Codes)'!$A$7:$C$188,3,FALSE)","v":{"$error":"#N/A"}}]
[null,null,null,null,null,null,null,{"$f":"VLOOKUP($G$2:$G$50000,'Location Type (FICM Codes)'!$A$7:$B$188,2,FALSE)","v":{"$error":"#N/A"}},null,null,null,null,null,{"$f":"VLOOKUP(G1805:G11803,'Location Type (FICM Codes)'!$A$7:$C$188,3,FALSE)","v":{"$error":"#N/A"}}]
[null,null,null,null,null,null,null,{"$f":"VLOOKUP($G$2:$G$50000,'Location Type (FICM Codes)'!$A$7:$B$188,2,FALSE)","v":{"$error":"#N/A"}},null,null,null,null,null,{"$f":"VLOOKUP(G1806:G11804,'Location Type (FICM Codes)'!$A$7:$C$188,3,FALSE)","v":{"$error":"#N/A"}}]
[null,null,null,null,null,null,null,{"$f":"VLOOKUP($G$2:$G$50000,'Location Type (FICM Codes)'!$A$7:$B$188,2,FALSE)","v":{"$error":"#N/A"}},null,null,null,null,null,{"$f":"VLOOKUP(G1807:G11805,'Location Type (FICM Codes)'!$A$7:$C$188,3,FALSE)","v":{"$error":"#N/A"}}]
[null,null,null,null,null,null,null,{"$f":"VLOOKUP($G$2:$G$50000,'Location Type (FICM Codes)'!$A$7:$B$188,2,FALSE)","v":{"$error":"#N/A"}},null,null,null,null,null,{"$f":"VLOOKUP(G1808:G11806,'Location Type (FICM Codes)'!$A$7:$C$188,3,FALSE)","v":{"$error":"#N/A"}}]
[null,null,null,null,null,null,null,{"$f":"VLOOKUP($G$2:$G$50000,'Location Type (FICM Codes)'!$A$7:$B$188,2,FALSE)","v":{"$error":"#N/A"}},null,null,null,null,null,{"$f":"VLOOKUP(G1809:G11807,'Location Type (FICM Codes)'!$A$7:$C$188,3,FALSE)","v":{"$error":"#N/A"}}]
[null,null,null,null,null,null,null,{"$f":"VLOOKUP($G$2:$G$50000,'Location Type (FICM Codes)'!$A$7:$B$188,2,FALSE)","v":{"$error":"#N/A"}},null,null,null,null,null,{"$f":"VLOOKUP(G1810:G11808,'Location Type (FICM Codes)'!$A$7:$C$188,3,FALSE)","v":{"$error":"#N/A"}}]
[null,null,null,null,null,null,null,{"$f":"VLOOKUP($G$2:$G$50000,'Location Type (FICM Codes)'!$A$7:$B$188,2,FALSE)","v":{"$error":"#N/A"}},null,null,null,null,null,{"$f":"VLOOKUP(G1811:G11809,'Location Type (FICM Codes)'!$A$7:$C$188,3,FALSE)","v":{"$error":"#N/A"}}]
[null,null,null,null,null,null,null,{"$f":"VLOOKUP($G$2:$G$50000,'Location Type (FICM Codes)'!$A$7:$B$188,2,FALSE)","v":{"$error":"#N/A"}},null,null,null,null,null,{"$f":"VLOOKUP(G1812:G11810,'Location Type (FICM Codes)'!$A$7:$C$188,3,FALSE)","v":{"$error":"#N/A"}}]
[null,null,null,null,null,null,null,{"$f":"VLOOKUP($G$2:$G$50000,'Location Type (FICM Codes)'!$A$7:$B$188,2,FALSE)","v":{"$error":"#N/A"}},null,null,null,null,null,{"$f":"VLOOKUP(G1813:G11811,'Location Type (FICM Codes)'!$A$7:$C$188,3,FALSE)","v":{"$error":"#N/A"}}]
[null,null,null,null,null,null,null,{"$f":"VLOOKUP($G$2:$G$50000,'Location Type (FICM Codes)'!$A$7:$B$188,2,FALSE)","v":{"$error":"#N/A"}},null,null,null,null,null,{"$f":"VLOOKUP(G1814:G11812,'Location Type (FICM Codes)'!$A$7:$C$188,3,FALSE)","v":{"$error":"#N/A"}}]
[null,null,null,null,null,null,null,{"$f":"VLOOKUP($G$2:$G$50000,'Location Type (FICM Codes)'!$A$7:$B$188,2,FALSE)","v":{"$error":"#N/A"}},null,null,null,null,null,{"$f":"VLOOKUP(G1815:G11813,'Location Type (FICM Codes)'!$A$7:$C$188,3,FALSE)","v":{"$error":"#N/A"}}]
[null,null,null,null,null,null,null,{"$f":"VLOOKUP($G$2:$G$50000,'Location Type (FICM Codes)'!$A$7:$B$188,2,FALSE)","v":{"$error":"#N/A"}},null,null,null,null,null,{"$f":"VLOOKUP(G1816:G11814,'Location Type (FICM Codes)'!$A$7:$C$188,3,FALSE)","v":{"$error":"#N/A"}}]
[null,null,null,null,null,null,null,{"$f":"VLOOKUP($G$2:$G$50000,'Location Type (FICM Codes)'!$A$7:$B$188,2,FALSE)","v":{"$error":"#N/A"}},null,null,null,null,null,{"$f":"VLOOKUP(G1817:G11815,'Location Type (FICM Codes)'!$A$7:$C$188,3,FALSE)","v":{"$error":"#N/A"}}]
[null,null,null,null,null,null,null,{"$f":"VLOOKUP($G$2:$G$50000,'Location Type (FICM Codes)'!$A$7:$B$188,2,FALSE)","v":{"$error":"#N/A"}},null,null,null,null,null,{"$f":"VLOOKUP(G1818:G11816,'Location Type (FICM Codes)'!$A$7:$C$188,3,FALSE)","v":{"$error":"#N/A"}}]
[null,null,null,null,null,null,null,{"$f":"VLOOKUP($G$2:$G$50000,'Location Type (FICM Codes)'!$A$7:$B$188,2,FALSE)","v":{"$error":"#N/A"}},null,null,null,null,null,{"$f":"VLOOKUP(G1819:G11817,'Location Type (FICM Codes)'!$A$7:$C$188,3,FALSE)","v":{"$error":"#N/A"}}]
[null,null,null,null,null,null,null,{"$f":"VLOOKUP($G$2:$G$50000,'Location Type (FICM Codes)'!$A$7:$B$188,2,FALSE)","v":{"$error":"#N/A"}},null,null,null,null,null,{"$f":"VLOOKUP(G1820:G11818,'Location Type (FICM Codes)'!$A$7:$C$188,3,FALSE)","v":{"$error":"#N/A"}}]
[null,null,null,null,null,null,null,{"$f":"VLOOKUP($G$2:$G$50000,'Location Type (FICM Codes)'!$A$7:$B$188,2,FALSE)","v":{"$error":"#N/A"}},null,null,null,null,null,{"$f":"VLOOKUP(G1821:G11819,'Location Type (FICM Codes)'!$A$7:$C$188,3,FALSE)","v":{"$error":"#N/A"}}]
[null,null,null,null,null,null,null,{"$f":"VLOOKUP($G$2:$G$50000,'Location Type (FICM Codes)'!$A$7:$B$188,2,FALSE)","v":{"$error":"#N/A"}},null,null,null,null,null,{"$f":"VLOOKUP(G1822:G11820,'Location Type (FICM Codes)'!$A$7:$C$188,3,FALSE)","v":{"$error":"#N/A"}}]
[null,null,null,null,null,null,null,{"$f":"VLOOKUP($G$2:$G$50000,'Location Type (FICM Codes)'!$A$7:$B$188,2,FALSE)","v":{"$error":"#N/A"}},null,null,null,null,null,{"$f":"VLOOKUP(G1823:G11821,'Location Type (FICM Codes)'!$A$7:$C$188,3,FALSE)","v":{"$error":"#N/A"}}]
[null,null,null,null,null,null,null,{"$f":"VLOOKUP($G$2:$G$50000,'Location Type (FICM Codes)'!$A$7:$B$188,2,FALSE)","v":{"$error":"#N/A"}},null,null,null,null,null,{"$f":"VLOOKUP(G1824:G11822,'Location Type (FICM Codes)'!$A$7:$C$188,3,FALSE)","v":{"$error":"#N/A"}}]
[null,null,null,null,null,null,null,{"$f":"VLOOKUP($G$2:$G$50000,'Location Type (FICM Codes)'!$A$7:$B$188,2,FALSE)","v":{"$error":"#N/A"}},null,null,null,null,null,{"$f":"VLOOKUP(G1825:G11823,'Location Type (FICM Codes)'!$A$7:$C$188,3,FALSE)","v":{"$error":"#N/A"}}]
[null,null,null,null,null,null,null,{"$f":"VLOOKUP($G$2:$G$50000,'Location Type (FICM Codes)'!$A$7:$B$188,2,FALSE)","v":{"$error":"#N/A"}},null,null,null,null,null,{"$f":"VLOOKUP(G1826:G11824,'Location Type (FICM Codes)'!$A$7:$C$188,3,FALSE)","v":{"$error":"#N/A"}}]
[null,null,null,null,null,null,null,{"$f":"VLOOKUP($G$2:$G$50000,'Location Type (FICM Codes)'!$A$7:$B$188,2,FALSE)","v":{"$error":"#N/A"}},null,null,null,null,null,{"$f":"VLOOKUP(G1827:G11825,'Location Type (FICM Codes)'!$A$7:$C$188,3,FALSE)","v":{"$error":"#N/A"}}]
[null,null,null,null,null,null,null,{"$f":"VLOOKUP($G$2:$G$50000,'Location Type (FICM Codes)'!$A$7:$B$188,2,FALSE)","v":{"$error":"#N/A"}},null,null,null,null,null,{"$f":"VLOOKUP(G1828:G11826,'Location Type (FICM Codes)'!$A$7:$C$188,3,FALSE)","v":{"$error":"#N/A"}}]
[null,null,null,null,null,null,null,{"$f":"VLOOKUP($G$2:$G$50000,'Location Type (FICM Codes)'!$A$7:$B$188,2,FALSE)","v":{"$error":"#N/A"}},null,null,null,null,null,{"$f":"VLOOKUP(G1829:G11827,'Location Type (FICM Codes)'!$A$7:$C$188,3,FALSE)","v":{"$error":"#N/A"}}]
[null,null,null,null,null,null,null,{"$f":"VLOOKUP($G$2:$G$50000,'Location Type (FICM Codes)'!$A$7:$B$188,2,FALSE)","v":{"$error":"#N/A"}},null,null,null,null,null,{"$f":"VLOOKUP(G1830:G11828,'Location Type (FICM Codes)'!$A$7:$C$188,3,FALSE)","v":{"$error":"#N/A"}}]
[null,null,null,null,null,null,null,{"$f":"VLOOKUP($G$2:$G$50000,'Location Type (FICM Codes)'!$A$7:$B$188,2,FALSE)","v":{"$error":"#N/A"}},null,null,null,null,null,{"$f":"VLOOKUP(G1831:G11829,'Location Type (FICM Codes)'!$A$7:$C$188,3,FALSE)","v":{"$error":"#N/A"}}]
[null,null,null,null,null,null,null,{"$f":"VLOOKUP($G$2:$G$50000,'Location Type (FICM Codes)'!$A$7:$B$188,2,FALSE)","v":{"$error":"#N/A"}},null,null,null,null,null,{"$f":"VLOOKUP(G1832:G11830,'Location Type (FICM Codes)'!$A$7:$C$188,3,FALSE)","v":{"$error":"#N/A"}}]
[null,null,null,null,null,null,null,{"$f":"VLOOKUP($G$2:$G$50000,'Location Type (FICM Codes)'!$A$7:$B$188,2,FALSE)","v":{"$error":"#N/A"}},null,null,null,null,null,{"$f":"VLOOKUP(G1833:G11831,'Location Type (FICM Codes)'!$A$7:$C$188,3,FALSE)","v":{"$error":"#N/A"}}]
[null,null,null,null,null,null,null,{"$f":"VLOOKUP($G$2:$G$50000,'Location Type (FICM Codes)'!$A$7:$B$188,2,FALSE)","v":{"$error":"#N/A"}},null,null,null,null,null,{"$f":"VLOOKUP(G1834:G11832,'Location Type (FICM Codes)'!$A$7:$C$188,3,FALSE)","v":{"$error":"#N/A"}}]
[null,null,null,null,null,null,null,{"$f":"VLOOKUP($G$2:$G$50000,'Location Type (FICM Codes)'!$A$7:$B$188,2,FALSE)","v":{"$error":"#N/A"}},null,null,null,null,null,{"$f":"VLOOKUP(G1835:G11833,'Location Type (FICM Codes)'!$A$7:$C$188,3,FALSE)","v":{"$error":"#N/A"}}]
[null,null,null,null,null,null,null,{"$f":"VLOOKUP($G$2:$G$50000,'Location Type (FICM Codes)'!$A$7:$B$188,2,FALSE)","v":{"$error":"#N/A"}},null,null,null,null,null,{"$f":"VLOOKUP(G1836:G11834,'Location Type (FICM Codes)'!$A$7:$C$188,3,FALSE)","v":{"$error":"#N/A"}}]
[null,null,null,null,null,null,null,{"$f":"VLOOKUP($G$2:$G$50000,'Location Type (FICM Codes)'!$A$7:$B$188,2,FALSE)","v":{"$error":"#N/A"}},null,null,null,null,null,{"$f":"VLOOKUP(G1837:G11835,'Location Type (FICM Codes)'!$A$7:$C$188,3,FALSE)","v":{"$error":"#N/A"}}]
[null,null,null,null,null,null,null,{"$f":"VLOOKUP($G$2:$G$50000,'Location Type (FICM Codes)'!$A$7:$B$188,2,FALSE)","v":{"$error":"#N/A"}},null,null,null,null,null,{"$f":"VLOOKUP(G1838:G11836,'Location Type (FICM Codes)'!$A$7:$C$188,3,FALSE)","v":{"$error":"#N/A"}}]
[null,null,null,null,null,null,null,{"$f":"VLOOKUP($G$2:$G$50000,'Location Type (FICM Codes)'!$A$7:$B$188,2,FALSE)","v":{"$error":"#N/A"}},null,null,null,null,null,{"$f":"VLOOKUP(G1839:G11837,'Location Type (FICM Codes)'!$A$7:$C$188,3,FALSE)","v":{"$error":"#N/A"}}]
[null,null,null,null,null,null,null,{"$f":"VLOOKUP($G$2:$G$50000,'Location Type (FICM Codes)'!$A$7:$B$188,2,FALSE)","v":{"$error":"#N/A"}},null,null,null,null,null,{"$f":"VLOOKUP(G1840:G11838,'Location Type (FICM Codes)'!$A$7:$C$188,3,FALSE)","v":{"$error":"#N/A"}}]
[null,null,null,null,null,null,null,{"$f":"VLOOKUP($G$2:$G$50000,'Location Type (FICM Codes)'!$A$7:$B$188,2,FALSE)","v":{"$error":"#N/A"}},null,null,null,null,null,{"$f":"VLOOKUP(G1841:G11839,'Location Type (FICM Codes)'!$A$7:$C$188,3,FALSE)","v":{"$error":"#N/A"}}]
[null,null,null,null,null,null,null,{"$f":"VLOOKUP($G$2:$G$50000,'Location Type (FICM Codes)'!$A$7:$B$188,2,FALSE)","v":{"$error":"#N/A"}},null,null,null,null,null,{"$f":"VLOOKUP(G1842:G11840,'Location Type (FICM Codes)'!$A$7:$C$188,3,FALSE)","v":{"$error":"#N/A"}}]
[null,null,null,null,null,null,null,{"$f":"VLOOKUP($G$2:$G$50000,'Location Type (FICM Codes)'!$A$7:$B$188,2,FALSE)","v":{"$error":"#N/A"}},null,null,null,null,null,{"$f":"VLOOKUP(G1843:G11841,'Location Type (FICM Codes)'!$A$7:$C$188,3,FALSE)","v":{"$error":"#N/A"}}]
[null,null,null,null,null,null,null,{"$f":"VLOOKUP($G$2:$G$50000,'Location Type (FICM Codes)'!$A$7:$B$188,2,FALSE)","v":{"$error":"#N/A"}},null,null,null,null,null,{"$f":"VLOOKUP(G1844:G11842,'Location Type (FICM Codes)'!$A$7:$C$188,3,FALSE)","v":{"$error":"#N/A"}}]
[null,null,null,null,null,null,null,{"$f":"VLOOKUP($G$2:$G$50000,'Location Type (FICM Codes)'!$A$7:$B$188,2,FALSE)","v":{"$error":"#N/A"}},null,null,null,null,null,{"$f":"VLOOKUP(G1845:G11843,'Location Type (FICM Codes)'!$A$7:$C$188,3,FALSE)","v":{"$error":"#N/A"}}]
[null,null,null,null,null,null,null,{"$f":"VLOOKUP($G$2:$G$50000,'Location Type (FICM Codes)'!$A$7:$B$188,2,FALSE)","v":{"$error":"#N/A"}},null,null,null,null,null,{"$f":"VLOOKUP(G1846:G11844,'Location Type (FICM Codes)'!$A$7:$C$188,3,FALSE)","v":{"$error":"#N/A"}}]
[null,null,null,null,null,null,null,{"$f":"VLOOKUP($G$2:$G$50000,'Location Type (FICM Codes)'!$A$7:$B$188,2,FALSE)","v":{"$error":"#N/A"}},null,null,null,null,null,{"$f":"VLOOKUP(G1847:G11845,'Location Type (FICM Codes)'!$A$7:$C$188,3,FALSE)","v":{"$error":"#N/A"}}]
[null,null,null,null,null,null,null,{"$f":"VLOOKUP($G$2:$G$50000,'Location Type (FICM Codes)'!$A$7:$B$188,2,FALSE)","v":{"$error":"#N/A"}},null,null,null,null,null,{"$f":"VLOOKUP(G1848:G11846,'Location Type (FICM Codes)'!$A$7:$C$188,3,FALSE)","v":{"$error":"#N/A"}}]
[null,null,null,null,null,null,null,{"$f":"VLOOKUP($G$2:$G$50000,'Location Type (FICM Codes)'!$A$7:$B$188,2,FALSE)","v":{"$error":"#N/A"}},null,null,null,null,null,{"$f":"VLOOKUP(G1849:G11847,'Location Type (FICM Codes)'!$A$7:$C$188,3,FALSE)","v":{"$error":"#N/A"}}]
[null,null,null,null,null,null,null,{"$f":"VLOOKUP($G$2:$G$50000,'Location Type (FICM Codes)'!$A$7:$B$188,2,FALSE)","v":{"$error":"#N/A"}},null,null,null,null,null,{"$f":"VLOOKUP(G1850:G11848,'Location Type (FICM Codes)'!$A$7:$C$188,3,FALSE)","v":{"$error":"#N/A"}}]
[null,null,null,null,null,null,null,{"$f":"VLOOKUP($G$2:$G$50000,'Location Type (FICM Codes)'!$A$7:$B$188,2,FALSE)","v":{"$error":"#N/A"}},null,null,null,null,null,{"$f":"VLOOKUP(G1851:G11849,'Location Type (FICM Codes)'!$A$7:$C$188,3,FALSE)","v":{"$error":"#N/A"}}]
[null,null,null,null,null,null,null,{"$f":"VLOOKUP($G$2:$G$50000,'Location Type (FICM Codes)'!$A$7:$B$188,2,FALSE)","v":{"$error":"#N/A"}},null,null,null,null,null,{"$f":"VLOOKUP(G1852:G11850,'Location Type (FICM Codes)'!$A$7:$C$188,3,FALSE)","v":{"$error":"#N/A"}}]
[null,null,null,null,null,null,null,{"$f":"VLOOKUP($G$2:$G$50000,'Location Type (FICM Codes)'!$A$7:$B$188,2,FALSE)","v":{"$error":"#N/A"}},null,null,null,null,null,{"$f":"VLOOKUP(G1853:G11851,'Location Type (FICM Codes)'!$A$7:$C$188,3,FALSE)","v":{"$error":"#N/A"}}]
[null,null,null,null,null,null,null,{"$f":"VLOOKUP($G$2:$G$50000,'Location Type (FICM Codes)'!$A$7:$B$188,2,FALSE)","v":{"$error":"#N/A"}},null,null,null,null,null,{"$f":"VLOOKUP(G1854:G11852,'Location Type (FICM Codes)'!$A$7:$C$188,3,FALSE)","v":{"$error":"#N/A"}}]
[null,null,null,null,null,null,null,{"$f":"VLOOKUP($G$2:$G$50000,'Location Type (FICM Codes)'!$A$7:$B$188,2,FALSE)","v":{"$error":"#N/A"}},null,null,null,null,null,{"$f":"VLOOKUP(G1855:G11853,'Location Type (FICM Codes)'!$A$7:$C$188,3,FALSE)","v":{"$error":"#N/A"}}]
[null,null,null,null,null,null,null,{"$f":"VLOOKUP($G$2:$G$50000,'Location Type (FICM Codes)'!$A$7:$B$188,2,FALSE)","v":{"$error":"#N/A"}},null,null,null,null,null,{"$f":"VLOOKUP(G1856:G11854,'Location Type (FICM Codes)'!$A$7:$C$188,3,FALSE)","v":{"$error":"#N/A"}}]
[null,null,null,null,null,null,null,{"$f":"VLOOKUP($G$2:$G$50000,'Location Type (FICM Codes)'!$A$7:$B$188,2,FALSE)","v":{"$error":"#N/A"}},null,null,null,null,null,{"$f":"VLOOKUP(G1857:G11855,'Location Type (FICM Codes)'!$A$7:$C$188,3,FALSE)","v":{"$error":"#N/A"}}]
[null,null,null,null,null,null,null,{"$f":"VLOOKUP($G$2:$G$50000,'Location Type (FICM Codes)'!$A$7:$B$188,2,FALSE)","v":{"$error":"#N/A"}},null,null,null,null,null,{"$f":"VLOOKUP(G1858:G11856,'Location Type (FICM Codes)'!$A$7:$C$188,3,FALSE)","v":{"$error":"#N/A"}}]
[null,null,null,null,null,null,null,{"$f":"VLOOKUP($G$2:$G$50000,'Location Type (FICM Codes)'!$A$7:$B$188,2,FALSE)","v":{"$error":"#N/A"}},null,null,null,null,null,{"$f":"VLOOKUP(G1859:G11857,'Location Type (FICM Codes)'!$A$7:$C$188,3,FALSE)","v":{"$error":"#N/A"}}]
[null,null,null,null,null,null,null,{"$f":"VLOOKUP($G$2:$G$50000,'Location Type (FICM Codes)'!$A$7:$B$188,2,FALSE)","v":{"$error":"#N/A"}},null,null,null,null,null,{"$f":"VLOOKUP(G1860:G11858,'Location Type (FICM Codes)'!$A$7:$C$188,3,FALSE)","v":{"$error":"#N/A"}}]
[null,null,null,null,null,null,null,{"$f":"VLOOKUP($G$2:$G$50000,'Location Type (FICM Codes)'!$A$7:$B$188,2,FALSE)","v":{"$error":"#N/A"}},null,null,null,null,null,{"$f":"VLOOKUP(G1861:G11859,'Location Type (FICM Codes)'!$A$7:$C$188,3,FALSE)","v":{"$error":"#N/A"}}]
[null,null,null,null,null,null,null,{"$f":"VLOOKUP($G$2:$G$50000,'Location Type (FICM Codes)'!$A$7:$B$188,2,FALSE)","v":{"$error":"#N/A"}},null,null,null,null,null,{"$f":"VLOOKUP(G1862:G11860,'Location Type (FICM Codes)'!$A$7:$C$188,3,FALSE)","v":{"$error":"#N/A"}}]
[null,null,null,null,null,null,null,{"$f":"VLOOKUP($G$2:$G$50000,'Location Type (FICM Codes)'!$A$7:$B$188,2,FALSE)","v":{"$error":"#N/A"}},null,null,null,null,null,{"$f":"VLOOKUP(G1863:G11861,'Location Type (FICM Codes)'!$A$7:$C$188,3,FALSE)","v":{"$error":"#N/A"}}]
[null,null,null,null,null,null,null,{"$f":"VLOOKUP($G$2:$G$50000,'Location Type (FICM Codes)'!$A$7:$B$188,2,FALSE)","v":{"$error":"#N/A"}},null,null,null,null,null,{"$f":"VLOOKUP(G1864:G11862,'Location Type (FICM Codes)'!$A$7:$C$188,3,FALSE)","v":{"$error":"#N/A"}}]
[null,null,null,null,null,null,null,{"$f":"VLOOKUP($G$2:$G$50000,'Location Type (FICM Codes)'!$A$7:$B$188,2,FALSE)","v":{"$error":"#N/A"}},null,null,null,null,null,{"$f":"VLOOKUP(G1865:G11863,'Location Type (FICM Codes)'!$A$7:$C$188,3,FALSE)","v":{"$error":"#N/A"}}]
[null,null,null,null,null,null,null,{"$f":"VLOOKUP($G$2:$G$50000,'Location Type (FICM Codes)'!$A$7:$B$188,2,FALSE)","v":{"$error":"#N/A"}},null,null,null,null,null,{"$f":"VLOOKUP(G1866:G11864,'Location Type (FICM Codes)'!$A$7:$C$188,3,FALSE)","v":{"$error":"#N/A"}}]
[null,null,null,null,null,null,null,{"$f":"VLOOKUP($G$2:$G$50000,'Location Type (FICM Codes)'!$A$7:$B$188,2,FALSE)","v":{"$error":"#N/A"}},null,null,null,null,null,{"$f":"VLOOKUP(G1867:G11865,'Location Type (FICM Codes)'!$A$7:$C$188,3,FALSE)","v":{"$error":"#N/A"}}]
[null,null,null,null,null,null,null,{"$f":"VLOOKUP($G$2:$G$50000,'Location Type (FICM Codes)'!$A$7:$B$188,2,FALSE)","v":{"$error":"#N/A"}},null,null,null,null,null,{"$f":"VLOOKUP(G1868:G11866,'Location Type (FICM Codes)'!$A$7:$C$188,3,FALSE)","v":{"$error":"#N/A"}}]
[null,null,null,null,null,null,null,{"$f":"VLOOKUP($G$2:$G$50000,'Location Type (FICM Codes)'!$A$7:$B$188,2,FALSE)","v":{"$error":"#N/A"}},null,null,null,null,null,{"$f":"VLOOKUP(G1869:G11867,'Location Type (FICM Codes)'!$A$7:$C$188,3,FALSE)","v":{"$error":"#N/A"}}]
[null,null,null,null,null,null,null,{"$f":"VLOOKUP($G$2:$G$50000,'Location Type (FICM Codes)'!$A$7:$B$188,2,FALSE)","v":{"$error":"#N/A"}},null,null,null,null,null,{"$f":"VLOOKUP(G1870:G11868,'Location Type (FICM Codes)'!$A$7:$C$188,3,FALSE)","v":{"$error":"#N/A"}}]
[null,null,null,null,null,null,null,{"$f":"VLOOKUP($G$2:$G$50000,'Location Type (FICM Codes)'!$A$7:$B$188,2,FALSE)","v":{"$error":"#N/A"}},null,null,null,null,null,{"$f":"VLOOKUP(G1871:G11869,'Location Type (FICM Codes)'!$A$7:$C$188,3,FALSE)","v":{"$error":"#N/A"}}]
[null,null,null,null,null,null,null,{"$f":"VLOOKUP($G$2:$G$50000,'Location Type (FICM Codes)'!$A$7:$B$188,2,FALSE)","v":{"$error":"#N/A"}},null,null,null,null,null,{"$f":"VLOOKUP(G1872:G11870,'Location Type (FICM Codes)'!$A$7:$C$188,3,FALSE)","v":{"$error":"#N/A"}}]
[null,null,null,null,null,null,null,{"$f":"VLOOKUP($G$2:$G$50000,'Location Type (FICM Codes)'!$A$7:$B$188,2,FALSE)","v":{"$error":"#N/A"}},null,null,null,null,null,{"$f":"VLOOKUP(G1873:G11871,'Location Type (FICM Codes)'!$A$7:$C$188,3,FALSE)","v":{"$error":"#N/A"}}]
[null,null,null,null,null,null,null,{"$f":"VLOOKUP($G$2:$G$50000,'Location Type (FICM Codes)'!$A$7:$B$188,2,FALSE)","v":{"$error":"#N/A"}},null,null,null,null,null,{"$f":"VLOOKUP(G1874:G11872,'Location Type (FICM Codes)'!$A$7:$C$188,3,FALSE)","v":{"$error":"#N/A"}}]
[null,null,null,null,null,null,null,{"$f":"VLOOKUP($G$2:$G$50000,'Location Type (FICM Codes)'!$A$7:$B$188,2,FALSE)","v":{"$error":"#N/A"}},null,null,null,null,null,{"$f":"VLOOKUP(G1875:G11873,'Location Type (FICM Codes)'!$A$7:$C$188,3,FALSE)","v":{"$error":"#N/A"}}]
[null,null,null,null,null,null,null,{"$f":"VLOOKUP($G$2:$G$50000,'Location Type (FICM Codes)'!$A$7:$B$188,2,FALSE)","v":{"$error":"#N/A"}},null,null,null,null,null,{"$f":"VLOOKUP(G1876:G11874,'Location Type (FICM Codes)'!$A$7:$C$188,3,FALSE)","v":{"$error":"#N/A"}}]
[null,null,null,null,null,null,null,{"$f":"VLOOKUP($G$2:$G$50000,'Location Type (FICM Codes)'!$A$7:$B$188,2,FALSE)","v":{"$error":"#N/A"}},null,null,null,null,null,{"$f":"VLOOKUP(G1877:G11875,'Location Type (FICM Codes)'!$A$7:$C$188,3,FALSE)","v":{"$error":"#N/A"}}]
[null,null,null,null,null,null,null,{"$f":"VLOOKUP($G$2:$G$50000,'Location Type (FICM Codes)'!$A$7:$B$188,2,FALSE)","v":{"$error":"#N/A"}},null,null,null,null,null,{"$f":"VLOOKUP(G1878:G11876,'Location Type (FICM Codes)'!$A$7:$C$188,3,FALSE)","v":{"$error":"#N/A"}}]
[null,null,null,null,null,null,null,{"$f":"VLOOKUP($G$2:$G$50000,'Location Type (FICM Codes)'!$A$7:$B$188,2,FALSE)","v":{"$error":"#N/A"}},null,null,null,null,null,{"$f":"VLOOKUP(G1879:G11877,'Location Type (FICM Codes)'!$A$7:$C$188,3,FALSE)","v":{"$error":"#N/A"}}]
[null,null,null,null,null,null,null,{"$f":"VLOOKUP($G$2:$G$50000,'Location Type (FICM Codes)'!$A$7:$B$188,2,FALSE)","v":{"$error":"#N/A"}},null,null,null,null,null,{"$f":"VLOOKUP(G1880:G11878,'Location Type (FICM Codes)'!$A$7:$C$188,3,FALSE)","v":{"$error":"#N/A"}}]
[null,null,null,null,null,null,null,{"$f":"VLOOKUP($G$2:$G$50000,'Location Type (FICM Codes)'!$A$7:$B$188,2,FALSE)","v":{"$error":"#N/A"}},null,null,null,null,null,{"$f":"VLOOKUP(G1881:G11879,'Location Type (FICM Codes)'!$A$7:$C$188,3,FALSE)","v":{"$error":"#N/A"}}]
[null,null,null,null,null,null,null,{"$f":"VLOOKUP($G$2:$G$50000,'Location Type (FICM Codes)'!$A$7:$B$188,2,FALSE)","v":{"$error":"#N/A"}},null,null,null,null,null,{"$f":"VLOOKUP(G1882:G11880,'Location Type (FICM Codes)'!$A$7:$C$188,3,FALSE)","v":{"$error":"#N/A"}}]
[null,null,null,null,null,null,null,{"$f":"VLOOKUP($G$2:$G$50000,'Location Type (FICM Codes)'!$A$7:$B$188,2,FALSE)","v":{"$error":"#N/A"}},null,null,null,null,null,{"$f":"VLOOKUP(G1883:G11881,'Location Type (FICM Codes)'!$A$7:$C$188,3,FALSE)","v":{"$error":"#N/A"}}]
[null,null,null,null,null,null,null,{"$f":"VLOOKUP($G$2:$G$50000,'Location Type (FICM Codes)'!$A$7:$B$188,2,FALSE)","v":{"$error":"#N/A"}},null,null,null,null,null,{"$f":"VLOOKUP(G1884:G11882,'Location Type (FICM Codes)'!$A$7:$C$188,3,FALSE)","v":{"$error":"#N/A"}}]
[null,null,null,null,null,null,null,{"$f":"VLOOKUP($G$2:$G$50000,'Location Type (FICM Codes)'!$A$7:$B$188,2,FALSE)","v":{"$error":"#N/A"}},null,null,null,null,null,{"$f":"VLOOKUP(G1885:G11883,'Location Type (FICM Codes)'!$A$7:$C$188,3,FALSE)","v":{"$error":"#N/A"}}]
[null,null,null,null,null,null,null,{"$f":"VLOOKUP($G$2:$G$50000,'Location Type (FICM Codes)'!$A$7:$B$188,2,FALSE)","v":{"$error":"#N/A"}},null,null,null,null,null,{"$f":"VLOOKUP(G1886:G11884,'Location Type (FICM Codes)'!$A$7:$C$188,3,FALSE)","v":{"$error":"#N/A"}}]
[null,null,null,null,null,null,null,{"$f":"VLOOKUP($G$2:$G$50000,'Location Type (FICM Codes)'!$A$7:$B$188,2,FALSE)","v":{"$error":"#N/A"}},null,null,null,null,null,{"$f":"VLOOKUP(G1887:G11885,'Location Type (FICM Codes)'!$A$7:$C$188,3,FALSE)","v":{"$error":"#N/A"}}]
[null,null,null,null,null,null,null,{"$f":"VLOOKUP($G$2:$G$50000,'Location Type (FICM Codes)'!$A$7:$B$188,2,FALSE)","v":{"$error":"#N/A"}},null,null,null,null,null,{"$f":"VLOOKUP(G1888:G11886,'Location Type (FICM Codes)'!$A$7:$C$188,3,FALSE)","v":{"$error":"#N/A"}}]
[null,null,null,null,null,null,null,{"$f":"VLOOKUP($G$2:$G$50000,'Location Type (FICM Codes)'!$A$7:$B$188,2,FALSE)","v":{"$error":"#N/A"}},null,null,null,null,null,{"$f":"VLOOKUP(G1889:G11887,'Location Type (FICM Codes)'!$A$7:$C$188,3,FALSE)","v":{"$error":"#N/A"}}]
[null,null,null,null,null,null,null,{"$f":"VLOOKUP($G$2:$G$50000,'Location Type (FICM Codes)'!$A$7:$B$188,2,FALSE)","v":{"$error":"#N/A"}},null,null,null,null,null,{"$f":"VLOOKUP(G1890:G11888,'Location Type (FICM Codes)'!$A$7:$C$188,3,FALSE)","v":{"$error":"#N/A"}}]
[null,null,null,null,null,null,null,{"$f":"VLOOKUP($G$2:$G$50000,'Location Type (FICM Codes)'!$A$7:$B$188,2,FALSE)","v":{"$error":"#N/A"}},null,null,null,null,null,{"$f":"VLOOKUP(G1891:G11889,'Location Type (FICM Codes)'!$A$7:$C$188,3,FALSE)","v":{"$error":"#N/A"}}]
[null,null,null,null,null,null,null,{"$f":"VLOOKUP($G$2:$G$50000,'Location Type (FICM Codes)'!$A$7:$B$188,2,FALSE)","v":{"$error":"#N/A"}},null,null,null,null,null,{"$f":"VLOOKUP(G1892:G11890,'Location Type (FICM Codes)'!$A$7:$C$188,3,FALSE)","v":{"$error":"#N/A"}}]
[null,null,null,null,null,null,null,{"$f":"VLOOKUP($G$2:$G$50000,'Location Type (FICM Codes)'!$A$7:$B$188,2,FALSE)","v":{"$error":"#N/A"}},null,null,null,null,null,{"$f":"VLOOKUP(G1893:G11891,'Location Type (FICM Codes)'!$A$7:$C$188,3,FALSE)","v":{"$error":"#N/A"}}]
[null,null,null,null,null,null,null,{"$f":"VLOOKUP($G$2:$G$50000,'Location Type (FICM Codes)'!$A$7:$B$188,2,FALSE)","v":{"$error":"#N/A"}},null,null,null,null,null,{"$f":"VLOOKUP(G1894:G11892,'Location Type (FICM Codes)'!$A$7:$C$188,3,FALSE)","v":{"$error":"#N/A"}}]
[null,null,null,null,null,null,null,{"$f":"VLOOKUP($G$2:$G$50000,'Location Type (FICM Codes)'!$A$7:$B$188,2,FALSE)","v":{"$error":"#N/A"}},null,null,null,null,null,{"$f":"VLOOKUP(G1895:G11893,'Location Type (FICM Codes)'!$A$7:$C$188,3,FALSE)","v":{"$error":"#N/A"}}]
[null,null,null,null,null,null,null,{"$f":"VLOOKUP($G$2:$G$50000,'Location Type (FICM Codes)'!$A$7:$B$188,2,FALSE)","v":{"$error":"#N/A"}},null,null,null,null,null,{"$f":"VLOOKUP(G1896:G11894,'Location Type (FICM Codes)'!$A$7:$C$188,3,FALSE)","v":{"$error":"#N/A"}}]
[null,null,null,null,null,null,null,{"$f":"VLOOKUP($G$2:$G$50000,'Location Type (FICM Codes)'!$A$7:$B$188,2,FALSE)","v":{"$error":"#N/A"}},null,null,null,null,null,{"$f":"VLOOKUP(G1897:G11895,'Location Type (FICM Codes)'!$A$7:$C$188,3,FALSE)","v":{"$error":"#N/A"}}]
[null,null,null,null,null,null,null,{"$f":"VLOOKUP($G$2:$G$50000,'Location Type (FICM Codes)'!$A$7:$B$188,2,FALSE)","v":{"$error":"#N/A"}},null,null,null,null,null,{"$f":"VLOOKUP(G1898:G11896,'Location Type (FICM Codes)'!$A$7:$C$188,3,FALSE)","v":{"$error":"#N/A"}}]
[null,null,null,null,null,null,null,{"$f":"VLOOKUP($G$2:$G$50000,'Location Type (FICM Codes)'!$A$7:$B$188,2,FALSE)","v":{"$error":"#N/A"}},null,null,null,null,null,{"$f":"VLOOKUP(G1899:G11897,'Location Type (FICM Codes)'!$A$7:$C$188,3,FALSE)","v":{"$error":"#N/A"}}]
[null,null,null,null,null,null,null,{"$f":"VLOOKUP($G$2:$G$50000,'Location Type (FICM Codes)'!$A$7:$B$188,2,FALSE)","v":{"$error":"#N/A"}},null,null,null,null,null,{"$f":"VLOOKUP(G1900:G11898,'Location Type (FICM Codes)'!$A$7:$C$188,3,FALSE)","v":{"$error":"#N/A"}}]
[null,null,null,null,null,null,null,{"$f":"VLOOKUP($G$2:$G$50000,'Location Type (FICM Codes)'!$A$7:$B$188,2,FALSE)","v":{"$error":"#N/A"}},null,null,null,null,null,{"$f":"VLOOKUP(G1901:G11899,'Location Type (FICM Codes)'!$A$7:$C$188,3,FALSE)","v":{"$error":"#N/A"}}]
[null,null,null,null,null,null,null,{"$f":"VLOOKUP($G$2:$G$50000,'Location Type (FICM Codes)'!$A$7:$B$188,2,FALSE)","v":{"$error":"#N/A"}},null,null,null,null,null,{"$f":"VLOOKUP(G1902:G11900,'Location Type (FICM Codes)'!$A$7:$C$188,3,FALSE)","v":{"$error":"#N/A"}}]
[null,null,null,null,null,null,null,{"$f":"VLOOKUP($G$2:$G$50000,'Location Type (FICM Codes)'!$A$7:$B$188,2,FALSE)","v":{"$error":"#N/A"}},null,null,null,null,null,{"$f":"VLOOKUP(G1903:G11901,'Location Type (FICM Codes)'!$A$7:$C$188,3,FALSE)","v":{"$error":"#N/A"}}]
[null,null,null,null,null,null,null,{"$f":"VLOOKUP($G$2:$G$50000,'Location Type (FICM Codes)'!$A$7:$B$188,2,FALSE)","v":{"$error":"#N/A"}},null,null,null,null,null,{"$f":"VLOOKUP(G1904:G11902,'Location Type (FICM Codes)'!$A$7:$C$188,3,FALSE)","v":{"$error":"#N/A"}}]
[null,null,null,null,null,null,null,{"$f":"VLOOKUP($G$2:$G$50000,'Location Type (FICM Codes)'!$A$7:$B$188,2,FALSE)","v":{"$error":"#N/A"}},null,null,null,null,null,{"$f":"VLOOKUP(G1905:G11903,'Location Type (FICM Codes)'!$A$7:$C$188,3,FALSE)","v":{"$error":"#N/A"}}]
[null,null,null,null,null,null,null,{"$f":"VLOOKUP($G$2:$G$50000,'Location Type (FICM Codes)'!$A$7:$B$188,2,FALSE)","v":{"$error":"#N/A"}},null,null,null,null,null,{"$f":"VLOOKUP(G1906:G11904,'Location Type (FICM Codes)'!$A$7:$C$188,3,FALSE)","v":{"$error":"#N/A"}}]
[null,null,null,null,null,null,null,{"$f":"VLOOKUP($G$2:$G$50000,'Location Type (FICM Codes)'!$A$7:$B$188,2,FALSE)","v":{"$error":"#N/A"}},null,null,null,null,null,{"$f":"VLOOKUP(G1907:G11905,'Location Type (FICM Codes)'!$A$7:$C$188,3,FALSE)","v":{"$error":"#N/A"}}]
[null,null,null,null,null,null,null,{"$f":"VLOOKUP($G$2:$G$50000,'Location Type (FICM Codes)'!$A$7:$B$188,2,FALSE)","v":{"$error":"#N/A"}},null,null,null,null,null,{"$f":"VLOOKUP(G1908:G11906,'Location Type (FICM Codes)'!$A$7:$C$188,3,FALSE)","v":{"$error":"#N/A"}}]
[null,null,null,null,null,null,null,{"$f":"VLOOKUP($G$2:$G$50000,'Location Type (FICM Codes)'!$A$7:$B$188,2,FALSE)","v":{"$error":"#N/A"}},null,null,null,null,null,{"$f":"VLOOKUP(G1909:G11907,'Location Type (FICM Codes)'!$A$7:$C$188,3,FALSE)","v":{"$error":"#N/A"}}]
[null,null,null,null,null,null,null,{"$f":"VLOOKUP($G$2:$G$50000,'Location Type (FICM Codes)'!$A$7:$B$188,2,FALSE)","v":{"$error":"#N/A"}},null,null,null,null,null,{"$f":"VLOOKUP(G1910:G11908,'Location Type (FICM Codes)'!$A$7:$C$188,3,FALSE)","v":{"$error":"#N/A"}}]
[null,null,null,null,null,null,null,{"$f":"VLOOKUP($G$2:$G$50000,'Location Type (FICM Codes)'!$A$7:$B$188,2,FALSE)","v":{"$error":"#N/A"}},null,null,null,null,null,{"$f":"VLOOKUP(G1911:G11909,'Location Type (FICM Codes)'!$A$7:$C$188,3,FALSE)","v":{"$error":"#N/A"}}]
[null,null,null,null,null,null,null,{"$f":"VLOOKUP($G$2:$G$50000,'Location Type (FICM Codes)'!$A$7:$B$188,2,FALSE)","v":{"$error":"#N/A"}},null,null,null,null,null,{"$f":"VLOOKUP(G1912:G11910,'Location Type (FICM Codes)'!$A$7:$C$188,3,FALSE)","v":{"$error":"#N/A"}}]
[null,null,null,null,null,null,null,{"$f":"VLOOKUP($G$2:$G$50000,'Location Type (FICM Codes)'!$A$7:$B$188,2,FALSE)","v":{"$error":"#N/A"}},null,null,null,null,null,{"$f":"VLOOKUP(G1913:G11911,'Location Type (FICM Codes)'!$A$7:$C$188,3,FALSE)","v":{"$error":"#N/A"}}]
[null,null,null,null,null,null,null,{"$f":"VLOOKUP($G$2:$G$50000,'Location Type (FICM Codes)'!$A$7:$B$188,2,FALSE)","v":{"$error":"#N/A"}},null,null,null,null,null,{"$f":"VLOOKUP(G1914:G11912,'Location Type (FICM Codes)'!$A$7:$C$188,3,FALSE)","v":{"$error":"#N/A"}}]
[null,null,null,null,null,null,null,{"$f":"VLOOKUP($G$2:$G$50000,'Location Type (FICM Codes)'!$A$7:$B$188,2,FALSE)","v":{"$error":"#N/A"}},null,null,null,null,null,{"$f":"VLOOKUP(G1915:G11913,'Location Type (FICM Codes)'!$A$7:$C$188,3,FALSE)","v":{"$error":"#N/A"}}]
[null,null,null,null,null,null,null,{"$f":"VLOOKUP($G$2:$G$50000,'Location Type (FICM Codes)'!$A$7:$B$188,2,FALSE)","v":{"$error":"#N/A"}},null,null,null,null,null,{"$f":"VLOOKUP(G1916:G11914,'Location Type (FICM Codes)'!$A$7:$C$188,3,FALSE)","v":{"$error":"#N/A"}}]
[null,null,null,null,null,null,null,{"$f":"VLOOKUP($G$2:$G$50000,'Location Type (FICM Codes)'!$A$7:$B$188,2,FALSE)","v":{"$error":"#N/A"}},null,null,null,null,null,{"$f":"VLOOKUP(G1917:G11915,'Location Type (FICM Codes)'!$A$7:$C$188,3,FALSE)","v":{"$error":"#N/A"}}]
[null,null,null,null,null,null,null,{"$f":"VLOOKUP($G$2:$G$50000,'Location Type (FICM Codes)'!$A$7:$B$188,2,FALSE)","v":{"$error":"#N/A"}},null,null,null,null,null,{"$f":"VLOOKUP(G1918:G11916,'Location Type (FICM Codes)'!$A$7:$C$188,3,FALSE)","v":{"$error":"#N/A"}}]
[null,null,null,null,null,null,null,{"$f":"VLOOKUP($G$2:$G$50000,'Location Type (FICM Codes)'!$A$7:$B$188,2,FALSE)","v":{"$error":"#N/A"}},null,null,null,null,null,{"$f":"VLOOKUP(G1919:G11917,'Location Type (FICM Codes)'!$A$7:$C$188,3,FALSE)","v":{"$error":"#N/A"}}]
[null,null,null,null,null,null,null,{"$f":"VLOOKUP($G$2:$G$50000,'Location Type (FICM Codes)'!$A$7:$B$188,2,FALSE)","v":{"$error":"#N/A"}},null,null,null,null,null,{"$f":"VLOOKUP(G1920:G11918,'Location Type (FICM Codes)'!$A$7:$C$188,3,FALSE)","v":{"$error":"#N/A"}}]
[null,null,null,null,null,null,null,{"$f":"VLOOKUP($G$2:$G$50000,'Location Type (FICM Codes)'!$A$7:$B$188,2,FALSE)","v":{"$error":"#N/A"}},null,null,null,null,null,{"$f":"VLOOKUP(G1921:G11919,'Location Type (FICM Codes)'!$A$7:$C$188,3,FALSE)","v":{"$error":"#N/A"}}]
[null,null,null,null,null,null,null,{"$f":"VLOOKUP($G$2:$G$50000,'Location Type (FICM Codes)'!$A$7:$B$188,2,FALSE)","v":{"$error":"#N/A"}},null,null,null,null,null,{"$f":"VLOOKUP(G1922:G11920,'Location Type (FICM Codes)'!$A$7:$C$188,3,FALSE)","v":{"$error":"#N/A"}}]
[null,null,null,null,null,null,null,{"$f":"VLOOKUP($G$2:$G$50000,'Location Type (FICM Codes)'!$A$7:$B$188,2,FALSE)","v":{"$error":"#N/A"}},null,null,null,null,null,{"$f":"VLOOKUP(G1923:G11921,'Location Type (FICM Codes)'!$A$7:$C$188,3,FALSE)","v":{"$error":"#N/A"}}]
[null,null,null,null,null,null,null,{"$f":"VLOOKUP($G$2:$G$50000,'Location Type (FICM Codes)'!$A$7:$B$188,2,FALSE)","v":{"$error":"#N/A"}},null,null,null,null,null,{"$f":"VLOOKUP(G1924:G11922,'Location Type (FICM Codes)'!$A$7:$C$188,3,FALSE)","v":{"$error":"#N/A"}}]
[null,null,null,null,null,null,null,{"$f":"VLOOKUP($G$2:$G$50000,'Location Type (FICM Codes)'!$A$7:$B$188,2,FALSE)","v":{"$error":"#N/A"}},null,null,null,null,null,{"$f":"VLOOKUP(G1925:G11923,'Location Type (FICM Codes)'!$A$7:$C$188,3,FALSE)","v":{"$error":"#N/A"}}]
[null,null,null,null,null,null,null,{"$f":"VLOOKUP($G$2:$G$50000,'Location Type (FICM Codes)'!$A$7:$B$188,2,FALSE)","v":{"$error":"#N/A"}},null,null,null,null,null,{"$f":"VLOOKUP(G1926:G11924,'Location Type (FICM Codes)'!$A$7:$C$188,3,FALSE)","v":{"$error":"#N/A"}}]
[null,null,null,null,null,null,null,{"$f":"VLOOKUP($G$2:$G$50000,'Location Type (FICM Codes)'!$A$7:$B$188,2,FALSE)","v":{"$error":"#N/A"}},null,null,null,null,null,{"$f":"VLOOKUP(G1927:G11925,'Location Type (FICM Codes)'!$A$7:$C$188,3,FALSE)","v":{"$error":"#N/A"}}]
[null,null,null,null,null,null,null,{"$f":"VLOOKUP($G$2:$G$50000,'Location Type (FICM Codes)'!$A$7:$B$188,2,FALSE)","v":{"$error":"#N/A"}},null,null,null,null,null,{"$f":"VLOOKUP(G1928:G11926,'Location Type (FICM Codes)'!$A$7:$C$188,3,FALSE)","v":{"$error":"#N/A"}}]
[null,null,null,null,null,null,null,{"$f":"VLOOKUP($G$2:$G$50000,'Location Type (FICM Codes)'!$A$7:$B$188,2,FALSE)","v":{"$error":"#N/A"}},null,null,null,null,null,{"$f":"VLOOKUP(G1929:G11927,'Location Type (FICM Codes)'!$A$7:$C$188,3,FALSE)","v":{"$error":"#N/A"}}]
[null,null,null,null,null,null,null,{"$f":"VLOOKUP($G$2:$G$50000,'Location Type (FICM Codes)'!$A$7:$B$188,2,FALSE)","v":{"$error":"#N/A"}},null,null,null,null,null,{"$f":"VLOOKUP(G1930:G11928,'Location Type (FICM Codes)'!$A$7:$C$188,3,FALSE)","v":{"$error":"#N/A"}}]
[null,null,null,null,null,null,null,{"$f":"VLOOKUP($G$2:$G$50000,'Location Type (FICM Codes)'!$A$7:$B$188,2,FALSE)","v":{"$error":"#N/A"}},null,null,null,null,null,{"$f":"VLOOKUP(G1931:G11929,'Location Type (FICM Codes)'!$A$7:$C$188,3,FALSE)","v":{"$error":"#N/A"}}]
[null,null,null,null,null,null,null,{"$f":"VLOOKUP($G$2:$G$50000,'Location Type (FICM Codes)'!$A$7:$B$188,2,FALSE)","v":{"$error":"#N/A"}},null,null,null,null,null,{"$f":"VLOOKUP(G1932:G11930,'Location Type (FICM Codes)'!$A$7:$C$188,3,FALSE)","v":{"$error":"#N/A"}}]
[null,null,null,null,null,null,null,{"$f":"VLOOKUP($G$2:$G$50000,'Location Type (FICM Codes)'!$A$7:$B$188,2,FALSE)","v":{"$error":"#N/A"}},null,null,null,null,null,{"$f":"VLOOKUP(G1933:G11931,'Location Type (FICM Codes)'!$A$7:$C$188,3,FALSE)","v":{"$error":"#N/A"}}]
[null,null,null,null,null,null,null,{"$f":"VLOOKUP($G$2:$G$50000,'Location Type (FICM Codes)'!$A$7:$B$188,2,FALSE)","v":{"$error":"#N/A"}},null,null,null,null,null,{"$f":"VLOOKUP(G1934:G11932,'Location Type (FICM Codes)'!$A$7:$C$188,3,FALSE)","v":{"$error":"#N/A"}}]
[null,null,null,null,null,null,null,{"$f":"VLOOKUP($G$2:$G$50000,'Location Type (FICM Codes)'!$A$7:$B$188,2,FALSE)","v":{"$error":"#N/A"}},null,null,null,null,null,{"$f":"VLOOKUP(G1935:G11933,'Location Type (FICM Codes)'!$A$7:$C$188,3,FALSE)","v":{"$error":"#N/A"}}]
[null,null,null,null,null,null,null,{"$f":"VLOOKUP($G$2:$G$50000,'Location Type (FICM Codes)'!$A$7:$B$188,2,FALSE)","v":{"$error":"#N/A"}},null,null,null,null,null,{"$f":"VLOOKUP(G1936:G11934,'Location Type (FICM Codes)'!$A$7:$C$188,3,FALSE)","v":{"$error":"#N/A"}}]
[null,null,null,null,null,null,null,{"$f":"VLOOKUP($G$2:$G$50000,'Location Type (FICM Codes)'!$A$7:$B$188,2,FALSE)","v":{"$error":"#N/A"}},null,null,null,null,null,{"$f":"VLOOKUP(G1937:G11935,'Location Type (FICM Codes)'!$A$7:$C$188,3,FALSE)","v":{"$error":"#N/A"}}]
[null,null,null,null,null,null,null,{"$f":"VLOOKUP($G$2:$G$50000,'Location Type (FICM Codes)'!$A$7:$B$188,2,FALSE)","v":{"$error":"#N/A"}},null,null,null,null,null,{"$f":"VLOOKUP(G1938:G11936,'Location Type (FICM Codes)'!$A$7:$C$188,3,FALSE)","v":{"$error":"#N/A"}}]
[null,null,null,null,null,null,null,{"$f":"VLOOKUP($G$2:$G$50000,'Location Type (FICM Codes)'!$A$7:$B$188,2,FALSE)","v":{"$error":"#N/A"}},null,null,null,null,null,{"$f":"VLOOKUP(G1939:G11937,'Location Type (FICM Codes)'!$A$7:$C$188,3,FALSE)","v":{"$error":"#N/A"}}]
[null,null,null,null,null,null,null,{"$f":"VLOOKUP($G$2:$G$50000,'Location Type (FICM Codes)'!$A$7:$B$188,2,FALSE)","v":{"$error":"#N/A"}},null,null,null,null,null,{"$f":"VLOOKUP(G1940:G11938,'Location Type (FICM Codes)'!$A$7:$C$188,3,FALSE)","v":{"$error":"#N/A"}}]
[null,null,null,null,null,null,null,{"$f":"VLOOKUP($G$2:$G$50000,'Location Type (FICM Codes)'!$A$7:$B$188,2,FALSE)","v":{"$error":"#N/A"}},null,null,null,null,null,{"$f":"VLOOKUP(G1941:G11939,'Location Type (FICM Codes)'!$A$7:$C$188,3,FALSE)","v":{"$error":"#N/A"}}]
[null,null,null,null,null,null,null,{"$f":"VLOOKUP($G$2:$G$50000,'Location Type (FICM Codes)'!$A$7:$B$188,2,FALSE)","v":{"$error":"#N/A"}},null,null,null,null,null,{"$f":"VLOOKUP(G1942:G11940,'Location Type (FICM Codes)'!$A$7:$C$188,3,FALSE)","v":{"$error":"#N/A"}}]
[null,null,null,null,null,null,null,{"$f":"VLOOKUP($G$2:$G$50000,'Location Type (FICM Codes)'!$A$7:$B$188,2,FALSE)","v":{"$error":"#N/A"}},null,null,null,null,null,{"$f":"VLOOKUP(G1943:G11941,'Location Type (FICM Codes)'!$A$7:$C$188,3,FALSE)","v":{"$error":"#N/A"}}]
[null,null,null,null,null,null,null,{"$f":"VLOOKUP($G$2:$G$50000,'Location Type (FICM Codes)'!$A$7:$B$188,2,FALSE)","v":{"$error":"#N/A"}},null,null,null,null,null,{"$f":"VLOOKUP(G1944:G11942,'Location Type (FICM Codes)'!$A$7:$C$188,3,FALSE)","v":{"$error":"#N/A"}}]
[null,null,null,null,null,null,null,{"$f":"VLOOKUP($G$2:$G$50000,'Location Type (FICM Codes)'!$A$7:$B$188,2,FALSE)","v":{"$error":"#N/A"}},null,null,null,null,null,{"$f":"VLOOKUP(G1945:G11943,'Location Type (FICM Codes)'!$A$7:$C$188,3,FALSE)","v":{"$error":"#N/A"}}]
[null,null,null,null,null,null,null,{"$f":"VLOOKUP($G$2:$G$50000,'Location Type (FICM Codes)'!$A$7:$B$188,2,FALSE)","v":{"$error":"#N/A"}},null,null,null,null,null,{"$f":"VLOOKUP(G1946:G11944,'Location Type (FICM Codes)'!$A$7:$C$188,3,FALSE)","v":{"$error":"#N/A"}}]
[null,null,null,null,null,null,null,{"$f":"VLOOKUP($G$2:$G$50000,'Location Type (FICM Codes)'!$A$7:$B$188,2,FALSE)","v":{"$error":"#N/A"}},null,null,null,null,null,{"$f":"VLOOKUP(G1947:G11945,'Location Type (FICM Codes)'!$A$7:$C$188,3,FALSE)","v":{"$error":"#N/A"}}]
[null,null,null,null,null,null,null,{"$f":"VLOOKUP($G$2:$G$50000,'Location Type (FICM Codes)'!$A$7:$B$188,2,FALSE)","v":{"$error":"#N/A"}},null,null,null,null,null,{"$f":"VLOOKUP(G1948:G11946,'Location Type (FICM Codes)'!$A$7:$C$188,3,FALSE)","v":{"$error":"#N/A"}}]
[null,null,null,null,null,null,null,{"$f":"VLOOKUP($G$2:$G$50000,'Location Type (FICM Codes)'!$A$7:$B$188,2,FALSE)","v":{"$error":"#N/A"}},null,null,null,null,null,{"$f":"VLOOKUP(G1949:G11947,'Location Type (FICM Codes)'!$A$7:$C$188,3,FALSE)","v":{"$error":"#N/A"}}]
[null,null,null,null,null,null,null,{"$f":"VLOOKUP($G$2:$G$50000,'Location Type (FICM Codes)'!$A$7:$B$188,2,FALSE)","v":{"$error":"#N/A"}},null,null,null,null,null,{"$f":"VLOOKUP(G1950:G11948,'Location Type (FICM Codes)'!$A$7:$C$188,3,FALSE)","v":{"$error":"#N/A"}}]
[null,null,null,null,null,null,null,{"$f":"VLOOKUP($G$2:$G$50000,'Location Type (FICM Codes)'!$A$7:$B$188,2,FALSE)","v":{"$error":"#N/A"}},null,null,null,null,null,{"$f":"VLOOKUP(G1951:G11949,'Location Type (FICM Codes)'!$A$7:$C$188,3,FALSE)","v":{"$error":"#N/A"}}]
[null,null,null,null,null,null,null,{"$f":"VLOOKUP($G$2:$G$50000,'Location Type (FICM Codes)'!$A$7:$B$188,2,FALSE)","v":{"$error":"#N/A"}},null,null,null,null,null,{"$f":"VLOOKUP(G1952:G11950,'Location Type (FICM Codes)'!$A$7:$C$188,3,FALSE)","v":{"$error":"#N/A"}}]
[null,null,null,null,null,null,null,{"$f":"VLOOKUP($G$2:$G$50000,'Location Type (FICM Codes)'!$A$7:$B$188,2,FALSE)","v":{"$error":"#N/A"}},null,null,null,null,null,{"$f":"VLOOKUP(G1953:G11951,'Location Type (FICM Codes)'!$A$7:$C$188,3,FALSE)","v":{"$error":"#N/A"}}]
[null,null,null,null,null,null,null,{"$f":"VLOOKUP($G$2:$G$50000,'Location Type (FICM Codes)'!$A$7:$B$188,2,FALSE)","v":{"$error":"#N/A"}},null,null,null,null,null,{"$f":"VLOOKUP(G1954:G11952,'Location Type (FICM Codes)'!$A$7:$C$188,3,FALSE)","v":{"$error":"#N/A"}}]
[null,null,null,null,null,null,null,{"$f":"VLOOKUP($G$2:$G$50000,'Location Type (FICM Codes)'!$A$7:$B$188,2,FALSE)","v":{"$error":"#N/A"}},null,null,null,null,null,{"$f":"VLOOKUP(G1955:G11953,'Location Type (FICM Codes)'!$A$7:$C$188,3,FALSE)","v":{"$error":"#N/A"}}]
[null,null,null,null,null,null,null,{"$f":"VLOOKUP($G$2:$G$50000,'Location Type (FICM Codes)'!$A$7:$B$188,2,FALSE)","v":{"$error":"#N/A"}},null,null,null,null,null,{"$f":"VLOOKUP(G1956:G11954,'Location Type (FICM Codes)'!$A$7:$C$188,3,FALSE)","v":{"$error":"#N/A"}}]
[null,null,null,null,null,null,null,{"$f":"VLOOKUP($G$2:$G$50000,'Location Type (FICM Codes)'!$A$7:$B$188,2,FALSE)","v":{"$error":"#N/A"}},null,null,null,null,null,{"$f":"VLOOKUP(G1957:G11955,'Location Type (FICM Codes)'!$A$7:$C$188,3,FALSE)","v":{"$error":"#N/A"}}]
[null,null,null,null,null,null,null,{"$f":"VLOOKUP($G$2:$G$50000,'Location Type (FICM Codes)'!$A$7:$B$188,2,FALSE)","v":{"$error":"#N/A"}},null,null,null,null,null,{"$f":"VLOOKUP(G1958:G11956,'Location Type (FICM Codes)'!$A$7:$C$188,3,FALSE)","v":{"$error":"#N/A"}}]
[null,null,null,null,null,null,null,{"$f":"VLOOKUP($G$2:$G$50000,'Location Type (FICM Codes)'!$A$7:$B$188,2,FALSE)","v":{"$error":"#N/A"}},null,null,null,null,null,{"$f":"VLOOKUP(G1959:G11957,'Location Type (FICM Codes)'!$A$7:$C$188,3,FALSE)","v":{"$error":"#N/A"}}]
[null,null,null,null,null,null,null,{"$f":"VLOOKUP($G$2:$G$50000,'Location Type (FICM Codes)'!$A$7:$B$188,2,FALSE)","v":{"$error":"#N/A"}},null,null,null,null,null,{"$f":"VLOOKUP(G1960:G11958,'Location Type (FICM Codes)'!$A$7:$C$188,3,FALSE)","v":{"$error":"#N/A"}}]
[null,null,null,null,null,null,null,{"$f":"VLOOKUP($G$2:$G$50000,'Location Type (FICM Codes)'!$A$7:$B$188,2,FALSE)","v":{"$error":"#N/A"}},null,null,null,null,null,{"$f":"VLOOKUP(G1961:G11959,'Location Type (FICM Codes)'!$A$7:$C$188,3,FALSE)","v":{"$error":"#N/A"}}]
[null,null,null,null,null,null,null,{"$f":"VLOOKUP($G$2:$G$50000,'Location Type (FICM Codes)'!$A$7:$B$188,2,FALSE)","v":{"$error":"#N/A"}},null,null,null,null,null,{"$f":"VLOOKUP(G1962:G11960,'Location Type (FICM Codes)'!$A$7:$C$188,3,FALSE)","v":{"$error":"#N/A"}}]
[null,null,null,null,null,null,null,{"$f":"VLOOKUP($G$2:$G$50000,'Location Type (FICM Codes)'!$A$7:$B$188,2,FALSE)","v":{"$error":"#N/A"}},null,null,null,null,null,{"$f":"VLOOKUP(G1963:G11961,'Location Type (FICM Codes)'!$A$7:$C$188,3,FALSE)","v":{"$error":"#N/A"}}]
[null,null,null,null,null,null,null,{"$f":"VLOOKUP($G$2:$G$50000,'Location Type (FICM Codes)'!$A$7:$B$188,2,FALSE)","v":{"$error":"#N/A"}},null,null,null,null,null,{"$f":"VLOOKUP(G1964:G11962,'Location Type (FICM Codes)'!$A$7:$C$188,3,FALSE)","v":{"$error":"#N/A"}}]
[null,null,null,null,null,null,null,{"$f":"VLOOKUP($G$2:$G$50000,'Location Type (FICM Codes)'!$A$7:$B$188,2,FALSE)","v":{"$error":"#N/A"}},null,null,null,null,null,{"$f":"VLOOKUP(G1965:G11963,'Location Type (FICM Codes)'!$A$7:$C$188,3,FALSE)","v":{"$error":"#N/A"}}]
[null,null,null,null,null,null,null,{"$f":"VLOOKUP($G$2:$G$50000,'Location Type (FICM Codes)'!$A$7:$B$188,2,FALSE)","v":{"$error":"#N/A"}},null,null,null,null,null,{"$f":"VLOOKUP(G1966:G11964,'Location Type (FICM Codes)'!$A$7:$C$188,3,FALSE)","v":{"$error":"#N/A"}}]
[null,null,null,null,null,null,null,{"$f":"VLOOKUP($G$2:$G$50000,'Location Type (FICM Codes)'!$A$7:$B$188,2,FALSE)","v":{"$error":"#N/A"}},null,null,null,null,null,{"$f":"VLOOKUP(G1967:G11965,'Location Type (FICM Codes)'!$A$7:$C$188,3,FALSE)","v":{"$error":"#N/A"}}]
[null,null,null,null,null,null,null,{"$f":"VLOOKUP($G$2:$G$50000,'Location Type (FICM Codes)'!$A$7:$B$188,2,FALSE)","v":{"$error":"#N/A"}},null,null,null,null,null,{"$f":"VLOOKUP(G1968:G11966,'Location Type (FICM Codes)'!$A$7:$C$188,3,FALSE)","v":{"$error":"#N/A"}}]
[null,null,null,null,null,null,null,{"$f":"VLOOKUP($G$2:$G$50000,'Location Type (FICM Codes)'!$A$7:$B$188,2,FALSE)","v":{"$error":"#N/A"}},null,null,null,null,null,{"$f":"VLOOKUP(G1969:G11967,'Location Type (FICM Codes)'!$A$7:$C$188,3,FALSE)","v":{"$error":"#N/A"}}]
[null,null,null,null,null,null,null,{"$f":"VLOOKUP($G$2:$G$50000,'Location Type (FICM Codes)'!$A$7:$B$188,2,FALSE)","v":{"$error":"#N/A"}},null,null,null,null,null,{"$f":"VLOOKUP(G1970:G11968,'Location Type (FICM Codes)'!$A$7:$C$188,3,FALSE)","v":{"$error":"#N/A"}}]
[null,null,null,null,null,null,null,{"$f":"VLOOKUP($G$2:$G$50000,'Location Type (FICM Codes)'!$A$7:$B$188,2,FALSE)","v":{"$error":"#N/A"}},null,null,null,null,null,{"$f":"VLOOKUP(G1971:G11969,'Location Type (FICM Codes)'!$A$7:$C$188,3,FALSE)","v":{"$error":"#N/A"}}]
[null,null,null,null,null,null,null,{"$f":"VLOOKUP($G$2:$G$50000,'Location Type (FICM Codes)'!$A$7:$B$188,2,FALSE)","v":{"$error":"#N/A"}},null,null,null,null,null,{"$f":"VLOOKUP(G1972:G11970,'Location Type (FICM Codes)'!$A$7:$C$188,3,FALSE)","v":{"$error":"#N/A"}}]
[null,null,null,null,null,null,null,{"$f":"VLOOKUP($G$2:$G$50000,'Location Type (FICM Codes)'!$A$7:$B$188,2,FALSE)","v":{"$error":"#N/A"}},null,null,null,null,null,{"$f":"VLOOKUP(G1973:G11971,'Location Type (FICM Codes)'!$A$7:$C$188,3,FALSE)","v":{"$error":"#N/A"}}]
[null,null,null,null,null,null,null,{"$f":"VLOOKUP($G$2:$G$50000,'Location Type (FICM Codes)'!$A$7:$B$188,2,FALSE)","v":{"$error":"#N/A"}},null,null,null,null,null,{"$f":"VLOOKUP(G1974:G11972,'Location Type (FICM Codes)'!$A$7:$C$188,3,FALSE)","v":{"$error":"#N/A"}}]
[null,null,null,null,null,null,null,{"$f":"VLOOKUP($G$2:$G$50000,'Location Type (FICM Codes)'!$A$7:$B$188,2,FALSE)","v":{"$error":"#N/A"}},null,null,null,null,null,{"$f":"VLOOKUP(G1975:G11973,'Location Type (FICM Codes)'!$A$7:$C$188,3,FALSE)","v":{"$error":"#N/A"}}]
[null,null,null,null,null,null,null,{"$f":"VLOOKUP($G$2:$G$50000,'Location Type (FICM Codes)'!$A$7:$B$188,2,FALSE)","v":{"$error":"#N/A"}},null,null,null,null,null,{"$f":"VLOOKUP(G1976:G11974,'Location Type (FICM Codes)'!$A$7:$C$188,3,FALSE)","v":{"$error":"#N/A"}}]
[null,null,null,null,null,null,null,{"$f":"VLOOKUP($G$2:$G$50000,'Location Type (FICM Codes)'!$A$7:$B$188,2,FALSE)","v":{"$error":"#N/A"}},null,null,null,null,null,{"$f":"VLOOKUP(G1977:G11975,'Location Type (FICM Codes)'!$A$7:$C$188,3,FALSE)","v":{"$error":"#N/A"}}]
[null,null,null,null,null,null,null,{"$f":"VLOOKUP($G$2:$G$50000,'Location Type (FICM Codes)'!$A$7:$B$188,2,FALSE)","v":{"$error":"#N/A"}},null,null,null,null,null,{"$f":"VLOOKUP(G1978:G11976,'Location Type (FICM Codes)'!$A$7:$C$188,3,FALSE)","v":{"$error":"#N/A"}}]
[null,null,null,null,null,null,null,{"$f":"VLOOKUP($G$2:$G$50000,'Location Type (FICM Codes)'!$A$7:$B$188,2,FALSE)","v":{"$error":"#N/A"}},null,null,null,null,null,{"$f":"VLOOKUP(G1979:G11977,'Location Type (FICM Codes)'!$A$7:$C$188,3,FALSE)","v":{"$error":"#N/A"}}]
[null,null,null,null,null,null,null,{"$f":"VLOOKUP($G$2:$G$50000,'Location Type (FICM Codes)'!$A$7:$B$188,2,FALSE)","v":{"$error":"#N/A"}},null,null,null,null,null,{"$f":"VLOOKUP(G1980:G11978,'Location Type (FICM Codes)'!$A$7:$C$188,3,FALSE)","v":{"$error":"#N/A"}}]
[null,null,null,null,null,null,null,{"$f":"VLOOKUP($G$2:$G$50000,'Location Type (FICM Codes)'!$A$7:$B$188,2,FALSE)","v":{"$error":"#N/A"}},null,null,null,null,null,{"$f":"VLOOKUP(G1981:G11979,'Location Type (FICM Codes)'!$A$7:$C$188,3,FALSE)","v":{"$error":"#N/A"}}]
[null,null,null,null,null,null,null,{"$f":"VLOOKUP($G$2:$G$50000,'Location Type (FICM Codes)'!$A$7:$B$188,2,FALSE)","v":{"$error":"#N/A"}},null,null,null,null,null,{"$f":"VLOOKUP(G1982:G11980,'Location Type (FICM Codes)'!$A$7:$C$188,3,FALSE)","v":{"$error":"#N/A"}}]
[null,null,null,null,null,null,null,{"$f":"VLOOKUP($G$2:$G$50000,'Location Type (FICM Codes)'!$A$7:$B$188,2,FALSE)","v":{"$error":"#N/A"}},null,null,null,null,null,{"$f":"VLOOKUP(G1983:G11981,'Location Type (FICM Codes)'!$A$7:$C$188,3,FALSE)","v":{"$error":"#N/A"}}]
[null,null,null,null,null,null,null,{"$f":"VLOOKUP($G$2:$G$50000,'Location Type (FICM Codes)'!$A$7:$B$188,2,FALSE)","v":{"$error":"#N/A"}},null,null,null,null,null,{"$f":"VLOOKUP(G1984:G11982,'Location Type (FICM Codes)'!$A$7:$C$188,3,FALSE)","v":{"$error":"#N/A"}}]
[null,null,null,null,null,null,null,{"$f":"VLOOKUP($G$2:$G$50000,'Location Type (FICM Codes)'!$A$7:$B$188,2,FALSE)","v":{"$error":"#N/A"}},null,null,null,null,null,{"$f":"VLOOKUP(G1985:G11983,'Location Type (FICM Codes)'!$A$7:$C$188,3,FALSE)","v":{"$error":"#N/A"}}]
[null,null,null,null,null,null,null,{"$f":"VLOOKUP($G$2:$G$50000,'Location Type (FICM Codes)'!$A$7:$B$188,2,FALSE)","v":{"$error":"#N/A"}},null,null,null,null,null,{"$f":"VLOOKUP(G1986:G11984,'Location Type (FICM Codes)'!$A$7:$C$188,3,FALSE)","v":{"$error":"#N/A"}}]
[null,null,null,null,null,null,null,{"$f":"VLOOKUP($G$2:$G$50000,'Location Type (FICM Codes)'!$A$7:$B$188,2,FALSE)","v":{"$error":"#N/A"}},null,null,null,null,null,{"$f":"VLOOKUP(G1987:G11985,'Location Type (FICM Codes)'!$A$7:$C$188,3,FALSE)","v":{"$error":"#N/A"}}]
[null,null,null,null,null,null,null,{"$f":"VLOOKUP($G$2:$G$50000,'Location Type (FICM Codes)'!$A$7:$B$188,2,FALSE)","v":{"$error":"#N/A"}},null,null,null,null,null,{"$f":"VLOOKUP(G1988:G11986,'Location Type (FICM Codes)'!$A$7:$C$188,3,FALSE)","v":{"$error":"#N/A"}}]
[null,null,null,null,null,null,null,{"$f":"VLOOKUP($G$2:$G$50000,'Location Type (FICM Codes)'!$A$7:$B$188,2,FALSE)","v":{"$error":"#N/A"}},null,null,null,null,null,{"$f":"VLOOKUP(G1989:G11987,'Location Type (FICM Codes)'!$A$7:$C$188,3,FALSE)","v":{"$error":"#N/A"}}]
[null,null,null,null,null,null,null,{"$f":"VLOOKUP($G$2:$G$50000,'Location Type (FICM Codes)'!$A$7:$B$188,2,FALSE)","v":{"$error":"#N/A"}},null,null,null,null,null,{"$f":"VLOOKUP(G1990:G11988,'Location Type (FICM Codes)'!$A$7:$C$188,3,FALSE)","v":{"$error":"#N/A"}}]
[null,null,null,null,null,null,null,{"$f":"VLOOKUP($G$2:$G$50000,'Location Type (FICM Codes)'!$A$7:$B$188,2,FALSE)","v":{"$error":"#N/A"}},null,null,null,null,null,{"$f":"VLOOKUP(G1991:G11989,'Location Type (FICM Codes)'!$A$7:$C$188,3,FALSE)","v":{"$error":"#N/A"}}]
[null,null,null,null,null,null,null,{"$f":"VLOOKUP($G$2:$G$50000,'Location Type (FICM Codes)'!$A$7:$B$188,2,FALSE)","v":{"$error":"#N/A"}},null,null,null,null,null,{"$f":"VLOOKUP(G1992:G11990,'Location Type (FICM Codes)'!$A$7:$C$188,3,FALSE)","v":{"$error":"#N/A"}}]
[null,null,null,null,null,null,null,{"$f":"VLOOKUP($G$2:$G$50000,'Location Type (FICM Codes)'!$A$7:$B$188,2,FALSE)","v":{"$error":"#N/A"}},null,null,null,null,null,{"$f":"VLOOKUP(G1993:G11991,'Location Type (FICM Codes)'!$A$7:$C$188,3,FALSE)","v":{"$error":"#N/A"}}]
[null,null,null,null,null,null,null,{"$f":"VLOOKUP($G$2:$G$50000,'Location Type (FICM Codes)'!$A$7:$B$188,2,FALSE)","v":{"$error":"#N/A"}},null,null,null,null,null,{"$f":"VLOOKUP(G1994:G11992,'Location Type (FICM Codes)'!$A$7:$C$188,3,FALSE)","v":{"$error":"#N/A"}}]
[null,null,null,null,null,null,null,{"$f":"VLOOKUP($G$2:$G$50000,'Location Type (FICM Codes)'!$A$7:$B$188,2,FALSE)","v":{"$error":"#N/A"}},null,null,null,null,null,{"$f":"VLOOKUP(G1995:G11993,'Location Type (FICM Codes)'!$A$7:$C$188,3,FALSE)","v":{"$error":"#N/A"}}]
[null,null,null,null,null,null,null,{"$f":"VLOOKUP($G$2:$G$50000,'Location Type (FICM Codes)'!$A$7:$B$188,2,FALSE)","v":{"$error":"#N/A"}},null,null,null,null,null,{"$f":"VLOOKUP(G1996:G11994,'Location Type (FICM Codes)'!$A$7:$C$188,3,FALSE)","v":{"$error":"#N/A"}}]
[null,null,null,null,null,null,null,{"$f":"VLOOKUP($G$2:$G$50000,'Location Type (FICM Codes)'!$A$7:$B$188,2,FALSE)","v":{"$error":"#N/A"}},null,null,null,null,null,{"$f":"VLOOKUP(G1997:G11995,'Location Type (FICM Codes)'!$A$7:$C$188,3,FALSE)","v":{"$error":"#N/A"}}]
[null,null,null,null,null,null,null,{"$f":"VLOOKUP($G$2:$G$50000,'Location Type (FICM Codes)'!$A$7:$B$188,2,FALSE)","v":{"$error":"#N/A"}},null,null,null,null,null,{"$f":"VLOOKUP(G1998:G11996,'Location Type (FICM Codes)'!$A$7:$C$188,3,FALSE)","v":{"$error":"#N/A"}}]
[null,null,null,null,null,null,null,{"$f":"VLOOKUP($G$2:$G$50000,'Location Type (FICM Codes)'!$A$7:$B$188,2,FALSE)","v":{"$error":"#N/A"}},null,null,null,null,null,{"$f":"VLOOKUP(G1999:G11997,'Location Type (FICM Codes)'!$A$7:$C$188,3,FALSE)","v":{"$error":"#N/A"}}]
[null,null,null,null,null,null,null,{"$f":"VLOOKUP($G$2:$G$50000,'Location Type (FICM Codes)'!$A$7:$B$188,2,FALSE)","v":{"$error":"#N/A"}},null,null,null,null,null,{"$f":"VLOOKUP(G2000:G11998,'Location Type (FICM Codes)'!$A$7:$C$188,3,FALSE)","v":{"$error":"#N/A"}}]
[null,null,null,null,null,null,null,{"$f":"VLOOKUP($G$2:$G$50000,'Location Type (FICM Codes)'!$A$7:$B$188,2,FALSE)","v":{"$error":"#N/A"}},null,null,null,null,null,{"$f":"VLOOKUP(G2001:G11999,'Location Type (FICM Codes)'!$A$7:$C$188,3,FALSE)","v":{"$error":"#N/A"}}]
[null,null,null,null,null,null,null,{"$f":"VLOOKUP($G$2:$G$50000,'Location Type (FICM Codes)'!$A$7:$B$188,2,FALSE)","v":{"$error":"#N/A"}},null,null,null,null,null,{"$f":"VLOOKUP(G2006:G12004,'Location Type (FICM Codes)'!$A$7:$C$188,3,FALSE)","v":{"$error":"#N/A"}}]
[null,null,null,null,null,null,null,{"$f":"VLOOKUP($G$2:$G$50000,'Location Type (FICM Codes)'!$A$7:$B$188,2,FALSE)","v":{"$error":"#N/A"}},null,null,null,null,null,{"$f":"VLOOKUP(G2011:G12009,'Location Type (FICM Codes)'!$A$7:$C$188,3,FALSE)","v":{"$error":"#N/A"}}]
[null,null,null,null,null,null,null,{"$f":"VLOOKUP($G$2:$G$50000,'Location Type (FICM Codes)'!$A$7:$B$188,2,FALSE)","v":{"$error":"#N/A"}},null,null,null,null,null,{"$f":"VLOOKUP(G2012:G12010,'Location Type (FICM Codes)'!$A$7:$C$188,3,FALSE)","v":{"$error":"#N/A"}}]
[null,null,null,null,null,null,null,{"$f":"VLOOKUP($G$2:$G$50000,'Location Type (FICM Codes)'!$A$7:$B$188,2,FALSE)","v":{"$error":"#N/A"}},null,null,null,null,null,{"$f":"VLOOKUP(G2018:G12016,'Location Type (FICM Codes)'!$A$7:$C$188,3,FALSE)","v":{"$error":"#N/A"}}]
[null,null,null,null,null,null,null,{"$f":"VLOOKUP($G$2:$G$50000,'Location Type (FICM Codes)'!$A$7:$B$188,2,FALSE)","v":{"$error":"#N/A"}},null,null,null,null,null,{"$f":"VLOOKUP(G2021:G12019,'Location Type (FICM Codes)'!$A$7:$C$188,3,FALSE)","v":{"$error":"#N/A"}}]
[null,null,null,null,null,null,null,{"$f":"VLOOKUP($G$2:$G$50000,'Location Type (FICM Codes)'!$A$7:$B$188,2,FALSE)","v":{"$error":"#N/A"}},null,null,null,null,null,{"$f":"VLOOKUP(G2026:G12024,'Location Type (FICM Codes)'!$A$7:$C$188,3,FALSE)","v":{"$error":"#N/A"}}]
[null,null,null,null,null,null,null,{"$f":"VLOOKUP($G$2:$G$50000,'Location Type (FICM Codes)'!$A$7:$B$188,2,FALSE)","v":{"$error":"#N/A"}},null,null,null,null,null,{"$f":"VLOOKUP(G2027:G12025,'Location Type (FICM Codes)'!$A$7:$C$188,3,FALSE)","v":{"$error":"#N/A"}}]
[null,null,null,null,null,null,null,{"$f":"VLOOKUP($G$2:$G$50000,'Location Type (FICM Codes)'!$A$7:$B$188,2,FALSE)","v":{"$error":"#N/A"}},null,null,null,null,null,{"$f":"VLOOKUP(G2032:G12030,'Location Type (FICM Codes)'!$A$7:$C$188,3,FALSE)","v":{"$error":"#N/A"}}]
[null,null,null,null,null,null,null,{"$f":"VLOOKUP($G$2:$G$50000,'Location Type (FICM Codes)'!$A$7:$B$188,2,FALSE)","v":{"$error":"#N/A"}},null,null,null,null,null,{"$f":"VLOOKUP(G2036:G12034,'Location Type (FICM Codes)'!$A$7:$C$188,3,FALSE)","v":{"$error":"#N/A"}}]
[null,null,null,null,null,null,null,{"$f":"VLOOKUP($G$2:$G$50000,'Location Type (FICM Codes)'!$A$7:$B$188,2,FALSE)","v":{"$error":"#N/A"}},null,null,null,null,null,{"$f":"VLOOKUP(G2041:G12039,'Location Type (FICM Codes)'!$A$7:$C$188,3,FALSE)","v":{"$error":"#N/A"}}]
[null,null,null,null,null,null,null,{"$f":"VLOOKUP($G$2:$G$50000,'Location Type (FICM Codes)'!$A$7:$B$188,2,FALSE)","v":{"$error":"#N/A"}},null,null,null,null,null,{"$f":"VLOOKUP(G2042:G12040,'Location Type (FICM Codes)'!$A$7:$C$188,3,FALSE)","v":{"$error":"#N/A"}}]
[null,null,null,null,null,null,null,{"$f":"VLOOKUP($G$2:$G$50000,'Location Type (FICM Codes)'!$A$7:$B$188,2,FALSE)","v":{"$error":"#N/A"}},null,null,null,null,null,{"$f":"VLOOKUP(G2048:G12046,'Location Type (FICM Codes)'!$A$7:$C$188,3,FALSE)","v":{"$error":"#N/A"}}]
[null,null,null,null,null,null,null,{"$f":"VLOOKUP($G$2:$G$50000,'Location Type (FICM Codes)'!$A$7:$B$188,2,FALSE)","v":{"$error":"#N/A"}},null,null,null,null,null,{"$f":"VLOOKUP(G2051:G12049,'Location Type (FICM Codes)'!$A$7:$C$188,3,FALSE)","v":{"$error":"#N/A"}}]
[null,null,null,null,null,null,null,{"$f":"VLOOKUP($G$2:$G$50000,'Location Type (FICM Codes)'!$A$7:$B$188,2,FALSE)","v":{"$error":"#N/A"}},null,null,null,null,null,{"$f":"VLOOKUP(G2056:G12054,'Location Type (FICM Codes)'!$A$7:$C$188,3,FALSE)","v":{"$error":"#N/A"}}]
[null,null,null,null,null,null,null,{"$f":"VLOOKUP($G$2:$G$50000,'Location Type (FICM Codes)'!$A$7:$B$188,2,FALSE)","v":{"$error":"#N/A"}},null,null,null,null,null,{"$f":"VLOOKUP(G2057:G12055,'Location Type (FICM Codes)'!$A$7:$C$188,3,FALSE)","v":{"$error":"#N/A"}}]
[null,null,null,null,null,null,null,{"$f":"VLOOKUP($G$2:$G$50000,'Location Type (FICM Codes)'!$A$7:$B$188,2,FALSE)","v":{"$error":"#N/A"}},null,null,null,null,null,{"$f":"VLOOKUP(G2062:G12060,'Location Type (FICM Codes)'!$A$7:$C$188,3,FALSE)","v":{"$error":"#N/A"}}]
[null,null,null,null,null,null,null,{"$f":"VLOOKUP($G$2:$G$50000,'Location Type (FICM Codes)'!$A$7:$B$188,2,FALSE)","v":{"$error":"#N/A"}},null,null,null,null,null,{"$f":"VLOOKUP(G2066:G12064,'Location Type (FICM Codes)'!$A$7:$C$188,3,FALSE)","v":{"$error":"#N/A"}}]
[null,null,null,null,null,null,null,{"$f":"VLOOKUP($G$2:$G$50000,'Location Type (FICM Codes)'!$A$7:$B$188,2,FALSE)","v":{"$error":"#N/A"}},null,null,null,null,null,{"$f":"VLOOKUP(G2071:G12069,'Location Type (FICM Codes)'!$A$7:$C$188,3,FALSE)","v":{"$error":"#N/A"}}]
[null,null,null,null,null,null,null,{"$f":"VLOOKUP($G$2:$G$50000,'Location Type (FICM Codes)'!$A$7:$B$188,2,FALSE)","v":{"$error":"#N/A"}},null,null,null,null,null,{"$f":"VLOOKUP(G2072:G12070,'Location Type (FICM Codes)'!$A$7:$C$188,3,FALSE)","v":{"$error":"#N/A"}}]
[null,null,null,null,null,null,null,{"$f":"VLOOKUP($G$2:$G$50000,'Location Type (FICM Codes)'!$A$7:$B$188,2,FALSE)","v":{"$error":"#N/A"}},null,null,null,null,null,{"$f":"VLOOKUP(G2078:G12076,'Location Type (FICM Codes)'!$A$7:$C$188,3,FALSE)","v":{"$error":"#N/A"}}]
[null,null,null,null,null,null,null,{"$f":"VLOOKUP($G$2:$G$50000,'Location Type (FICM Codes)'!$A$7:$B$188,2,FALSE)","v":{"$error":"#N/A"}},null,null,null,null,null,{"$f":"VLOOKUP(G2081:G12079,'Location Type (FICM Codes)'!$A$7:$C$188,3,FALSE)","v":{"$error":"#N/A"}}]
[null,null,null,null,null,null,null,{"$f":"VLOOKUP($G$2:$G$50000,'Location Type (FICM Codes)'!$A$7:$B$188,2,FALSE)","v":{"$error":"#N/A"}},null,null,null,null,null,{"$f":"VLOOKUP(G2086:G12084,'Location Type (FICM Codes)'!$A$7:$C$188,3,FALSE)","v":{"$error":"#N/A"}}]
[null,null,null,null,null,null,null,{"$f":"VLOOKUP($G$2:$G$50000,'Location Type (FICM Codes)'!$A$7:$B$188,2,FALSE)","v":{"$error":"#N/A"}},null,null,null,null,null,{"$f":"VLOOKUP(G2087:G12085,'Location Type (FICM Codes)'!$A$7:$C$188,3,FALSE)","v":{"$error":"#N/A"}}]
[null,null,null,null,null,null,null,{"$f":"VLOOKUP($G$2:$G$50000,'Location Type (FICM Codes)'!$A$7:$B$188,2,FALSE)","v":{"$error":"#N/A"}},null,null,null,null,null,{"$f":"VLOOKUP(G2092:G12090,'Location Type (FICM Codes)'!$A$7:$C$188,3,FALSE)","v":{"$error":"#N/A"}}]
[null,null,null,null,null,null,null,{"$f":"VLOOKUP($G$2:$G$50000,'Location Type (FICM Codes)'!$A$7:$B$188,2,FALSE)","v":{"$error":"#N/A"}},null,null,null,null,null,{"$f":"VLOOKUP(G2096:G12094,'Location Type (FICM Codes)'!$A$7:$C$188,3,FALSE)","v":{"$error":"#N/A"}}]
[null,null,null,null,null,null,null,{"$f":"VLOOKUP($G$2:$G$50000,'Location Type (FICM Codes)'!$A$7:$B$188,2,FALSE)","v":{"$error":"#N/A"}},null,null,null,null,null,{"$f":"VLOOKUP(G2101:G12099,'Location Type (FICM Codes)'!$A$7:$C$188,3,FALSE)","v":{"$error":"#N/A"}}]
[null,null,null,null,null,null,null,{"$f":"VLOOKUP($G$2:$G$50000,'Location Type (FICM Codes)'!$A$7:$B$188,2,FALSE)","v":{"$error":"#N/A"}},null,null,null,null,null,{"$f":"VLOOKUP(G2102:G12100,'Location Type (FICM Codes)'!$A$7:$C$188,3,FALSE)","v":{"$error":"#N/A"}}]
[null,null,null,null,null,null,null,{"$f":"VLOOKUP($G$2:$G$50000,'Location Type (FICM Codes)'!$A$7:$B$188,2,FALSE)","v":{"$error":"#N/A"}},null,null,null,null,null,{"$f":"VLOOKUP(G2108:G12106,'Location Type (FICM Codes)'!$A$7:$C$188,3,FALSE)","v":{"$error":"#N/A"}}]
[null,null,null,null,null,null,null,{"$f":"VLOOKUP($G$2:$G$50000,'Location Type (FICM Codes)'!$A$7:$B$188,2,FALSE)","v":{"$error":"#N/A"}},null,null,null,null,null,{"$f":"VLOOKUP(G2111:G12109,'Location Type (FICM Codes)'!$A$7:$C$188,3,FALSE)","v":{"$error":"#N/A"}}]
[null,null,null,null,null,null,null,{"$f":"VLOOKUP($G$2:$G$50000,'Location Type (FICM Codes)'!$A$7:$B$188,2,FALSE)","v":{"$error":"#N/A"}},null,null,null,null,null,{"$f":"VLOOKUP(G2116:G12114,'Location Type (FICM Codes)'!$A$7:$C$188,3,FALSE)","v":{"$error":"#N/A"}}]
[null,null,null,null,null,null,null,{"$f":"VLOOKUP($G$2:$G$50000,'Location Type (FICM Codes)'!$A$7:$B$188,2,FALSE)","v":{"$error":"#N/A"}},null,null,null,null,null,{"$f":"VLOOKUP(G2117:G12115,'Location Type (FICM Codes)'!$A$7:$C$188,3,FALSE)","v":{"$error":"#N/A"}}]
[null,null,null,null,null,null,null,{"$f":"VLOOKUP($G$2:$G$50000,'Location Type (FICM Codes)'!$A$7:$B$188,2,FALSE)","v":{"$error":"#N/A"}},null,null,null,null,null,{"$f":"VLOOKUP(G2122:G12120,'Location Type (FICM Codes)'!$A$7:$C$188,3,FALSE)","v":{"$error":"#N/A"}}]
[null,null,null,null,null,null,null,{"$f":"VLOOKUP($G$2:$G$50000,'Location Type (FICM Codes)'!$A$7:$B$188,2,FALSE)","v":{"$error":"#N/A"}},null,null,null,null,null,{"$f":"VLOOKUP(G2126:G12124,'Location Type (FICM Codes)'!$A$7:$C$188,3,FALSE)","v":{"$error":"#N/A"}}]
[null,null,null,null,null,null,null,{"$f":"VLOOKUP($G$2:$G$50000,'Location Type (FICM Codes)'!$A$7:$B$188,2,FALSE)","v":{"$error":"#N/A"}},null,null,null,null,null,{"$f":"VLOOKUP(G2131:G12129,'Location Type (FICM Codes)'!$A$7:$C$188,3,FALSE)","v":{"$error":"#N/A"}}]
[null,null,null,null,null,null,null,{"$f":"VLOOKUP($G$2:$G$50000,'Location Type (FICM Codes)'!$A$7:$B$188,2,FALSE)","v":{"$error":"#N/A"}},null,null,null,null,null,{"$f":"VLOOKUP(G2132:G12130,'Location Type (FICM Codes)'!$A$7:$C$188,3,FALSE)","v":{"$error":"#N/A"}}]
[null,null,null,null,null,null,null,{"$f":"VLOOKUP($G$2:$G$50000,'Location Type (FICM Codes)'!$A$7:$B$188,2,FALSE)","v":{"$error":"#N/A"}},null,null,null,null,null,{"$f":"VLOOKUP(G2138:G12136,'Location Type (FICM Codes)'!$A$7:$C$188,3,FALSE)","v":{"$error":"#N/A"}}]
[null,null,null,null,null,null,null,{"$f":"VLOOKUP($G$2:$G$50000,'Location Type (FICM Codes)'!$A$7:$B$188,2,FALSE)","v":{"$error":"#N/A"}},null,null,null,null,null,{"$f":"VLOOKUP(G2141:G12139,'Location Type (FICM Codes)'!$A$7:$C$188,3,FALSE)","v":{"$error":"#N/A"}}]
[null,null,null,null,null,null,null,{"$f":"VLOOKUP($G$2:$G$50000,'Location Type (FICM Codes)'!$A$7:$B$188,2,FALSE)","v":{"$error":"#N/A"}},null,null,null,null,null,{"$f":"VLOOKUP(G2146:G12144,'Location Type (FICM Codes)'!$A$7:$C$188,3,FALSE)","v":{"$error":"#N/A"}}]
[null,null,null,null,null,null,null,{"$f":"VLOOKUP($G$2:$G$50000,'Location Type (FICM Codes)'!$A$7:$B$188,2,FALSE)","v":{"$error":"#N/A"}},null,null,null,null,null,{"$f":"VLOOKUP(G2147:G12145,'Location Type (FICM Codes)'!$A$7:$C$188,3,FALSE)","v":{"$error":"#N/A"}}]
[null,null,null,null,null,null,null,{"$f":"VLOOKUP($G$2:$G$50000,'Location Type (FICM Codes)'!$A$7:$B$188,2,FALSE)","v":{"$error":"#N/A"}},null,null,null,null,null,{"$f":"VLOOKUP(G2152:G12150,'Location Type (FICM Codes)'!$A$7:$C$188,3,FALSE)","v":{"$error":"#N/A"}}]
[null,null,null,null,null,null,null,{"$f":"VLOOKUP($G$2:$G$50000,'Location Type (FICM Codes)'!$A$7:$B$188,2,FALSE)","v":{"$error":"#N/A"}},null,null,null,null,null,{"$f":"VLOOKUP(G2156:G12154,'Location Type (FICM Codes)'!$A$7:$C$188,3,FALSE)","v":{"$error":"#N/A"}}]
[null,null,null,null,null,null,null,{"$f":"VLOOKUP($G$2:$G$50000,'Location Type (FICM Codes)'!$A$7:$B$188,2,FALSE)","v":{"$error":"#N/A"}},null,null,null,null,null,{"$f":"VLOOKUP(G2161:G12159,'Location Type (FICM Codes)'!$A$7:$C$188,3,FALSE)","v":{"$error":"#N/A"}}]
[null,null,null,null,null,null,null,{"$f":"VLOOKUP($G$2:$G$50000,'Location Type (FICM Codes)'!$A$7:$B$188,2,FALSE)","v":{"$error":"#N/A"}},null,null,null,null,null,{"$f":"VLOOKUP(G2162:G12160,'Location Type (FICM Codes)'!$A$7:$C$188,3,FALSE)","v":{"$error":"#N/A"}}]
[null,null,null,null,null,null,null,{"$f":"VLOOKUP($G$2:$G$50000,'Location Type (FICM Codes)'!$A$7:$B$188,2,FALSE)","v":{"$error":"#N/A"}},null,null,null,null,null,{"$f":"VLOOKUP(G2168:G12166,'Location Type (FICM Codes)'!$A$7:$C$188,3,FALSE)","v":{"$error":"#N/A"}}]
[null,null,null,null,null,null,null,{"$f":"VLOOKUP($G$2:$G$50000,'Location Type (FICM Codes)'!$A$7:$B$188,2,FALSE)","v":{"$error":"#N/A"}},null,null,null,null,null,{"$f":"VLOOKUP(G2171:G12169,'Location Type (FICM Codes)'!$A$7:$C$188,3,FALSE)","v":{"$error":"#N/A"}}]
[null,null,null,null,null,null,null,{"$f":"VLOOKUP($G$2:$G$50000,'Location Type (FICM Codes)'!$A$7:$B$188,2,FALSE)","v":{"$error":"#N/A"}},null,null,null,null,null,{"$f":"VLOOKUP(G2176:G12174,'Location Type (FICM Codes)'!$A$7:$C$188,3,FALSE)","v":{"$error":"#N/A"}}]
[null,null,null,null,null,null,null,{"$f":"VLOOKUP($G$2:$G$50000,'Location Type (FICM Codes)'!$A$7:$B$188,2,FALSE)","v":{"$error":"#N/A"}},null,null,null,null,null,{"$f":"VLOOKUP(G2177:G12175,'Location Type (FICM Codes)'!$A$7:$C$188,3,FALSE)","v":{"$error":"#N/A"}}]
[null,null,null,null,null,null,null,{"$f":"VLOOKUP($G$2:$G$50000,'Location Type (FICM Codes)'!$A$7:$B$188,2,FALSE)","v":{"$error":"#N/A"}},null,null,null,null,null,{"$f":"VLOOKUP(G2182:G12180,'Location Type (FICM Codes)'!$A$7:$C$188,3,FALSE)","v":{"$error":"#N/A"}}]
[null,null,null,null,null,null,null,{"$f":"VLOOKUP($G$2:$G$50000,'Location Type (FICM Codes)'!$A$7:$B$188,2,FALSE)","v":{"$error":"#N/A"}},null,null,null,null,null,{"$f":"VLOOKUP(G2186:G12184,'Location Type (FICM Codes)'!$A$7:$C$188,3,FALSE)","v":{"$error":"#N/A"}}]
[null,null,null,null,null,null,null,{"$f":"VLOOKUP($G$2:$G$50000,'Location Type (FICM Codes)'!$A$7:$B$188,2,FALSE)","v":{"$error":"#N/A"}},null,null,null,null,null,{"$f":"VLOOKUP(G2191:G12189,'Location Type (FICM Codes)'!$A$7:$C$188,3,FALSE)","v":{"$error":"#N/A"}}]
[null,null,null,null,null,null,null,{"$f":"VLOOKUP($G$2:$G$50000,'Location Type (FICM Codes)'!$A$7:$B$188,2,FALSE)","v":{"$error":"#N/A"}},null,null,null,null,null,{"$f":"VLOOKUP(G2192:G12190,'Location Type (FICM Codes)'!$A$7:$C$188,3,FALSE)","v":{"$error":"#N/A"}}]
[null,null,null,null,null,null,null,{"$f":"VLOOKUP($G$2:$G$50000,'Location Type (FICM Codes)'!$A$7:$B$188,2,FALSE)","v":{"$error":"#N/A"}},null,null,null,null,null,{"$f":"VLOOKUP(G2198:G12196,'Location Type (FICM Codes)'!$A$7:$C$188,3,FALSE)","v":{"$error":"#N/A"}}]
[null,null,null,null,null,null,null,{"$f":"VLOOKUP($G$2:$G$50000,'Location Type (FICM Codes)'!$A$7:$B$188,2,FALSE)","v":{"$error":"#N/A"}},null,null,null,null,null,{"$f":"VLOOKUP(G2201:G12199,'Location Type (FICM Codes)'!$A$7:$C$188,3,FALSE)","v":{"$error":"#N/A"}}]
[null,null,null,null,null,null,null,{"$f":"VLOOKUP($G$2:$G$50000,'Location Type (FICM Codes)'!$A$7:$B$188,2,FALSE)","v":{"$error":"#N/A"}},null,null,null,null,null,{"$f":"VLOOKUP(G2206:G12204,'Location Type (FICM Codes)'!$A$7:$C$188,3,FALSE)","v":{"$error":"#N/A"}}]
[null,null,null,null,null,null,null,{"$f":"VLOOKUP($G$2:$G$50000,'Location Type (FICM Codes)'!$A$7:$B$188,2,FALSE)","v":{"$error":"#N/A"}},null,null,null,null,null,{"$f":"VLOOKUP(G2207:G12205,'Location Type (FICM Codes)'!$A$7:$C$188,3,FALSE)","v":{"$error":"#N/A"}}]
[null,null,null,null,null,null,null,{"$f":"VLOOKUP($G$2:$G$50000,'Location Type (FICM Codes)'!$A$7:$B$188,2,FALSE)","v":{"$error":"#N/A"}},null,null,null,null,null,{"$f":"VLOOKUP(G2212:G12210,'Location Type (FICM Codes)'!$A$7:$C$188,3,FALSE)","v":{"$error":"#N/A"}}]
[null,null,null,null,null,null,null,{"$f":"VLOOKUP($G$2:$G$50000,'Location Type (FICM Codes)'!$A$7:$B$188,2,FALSE)","v":{"$error":"#N/A"}},null,null,null,null,null,{"$f":"VLOOKUP(G2216:G12214,'Location Type (FICM Codes)'!$A$7:$C$188,3,FALSE)","v":{"$error":"#N/A"}}]
[null,null,null,null,null,null,null,{"$f":"VLOOKUP($G$2:$G$50000,'Location Type (FICM Codes)'!$A$7:$B$188,2,FALSE)","v":{"$error":"#N/A"}},null,null,null,null,null,{"$f":"VLOOKUP(G2221:G12219,'Location Type (FICM Codes)'!$A$7:$C$188,3,FALSE)","v":{"$error":"#N/A"}}]
[null,null,null,null,null,null,null,{"$f":"VLOOKUP($G$2:$G$50000,'Location Type (FICM Codes)'!$A$7:$B$188,2,FALSE)","v":{"$error":"#N/A"}},null,null,null,null,null,{"$f":"VLOOKUP(G2222:G12220,'Location Type (FICM Codes)'!$A$7:$C$188,3,FALSE)","v":{"$error":"#N/A"}}]
[null,null,null,null,null,null,null,{"$f":"VLOOKUP($G$2:$G$50000,'Location Type (FICM Codes)'!$A$7:$B$188,2,FALSE)","v":{"$error":"#N/A"}},null,null,null,null,null,{"$f":"VLOOKUP(G2228:G12226,'Location Type (FICM Codes)'!$A$7:$C$188,3,FALSE)","v":{"$error":"#N/A"}}]
[null,null,null,null,null,null,null,{"$f":"VLOOKUP($G$2:$G$50000,'Location Type (FICM Codes)'!$A$7:$B$188,2,FALSE)","v":{"$error":"#N/A"}},null,null,null,null,null,{"$f":"VLOOKUP(G2231:G12229,'Location Type (FICM Codes)'!$A$7:$C$188,3,FALSE)","v":{"$error":"#N/A"}}]
[null,null,null,null,null,null,null,{"$f":"VLOOKUP($G$2:$G$50000,'Location Type (FICM Codes)'!$A$7:$B$188,2,FALSE)","v":{"$error":"#N/A"}},null,null,null,null,null,{"$f":"VLOOKUP(G2236:G12234,'Location Type (FICM Codes)'!$A$7:$C$188,3,FALSE)","v":{"$error":"#N/A"}}]
[null,null,null,null,null,null,null,{"$f":"VLOOKUP($G$2:$G$50000,'Location Type (FICM Codes)'!$A$7:$B$188,2,FALSE)","v":{"$error":"#N/A"}},null,null,null,null,null,{"$f":"VLOOKUP(G2237:G12235,'Location Type (FICM Codes)'!$A$7:$C$188,3,FALSE)","v":{"$error":"#N/A"}}]
[null,null,null,null,null,null,null,{"$f":"VLOOKUP($G$2:$G$50000,'Location Type (FICM Codes)'!$A$7:$B$188,2,FALSE)","v":{"$error":"#N/A"}},null,null,null,null,null,{"$f":"VLOOKUP(G2242:G12240,'Location Type (FICM Codes)'!$A$7:$C$188,3,FALSE)","v":{"$error":"#N/A"}}]
[null,null,null,null,null,null,null,{"$f":"VLOOKUP($G$2:$G$50000,'Location Type (FICM Codes)'!$A$7:$B$188,2,FALSE)","v":{"$error":"#N/A"}},null,null,null,null,null,{"$f":"VLOOKUP(G2246:G12244,'Location Type (FICM Codes)'!$A$7:$C$188,3,FALSE)","v":{"$error":"#N/A"}}]
[null,null,null,null,null,null,null,{"$f":"VLOOKUP($G$2:$G$50000,'Location Type (FICM Codes)'!$A$7:$B$188,2,FALSE)","v":{"$error":"#N/A"}},null,null,null,null,null,{"$f":"VLOOKUP(G2251:G12249,'Location Type (FICM Codes)'!$A$7:$C$188,3,FALSE)","v":{"$error":"#N/A"}}]
[null,null,null,null,null,null,null,{"$f":"VLOOKUP($G$2:$G$50000,'Location Type (FICM Codes)'!$A$7:$B$188,2,FALSE)","v":{"$error":"#N/A"}},null,null,null,null,null,{"$f":"VLOOKUP(G2252:G12250,'Location Type (FICM Codes)'!$A$7:$C$188,3,FALSE)","v":{"$error":"#N/A"}}]
[null,null,null,null,null,null,null,{"$f":"VLOOKUP($G$2:$G$50000,'Location Type (FICM Codes)'!$A$7:$B$188,2,FALSE)","v":{"$error":"#N/A"}},null,null,null,null,null,{"$f":"VLOOKUP(G2258:G12256,'Location Type (FICM Codes)'!$A$7:$C$188,3,FALSE)","v":{"$error":"#N/A"}}]
[null,null,null,null,null,null,null,{"$f":"VLOOKUP($G$2:$G$50000,'Location Type (FICM Codes)'!$A$7:$B$188,2,FALSE)","v":{"$error":"#N/A"}},null,null,null,null,null,{"$f":"VLOOKUP(G2261:G12259,'Location Type (FICM Codes)'!$A$7:$C$188,3,FALSE)","v":{"$error":"#N/A"}}]
[null,null,null,null,null,null,null,{"$f":"VLOOKUP($G$2:$G$50000,'Location Type (FICM Codes)'!$A$7:$B$188,2,FALSE)","v":{"$error":"#N/A"}},null,null,null,null,null,{"$f":"VLOOKUP(G2266:G12264,'Location Type (FICM Codes)'!$A$7:$C$188,3,FALSE)","v":{"$error":"#N/A"}}]
[null,null,null,null,null,null,null,{"$f":"VLOOKUP($G$2:$G$50000,'Location Type (FICM Codes)'!$A$7:$B$188,2,FALSE)","v":{"$error":"#N/A"}},null,null,null,null,null,{"$f":"VLOOKUP(G2267:G12265,'Location Type (FICM Codes)'!$A$7:$C$188,3,FALSE)","v":{"$error":"#N/A"}}]
[null,null,null,null,null,null,null,{"$f":"VLOOKUP($G$2:$G$50000,'Location Type (FICM Codes)'!$A$7:$B$188,2,FALSE)","v":{"$error":"#N/A"}},null,null,null,null,null,{"$f":"VLOOKUP(G2272:G12270,'Location Type (FICM Codes)'!$A$7:$C$188,3,FALSE)","v":{"$error":"#N/A"}}]
[null,null,null,null,null,null,null,{"$f":"VLOOKUP($G$2:$G$50000,'Location Type (FICM Codes)'!$A$7:$B$188,2,FALSE)","v":{"$error":"#N/A"}},null,null,null,null,null,{"$f":"VLOOKUP(G2276:G12274,'Location Type (FICM Codes)'!$A$7:$C$188,3,FALSE)","v":{"$error":"#N/A"}}]
[null,null,null,null,null,null,null,{"$f":"VLOOKUP($G$2:$G$50000,'Location Type (FICM Codes)'!$A$7:$B$188,2,FALSE)","v":{"$error":"#N/A"}},null,null,null,null,null,{"$f":"VLOOKUP(G2281:G12279,'Location Type (FICM Codes)'!$A$7:$C$188,3,FALSE)","v":{"$error":"#N/A"}}]
[null,null,null,null,null,null,null,{"$f":"VLOOKUP($G$2:$G$50000,'Location Type (FICM Codes)'!$A$7:$B$188,2,FALSE)","v":{"$error":"#N/A"}},null,null,null,null,null,{"$f":"VLOOKUP(G2282:G12280,'Location Type (FICM Codes)'!$A$7:$C$188,3,FALSE)","v":{"$error":"#N/A"}}]
[null,null,null,null,null,null,null,{"$f":"VLOOKUP($G$2:$G$50000,'Location Type (FICM Codes)'!$A$7:$B$188,2,FALSE)","v":{"$error":"#N/A"}},null,null,null,null,null,{"$f":"VLOOKUP(G2286:G12284,'Location Type (FICM Codes)'!$A$7:$C$188,3,FALSE)","v":{"$error":"#N/A"}}]
[null,null,null,null,null,null,null,{"$f":"VLOOKUP($G$2:$G$50000,'Location Type (FICM Codes)'!$A$7:$B$188,2,FALSE)","v":{"$error":"#N/A"}},null,null,null,null,null,{"$f":"VLOOKUP(G2291:G12289,'Location Type (FICM Codes)'!$A$7:$C$188,3,FALSE)","v":{"$error":"#N/A"}}]
[null,null,null,null,null,null,null,{"$f":"VLOOKUP($G$2:$G$50000,'Location Type (FICM Codes)'!$A$7:$B$188,2,FALSE)","v":{"$error":"#N/A"}},null,null,null,null,null,{"$f":"VLOOKUP(G2296:G12294,'Location Type (FICM Codes)'!$A$7:$C$188,3,FALSE)","v":{"$error":"#N/A"}}]
[null,null,null,null,null,null,null,{"$f":"VLOOKUP($G$2:$G$50000,'Location Type (FICM Codes)'!$A$7:$B$188,2,FALSE)","v":{"$error":"#N/A"}},null,null,null,null,null,{"$f":"VLOOKUP(G2297:G12295,'Location Type (FICM Codes)'!$A$7:$C$188,3,FALSE)","v":{"$error":"#N/A"}}]
[null,null,null,null,null,null,null,{"$f":"VLOOKUP($G$2:$G$50000,'Location Type (FICM Codes)'!$A$7:$B$188,2,FALSE)","v":{"$error":"#N/A"}},null,null,null,null,null,{"$f":"VLOOKUP(G2302:G12300,'Location Type (FICM Codes)'!$A$7:$C$188,3,FALSE)","v":{"$error":"#N/A"}}]
[null,null,null,null,null,null,null,{"$f":"VLOOKUP($G$2:$G$50000,'Location Type (FICM Codes)'!$A$7:$B$188,2,FALSE)","v":{"$error":"#N/A"}},null,null,null,null,null,{"$f":"VLOOKUP(G2306:G12304,'Location Type (FICM Codes)'!$A$7:$C$188,3,FALSE)","v":{"$error":"#N/A"}}]
[null,null,null,null,null,null,null,{"$f":"VLOOKUP($G$2:$G$50000,'Location Type (FICM Codes)'!$A$7:$B$188,2,FALSE)","v":{"$error":"#N/A"}},null,null,null,null,null,{"$f":"VLOOKUP(G2311:G12309,'Location Type (FICM Codes)'!$A$7:$C$188,3,FALSE)","v":{"$error":"#N/A"}}]
[null,null,null,null,null,null,null,{"$f":"VLOOKUP($G$2:$G$50000,'Location Type (FICM Codes)'!$A$7:$B$188,2,FALSE)","v":{"$error":"#N/A"}},null,null,null,null,null,{"$f":"VLOOKUP(G2312:G12310,'Location Type (FICM Codes)'!$A$7:$C$188,3,FALSE)","v":{"$error":"#N/A"}}]
[null,null,null,null,null,null,null,{"$f":"VLOOKUP($G$2:$G$50000,'Location Type (FICM Codes)'!$A$7:$B$188,2,FALSE)","v":{"$error":"#N/A"}},null,null,null,null,null,{"$f":"VLOOKUP(G2316:G12314,'Location Type (FICM Codes)'!$A$7:$C$188,3,FALSE)","v":{"$error":"#N/A"}}]
[null,null,null,null,null,null,null,{"$f":"VLOOKUP($G$2:$G$50000,'Location Type (FICM Codes)'!$A$7:$B$188,2,FALSE)","v":{"$error":"#N/A"}},null,null,null,null,null,{"$f":"VLOOKUP(G2321:G12319,'Location Type (FICM Codes)'!$A$7:$C$188,3,FALSE)","v":{"$error":"#N/A"}}]
[null,null,null,null,null,null,null,{"$f":"VLOOKUP($G$2:$G$50000,'Location Type (FICM Codes)'!$A$7:$B$188,2,FALSE)","v":{"$error":"#N/A"}},null,null,null,null,null,{"$f":"VLOOKUP(G2326:G12324,'Location Type (FICM Codes)'!$A$7:$C$188,3,FALSE)","v":{"$error":"#N/A"}}]
[null,null,null,null,null,null,null,{"$f":"VLOOKUP($G$2:$G$50000,'Location Type (FICM Codes)'!$A$7:$B$188,2,FALSE)","v":{"$error":"#N/A"}},null,null,null,null,null,{"$f":"VLOOKUP(G2327:G12325,'Location Type (FICM Codes)'!$A$7:$C$188,3,FALSE)","v":{"$error":"#N/A"}}]
[null,null,null,null,null,null,null,{"$f":"VLOOKUP($G$2:$G$50000,'Location Type (FICM Codes)'!$A$7:$B$188,2,FALSE)","v":{"$error":"#N/A"}},null,null,null,null,null,{"$f":"VLOOKUP(G2332:G12330,'Location Type (FICM Codes)'!$A$7:$C$188,3,FALSE)","v":{"$error":"#N/A"}}]
[null,null,null,null,null,null,null,{"$f":"VLOOKUP($G$2:$G$50000,'Location Type (FICM Codes)'!$A$7:$B$188,2,FALSE)","v":{"$error":"#N/A"}},null,null,null,null,null,{"$f":"VLOOKUP(G2336:G12334,'Location Type (FICM Codes)'!$A$7:$C$188,3,FALSE)","v":{"$error":"#N/A"}}]
[null,null,null,null,null,null,null,{"$f":"VLOOKUP($G$2:$G$50000,'Location Type (FICM Codes)'!$A$7:$B$188,2,FALSE)","v":{"$error":"#N/A"}},null,null,null,null,null,{"$f":"VLOOKUP(G2341:G12339,'Location Type (FICM Codes)'!$A$7:$C$188,3,FALSE)","v":{"$error":"#N/A"}}]
[null,null,null,null,null,null,null,{"$f":"VLOOKUP($G$2:$G$50000,'Location Type (FICM Codes)'!$A$7:$B$188,2,FALSE)","v":{"$error":"#N/A"}},null,null,null,null,null,{"$f":"VLOOKUP(G2342:G12340,'Location Type (FICM Codes)'!$A$7:$C$188,3,FALSE)","v":{"$error":"#N/A"}}]
[null,null,null,null,null,null,null,{"$f":"VLOOKUP($G$2:$G$50000,'Location Type (FICM Codes)'!$A$7:$B$188,2,FALSE)","v":{"$error":"#N/A"}},null,null,null,null,null,{"$f":"VLOOKUP(G2346:G12344,'Location Type (FICM Codes)'!$A$7:$C$188,3,FALSE)","v":{"$error":"#N/A"}}]
[null,null,null,null,null,null,null,{"$f":"VLOOKUP($G$2:$G$50000,'Location Type (FICM Codes)'!$A$7:$B$188,2,FALSE)","v":{"$error":"#N/A"}},null,null,null,null,null,{"$f":"VLOOKUP(G2351:G12349,'Location Type (FICM Codes)'!$A$7:$C$188,3,FALSE)","v":{"$error":"#N/A"}}]
[null,null,null,null,null,null,null,{"$f":"VLOOKUP($G$2:$G$50000,'Location Type (FICM Codes)'!$A$7:$B$188,2,FALSE)","v":{"$error":"#N/A"}},null,null,null,null,null,{"$f":"VLOOKUP(G2356:G12354,'Location Type (FICM Codes)'!$A$7:$C$188,3,FALSE)","v":{"$error":"#N/A"}}]
[null,null,null,null,null,null,null,{"$f":"VLOOKUP($G$2:$G$50000,'Location Type (FICM Codes)'!$A$7:$B$188,2,FALSE)","v":{"$error":"#N/A"}},null,null,null,null,null,{"$f":"VLOOKUP(G2357:G12355,'Location Type (FICM Codes)'!$A$7:$C$188,3,FALSE)","v":{"$error":"#N/A"}}]
[null,null,null,null,null,null,null,{"$f":"VLOOKUP($G$2:$G$50000,'Location Type (FICM Codes)'!$A$7:$B$188,2,FALSE)","v":{"$error":"#N/A"}},null,null,null,null,null,{"$f":"VLOOKUP(G2362:G12360,'Location Type (FICM Codes)'!$A$7:$C$188,3,FALSE)","v":{"$error":"#N/A"}}]
[null,null,null,null,null,null,null,{"$f":"VLOOKUP($G$2:$G$50000,'Location Type (FICM Codes)'!$A$7:$B$188,2,FALSE)","v":{"$error":"#N/A"}},null,null,null,null,null,{"$f":"VLOOKUP(G2366:G12364,'Location Type (FICM Codes)'!$A$7:$C$188,3,FALSE)","v":{"$error":"#N/A"}}]
[null,null,null,null,null,null,null,{"$f":"VLOOKUP($G$2:$G$50000,'Location Type (FICM Codes)'!$A$7:$B$188,2,FALSE)","v":{"$error":"#N/A"}},null,null,null,null,null,{"$f":"VLOOKUP(G2371:G12369,'Location Type (FICM Codes)'!$A$7:$C$188,3,FALSE)","v":{"$error":"#N/A"}}]
[null,null,null,null,null,null,null,{"$f":"VLOOKUP($G$2:$G$50000,'Location Type (FICM Codes)'!$A$7:$B$188,2,FALSE)","v":{"$error":"#N/A"}},null,null,null,null,null,{"$f":"VLOOKUP(G2372:G12370,'Location Type (FICM Codes)'!$A$7:$C$188,3,FALSE)","v":{"$error":"#N/A"}}]
[null,null,null,null,null,null,null,{"$f":"VLOOKUP($G$2:$G$50000,'Location Type (FICM Codes)'!$A$7:$B$188,2,FALSE)","v":{"$error":"#N/A"}},null,null,null,null,null,{"$f":"VLOOKUP(G2376:G12374,'Location Type (FICM Codes)'!$A$7:$C$188,3,FALSE)","v":{"$error":"#N/A"}}]
[null,null,null,null,null,null,null,{"$f":"VLOOKUP($G$2:$G$50000,'Location Type (FICM Codes)'!$A$7:$B$188,2,FALSE)","v":{"$error":"#N/A"}},null,null,null,null,null,{"$f":"VLOOKUP(G2381:G12379,'Location Type (FICM Codes)'!$A$7:$C$188,3,FALSE)","v":{"$error":"#N/A"}}]
[null,null,null,null,null,null,null,{"$f":"VLOOKUP($G$2:$G$50000,'Location Type (FICM Codes)'!$A$7:$B$188,2,FALSE)","v":{"$error":"#N/A"}},null,null,null,null,null,{"$f":"VLOOKUP(G2386:G12384,'Location Type (FICM Codes)'!$A$7:$C$188,3,FALSE)","v":{"$error":"#N/A"}}]
[null,null,null,null,null,null,null,{"$f":"VLOOKUP($G$2:$G$50000,'Location Type (FICM Codes)'!$A$7:$B$188,2,FALSE)","v":{"$error":"#N/A"}},null,null,null,null,null,{"$f":"VLOOKUP(G2387:G12385,'Location Type (FICM Codes)'!$A$7:$C$188,3,FALSE)","v":{"$error":"#N/A"}}]
[null,null,null,null,null,null,null,{"$f":"VLOOKUP($G$2:$G$50000,'Location Type (FICM Codes)'!$A$7:$B$188,2,FALSE)","v":{"$error":"#N/A"}},null,null,null,null,null,{"$f":"VLOOKUP(G2392:G12390,'Location Type (FICM Codes)'!$A$7:$C$188,3,FALSE)","v":{"$error":"#N/A"}}]
[null,null,null,null,null,null,null,{"$f":"VLOOKUP($G$2:$G$50000,'Location Type (FICM Codes)'!$A$7:$B$188,2,FALSE)","v":{"$error":"#N/A"}},null,null,null,null,null,{"$f":"VLOOKUP(G2396:G12394,'Location Type (FICM Codes)'!$A$7:$C$188,3,FALSE)","v":{"$error":"#N/A"}}]
[null,null,null,null,null,null,null,{"$f":"VLOOKUP($G$2:$G$50000,'Location Type (FICM Codes)'!$A$7:$B$188,2,FALSE)","v":{"$error":"#N/A"}},null,null,null,null,null,{"$f":"VLOOKUP(G2401:G12399,'Location Type (FICM Codes)'!$A$7:$C$188,3,FALSE)","v":{"$error":"#N/A"}}]
[null,null,null,null,null,null,null,{"$f":"VLOOKUP($G$2:$G$50000,'Location Type (FICM Codes)'!$A$7:$B$188,2,FALSE)","v":{"$error":"#N/A"}},null,null,null,null,null,{"$f":"VLOOKUP(G2402:G12400,'Location Type (FICM Codes)'!$A$7:$C$188,3,FALSE)","v":{"$error":"#N/A"}}]
[null,null,null,null,null,null,null,{"$f":"VLOOKUP($G$2:$G$50000,'Location Type (FICM Codes)'!$A$7:$B$188,2,FALSE)","v":{"$error":"#N/A"}},null,null,null,null,null,{"$f":"VLOOKUP(G2406:G12404,'Location Type (FICM Codes)'!$A$7:$C$188,3,FALSE)","v":{"$error":"#N/A"}}]
[null,null,null,null,null,null,null,{"$f":"VLOOKUP($G$2:$G$50000,'Location Type (FICM Codes)'!$A$7:$B$188,2,FALSE)","v":{"$error":"#N/A"}},null,null,null,null,null,{"$f":"VLOOKUP(G2411:G12409,'Location Type (FICM Codes)'!$A$7:$C$188,3,FALSE)","v":{"$error":"#N/A"}}]
[null,null,null,null,null,null,null,{"$f":"VLOOKUP($G$2:$G$50000,'Location Type (FICM Codes)'!$A$7:$B$188,2,FALSE)","v":{"$error":"#N/A"}},null,null,null,null,null,{"$f":"VLOOKUP(G2416:G12414,'Location Type (FICM Codes)'!$A$7:$C$188,3,FALSE)","v":{"$error":"#N/A"}}]
[null,null,null,null,null,null,null,{"$f":"VLOOKUP($G$2:$G$50000,'Location Type (FICM Codes)'!$A$7:$B$188,2,FALSE)","v":{"$error":"#N/A"}},null,null,null,null,null,{"$f":"VLOOKUP(G2417:G12415,'Location Type (FICM Codes)'!$A$7:$C$188,3,FALSE)","v":{"$error":"#N/A"}}]
[null,null,null,null,null,null,null,{"$f":"VLOOKUP($G$2:$G$50000,'Location Type (FICM Codes)'!$A$7:$B$188,2,FALSE)","v":{"$error":"#N/A"}},null,null,null,null,null,{"$f":"VLOOKUP(G2422:G12420,'Location Type (FICM Codes)'!$A$7:$C$188,3,FALSE)","v":{"$error":"#N/A"}}]
[null,null,null,null,null,null,null,{"$f":"VLOOKUP($G$2:$G$50000,'Location Type (FICM Codes)'!$A$7:$B$188,2,FALSE)","v":{"$error":"#N/A"}},null,null,null,null,null,{"$f":"VLOOKUP(G2426:G12424,'Location Type (FICM Codes)'!$A$7:$C$188,3,FALSE)","v":{"$error":"#N/A"}}]
[null,null,null,null,null,null,null,{"$f":"VLOOKUP($G$2:$G$50000,'Location Type (FICM Codes)'!$A$7:$B$188,2,FALSE)","v":{"$error":"#N/A"}},null,null,null,null,null,{"$f":"VLOOKUP(G2431:G12429,'Location Type (FICM Codes)'!$A$7:$C$188,3,FALSE)","v":{"$error":"#N/A"}}]
[null,null,null,null,null,null,null,{"$f":"VLOOKUP($G$2:$G$50000,'Location Type (FICM Codes)'!$A$7:$B$188,2,FALSE)","v":{"$error":"#N/A"}},null,null,null,null,null,{"$f":"VLOOKUP(G2432:G12430,'Location Type (FICM Codes)'!$A$7:$C$188,3,FALSE)","v":{"$error":"#N/A"}}]
[null,null,null,null,null,null,null,{"$f":"VLOOKUP($G$2:$G$50000,'Location Type (FICM Codes)'!$A$7:$B$188,2,FALSE)","v":{"$error":"#N/A"}},null,null,null,null,null,{"$f":"VLOOKUP(G2436:G12434,'Location Type (FICM Codes)'!$A$7:$C$188,3,FALSE)","v":{"$error":"#N/A"}}]
[null,null,null,null,null,null,null,{"$f":"VLOOKUP($G$2:$G$50000,'Location Type (FICM Codes)'!$A$7:$B$188,2,FALSE)","v":{"$error":"#N/A"}},null,null,null,null,null,{"$f":"VLOOKUP(G2441:G12439,'Location Type (FICM Codes)'!$A$7:$C$188,3,FALSE)","v":{"$error":"#N/A"}}]
[null,null,null,null,null,null,null,{"$f":"VLOOKUP($G$2:$G$50000,'Location Type (FICM Codes)'!$A$7:$B$188,2,FALSE)","v":{"$error":"#N/A"}},null,null,null,null,null,{"$f":"VLOOKUP(G2446:G12444,'Location Type (FICM Codes)'!$A$7:$C$188,3,FALSE)","v":{"$error":"#N/A"}}]
[null,null,null,null,null,null,null,{"$f":"VLOOKUP($G$2:$G$50000,'Location Type (FICM Codes)'!$A$7:$B$188,2,FALSE)","v":{"$error":"#N/A"}},null,null,null,null,null,{"$f":"VLOOKUP(G2447:G12445,'Location Type (FICM Codes)'!$A$7:$C$188,3,FALSE)","v":{"$error":"#N/A"}}]
[null,null,null,null,null,null,null,{"$f":"VLOOKUP($G$2:$G$50000,'Location Type (FICM Codes)'!$A$7:$B$188,2,FALSE)","v":{"$error":"#N/A"}},null,null,null,null,null,{"$f":"VLOOKUP(G2452:G12450,'Location Type (FICM Codes)'!$A$7:$C$188,3,FALSE)","v":{"$error":"#N/A"}}]
[null,null,null,null,null,null,null,{"$f":"VLOOKUP($G$2:$G$50000,'Location Type (FICM Codes)'!$A$7:$B$188,2,FALSE)","v":{"$error":"#N/A"}},null,null,null,null,null,{"$f":"VLOOKUP(G2456:G12454,'Location Type (FICM Codes)'!$A$7:$C$188,3,FALSE)","v":{"$error":"#N/A"}}]
[null,null,null,null,null,null,null,{"$f":"VLOOKUP($G$2:$G$50000,'Location Type (FICM Codes)'!$A$7:$B$188,2,FALSE)","v":{"$error":"#N/A"}},null,null,null,null,null,{"$f":"VLOOKUP(G2461:G12459,'Location Type (FICM Codes)'!$A$7:$C$188,3,FALSE)","v":{"$error":"#N/A"}}]
[null,null,null,null,null,null,null,{"$f":"VLOOKUP($G$2:$G$50000,'Location Type (FICM Codes)'!$A$7:$B$188,2,FALSE)","v":{"$error":"#N/A"}},null,null,null,null,null,{"$f":"VLOOKUP(G2462:G12460,'Location Type (FICM Codes)'!$A$7:$C$188,3,FALSE)","v":{"$error":"#N/A"}}]
[null,null,null,null,null,null,null,{"$f":"VLOOKUP($G$2:$G$50000,'Location Type (FICM Codes)'!$A$7:$B$188,2,FALSE)","v":{"$error":"#N/A"}},null,null,null,null,null,{"$f":"VLOOKUP(G2466:G12464,'Location Type (FICM Codes)'!$A$7:$C$188,3,FALSE)","v":{"$error":"#N/A"}}]
[null,null,null,null,null,null,null,{"$f":"VLOOKUP($G$2:$G$50000,'Location Type (FICM Codes)'!$A$7:$B$188,2,FALSE)","v":{"$error":"#N/A"}},null,null,null,null,null,{"$f":"VLOOKUP(G2471:G12469,'Location Type (FICM Codes)'!$A$7:$C$188,3,FALSE)","v":{"$error":"#N/A"}}]
[null,null,null,null,null,null,null,{"$f":"VLOOKUP($G$2:$G$50000,'Location Type (FICM Codes)'!$A$7:$B$188,2,FALSE)","v":{"$error":"#N/A"}},null,null,null,null,null,{"$f":"VLOOKUP(G2476:G12474,'Location Type (FICM Codes)'!$A$7:$C$188,3,FALSE)","v":{"$error":"#N/A"}}]
[null,null,null,null,null,null,null,{"$f":"VLOOKUP($G$2:$G$50000,'Location Type (FICM Codes)'!$A$7:$B$188,2,FALSE)","v":{"$error":"#N/A"}},null,null,null,null,null,{"$f":"VLOOKUP(G2477:G12475,'Location Type (FICM Codes)'!$A$7:$C$188,3,FALSE)","v":{"$error":"#N/A"}}]
[null,null,null,null,null,null,null,{"$f":"VLOOKUP($G$2:$G$50000,'Location Type (FICM Codes)'!$A$7:$B$188,2,FALSE)","v":{"$error":"#N/A"}},null,null,null,null,null,{"$f":"VLOOKUP(G2482:G12480,'Location Type (FICM Codes)'!$A$7:$C$188,3,FALSE)","v":{"$error":"#N/A"}}]
[null,null,null,null,null,null,null,{"$f":"VLOOKUP($G$2:$G$50000,'Location Type (FICM Codes)'!$A$7:$B$188,2,FALSE)","v":{"$error":"#N/A"}},null,null,null,null,null,{"$f":"VLOOKUP(G2486:G12484,'Location Type (FICM Codes)'!$A$7:$C$188,3,FALSE)","v":{"$error":"#N/A"}}]
[null,null,null,null,null,null,null,{"$f":"VLOOKUP($G$2:$G$50000,'Location Type (FICM Codes)'!$A$7:$B$188,2,FALSE)","v":{"$error":"#N/A"}},null,null,null,null,null,{"$f":"VLOOKUP(G2491:G12489,'Location Type (FICM Codes)'!$A$7:$C$188,3,FALSE)","v":{"$error":"#N/A"}}]
[null,null,null,null,null,null,null,{"$f":"VLOOKUP($G$2:$G$50000,'Location Type (FICM Codes)'!$A$7:$B$188,2,FALSE)","v":{"$error":"#N/A"}},null,null,null,null,null,{"$f":"VLOOKUP(G2492:G12490,'Location Type (FICM Codes)'!$A$7:$C$188,3,FALSE)","v":{"$error":"#N/A"}}]
[null,null,null,null,null,null,null,{"$f":"VLOOKUP($G$2:$G$50000,'Location Type (FICM Codes)'!$A$7:$B$188,2,FALSE)","v":{"$error":"#N/A"}},null,null,null,null,null,{"$f":"VLOOKUP(G2496:G12494,'Location Type (FICM Codes)'!$A$7:$C$188,3,FALSE)","v":{"$error":"#N/A"}}]
[null,null,null,null,null,null,null,{"$f":"VLOOKUP($G$2:$G$50000,'Location Type (FICM Codes)'!$A$7:$B$188,2,FALSE)","v":{"$error":"#N/A"}},null,null,null,null,null,{"$f":"VLOOKUP(G2501:G12499,'Location Type (FICM Codes)'!$A$7:$C$188,3,FALSE)","v":{"$error":"#N/A"}}]
[null,null,null,null,null,null,null,{"$f":"VLOOKUP($G$2:$G$50000,'Location Type (FICM Codes)'!$A$7:$B$188,2,FALSE)","v":{"$error":"#N/A"}},null,null,null,null,null,{"$f":"VLOOKUP(G2506:G12504,'Location Type (FICM Codes)'!$A$7:$C$188,3,FALSE)","v":{"$error":"#N/A"}}]
[null,null,null,null,null,null,null,{"$f":"VLOOKUP($G$2:$G$50000,'Location Type (FICM Codes)'!$A$7:$B$188,2,FALSE)","v":{"$error":"#N/A"}},null,null,null,null,null,{"$f":"VLOOKUP(G2507:G12505,'Location Type (FICM Codes)'!$A$7:$C$188,3,FALSE)","v":{"$error":"#N/A"}}]
[null,null,null,null,null,null,null,{"$f":"VLOOKUP($G$2:$G$50000,'Location Type (FICM Codes)'!$A$7:$B$188,2,FALSE)","v":{"$error":"#N/A"}},null,null,null,null,null,{"$f":"VLOOKUP(G2512:G12510,'Location Type (FICM Codes)'!$A$7:$C$188,3,FALSE)","v":{"$error":"#N/A"}}]
[null,null,null,null,null,null,null,{"$f":"VLOOKUP($G$2:$G$50000,'Location Type (FICM Codes)'!$A$7:$B$188,2,FALSE)","v":{"$error":"#N/A"}},null,null,null,null,null,{"$f":"VLOOKUP(G2516:G12514,'Location Type (FICM Codes)'!$A$7:$C$188,3,FALSE)","v":{"$error":"#N/A"}}]
[null,null,null,null,null,null,null,{"$f":"VLOOKUP($G$2:$G$50000,'Location Type (FICM Codes)'!$A$7:$B$188,2,FALSE)","v":{"$error":"#N/A"}},null,null,null,null,null,{"$f":"VLOOKUP(G2521:G12519,'Location Type (FICM Codes)'!$A$7:$C$188,3,FALSE)","v":{"$error":"#N/A"}}]
[null,null,null,null,null,null,null,{"$f":"VLOOKUP($G$2:$G$50000,'Location Type (FICM Codes)'!$A$7:$B$188,2,FALSE)","v":{"$error":"#N/A"}},null,null,null,null,null,{"$f":"VLOOKUP(G2522:G12520,'Location Type (FICM Codes)'!$A$7:$C$188,3,FALSE)","v":{"$error":"#N/A"}}]
[null,null,null,null,null,null,null,{"$f":"VLOOKUP($G$2:$G$50000,'Location Type (FICM Codes)'!$A$7:$B$188,2,FALSE)","v":{"$error":"#N/A"}},null,null,null,null,null,{"$f":"VLOOKUP(G2526:G12524,'Location Type (FICM Codes)'!$A$7:$C$188,3,FALSE)","v":{"$error":"#N/A"}}]
[null,null,null,null,null,null,null,{"$f":"VLOOKUP($G$2:$G$50000,'Location Type (FICM Codes)'!$A$7:$B$188,2,FALSE)","v":{"$error":"#N/A"}},null,null,null,null,null,{"$f":"VLOOKUP(G2531:G12529,'Location Type (FICM Codes)'!$A$7:$C$188,3,FALSE)","v":{"$error":"#N/A"}}]
[null,null,null,null,null,null,null,{"$f":"VLOOKUP($G$2:$G$50000,'Location Type (FICM Codes)'!$A$7:$B$188,2,FALSE)","v":{"$error":"#N/A"}},null,null,null,null,null,{"$f":"VLOOKUP(G2536:G12534,'Location Type (FICM Codes)'!$A$7:$C$188,3,FALSE)","v":{"$error":"#N/A"}}]
[null,null,null,null,null,null,null,{"$f":"VLOOKUP($G$2:$G$50000,'Location Type (FICM Codes)'!$A$7:$B$188,2,FALSE)","v":{"$error":"#N/A"}},null,null,null,null,null,{"$f":"VLOOKUP(G2537:G12535,'Location Type (FICM Codes)'!$A$7:$C$188,3,FALSE)","v":{"$error":"#N/A"}}]
[null,null,null,null,null,null,null,{"$f":"VLOOKUP($G$2:$G$50000,'Location Type (FICM Codes)'!$A$7:$B$188,2,FALSE)","v":{"$error":"#N/A"}},null,null,null,null,null,{"$f":"VLOOKUP(G2543:G12541,'Location Type (FICM Codes)'!$A$7:$C$188,3,FALSE)","v":{"$error":"#N/A"}}]
[null,null,null,null,null,null,null,{"$f":"VLOOKUP($G$2:$G$50000,'Location Type (FICM Codes)'!$A$7:$B$188,2,FALSE)","v":{"$error":"#N/A"}},null,null,null,null,null,{"$f":"VLOOKUP(G2546:G12544,'Location Type (FICM Codes)'!$A$7:$C$188,3,FALSE)","v":{"$error":"#N/A"}}]
[null,null,null,null,null,null,null,{"$f":"VLOOKUP($G$2:$G$50000,'Location Type (FICM Codes)'!$A$7:$B$188,2,FALSE)","v":{"$error":"#N/A"}},null,null,null,null,null,{"$f":"VLOOKUP(G2551:G12549,'Location Type (FICM Codes)'!$A$7:$C$188,3,FALSE)","v":{"$error":"#N/A"}}]
[null,null,null,null,null,null,null,{"$f":"VLOOKUP($G$2:$G$50000,'Location Type (FICM Codes)'!$A$7:$B$188,2,FALSE)","v":{"$error":"#N/A"}},null,null,null,null,null,{"$f":"VLOOKUP(G2552:G12550,'Location Type (FICM Codes)'!$A$7:$C$188,3,FALSE)","v":{"$error":"#N/A"}}]
[null,null,null,null,null,null,null,{"$f":"VLOOKUP($G$2:$G$50000,'Location Type (FICM Codes)'!$A$7:$B$188,2,FALSE)","v":{"$error":"#N/A"}},null,null,null,null,null,{"$f":"VLOOKUP(G2556:G12554,'Location Type (FICM Codes)'!$A$7:$C$188,3,FALSE)","v":{"$error":"#N/A"}}]
[null,null,null,null,null,null,null,{"$f":"VLOOKUP($G$2:$G$50000,'Location Type (FICM Codes)'!$A$7:$B$188,2,FALSE)","v":{"$error":"#N/A"}},null,null,null,null,null,{"$f":"VLOOKUP(G2561:G12559,'Location Type (FICM Codes)'!$A$7:$C$188,3,FALSE)","v":{"$error":"#N/A"}}]
[null,null,null,null,null,null,null,{"$f":"VLOOKUP($G$2:$G$50000,'Location Type (FICM Codes)'!$A$7:$B$188,2,FALSE)","v":{"$error":"#N/A"}},null,null,null,null,null,{"$f":"VLOOKUP(G2566:G12564,'Location Type (FICM Codes)'!$A$7:$C$188,3,FALSE)","v":{"$error":"#N/A"}}]
[null,null,null,null,null,null,null,{"$f":"VLOOKUP($G$2:$G$50000,'Location Type (FICM Codes)'!$A$7:$B$188,2,FALSE)","v":{"$error":"#N/A"}},null,null,null,null,null,{"$f":"VLOOKUP(G2567:G12565,'Location Type (FICM Codes)'!$A$7:$C$188,3,FALSE)","v":{"$error":"#N/A"}}]
[null,null,null,null,null,null,null,{"$f":"VLOOKUP($G$2:$G$50000,'Location Type (FICM Codes)'!$A$7:$B$188,2,FALSE)","v":{"$error":"#N/A"}},null,null,null,null,null,{"$f":"VLOOKUP(G2573:G12571,'Location Type (FICM Codes)'!$A$7:$C$188,3,FALSE)","v":{"$error":"#N/A"}}]
[null,null,null,null,null,null,null,{"$f":"VLOOKUP($G$2:$G$50000,'Location Type (FICM Codes)'!$A$7:$B$188,2,FALSE)","v":{"$error":"#N/A"}},null,null,null,null,null,{"$f":"VLOOKUP(G2576:G12574,'Location Type (FICM Codes)'!$A$7:$C$188,3,FALSE)","v":{"$error":"#N/A"}}]
[null,null,null,null,null,null,null,{"$f":"VLOOKUP($G$2:$G$50000,'Location Type (FICM Codes)'!$A$7:$B$188,2,FALSE)","v":{"$error":"#N/A"}},null,null,null,null,null,{"$f":"VLOOKUP(G2581:G12579,'Location Type (FICM Codes)'!$A$7:$C$188,3,FALSE)","v":{"$error":"#N/A"}}]
[null,null,null,null,null,null,null,{"$f":"VLOOKUP($G$2:$G$50000,'Location Type (FICM Codes)'!$A$7:$B$188,2,FALSE)","v":{"$error":"#N/A"}},null,null,null,null,null,{"$f":"VLOOKUP(G2582:G12580,'Location Type (FICM Codes)'!$A$7:$C$188,3,FALSE)","v":{"$error":"#N/A"}}]
[null,null,null,null,null,null,null,{"$f":"VLOOKUP($G$2:$G$50000,'Location Type (FICM Codes)'!$A$7:$B$188,2,FALSE)","v":{"$error":"#N/A"}},null,null,null,null,null,{"$f":"VLOOKUP(G2586:G12584,'Location Type (FICM Codes)'!$A$7:$C$188,3,FALSE)","v":{"$error":"#N/A"}}]
[null,null,null,null,null,null,null,{"$f":"VLOOKUP($G$2:$G$50000,'Location Type (FICM Codes)'!$A$7:$B$188,2,FALSE)","v":{"$error":"#N/A"}},null,null,null,null,null,{"$f":"VLOOKUP(G2591:G12589,'Location Type (FICM Codes)'!$A$7:$C$188,3,FALSE)","v":{"$error":"#N/A"}}]
[null,null,null,null,null,null,null,{"$f":"VLOOKUP($G$2:$G$50000,'Location Type (FICM Codes)'!$A$7:$B$188,2,FALSE)","v":{"$error":"#N/A"}},null,null,null,null,null,{"$f":"VLOOKUP(G2596:G12594,'Location Type (FICM Codes)'!$A$7:$C$188,3,FALSE)","v":{"$error":"#N/A"}}]
[null,null,null,null,null,null,null,{"$f":"VLOOKUP($G$2:$G$50000,'Location Type (FICM Codes)'!$A$7:$B$188,2,FALSE)","v":{"$error":"#N/A"}},null,null,null,null,null,{"$f":"VLOOKUP(G2597:G12595,'Location Type (FICM Codes)'!$A$7:$C$188,3,FALSE)","v":{"$error":"#N/A"}}]
[null,null,null,null,null,null,null,{"$f":"VLOOKUP($G$2:$G$50000,'Location Type (FICM Codes)'!$A$7:$B$188,2,FALSE)","v":{"$error":"#N/A"}},null,null,null,null,null,{"$f":"VLOOKUP(G2603:G12601,'Location Type (FICM Codes)'!$A$7:$C$188,3,FALSE)","v":{"$error":"#N/A"}}]
[null,null,null,null,null,null,null,{"$f":"VLOOKUP($G$2:$G$50000,'Location Type (FICM Codes)'!$A$7:$B$188,2,FALSE)","v":{"$error":"#N/A"}},null,null,null,null,null,{"$f":"VLOOKUP(G2606:G12604,'Location Type (FICM Codes)'!$A$7:$C$188,3,FALSE)","v":{"$error":"#N/A"}}]
[null,null,null,null,null,null,null,{"$f":"VLOOKUP($G$2:$G$50000,'Location Type (FICM Codes)'!$A$7:$B$188,2,FALSE)","v":{"$error":"#N/A"}},null,null,null,null,null,{"$f":"VLOOKUP(G2611:G12609,'Location Type (FICM Codes)'!$A$7:$C$188,3,FALSE)","v":{"$error":"#N/A"}}]
[null,null,null,null,null,null,null,{"$f":"VLOOKUP($G$2:$G$50000,'Location Type (FICM Codes)'!$A$7:$B$188,2,FALSE)","v":{"$error":"#N/A"}},null,null,null,null,null,{"$f":"VLOOKUP(G2612:G12610,'Location Type (FICM Codes)'!$A$7:$C$188,3,FALSE)","v":{"$error":"#N/A"}}]
[null,null,null,null,null,null,null,{"$f":"VLOOKUP($G$2:$G$50000,'Location Type (FICM Codes)'!$A$7:$B$188,2,FALSE)","v":{"$error":"#N/A"}},null,null,null,null,null,{"$f":"VLOOKUP(G2616:G12614,'Location Type (FICM Codes)'!$A$7:$C$188,3,FALSE)","v":{"$error":"#N/A"}}]
[null,null,null,null,null,null,null,{"$f":"VLOOKUP($G$2:$G$50000,'Location Type (FICM Codes)'!$A$7:$B$188,2,FALSE)","v":{"$error":"#N/A"}},null,null,null,null,null,{"$f":"VLOOKUP(G2621:G12619,'Location Type (FICM Codes)'!$A$7:$C$188,3,FALSE)","v":{"$error":"#N/A"}}]
[null,null,null,null,null,null,null,{"$f":"VLOOKUP($G$2:$G$50000,'Location Type (FICM Codes)'!$A$7:$B$188,2,FALSE)","v":{"$error":"#N/A"}},null,null,null,null,null,{"$f":"VLOOKUP(G2626:G12624,'Location Type (FICM Codes)'!$A$7:$C$188,3,FALSE)","v":{"$error":"#N/A"}}]
[null,null,null,null,null,null,null,{"$f":"VLOOKUP($G$2:$G$50000,'Location Type (FICM Codes)'!$A$7:$B$188,2,FALSE)","v":{"$error":"#N/A"}},null,null,null,null,null,{"$f":"VLOOKUP(G2627:G12625,'Location Type (FICM Codes)'!$A$7:$C$188,3,FALSE)","v":{"$error":"#N/A"}}]
[null,null,null,null,null,null,null,{"$f":"VLOOKUP($G$2:$G$50000,'Location Type (FICM Codes)'!$A$7:$B$188,2,FALSE)","v":{"$error":"#N/A"}},null,null,null,null,null,{"$f":"VLOOKUP(G2633:G12631,'Location Type (FICM Codes)'!$A$7:$C$188,3,FALSE)","v":{"$error":"#N/A"}}]
[null,null,null,null,null,null,null,{"$f":"VLOOKUP($G$2:$G$50000,'Location Type (FICM Codes)'!$A$7:$B$188,2,FALSE)","v":{"$error":"#N/A"}},null,null,null,null,null,{"$f":"VLOOKUP(G2636:G12634,'Location Type (FICM Codes)'!$A$7:$C$188,3,FALSE)","v":{"$error":"#N/A"}}]
[null,null,null,null,null,null,null,{"$f":"VLOOKUP($G$2:$G$50000,'Location Type (FICM Codes)'!$A$7:$B$188,2,FALSE)","v":{"$error":"#N/A"}},null,null,null,null,null,{"$f":"VLOOKUP(G2641:G12639,'Location Type (FICM Codes)'!$A$7:$C$188,3,FALSE)","v":{"$error":"#N/A"}}]
[null,null,null,null,null,null,null,{"$f":"VLOOKUP($G$2:$G$50000,'Location Type (FICM Codes)'!$A$7:$B$188,2,FALSE)","v":{"$error":"#N/A"}},null,null,null,null,null,{"$f":"VLOOKUP(G2642:G12640,'Location Type (FICM Codes)'!$A$7:$C$188,3,FALSE)","v":{"$error":"#N/A"}}]
[null,null,null,null,null,null,null,{"$f":"VLOOKUP($G$2:$G$50000,'Location Type (FICM Codes)'!$A$7:$B$188,2,FALSE)","v":{"$error":"#N/A"}},null,null,null,null,null,{"$f":"VLOOKUP(G2646:G12644,'Location Type (FICM Codes)'!$A$7:$C$188,3,FALSE)","v":{"$error":"#N/A"}}]
[null,null,null,null,null,null,null,{"$f":"VLOOKUP($G$2:$G$50000,'Location Type (FICM Codes)'!$A$7:$B$188,2,FALSE)","v":{"$error":"#N/A"}},null,null,null,null,null,{"$f":"VLOOKUP(G2651:G12649,'Location Type (FICM Codes)'!$A$7:$C$188,3,FALSE)","v":{"$error":"#N/A"}}]
[null,null,null,null,null,null,null,{"$f":"VLOOKUP($G$2:$G$50000,'Location Type (FICM Codes)'!$A$7:$B$188,2,FALSE)","v":{"$error":"#N/A"}},null,null,null,null,null,{"$f":"VLOOKUP(G2656:G12654,'Location Type (FICM Codes)'!$A$7:$C$188,3,FALSE)","v":{"$error":"#N/A"}}]
[null,null,null,null,null,null,null,{"$f":"VLOOKUP($G$2:$G$50000,'Location Type (FICM Codes)'!$A$7:$B$188,2,FALSE)","v":{"$error":"#N/A"}},null,null,null,null,null,{"$f":"VLOOKUP(G2657:G12655,'Location Type (FICM Codes)'!$A$7:$C$188,3,FALSE)","v":{"$error":"#N/A"}}]
[null,null,null,null,null,null,null,{"$f":"VLOOKUP($G$2:$G$50000,'Location Type (FICM Codes)'!$A$7:$B$188,2,FALSE)","v":{"$error":"#N/A"}},null,null,null,null,null,{"$f":"VLOOKUP(G2663:G12661,'Location Type (FICM Codes)'!$A$7:$C$188,3,FALSE)","v":{"$error":"#N/A"}}]
[null,null,null,null,null,null,null,{"$f":"VLOOKUP($G$2:$G$50000,'Location Type (FICM Codes)'!$A$7:$B$188,2,FALSE)","v":{"$error":"#N/A"}},null,null,null,null,null,{"$f":"VLOOKUP(G2666:G12664,'Location Type (FICM Codes)'!$A$7:$C$188,3,FALSE)","v":{"$error":"#N/A"}}]
[null,null,null,null,null,null,null,{"$f":"VLOOKUP($G$2:$G$50000,'Location Type (FICM Codes)'!$A$7:$B$188,2,FALSE)","v":{"$error":"#N/A"}},null,null,null,null,null,{"$f":"VLOOKUP(G2671:G12669,'Location Type (FICM Codes)'!$A$7:$C$188,3,FALSE)","v":{"$error":"#N/A"}}]
[null,null,null,null,null,null,null,{"$f":"VLOOKUP($G$2:$G$50000,'Location Type (FICM Codes)'!$A$7:$B$188,2,FALSE)","v":{"$error":"#N/A"}},null,null,null,null,null,{"$f":"VLOOKUP(G2672:G12670,'Location Type (FICM Codes)'!$A$7:$C$188,3,FALSE)","v":{"$error":"#N/A"}}]
[null,null,null,null,null,null,null,{"$f":"VLOOKUP($G$2:$G$50000,'Location Type (FICM Codes)'!$A$7:$B$188,2,FALSE)","v":{"$error":"#N/A"}},null,null,null,null,null,{"$f":"VLOOKUP(G2676:G12674,'Location Type (FICM Codes)'!$A$7:$C$188,3,FALSE)","v":{"$error":"#N/A"}}]
[null,null,null,null,null,null,null,{"$f":"VLOOKUP($G$2:$G$50000,'Location Type (FICM Codes)'!$A$7:$B$188,2,FALSE)","v":{"$error":"#N/A"}},null,null,null,null,null,{"$f":"VLOOKUP(G2681:G12679,'Location Type (FICM Codes)'!$A$7:$C$188,3,FALSE)","v":{"$error":"#N/A"}}]
[null,null,null,null,null,null,null,{"$f":"VLOOKUP($G$2:$G$50000,'Location Type (FICM Codes)'!$A$7:$B$188,2,FALSE)","v":{"$error":"#N/A"}},null,null,null,null,null,{"$f":"VLOOKUP(G2686:G12684,'Location Type (FICM Codes)'!$A$7:$C$188,3,FALSE)","v":{"$error":"#N/A"}}]
[null,null,null,null,null,null,null,{"$f":"VLOOKUP($G$2:$G$50000,'Location Type (FICM Codes)'!$A$7:$B$188,2,FALSE)","v":{"$error":"#N/A"}},null,null,null,null,null,{"$f":"VLOOKUP(G2687:G12685,'Location Type (FICM Codes)'!$A$7:$C$188,3,FALSE)","v":{"$error":"#N/A"}}]
[null,null,null,null,null,null,null,{"$f":"VLOOKUP($G$2:$G$50000,'Location Type (FICM Codes)'!$A$7:$B$188,2,FALSE)","v":{"$error":"#N/A"}},null,null,null,null,null,{"$f":"VLOOKUP(G2693:G12691,'Location Type (FICM Codes)'!$A$7:$C$188,3,FALSE)","v":{"$error":"#N/A"}}]
[null,null,null,null,null,null,null,{"$f":"VLOOKUP($G$2:$G$50000,'Location Type (FICM Codes)'!$A$7:$B$188,2,FALSE)","v":{"$error":"#N/A"}},null,null,null,null,null,{"$f":"VLOOKUP(G2696:G12694,'Location Type (FICM Codes)'!$A$7:$C$188,3,FALSE)","v":{"$error":"#N/A"}}]
[null,null,null,null,null,null,null,{"$f":"VLOOKUP($G$2:$G$50000,'Location Type (FICM Codes)'!$A$7:$B$188,2,FALSE)","v":{"$error":"#N/A"}},null,null,null,null,null,{"$f":"VLOOKUP(G2701:G12699,'Location Type (FICM Codes)'!$A$7:$C$188,3,FALSE)","v":{"$error":"#N/A"}}]
[null,null,null,null,null,null,null,{"$f":"VLOOKUP($G$2:$G$50000,'Location Type (FICM Codes)'!$A$7:$B$188,2,FALSE)","v":{"$error":"#N/A"}},null,null,null,null,null,{"$f":"VLOOKUP(G2702:G12700,'Location Type (FICM Codes)'!$A$7:$C$188,3,FALSE)","v":{"$error":"#N/A"}}]
[null,null,null,null,null,null,null,{"$f":"VLOOKUP($G$2:$G$50000,'Location Type (FICM Codes)'!$A$7:$B$188,2,FALSE)","v":{"$error":"#N/A"}},null,null,null,null,null,{"$f":"VLOOKUP(G2706:G12704,'Location Type (FICM Codes)'!$A$7:$C$188,3,FALSE)","v":{"$error":"#N/A"}}]
[null,null,null,null,null,null,null,{"$f":"VLOOKUP($G$2:$G$50000,'Location Type (FICM Codes)'!$A$7:$B$188,2,FALSE)","v":{"$error":"#N/A"}},null,null,null,null,null,{"$f":"VLOOKUP(G2711:G12709,'Location Type (FICM Codes)'!$A$7:$C$188,3,FALSE)","v":{"$error":"#N/A"}}]
[null,null,null,null,null,null,null,{"$f":"VLOOKUP($G$2:$G$50000,'Location Type (FICM Codes)'!$A$7:$B$188,2,FALSE)","v":{"$error":"#N/A"}},null,null,null,null,null,{"$f":"VLOOKUP(G2716:G12714,'Location Type (FICM Codes)'!$A$7:$C$188,3,FALSE)","v":{"$error":"#N/A"}}]
[null,null,null,null,null,null,null,{"$f":"VLOOKUP($G$2:$G$50000,'Location Type (FICM Codes)'!$A$7:$B$188,2,FALSE)","v":{"$error":"#N/A"}},null,null,null,null,null,{"$f":"VLOOKUP(G2717:G12715,'Location Type (FICM Codes)'!$A$7:$C$188,3,FALSE)","v":{"$error":"#N/A"}}]
[null,null,null,null,null,null,null,{"$f":"VLOOKUP($G$2:$G$50000,'Location Type (FICM Codes)'!$A$7:$B$188,2,FALSE)","v":{"$error":"#N/A"}},null,null,null,null,null,{"$f":"VLOOKUP(G2723:G12721,'Location Type (FICM Codes)'!$A$7:$C$188,3,FALSE)","v":{"$error":"#N/A"}}]
[null,null,null,null,null,null,null,{"$f":"VLOOKUP($G$2:$G$50000,'Location Type (FICM Codes)'!$A$7:$B$188,2,FALSE)","v":{"$error":"#N/A"}},null,null,null,null,null,{"$f":"VLOOKUP(G2726:G12724,'Location Type (FICM Codes)'!$A$7:$C$188,3,FALSE)","v":{"$error":"#N/A"}}]
[null,null,null,null,null,null,null,{"$f":"VLOOKUP($G$2:$G$50000,'Location Type (FICM Codes)'!$A$7:$B$188,2,FALSE)","v":{"$error":"#N/A"}},null,null,null,null,null,{"$f":"VLOOKUP(G2731:G12729,'Location Type (FICM Codes)'!$A$7:$C$188,3,FALSE)","v":{"$error":"#N/A"}}]
[null,null,null,null,null,null,null,{"$f":"VLOOKUP($G$2:$G$50000,'Location Type (FICM Codes)'!$A$7:$B$188,2,FALSE)","v":{"$error":"#N/A"}},null,null,null,null,null,{"$f":"VLOOKUP(G2732:G12730,'Location Type (FICM Codes)'!$A$7:$C$188,3,FALSE)","v":{"$error":"#N/A"}}]
[null,null,null,null,null,null,null,{"$f":"VLOOKUP($G$2:$G$50000,'Location Type (FICM Codes)'!$A$7:$B$188,2,FALSE)","v":{"$error":"#N/A"}},null,null,null,null,null,{"$f":"VLOOKUP(G2736:G12734,'Location Type (FICM Codes)'!$A$7:$C$188,3,FALSE)","v":{"$error":"#N/A"}}]
[null,null,null,null,null,null,null,{"$f":"VLOOKUP($G$2:$G$50000,'Location Type (FICM Codes)'!$A$7:$B$188,2,FALSE)","v":{"$error":"#N/A"}},null,null,null,null,null,{"$f":"VLOOKUP(G2741:G12739,'Location Type (FICM Codes)'!$A$7:$C$188,3,FALSE)","v":{"$error":"#N/A"}}]
[null,null,null,null,null,null,null,{"$f":"VLOOKUP($G$2:$G$50000,'Location Type (FICM Codes)'!$A$7:$B$188,2,FALSE)","v":{"$error":"#N/A"}},null,null,null,null,null,{"$f":"VLOOKUP(G2746:G12744,'Location Type (FICM Codes)'!$A$7:$C$188,3,FALSE)","v":{"$error":"#N/A"}}]
[null,null,null,null,null,null,null,{"$f":"VLOOKUP($G$2:$G$50000,'Location Type (FICM Codes)'!$A$7:$B$188,2,FALSE)","v":{"$error":"#N/A"}},null,null,null,null,null,{"$f":"VLOOKUP(G2747:G12745,'Location Type (FICM Codes)'!$A$7:$C$188,3,FALSE)","v":{"$error":"#N/A"}}]
[null,null,null,null,null,null,null,{"$f":"VLOOKUP($G$2:$G$50000,'Location Type (FICM Codes)'!$A$7:$B$188,2,FALSE)","v":{"$error":"#N/A"}},null,null,null,null,null,{"$f":"VLOOKUP(G2753:G12751,'Location Type (FICM Codes)'!$A$7:$C$188,3,FALSE)","v":{"$error":"#N/A"}}]
[null,null,null,null,null,null,null,{"$f":"VLOOKUP($G$2:$G$50000,'Location Type (FICM Codes)'!$A$7:$B$188,2,FALSE)","v":{"$error":"#N/A"}},null,null,null,null,null,{"$f":"VLOOKUP(G2756:G12754,'Location Type (FICM Codes)'!$A$7:$C$188,3,FALSE)","v":{"$error":"#N/A"}}]
[null,null,null,null,null,null,null,{"$f":"VLOOKUP($G$2:$G$50000,'Location Type (FICM Codes)'!$A$7:$B$188,2,FALSE)","v":{"$error":"#N/A"}},null,null,null,null,null,{"$f":"VLOOKUP(G2761:G12759,'Location Type (FICM Codes)'!$A$7:$C$188,3,FALSE)","v":{"$error":"#N/A"}}]
[null,null,null,null,null,null,null,{"$f":"VLOOKUP($G$2:$G$50000,'Location Type (FICM Codes)'!$A$7:$B$188,2,FALSE)","v":{"$error":"#N/A"}},null,null,null,null,null,{"$f":"VLOOKUP(G2762:G12760,'Location Type (FICM Codes)'!$A$7:$C$188,3,FALSE)","v":{"$error":"#N/A"}}]
[null,null,null,null,null,null,null,{"$f":"VLOOKUP($G$2:$G$50000,'Location Type (FICM Codes)'!$A$7:$B$188,2,FALSE)","v":{"$error":"#N/A"}},null,null,null,null,null,{"$f":"VLOOKUP(G2766:G12764,'Location Type (FICM Codes)'!$A$7:$C$188,3,FALSE)","v":{"$error":"#N/A"}}]
[null,null,null,null,null,null,null,{"$f":"VLOOKUP($G$2:$G$50000,'Location Type (FICM Codes)'!$A$7:$B$188,2,FALSE)","v":{"$error":"#N/A"}},null,null,null,null,null,{"$f":"VLOOKUP(G2771:G12769,'Location Type (FICM Codes)'!$A$7:$C$188,3,FALSE)","v":{"$error":"#N/A"}}]
[null,null,null,null,null,null,null,{"$f":"VLOOKUP($G$2:$G$50000,'Location Type (FICM Codes)'!$A$7:$B$188,2,FALSE)","v":{"$error":"#N/A"}},null,null,null,null,null,{"$f":"VLOOKUP(G2776:G12774,'Location Type (FICM Codes)'!$A$7:$C$188,3,FALSE)","v":{"$error":"#N/A"}}]
[null,null,null,null,null,null,null,{"$f":"VLOOKUP($G$2:$G$50000,'Location Type (FICM Codes)'!$A$7:$B$188,2,FALSE)","v":{"$error":"#N/A"}},null,null,null,null,null,{"$f":"VLOOKUP(G2777:G12775,'Location Type (FICM Codes)'!$A$7:$C$188,3,FALSE)","v":{"$error":"#N/A"}}]
[null,null,null,null,null,null,null,{"$f":"VLOOKUP($G$2:$G$50000,'Location Type (FICM Codes)'!$A$7:$B$188,2,FALSE)","v":{"$error":"#N/A"}},null,null,null,null,null,{"$f":"VLOOKUP(G2783:G12781,'Location Type (FICM Codes)'!$A$7:$C$188,3,FALSE)","v":{"$error":"#N/A"}}]
[null,null,null,null,null,null,null,{"$f":"VLOOKUP($G$2:$G$50000,'Location Type (FICM Codes)'!$A$7:$B$188,2,FALSE)","v":{"$error":"#N/A"}},null,null,null,null,null,{"$f":"VLOOKUP(G2786:G12784,'Location Type (FICM Codes)'!$A$7:$C$188,3,FALSE)","v":{"$error":"#N/A"}}]
[null,null,null,null,null,null,null,{"$f":"VLOOKUP($G$2:$G$50000,'Location Type (FICM Codes)'!$A$7:$B$188,2,FALSE)","v":{"$error":"#N/A"}},null,null,null,null,null,{"$f":"VLOOKUP(G2791:G12789,'Location Type (FICM Codes)'!$A$7:$C$188,3,FALSE)","v":{"$error":"#N/A"}}]
[null,null,null,null,null,null,null,{"$f":"VLOOKUP($G$2:$G$50000,'Location Type (FICM Codes)'!$A$7:$B$188,2,FALSE)","v":{"$error":"#N/A"}},null,null,null,null,null,{"$f":"VLOOKUP(G2792:G12790,'Location Type (FICM Codes)'!$A$7:$C$188,3,FALSE)","v":{"$error":"#N/A"}}]
[null,null,null,null,null,null,null,{"$f":"VLOOKUP($G$2:$G$50000,'Location Type (FICM Codes)'!$A$7:$B$188,2,FALSE)","v":{"$error":"#N/A"}},null,null,null,null,null,{"$f":"VLOOKUP(G2796:G12794,'Location Type (FICM Codes)'!$A$7:$C$188,3,FALSE)","v":{"$error":"#N/A"}}]
[null,null,null,null,null,null,null,{"$f":"VLOOKUP($G$2:$G$50000,'Location Type (FICM Codes)'!$A$7:$B$188,2,FALSE)","v":{"$error":"#N/A"}},null,null,null,null,null,{"$f":"VLOOKUP(G2801:G12799,'Location Type (FICM Codes)'!$A$7:$C$188,3,FALSE)","v":{"$error":"#N/A"}}]
[null,null,null,null,null,null,null,{"$f":"VLOOKUP($G$2:$G$50000,'Location Type (FICM Codes)'!$A$7:$B$188,2,FALSE)","v":{"$error":"#N/A"}},null,null,null,null,null,{"$f":"VLOOKUP(G2806:G12804,'Location Type (FICM Codes)'!$A$7:$C$188,3,FALSE)","v":{"$error":"#N/A"}}]
[null,null,null,null,null,null,null,{"$f":"VLOOKUP($G$2:$G$50000,'Location Type (FICM Codes)'!$A$7:$B$188,2,FALSE)","v":{"$error":"#N/A"}},null,null,null,null,null,{"$f":"VLOOKUP(G2807:G12805,'Location Type (FICM Codes)'!$A$7:$C$188,3,FALSE)","v":{"$error":"#N/A"}}]
[null,null,null,null,null,null,null,{"$f":"VLOOKUP($G$2:$G$50000,'Location Type (FICM Codes)'!$A$7:$B$188,2,FALSE)","v":{"$error":"#N/A"}},null,null,null,null,null,{"$f":"VLOOKUP(G2813:G12811,'Location Type (FICM Codes)'!$A$7:$C$188,3,FALSE)","v":{"$error":"#N/A"}}]
[null,null,null,null,null,null,null,{"$f":"VLOOKUP($G$2:$G$50000,'Location Type (FICM Codes)'!$A$7:$B$188,2,FALSE)","v":{"$error":"#N/A"}},null,null,null,null,null,{"$f":"VLOOKUP(G2816:G12814,'Location Type (FICM Codes)'!$A$7:$C$188,3,FALSE)","v":{"$error":"#N/A"}}]
[null,null,null,null,null,null,null,{"$f":"VLOOKUP($G$2:$G$50000,'Location Type (FICM Codes)'!$A$7:$B$188,2,FALSE)","v":{"$error":"#N/A"}},null,null,null,null,null,{"$f":"VLOOKUP(G2821:G12819,'Location Type (FICM Codes)'!$A$7:$C$188,3,FALSE)","v":{"$error":"#N/A"}}]
[null,null,null,null,null,null,null,{"$f":"VLOOKUP($G$2:$G$50000,'Location Type (FICM Codes)'!$A$7:$B$188,2,FALSE)","v":{"$error":"#N/A"}},null,null,null,null,null,{"$f":"VLOOKUP(G2822:G12820,'Location Type (FICM Codes)'!$A$7:$C$188,3,FALSE)","v":{"$error":"#N/A"}}]
[null,null,null,null,null,null,null,{"$f":"VLOOKUP($G$2:$G$50000,'Location Type (FICM Codes)'!$A$7:$B$188,2,FALSE)","v":{"$error":"#N/A"}},null,null,null,null,null,{"$f":"VLOOKUP(G2827:G12825,'Location Type (FICM Codes)'!$A$7:$C$188,3,FALSE)","v":{"$error":"#N/A"}}]
[null,null,null,null,null,null,null,{"$f":"VLOOKUP($G$2:$G$50000,'Location Type (FICM Codes)'!$A$7:$B$188,2,FALSE)","v":{"$error":"#N/A"}},null,null,null,null,null,{"$f":"VLOOKUP(G2831:G12829,'Location Type (FICM Codes)'!$A$7:$C$188,3,FALSE)","v":{"$error":"#N/A"}}]
[null,null,null,null,null,null,null,{"$f":"VLOOKUP($G$2:$G$50000,'Location Type (FICM Codes)'!$A$7:$B$188,2,FALSE)","v":{"$error":"#N/A"}},null,null,null,null,null,{"$f":"VLOOKUP(G2836:G12834,'Location Type (FICM Codes)'!$A$7:$C$188,3,FALSE)","v":{"$error":"#N/A"}}]
[null,null,null,null,null,null,null,{"$f":"VLOOKUP($G$2:$G$50000,'Location Type (FICM Codes)'!$A$7:$B$188,2,FALSE)","v":{"$error":"#N/A"}},null,null,null,null,null,{"$f":"VLOOKUP(G2837:G12835,'Location Type (FICM Codes)'!$A$7:$C$188,3,FALSE)","v":{"$error":"#N/A"}}]
[null,null,null,null,null,null,null,{"$f":"VLOOKUP($G$2:$G$50000,'Location Type (FICM Codes)'!$A$7:$B$188,2,FALSE)","v":{"$error":"#N/A"}},null,null,null,null,null,{"$f":"VLOOKUP(G2843:G12841,'Location Type (FICM Codes)'!$A$7:$C$188,3,FALSE)","v":{"$error":"#N/A"}}]
[null,null,null,null,null,null,null,{"$f":"VLOOKUP($G$2:$G$50000,'Location Type (FICM Codes)'!$A$7:$B$188,2,FALSE)","v":{"$error":"#N/A"}},null,null,null,null,null,{"$f":"VLOOKUP(G2846:G12844,'Location Type (FICM Codes)'!$A$7:$C$188,3,FALSE)","v":{"$error":"#N/A"}}]
[null,null,null,null,null,null,null,{"$f":"VLOOKUP($G$2:$G$50000,'Location Type (FICM Codes)'!$A$7:$B$188,2,FALSE)","v":{"$error":"#N/A"}},null,null,null,null,null,{"$f":"VLOOKUP(G2851:G12849,'Location Type (FICM Codes)'!$A$7:$C$188,3,FALSE)","v":{"$error":"#N/A"}}]
[null,null,null,null,null,null,null,{"$f":"VLOOKUP($G$2:$G$50000,'Location Type (FICM Codes)'!$A$7:$B$188,2,FALSE)","v":{"$error":"#N/A"}},null,null,null,null,null,{"$f":"VLOOKUP(G2852:G12850,'Location Type (FICM Codes)'!$A$7:$C$188,3,FALSE)","v":{"$error":"#N/A"}}]
[null,null,null,null,null,null,null,{"$f":"VLOOKUP($G$2:$G$50000,'Location Type (FICM Codes)'!$A$7:$B$188,2,FALSE)","v":{"$error":"#N/A"}},null,null,null,null,null,{"$f":"VLOOKUP(G2857:G12855,'Location Type (FICM Codes)'!$A$7:$C$188,3,FALSE)","v":{"$error":"#N/A"}}]
[null,null,null,null,null,null,null,{"$f":"VLOOKUP($G$2:$G$50000,'Location Type (FICM Codes)'!$A$7:$B$188,2,FALSE)","v":{"$error":"#N/A"}},null,null,null,null,null,{"$f":"VLOOKUP(G2861:G12859,'Location Type (FICM Codes)'!$A$7:$C$188,3,FALSE)","v":{"$error":"#N/A"}}]
[null,null,null,null,null,null,null,{"$f":"VLOOKUP($G$2:$G$50000,'Location Type (FICM Codes)'!$A$7:$B$188,2,FALSE)","v":{"$error":"#N/A"}},null,null,null,null,null,{"$f":"VLOOKUP(G2866:G12864,'Location Type (FICM Codes)'!$A$7:$C$188,3,FALSE)","v":{"$error":"#N/A"}}]
[null,null,null,null,null,null,null,{"$f":"VLOOKUP($G$2:$G$50000,'Location Type (FICM Codes)'!$A$7:$B$188,2,FALSE)","v":{"$error":"#N/A"}},null,null,null,null,null,{"$f":"VLOOKUP(G2867:G12865,'Location Type (FICM Codes)'!$A$7:$C$188,3,FALSE)","v":{"$error":"#N/A"}}]
[null,null,null,null,null,null,null,{"$f":"VLOOKUP($G$2:$G$50000,'Location Type (FICM Codes)'!$A$7:$B$188,2,FALSE)","v":{"$error":"#N/A"}},null,null,null,null,null,{"$f":"VLOOKUP(G2873:G12871,'Location Type (FICM Codes)'!$A$7:$C$188,3,FALSE)","v":{"$error":"#N/A"}}]
[null,null,null,null,null,null,null,{"$f":"VLOOKUP($G$2:$G$50000,'Location Type (FICM Codes)'!$A$7:$B$188,2,FALSE)","v":{"$error":"#N/A"}},null,null,null,null,null,{"$f":"VLOOKUP(G2876:G12874,'Location Type (FICM Codes)'!$A$7:$C$188,3,FALSE)","v":{"$error":"#N/A"}}]
[null,null,null,null,null,null,null,{"$f":"VLOOKUP($G$2:$G$50000,'Location Type (FICM Codes)'!$A$7:$B$188,2,FALSE)","v":{"$error":"#N/A"}},null,null,null,null,null,{"$f":"VLOOKUP(G2881:G12879,'Location Type (FICM Codes)'!$A$7:$C$188,3,FALSE)","v":{"$error":"#N/A"}}]
[null,null,null,null,null,null,null,{"$f":"VLOOKUP($G$2:$G$50000,'Location Type (FICM Codes)'!$A$7:$B$188,2,FALSE)","v":{"$error":"#N/A"}},null,null,null,null,null,{"$f":"VLOOKUP(G2882:G12880,'Location Type (FICM Codes)'!$A$7:$C$188,3,FALSE)","v":{"$error":"#N/A"}}]
[null,null,null,null,null,null,null,{"$f":"VLOOKUP($G$2:$G$50000,'Location Type (FICM Codes)'!$A$7:$B$188,2,FALSE)","v":{"$error":"#N/A"}},null,null,null,null,null,{"$f":"VLOOKUP(G2887:G12885,'Location Type (FICM Codes)'!$A$7:$C$188,3,FALSE)","v":{"$error":"#N/A"}}]
[null,null,null,null,null,null,null,{"$f":"VLOOKUP($G$2:$G$50000,'Location Type (FICM Codes)'!$A$7:$B$188,2,FALSE)","v":{"$error":"#N/A"}},null,null,null,null,null,{"$f":"VLOOKUP(G2891:G12889,'Location Type (FICM Codes)'!$A$7:$C$188,3,FALSE)","v":{"$error":"#N/A"}}]
[null,null,null,null,null,null,null,{"$f":"VLOOKUP($G$2:$G$50000,'Location Type (FICM Codes)'!$A$7:$B$188,2,FALSE)","v":{"$error":"#N/A"}},null,null,null,null,null,{"$f":"VLOOKUP(G2896:G12894,'Location Type (FICM Codes)'!$A$7:$C$188,3,FALSE)","v":{"$error":"#N/A"}}]
[null,null,null,null,null,null,null,{"$f":"VLOOKUP($G$2:$G$50000,'Location Type (FICM Codes)'!$A$7:$B$188,2,FALSE)","v":{"$error":"#N/A"}},null,null,null,null,null,{"$f":"VLOOKUP(G2897:G12895,'Location Type (FICM Codes)'!$A$7:$C$188,3,FALSE)","v":{"$error":"#N/A"}}]
[null,null,null,null,null,null,null,{"$f":"VLOOKUP($G$2:$G$50000,'Location Type (FICM Codes)'!$A$7:$B$188,2,FALSE)","v":{"$error":"#N/A"}},null,null,null,null,null,{"$f":"VLOOKUP(G2903:G12901,'Location Type (FICM Codes)'!$A$7:$C$188,3,FALSE)","v":{"$error":"#N/A"}}]
[null,null,null,null,null,null,null,{"$f":"VLOOKUP($G$2:$G$50000,'Location Type (FICM Codes)'!$A$7:$B$188,2,FALSE)","v":{"$error":"#N/A"}},null,null,null,null,null,{"$f":"VLOOKUP(G2906:G12904,'Location Type (FICM Codes)'!$A$7:$C$188,3,FALSE)","v":{"$error":"#N/A"}}]
[null,null,null,null,null,null,null,{"$f":"VLOOKUP($G$2:$G$50000,'Location Type (FICM Codes)'!$A$7:$B$188,2,FALSE)","v":{"$error":"#N/A"}},null,null,null,null,null,{"$f":"VLOOKUP(G2911:G12909,'Location Type (FICM Codes)'!$A$7:$C$188,3,FALSE)","v":{"$error":"#N/A"}}]
[null,null,null,null,null,null,null,{"$f":"VLOOKUP($G$2:$G$50000,'Location Type (FICM Codes)'!$A$7:$B$188,2,FALSE)","v":{"$error":"#N/A"}},null,null,null,null,null,{"$f":"VLOOKUP(G2912:G12910,'Location Type (FICM Codes)'!$A$7:$C$188,3,FALSE)","v":{"$error":"#N/A"}}]
[null,null,null,null,null,null,null,{"$f":"VLOOKUP($G$2:$G$50000,'Location Type (FICM Codes)'!$A$7:$B$188,2,FALSE)","v":{"$error":"#N/A"}},null,null,null,null,null,{"$f":"VLOOKUP(G2917:G12915,'Location Type (FICM Codes)'!$A$7:$C$188,3,FALSE)","v":{"$error":"#N/A"}}]
[null,null,null,null,null,null,null,{"$f":"VLOOKUP($G$2:$G$50000,'Location Type (FICM Codes)'!$A$7:$B$188,2,FALSE)","v":{"$error":"#N/A"}},null,null,null,null,null,{"$f":"VLOOKUP(G2921:G12919,'Location Type (FICM Codes)'!$A$7:$C$188,3,FALSE)","v":{"$error":"#N/A"}}]
[null,null,null,null,null,null,null,{"$f":"VLOOKUP($G$2:$G$50000,'Location Type (FICM Codes)'!$A$7:$B$188,2,FALSE)","v":{"$error":"#N/A"}},null,null,null,null,null,{"$f":"VLOOKUP(G2926:G12924,'Location Type (FICM Codes)'!$A$7:$C$188,3,FALSE)","v":{"$error":"#N/A"}}]
[null,null,null,null,null,null,null,{"$f":"VLOOKUP($G$2:$G$50000,'Location Type (FICM Codes)'!$A$7:$B$188,2,FALSE)","v":{"$error":"#N/A"}},null,null,null,null,null,{"$f":"VLOOKUP(G2927:G12925,'Location Type (FICM Codes)'!$A$7:$C$188,3,FALSE)","v":{"$error":"#N/A"}}]
[null,null,null,null,null,null,null,{"$f":"VLOOKUP($G$2:$G$50000,'Location Type (FICM Codes)'!$A$7:$B$188,2,FALSE)","v":{"$error":"#N/A"}},null,null,null,null,null,{"$f":"VLOOKUP(G2933:G12931,'Location Type (FICM Codes)'!$A$7:$C$188,3,FALSE)","v":{"$error":"#N/A"}}]
[null,null,null,null,null,null,null,{"$f":"VLOOKUP($G$2:$G$50000,'Location Type (FICM Codes)'!$A$7:$B$188,2,FALSE)","v":{"$error":"#N/A"}},null,null,null,null,null,{"$f":"VLOOKUP(G2936:G12934,'Location Type (FICM Codes)'!$A$7:$C$188,3,FALSE)","v":{"$error":"#N/A"}}]
[null,null,null,null,null,null,null,{"$f":"VLOOKUP($G$2:$G$50000,'Location Type (FICM Codes)'!$A$7:$B$188,2,FALSE)","v":{"$error":"#N/A"}},null,null,null,null,null,{"$f":"VLOOKUP(G2941:G12939,'Location Type (FICM Codes)'!$A$7:$C$188,3,FALSE)","v":{"$error":"#N/A"}}]
[null,null,null,null,null,null,null,{"$f":"VLOOKUP($G$2:$G$50000,'Location Type (FICM Codes)'!$A$7:$B$188,2,FALSE)","v":{"$error":"#N/A"}},null,null,null,null,null,{"$f":"VLOOKUP(G2942:G12940,'Location Type (FICM Codes)'!$A$7:$C$188,3,FALSE)","v":{"$error":"#N/A"}}]
[null,null,null,null,null,null,null,{"$f":"VLOOKUP($G$2:$G$50000,'Location Type (FICM Codes)'!$A$7:$B$188,2,FALSE)","v":{"$error":"#N/A"}},null,null,null,null,null,{"$f":"VLOOKUP(G2947:G12945,'Location Type (FICM Codes)'!$A$7:$C$188,3,FALSE)","v":{"$error":"#N/A"}}]
[null,null,null,null,null,null,null,{"$f":"VLOOKUP($G$2:$G$50000,'Location Type (FICM Codes)'!$A$7:$B$188,2,FALSE)","v":{"$error":"#N/A"}},null,null,null,null,null,{"$f":"VLOOKUP(G2951:G12949,'Location Type (FICM Codes)'!$A$7:$C$188,3,FALSE)","v":{"$error":"#N/A"}}]
[null,null,null,null,null,null,null,{"$f":"VLOOKUP($G$2:$G$50000,'Location Type (FICM Codes)'!$A$7:$B$188,2,FALSE)","v":{"$error":"#N/A"}},null,null,null,null,null,{"$f":"VLOOKUP(G2956:G12954,'Location Type (FICM Codes)'!$A$7:$C$188,3,FALSE)","v":{"$error":"#N/A"}}]
[null,null,null,null,null,null,null,{"$f":"VLOOKUP($G$2:$G$50000,'Location Type (FICM Codes)'!$A$7:$B$188,2,FALSE)","v":{"$error":"#N/A"}},null,null,null,null,null,{"$f":"VLOOKUP(G2957:G12955,'Location Type (FICM Codes)'!$A$7:$C$188,3,FALSE)","v":{"$error":"#N/A"}}]
[null,null,null,null,null,null,null,{"$f":"VLOOKUP($G$2:$G$50000,'Location Type (FICM Codes)'!$A$7:$B$188,2,FALSE)","v":{"$error":"#N/A"}},null,null,null,null,null,{"$f":"VLOOKUP(G2963:G12961,'Location Type (FICM Codes)'!$A$7:$C$188,3,FALSE)","v":{"$error":"#N/A"}}]
[null,null,null,null,null,null,null,{"$f":"VLOOKUP($G$2:$G$50000,'Location Type (FICM Codes)'!$A$7:$B$188,2,FALSE)","v":{"$error":"#N/A"}},null,null,null,null,null,{"$f":"VLOOKUP(G2966:G12964,'Location Type (FICM Codes)'!$A$7:$C$188,3,FALSE)","v":{"$error":"#N/A"}}]
[null,null,null,null,null,null,null,{"$f":"VLOOKUP($G$2:$G$50000,'Location Type (FICM Codes)'!$A$7:$B$188,2,FALSE)","v":{"$error":"#N/A"}},null,null,null,null,null,{"$f":"VLOOKUP(G2971:G12969,'Location Type (FICM Codes)'!$A$7:$C$188,3,FALSE)","v":{"$error":"#N/A"}}]
[null,null,null,null,null,null,null,{"$f":"VLOOKUP($G$2:$G$50000,'Location Type (FICM Codes)'!$A$7:$B$188,2,FALSE)","v":{"$error":"#N/A"}},null,null,null,null,null,{"$f":"VLOOKUP(G2972:G12970,'Location Type (FICM Codes)'!$A$7:$C$188,3,FALSE)","v":{"$error":"#N/A"}}]
[null,null,null,null,null,null,null,{"$f":"VLOOKUP($G$2:$G$50000,'Location Type (FICM Codes)'!$A$7:$B$188,2,FALSE)","v":{"$error":"#N/A"}},null,null,null,null,null,{"$f":"VLOOKUP(G2977:G12975,'Location Type (FICM Codes)'!$A$7:$C$188,3,FALSE)","v":{"$error":"#N/A"}}]
[null,null,null,null,null,null,null,{"$f":"VLOOKUP($G$2:$G$50000,'Location Type (FICM Codes)'!$A$7:$B$188,2,FALSE)","v":{"$error":"#N/A"}},null,null,null,null,null,{"$f":"VLOOKUP(G2981:G12979,'Location Type (FICM Codes)'!$A$7:$C$188,3,FALSE)","v":{"$error":"#N/A"}}]
[null,null,null,null,null,null,null,{"$f":"VLOOKUP($G$2:$G$50000,'Location Type (FICM Codes)'!$A$7:$B$188,2,FALSE)","v":{"$error":"#N/A"}},null,null,null,null,null,{"$f":"VLOOKUP(G2986:G12984,'Location Type (FICM Codes)'!$A$7:$C$188,3,FALSE)","v":{"$error":"#N/A"}}]
[null,null,null,null,null,null,null,{"$f":"VLOOKUP($G$2:$G$50000,'Location Type (FICM Codes)'!$A$7:$B$188,2,FALSE)","v":{"$error":"#N/A"}},null,null,null,null,null,{"$f":"VLOOKUP(G2987:G12985,'Location Type (FICM Codes)'!$A$7:$C$188,3,FALSE)","v":{"$error":"#N/A"}}]
[null,null,null,null,null,null,null,{"$f":"VLOOKUP($G$2:$G$50000,'Location Type (FICM Codes)'!$A$7:$B$188,2,FALSE)","v":{"$error":"#N/A"}},null,null,null,null,null,{"$f":"VLOOKUP(G2993:G12991,'Location Type (FICM Codes)'!$A$7:$C$188,3,FALSE)","v":{"$error":"#N/A"}}]
[null,null,null,null,null,null,null,{"$f":"VLOOKUP($G$2:$G$50000,'Location Type (FICM Codes)'!$A$7:$B$188,2,FALSE)","v":{"$error":"#N/A"}},null,null,null,null,null,{"$f":"VLOOKUP(G2996:G12994,'Location Type (FICM Codes)'!$A$7:$C$188,3,FALSE)","v":{"$error":"#N/A"}}]
[null,null,null,null,null,null,null,{"$f":"VLOOKUP($G$2:$G$50000,'Location Type (FICM Codes)'!$A$7:$B$188,2,FALSE)","v":{"$error":"#N/A"}},null,null,null,null,null,{"$f":"VLOOKUP(G3001:G12999,'Location Type (FICM Codes)'!$A$7:$C$188,3,FALSE)","v":{"$error":"#N/A"}}]
[null,null,null,null,null,null,null,{"$f":"VLOOKUP($G$2:$G$50000,'Location Type (FICM Codes)'!$A$7:$B$188,2,FALSE)","v":{"$error":"#N/A"}},null,null,null,null,null,{"$f":"VLOOKUP(G3002:G13000,'Location Type (FICM Codes)'!$A$7:$C$188,3,FALSE)","v":{"$error":"#N/A"}}]
[null,null,null,null,null,null,null,{"$f":"VLOOKUP($G$2:$G$50000,'Location Type (FICM Codes)'!$A$7:$B$188,2,FALSE)","v":{"$error":"#N/A"}},null,null,null,null,null,{"$f":"VLOOKUP(G3007:G13005,'Location Type (FICM Codes)'!$A$7:$C$188,3,FALSE)","v":{"$error":"#N/A"}}]
[null,null,null,null,null,null,null,{"$f":"VLOOKUP($G$2:$G$50000,'Location Type (FICM Codes)'!$A$7:$B$188,2,FALSE)","v":{"$error":"#N/A"}},null,null,null,null,null,{"$f":"VLOOKUP(G3011:G13009,'Location Type (FICM Codes)'!$A$7:$C$188,3,FALSE)","v":{"$error":"#N/A"}}]
[null,null,null,null,null,null,null,{"$f":"VLOOKUP($G$2:$G$50000,'Location Type (FICM Codes)'!$A$7:$B$188,2,FALSE)","v":{"$error":"#N/A"}},null,null,null,null,null,{"$f":"VLOOKUP(G3016:G13014,'Location Type (FICM Codes)'!$A$7:$C$188,3,FALSE)","v":{"$error":"#N/A"}}]
[null,null,null,null,null,null,null,{"$f":"VLOOKUP($G$2:$G$50000,'Location Type (FICM Codes)'!$A$7:$B$188,2,FALSE)","v":{"$error":"#N/A"}},null,null,null,null,null,{"$f":"VLOOKUP(G3017:G13015,'Location Type (FICM Codes)'!$A$7:$C$188,3,FALSE)","v":{"$error":"#N/A"}}]
[null,null,null,null,null,null,null,{"$f":"VLOOKUP($G$2:$G$50000,'Location Type (FICM Codes)'!$A$7:$B$188,2,FALSE)","v":{"$error":"#N/A"}},null,null,null,null,null,{"$f":"VLOOKUP(G3023:G13021,'Location Type (FICM Codes)'!$A$7:$C$188,3,FALSE)","v":{"$error":"#N/A"}}]
[null,null,null,null,null,null,null,{"$f":"VLOOKUP($G$2:$G$50000,'Location Type (FICM Codes)'!$A$7:$B$188,2,FALSE)","v":{"$error":"#N/A"}},null,null,null,null,null,{"$f":"VLOOKUP(G3026:G13024,'Location Type (FICM Codes)'!$A$7:$C$188,3,FALSE)","v":{"$error":"#N/A"}}]
[null,null,null,null,null,null,null,{"$f":"VLOOKUP($G$2:$G$50000,'Location Type (FICM Codes)'!$A$7:$B$188,2,FALSE)","v":{"$error":"#N/A"}},null,null,null,null,null,{"$f":"VLOOKUP(G3031:G13029,'Location Type (FICM Codes)'!$A$7:$C$188,3,FALSE)","v":{"$error":"#N/A"}}]
[null,null,null,null,null,null,null,{"$f":"VLOOKUP($G$2:$G$50000,'Location Type (FICM Codes)'!$A$7:$B$188,2,FALSE)","v":{"$error":"#N/A"}},null,null,null,null,null,{"$f":"VLOOKUP(G3032:G13030,'Location Type (FICM Codes)'!$A$7:$C$188,3,FALSE)","v":{"$error":"#N/A"}}]
[null,null,null,null,null,null,null,{"$f":"VLOOKUP($G$2:$G$50000,'Location Type (FICM Codes)'!$A$7:$B$188,2,FALSE)","v":{"$error":"#N/A"}},null,null,null,null,null,{"$f":"VLOOKUP(G3037:G13035,'Location Type (FICM Codes)'!$A$7:$C$188,3,FALSE)","v":{"$error":"#N/A"}}]
[null,null,null,null,null,null,null,{"$f":"VLOOKUP($G$2:$G$50000,'Location Type (FICM Codes)'!$A$7:$B$188,2,FALSE)","v":{"$error":"#N/A"}},null,null,null,null,null,{"$f":"VLOOKUP(G3041:G13039,'Location Type (FICM Codes)'!$A$7:$C$188,3,FALSE)","v":{"$error":"#N/A"}}]
[null,null,null,null,null,null,null,{"$f":"VLOOKUP($G$2:$G$50000,'Location Type (FICM Codes)'!$A$7:$B$188,2,FALSE)","v":{"$error":"#N/A"}},null,null,null,null,null,{"$f":"VLOOKUP(G3046:G13044,'Location Type (FICM Codes)'!$A$7:$C$188,3,FALSE)","v":{"$error":"#N/A"}}]
[null,null,null,null,null,null,null,{"$f":"VLOOKUP($G$2:$G$50000,'Location Type (FICM Codes)'!$A$7:$B$188,2,FALSE)","v":{"$error":"#N/A"}},null,null,null,null,null,{"$f":"VLOOKUP(G3047:G13045,'Location Type (FICM Codes)'!$A$7:$C$188,3,FALSE)","v":{"$error":"#N/A"}}]
[null,null,null,null,null,null,null,{"$f":"VLOOKUP($G$2:$G$50000,'Location Type (FICM Codes)'!$A$7:$B$188,2,FALSE)","v":{"$error":"#N/A"}},null,null,null,null,null,{"$f":"VLOOKUP(G3053:G13051,'Location Type (FICM Codes)'!$A$7:$C$188,3,FALSE)","v":{"$error":"#N/A"}}]
[null,null,null,null,null,null,null,{"$f":"VLOOKUP($G$2:$G$50000,'Location Type (FICM Codes)'!$A$7:$B$188,2,FALSE)","v":{"$error":"#N/A"}},null,null,null,null,null,{"$f":"VLOOKUP(G3056:G13054,'Location Type (FICM Codes)'!$A$7:$C$188,3,FALSE)","v":{"$error":"#N/A"}}]
[null,null,null,null,null,null,null,{"$f":"VLOOKUP($G$2:$G$50000,'Location Type (FICM Codes)'!$A$7:$B$188,2,FALSE)","v":{"$error":"#N/A"}},null,null,null,null,null,{"$f":"VLOOKUP(G3061:G13059,'Location Type (FICM Codes)'!$A$7:$C$188,3,FALSE)","v":{"$error":"#N/A"}}]
[null,null,null,null,null,null,null,{"$f":"VLOOKUP($G$2:$G$50000,'Location Type (FICM Codes)'!$A$7:$B$188,2,FALSE)","v":{"$error":"#N/A"}},null,null,null,null,null,{"$f":"VLOOKUP(G3062:G13060,'Location Type (FICM Codes)'!$A$7:$C$188,3,FALSE)","v":{"$error":"#N/A"}}]
[null,null,null,null,null,null,null,{"$f":"VLOOKUP($G$2:$G$50000,'Location Type (FICM Codes)'!$A$7:$B$188,2,FALSE)","v":{"$error":"#N/A"}},null,null,null,null,null,{"$f":"VLOOKUP(G3067:G13065,'Location Type (FICM Codes)'!$A$7:$C$188,3,FALSE)","v":{"$error":"#N/A"}}]
[null,null,null,null,null,null,null,{"$f":"VLOOKUP($G$2:$G$50000,'Location Type (FICM Codes)'!$A$7:$B$188,2,FALSE)","v":{"$error":"#N/A"}},null,null,null,null,null,{"$f":"VLOOKUP(G3071:G13069,'Location Type (FICM Codes)'!$A$7:$C$188,3,FALSE)","v":{"$error":"#N/A"}}]
[null,null,null,null,null,null,null,{"$f":"VLOOKUP($G$2:$G$50000,'Location Type (FICM Codes)'!$A$7:$B$188,2,FALSE)","v":{"$error":"#N/A"}},null,null,null,null,null,{"$f":"VLOOKUP(G3076:G13074,'Location Type (FICM Codes)'!$A$7:$C$188,3,FALSE)","v":{"$error":"#N/A"}}]
[null,null,null,null,null,null,null,{"$f":"VLOOKUP($G$2:$G$50000,'Location Type (FICM Codes)'!$A$7:$B$188,2,FALSE)","v":{"$error":"#N/A"}},null,null,null,null,null,{"$f":"VLOOKUP(G3077:G13075,'Location Type (FICM Codes)'!$A$7:$C$188,3,FALSE)","v":{"$error":"#N/A"}}]
[null,null,null,null,null,null,null,{"$f":"VLOOKUP($G$2:$G$50000,'Location Type (FICM Codes)'!$A$7:$B$188,2,FALSE)","v":{"$error":"#N/A"}},null,null,null,null,null,{"$f":"VLOOKUP(G3081:G13079,'Location Type (FICM Codes)'!$A$7:$C$188,3,FALSE)","v":{"$error":"#N/A"}}]
[null,null,null,null,null,null,null,{"$f":"VLOOKUP($G$2:$G$50000,'Location Type (FICM Codes)'!$A$7:$B$188,2,FALSE)","v":{"$error":"#N/A"}},null,null,null,null,null,{"$f":"VLOOKUP(G3086:G13084,'Location Type (FICM Codes)'!$A$7:$C$188,3,FALSE)","v":{"$error":"#N/A"}}]
[null,null,null,null,null,null,null,{"$f":"VLOOKUP($G$2:$G$50000,'Location Type (FICM Codes)'!$A$7:$B$188,2,FALSE)","v":{"$error":"#N/A"}},null,null,null,null,null,{"$f":"VLOOKUP(G3091:G13089,'Location Type (FICM Codes)'!$A$7:$C$188,3,FALSE)","v":{"$error":"#N/A"}}]
[null,null,null,null,null,null,null,{"$f":"VLOOKUP($G$2:$G$50000,'Location Type (FICM Codes)'!$A$7:$B$188,2,FALSE)","v":{"$error":"#N/A"}},null,null,null,null,null,{"$f":"VLOOKUP(G3092:G13090,'Location Type (FICM Codes)'!$A$7:$C$188,3,FALSE)","v":{"$error":"#N/A"}}]
[null,null,null,null,null,null,null,{"$f":"VLOOKUP($G$2:$G$50000,'Location Type (FICM Codes)'!$A$7:$B$188,2,FALSE)","v":{"$error":"#N/A"}},null,null,null,null,null,{"$f":"VLOOKUP(G3097:G13095,'Location Type (FICM Codes)'!$A$7:$C$188,3,FALSE)","v":{"$error":"#N/A"}}]
[null,null,null,null,null,null,null,{"$f":"VLOOKUP($G$2:$G$50000,'Location Type (FICM Codes)'!$A$7:$B$188,2,FALSE)","v":{"$error":"#N/A"}},null,null,null,null,null,{"$f":"VLOOKUP(G3101:G13099,'Location Type (FICM Codes)'!$A$7:$C$188,3,FALSE)","v":{"$error":"#N/A"}}]
[null,null,null,null,null,null,null,{"$f":"VLOOKUP($G$2:$G$50000,'Location Type (FICM Codes)'!$A$7:$B$188,2,FALSE)","v":{"$error":"#N/A"}},null,null,null,null,null,{"$f":"VLOOKUP(G3106:G13104,'Location Type (FICM Codes)'!$A$7:$C$188,3,FALSE)","v":{"$error":"#N/A"}}]
[null,null,null,null,null,null,null,{"$f":"VLOOKUP($G$2:$G$50000,'Location Type (FICM Codes)'!$A$7:$B$188,2,FALSE)","v":{"$error":"#N/A"}},null,null,null,null,null,{"$f":"VLOOKUP(G3107:G13105,'Location Type (FICM Codes)'!$A$7:$C$188,3,FALSE)","v":{"$error":"#N/A"}}]
[null,null,null,null,null,null,null,{"$f":"VLOOKUP($G$2:$G$50000,'Location Type (FICM Codes)'!$A$7:$B$188,2,FALSE)","v":{"$error":"#N/A"}},null,null,null,null,null,{"$f":"VLOOKUP(G3111:G13109,'Location Type (FICM Codes)'!$A$7:$C$188,3,FALSE)","v":{"$error":"#N/A"}}]
[null,null,null,null,null,null,null,{"$f":"VLOOKUP($G$2:$G$50000,'Location Type (FICM Codes)'!$A$7:$B$188,2,FALSE)","v":{"$error":"#N/A"}},null,null,null,null,null,{"$f":"VLOOKUP(G3116:G13114,'Location Type (FICM Codes)'!$A$7:$C$188,3,FALSE)","v":{"$error":"#N/A"}}]
[null,null,null,null,null,null,null,{"$f":"VLOOKUP($G$2:$G$50000,'Location Type (FICM Codes)'!$A$7:$B$188,2,FALSE)","v":{"$error":"#N/A"}},null,null,null,null,null,{"$f":"VLOOKUP(G3121:G13119,'Location Type (FICM Codes)'!$A$7:$C$188,3,FALSE)","v":{"$error":"#N/A"}}]
[null,null,null,null,null,null,null,{"$f":"VLOOKUP($G$2:$G$50000,'Location Type (FICM Codes)'!$A$7:$B$188,2,FALSE)","v":{"$error":"#N/A"}},null,null,null,null,null,{"$f":"VLOOKUP(G3122:G13120,'Location Type (FICM Codes)'!$A$7:$C$188,3,FALSE)","v":{"$error":"#N/A"}}]
[null,null,null,null,null,null,null,{"$f":"VLOOKUP($G$2:$G$50000,'Location Type (FICM Codes)'!$A$7:$B$188,2,FALSE)","v":{"$error":"#N/A"}},null,null,null,null,null,{"$f":"VLOOKUP(G3127:G13125,'Location Type (FICM Codes)'!$A$7:$C$188,3,FALSE)","v":{"$error":"#N/A"}}]
[null,null,null,null,null,null,null,{"$f":"VLOOKUP($G$2:$G$50000,'Location Type (FICM Codes)'!$A$7:$B$188,2,FALSE)","v":{"$error":"#N/A"}},null,null,null,null,null,{"$f":"VLOOKUP(G3131:G13129,'Location Type (FICM Codes)'!$A$7:$C$188,3,FALSE)","v":{"$error":"#N/A"}}]
[null,null,null,null,null,null,null,{"$f":"VLOOKUP($G$2:$G$50000,'Location Type (FICM Codes)'!$A$7:$B$188,2,FALSE)","v":{"$error":"#N/A"}},null,null,null,null,null,{"$f":"VLOOKUP(G3136:G13134,'Location Type (FICM Codes)'!$A$7:$C$188,3,FALSE)","v":{"$error":"#N/A"}}]
[null,null,null,null,null,null,null,{"$f":"VLOOKUP($G$2:$G$50000,'Location Type (FICM Codes)'!$A$7:$B$188,2,FALSE)","v":{"$error":"#N/A"}},null,null,null,null,null,{"$f":"VLOOKUP(G3137:G13135,'Location Type (FICM Codes)'!$A$7:$C$188,3,FALSE)","v":{"$error":"#N/A"}}]
[null,null,null,null,null,null,null,{"$f":"VLOOKUP($G$2:$G$50000,'Location Type (FICM Codes)'!$A$7:$B$188,2,FALSE)","v":{"$error":"#N/A"}},null,null,null,null,null,{"$f":"VLOOKUP(G3141:G13139,'Location Type (FICM Codes)'!$A$7:$C$188,3,FALSE)","v":{"$error":"#N/A"}}]
[null,null,null,null,null,null,null,{"$f":"VLOOKUP($G$2:$G$50000,'Location Type (FICM Codes)'!$A$7:$B$188,2,FALSE)","v":{"$error":"#N/A"}},null,null,null,null,null,{"$f":"VLOOKUP(G3146:G13144,'Location Type (FICM Codes)'!$A$7:$C$188,3,FALSE)","v":{"$error":"#N/A"}}]
[null,null,null,null,null,null,null,{"$f":"VLOOKUP($G$2:$G$50000,'Location Type (FICM Codes)'!$A$7:$B$188,2,FALSE)","v":{"$error":"#N/A"}},null,null,null,null,null,{"$f":"VLOOKUP(G3151:G13149,'Location Type (FICM Codes)'!$A$7:$C$188,3,FALSE)","v":{"$error":"#N/A"}}]
[null,null,null,null,null,null,null,{"$f":"VLOOKUP($G$2:$G$50000,'Location Type (FICM Codes)'!$A$7:$B$188,2,FALSE)","v":{"$error":"#N/A"}},null,null,null,null,null,{"$f":"VLOOKUP(G3152:G13150,'Location Type (FICM Codes)'!$A$7:$C$188,3,FALSE)","v":{"$error":"#N/A"}}]
[null,null,null,null,null,null,null,{"$f":"VLOOKUP($G$2:$G$50000,'Location Type (FICM Codes)'!$A$7:$B$188,2,FALSE)","v":{"$error":"#N/A"}},null,null,null,null,null,{"$f":"VLOOKUP(G3157:G13155,'Location Type (FICM Codes)'!$A$7:$C$188,3,FALSE)","v":{"$error":"#N/A"}}]
[null,null,null,null,null,null,null,{"$f":"VLOOKUP($G$2:$G$50000,'Location Type (FICM Codes)'!$A$7:$B$188,2,FALSE)","v":{"$error":"#N/A"}},null,null,null,null,null,{"$f":"VLOOKUP(G3161:G13159,'Location Type (FICM Codes)'!$A$7:$C$188,3,FALSE)","v":{"$error":"#N/A"}}]
[null,null,null,null,null,null,null,{"$f":"VLOOKUP($G$2:$G$50000,'Location Type (FICM Codes)'!$A$7:$B$188,2,FALSE)","v":{"$error":"#N/A"}},null,null,null,null,null,{"$f":"VLOOKUP(G3166:G13164,'Location Type (FICM Codes)'!$A$7:$C$188,3,FALSE)","v":{"$error":"#N/A"}}]
[null,null,null,null,null,null,null,{"$f":"VLOOKUP($G$2:$G$50000,'Location Type (FICM Codes)'!$A$7:$B$188,2,FALSE)","v":{"$error":"#N/A"}},null,null,null,null,null,{"$f":"VLOOKUP(G3167:G13165,'Location Type (FICM Codes)'!$A$7:$C$188,3,FALSE)","v":{"$error":"#N/A"}}]
[null,null,null,null,null,null,null,{"$f":"VLOOKUP($G$2:$G$50000,'Location Type (FICM Codes)'!$A$7:$B$188,2,FALSE)","v":{"$error":"#N/A"}},null,null,null,null,null,{"$f":"VLOOKUP(G3171:G13169,'Location Type (FICM Codes)'!$A$7:$C$188,3,FALSE)","v":{"$error":"#N/A"}}]
[null,null,null,null,null,null,null,{"$f":"VLOOKUP($G$2:$G$50000,'Location Type (FICM Codes)'!$A$7:$B$188,2,FALSE)","v":{"$error":"#N/A"}},null,null,null,null,null,{"$f":"VLOOKUP(G3176:G13174,'Location Type (FICM Codes)'!$A$7:$C$188,3,FALSE)","v":{"$error":"#N/A"}}]
[null,null,null,null,null,null,null,{"$f":"VLOOKUP($G$2:$G$50000,'Location Type (FICM Codes)'!$A$7:$B$188,2,FALSE)","v":{"$error":"#N/A"}},null,null,null,null,null,{"$f":"VLOOKUP(G3181:G13179,'Location Type (FICM Codes)'!$A$7:$C$188,3,FALSE)","v":{"$error":"#N/A"}}]
[null,null,null,null,null,null,null,{"$f":"VLOOKUP($G$2:$G$50000,'Location Type (FICM Codes)'!$A$7:$B$188,2,FALSE)","v":{"$error":"#N/A"}},null,null,null,null,null,{"$f":"VLOOKUP(G3182:G13180,'Location Type (FICM Codes)'!$A$7:$C$188,3,FALSE)","v":{"$error":"#N/A"}}]
[null,null,null,null,null,null,null,{"$f":"VLOOKUP($G$2:$G$50000,'Location Type (FICM Codes)'!$A$7:$B$188,2,FALSE)","v":{"$error":"#N/A"}},null,null,null,null,null,{"$f":"VLOOKUP(G3187:G13185,'Location Type (FICM Codes)'!$A$7:$C$188,3,FALSE)","v":{"$error":"#N/A"}}]
[null,null,null,null,null,null,null,{"$f":"VLOOKUP($G$2:$G$50000,'Location Type (FICM Codes)'!$A$7:$B$188,2,FALSE)","v":{"$error":"#N/A"}},null,null,null,null,null,{"$f":"VLOOKUP(G3191:G13189,'Location Type (FICM Codes)'!$A$7:$C$188,3,FALSE)","v":{"$error":"#N/A"}}]
[null,null,null,null,null,null,null,{"$f":"VLOOKUP($G$2:$G$50000,'Location Type (FICM Codes)'!$A$7:$B$188,2,FALSE)","v":{"$error":"#N/A"}},null,null,null,null,null,{"$f":"VLOOKUP(G3196:G13194,'Location Type (FICM Codes)'!$A$7:$C$188,3,FALSE)","v":{"$error":"#N/A"}}]
[null,null,null,null,null,null,null,{"$f":"VLOOKUP($G$2:$G$50000,'Location Type (FICM Codes)'!$A$7:$B$188,2,FALSE)","v":{"$error":"#N/A"}},null,null,null,null,null,{"$f":"VLOOKUP(G3197:G13195,'Location Type (FICM Codes)'!$A$7:$C$188,3,FALSE)","v":{"$error":"#N/A"}}]
[null,null,null,null,null,null,null,{"$f":"VLOOKUP($G$2:$G$50000,'Location Type (FICM Codes)'!$A$7:$B$188,2,FALSE)","v":{"$error":"#N/A"}},null,null,null,null,null,{"$f":"VLOOKUP(G3201:G13199,'Location Type (FICM Codes)'!$A$7:$C$188,3,FALSE)","v":{"$error":"#N/A"}}]
[null,null,null,null,null,null,null,{"$f":"VLOOKUP($G$2:$G$50000,'Location Type (FICM Codes)'!$A$7:$B$188,2,FALSE)","v":{"$error":"#N/A"}},null,null,null,null,null,{"$f":"VLOOKUP(G3206:G13204,'Location Type (FICM Codes)'!$A$7:$C$188,3,FALSE)","v":{"$error":"#N/A"}}]
[null,null,null,null,null,null,null,{"$f":"VLOOKUP($G$2:$G$50000,'Location Type (FICM Codes)'!$A$7:$B$188,2,FALSE)","v":{"$error":"#N/A"}},null,null,null,null,null,{"$f":"VLOOKUP(G3211:G13209,'Location Type (FICM Codes)'!$A$7:$C$188,3,FALSE)","v":{"$error":"#N/A"}}]
[null,null,null,null,null,null,null,{"$f":"VLOOKUP($G$2:$G$50000,'Location Type (FICM Codes)'!$A$7:$B$188,2,FALSE)","v":{"$error":"#N/A"}},null,null,null,null,null,{"$f":"VLOOKUP(G3212:G13210,'Location Type (FICM Codes)'!$A$7:$C$188,3,FALSE)","v":{"$error":"#N/A"}}]
[null,null,null,null,null,null,null,{"$f":"VLOOKUP($G$2:$G$50000,'Location Type (FICM Codes)'!$A$7:$B$188,2,FALSE)","v":{"$error":"#N/A"}},null,null,null,null,null,{"$f":"VLOOKUP(G3217:G13215,'Location Type (FICM Codes)'!$A$7:$C$188,3,FALSE)","v":{"$error":"#N/A"}}]
[null,null,null,null,null,null,null,{"$f":"VLOOKUP($G$2:$G$50000,'Location Type (FICM Codes)'!$A$7:$B$188,2,FALSE)","v":{"$error":"#N/A"}},null,null,null,null,null,{"$f":"VLOOKUP(G3221:G13219,'Location Type (FICM Codes)'!$A$7:$C$188,3,FALSE)","v":{"$error":"#N/A"}}]
[null,null,null,null,null,null,null,{"$f":"VLOOKUP($G$2:$G$50000,'Location Type (FICM Codes)'!$A$7:$B$188,2,FALSE)","v":{"$error":"#N/A"}},null,null,null,null,null,{"$f":"VLOOKUP(G3226:G13224,'Location Type (FICM Codes)'!$A$7:$C$188,3,FALSE)","v":{"$error":"#N/A"}}]
[null,null,null,null,null,null,null,{"$f":"VLOOKUP($G$2:$G$50000,'Location Type (FICM Codes)'!$A$7:$B$188,2,FALSE)","v":{"$error":"#N/A"}},null,null,null,null,null,{"$f":"VLOOKUP(G3227:G13225,'Location Type (FICM Codes)'!$A$7:$C$188,3,FALSE)","v":{"$error":"#N/A"}}]
[null,null,null,null,null,null,null,{"$f":"VLOOKUP($G$2:$G$50000,'Location Type (FICM Codes)'!$A$7:$B$188,2,FALSE)","v":{"$error":"#N/A"}},null,null,null,null,null,{"$f":"VLOOKUP(G3231:G13229,'Location Type (FICM Codes)'!$A$7:$C$188,3,FALSE)","v":{"$error":"#N/A"}}]
[null,null,null,null,null,null,null,{"$f":"VLOOKUP($G$2:$G$50000,'Location Type (FICM Codes)'!$A$7:$B$188,2,FALSE)","v":{"$error":"#N/A"}},null,null,null,null,null,{"$f":"VLOOKUP(G3236:G13234,'Location Type (FICM Codes)'!$A$7:$C$188,3,FALSE)","v":{"$error":"#N/A"}}]
[null,null,null,null,null,null,null,{"$f":"VLOOKUP($G$2:$G$50000,'Location Type (FICM Codes)'!$A$7:$B$188,2,FALSE)","v":{"$error":"#N/A"}},null,null,null,null,null,{"$f":"VLOOKUP(G3241:G13239,'Location Type (FICM Codes)'!$A$7:$C$188,3,FALSE)","v":{"$error":"#N/A"}}]
[null,null,null,null,null,null,null,{"$f":"VLOOKUP($G$2:$G$50000,'Location Type (FICM Codes)'!$A$7:$B$188,2,FALSE)","v":{"$error":"#N/A"}},null,null,null,null,null,{"$f":"VLOOKUP(G3242:G13240,'Location Type (FICM Codes)'!$A$7:$C$188,3,FALSE)","v":{"$error":"#N/A"}}]
[null,null,null,null,null,null,null,{"$f":"VLOOKUP($G$2:$G$50000,'Location Type (FICM Codes)'!$A$7:$B$188,2,FALSE)","v":{"$error":"#N/A"}},null,null,null,null,null,{"$f":"VLOOKUP(G3247:G13245,'Location Type (FICM Codes)'!$A$7:$C$188,3,FALSE)","v":{"$error":"#N/A"}}]
[null,null,null,null,null,null,null,{"$f":"VLOOKUP($G$2:$G$50000,'Location Type (FICM Codes)'!$A$7:$B$188,2,FALSE)","v":{"$error":"#N/A"}},null,null,null,null,null,{"$f":"VLOOKUP(G3251:G13249,'Location Type (FICM Codes)'!$A$7:$C$188,3,FALSE)","v":{"$error":"#N/A"}}]
[null,null,null,null,null,null,null,{"$f":"VLOOKUP($G$2:$G$50000,'Location Type (FICM Codes)'!$A$7:$B$188,2,FALSE)","v":{"$error":"#N/A"}},null,null,null,null,null,{"$f":"VLOOKUP(G3256:G13254,'Location Type (FICM Codes)'!$A$7:$C$188,3,FALSE)","v":{"$error":"#N/A"}}]
[null,null,null,null,null,null,null,{"$f":"VLOOKUP($G$2:$G$50000,'Location Type (FICM Codes)'!$A$7:$B$188,2,FALSE)","v":{"$error":"#N/A"}},null,null,null,null,null,{"$f":"VLOOKUP(G3257:G13255,'Location Type (FICM Codes)'!$A$7:$C$188,3,FALSE)","v":{"$error":"#N/A"}}]
[null,null,null,null,null,null,null,{"$f":"VLOOKUP($G$2:$G$50000,'Location Type (FICM Codes)'!$A$7:$B$188,2,FALSE)","v":{"$error":"#N/A"}},null,null,null,null,null,{"$f":"VLOOKUP(G3261:G13259,'Location Type (FICM Codes)'!$A$7:$C$188,3,FALSE)","v":{"$error":"#N/A"}}]
[null,null,null,null,null,null,null,{"$f":"VLOOKUP($G$2:$G$50000,'Location Type (FICM Codes)'!$A$7:$B$188,2,FALSE)","v":{"$error":"#N/A"}},null,null,null,null,null,{"$f":"VLOOKUP(G3266:G13264,'Location Type (FICM Codes)'!$A$7:$C$188,3,FALSE)","v":{"$error":"#N/A"}}]
[null,null,null,null,null,null,null,{"$f":"VLOOKUP($G$2:$G$50000,'Location Type (FICM Codes)'!$A$7:$B$188,2,FALSE)","v":{"$error":"#N/A"}},null,null,null,null,null,{"$f":"VLOOKUP(G3271:G13269,'Location Type (FICM Codes)'!$A$7:$C$188,3,FALSE)","v":{"$error":"#N/A"}}]
[null,null,null,null,null,null,null,{"$f":"VLOOKUP($G$2:$G$50000,'Location Type (FICM Codes)'!$A$7:$B$188,2,FALSE)","v":{"$error":"#N/A"}},null,null,null,null,null,{"$f":"VLOOKUP(G3272:G13270,'Location Type (FICM Codes)'!$A$7:$C$188,3,FALSE)","v":{"$error":"#N/A"}}]
[null,null,null,null,null,null,null,{"$f":"VLOOKUP($G$2:$G$50000,'Location Type (FICM Codes)'!$A$7:$B$188,2,FALSE)","v":{"$error":"#N/A"}},null,null,null,null,null,{"$f":"VLOOKUP(G3277:G13275,'Location Type (FICM Codes)'!$A$7:$C$188,3,FALSE)","v":{"$error":"#N/A"}}]
[null,null,null,null,null,null,null,{"$f":"VLOOKUP($G$2:$G$50000,'Location Type (FICM Codes)'!$A$7:$B$188,2,FALSE)","v":{"$error":"#N/A"}},null,null,null,null,null,{"$f":"VLOOKUP(G3281:G13279,'Location Type (FICM Codes)'!$A$7:$C$188,3,FALSE)","v":{"$error":"#N/A"}}]
[null,null,null,null,null,null,null,{"$f":"VLOOKUP($G$2:$G$50000,'Location Type (FICM Codes)'!$A$7:$B$188,2,FALSE)","v":{"$error":"#N/A"}},null,null,null,null,null,{"$f":"VLOOKUP(G3286:G13284,'Location Type (FICM Codes)'!$A$7:$C$188,3,FALSE)","v":{"$error":"#N/A"}}]
[null,null,null,null,null,null,null,{"$f":"VLOOKUP($G$2:$G$50000,'Location Type (FICM Codes)'!$A$7:$B$188,2,FALSE)","v":{"$error":"#N/A"}},null,null,null,null,null,{"$f":"VLOOKUP(G3287:G13285,'Location Type (FICM Codes)'!$A$7:$C$188,3,FALSE)","v":{"$error":"#N/A"}}]
[null,null,null,null,null,null,null,{"$f":"VLOOKUP($G$2:$G$50000,'Location Type (FICM Codes)'!$A$7:$B$188,2,FALSE)","v":{"$error":"#N/A"}},null,null,null,null,null,{"$f":"VLOOKUP(G3291:G13289,'Location Type (FICM Codes)'!$A$7:$C$188,3,FALSE)","v":{"$error":"#N/A"}}]
[null,null,null,null,null,null,null,{"$f":"VLOOKUP($G$2:$G$50000,'Location Type (FICM Codes)'!$A$7:$B$188,2,FALSE)","v":{"$error":"#N/A"}},null,null,null,null,null,{"$f":"VLOOKUP(G3296:G13294,'Location Type (FICM Codes)'!$A$7:$C$188,3,FALSE)","v":{"$error":"#N/A"}}]
[null,null,null,null,null,null,null,{"$f":"VLOOKUP($G$2:$G$50000,'Location Type (FICM Codes)'!$A$7:$B$188,2,FALSE)","v":{"$error":"#N/A"}},null,null,null,null,null,{"$f":"VLOOKUP(G3301:G13299,'Location Type (FICM Codes)'!$A$7:$C$188,3,FALSE)","v":{"$error":"#N/A"}}]
[null,null,null,null,null,null,null,{"$f":"VLOOKUP($G$2:$G$50000,'Location Type (FICM Codes)'!$A$7:$B$188,2,FALSE)","v":{"$error":"#N/A"}},null,null,null,null,null,{"$f":"VLOOKUP(G3302:G13300,'Location Type (FICM Codes)'!$A$7:$C$188,3,FALSE)","v":{"$error":"#N/A"}}]
[null,null,null,null,null,null,null,{"$f":"VLOOKUP($G$2:$G$50000,'Location Type (FICM Codes)'!$A$7:$B$188,2,FALSE)","v":{"$error":"#N/A"}},null,null,null,null,null,{"$f":"VLOOKUP(G3307:G13305,'Location Type (FICM Codes)'!$A$7:$C$188,3,FALSE)","v":{"$error":"#N/A"}}]
[null,null,null,null,null,null,null,{"$f":"VLOOKUP($G$2:$G$50000,'Location Type (FICM Codes)'!$A$7:$B$188,2,FALSE)","v":{"$error":"#N/A"}},null,null,null,null,null,{"$f":"VLOOKUP(G3311:G13309,'Location Type (FICM Codes)'!$A$7:$C$188,3,FALSE)","v":{"$error":"#N/A"}}]
[null,null,null,null,null,null,null,{"$f":"VLOOKUP($G$2:$G$50000,'Location Type (FICM Codes)'!$A$7:$B$188,2,FALSE)","v":{"$error":"#N/A"}},null,null,null,null,null,{"$f":"VLOOKUP(G3316:G13314,'Location Type (FICM Codes)'!$A$7:$C$188,3,FALSE)","v":{"$error":"#N/A"}}]
[null,null,null,null,null,null,null,{"$f":"VLOOKUP($G$2:$G$50000,'Location Type (FICM Codes)'!$A$7:$B$188,2,FALSE)","v":{"$error":"#N/A"}},null,null,null,null,null,{"$f":"VLOOKUP(G3317:G13315,'Location Type (FICM Codes)'!$A$7:$C$188,3,FALSE)","v":{"$error":"#N/A"}}]
[null,null,null,null,null,null,null,{"$f":"VLOOKUP($G$2:$G$50000,'Location Type (FICM Codes)'!$A$7:$B$188,2,FALSE)","v":{"$error":"#N/A"}},null,null,null,null,null,{"$f":"VLOOKUP(G3321:G13319,'Location Type (FICM Codes)'!$A$7:$C$188,3,FALSE)","v":{"$error":"#N/A"}}]
[null,null,null,null,null,null,null,{"$f":"VLOOKUP($G$2:$G$50000,'Location Type (FICM Codes)'!$A$7:$B$188,2,FALSE)","v":{"$error":"#N/A"}},null,null,null,null,null,{"$f":"VLOOKUP(G3326:G13324,'Location Type (FICM Codes)'!$A$7:$C$188,3,FALSE)","v":{"$error":"#N/A"}}]
[null,null,null,null,null,null,null,{"$f":"VLOOKUP($G$2:$G$50000,'Location Type (FICM Codes)'!$A$7:$B$188,2,FALSE)","v":{"$error":"#N/A"}},null,null,null,null,null,{"$f":"VLOOKUP(G3331:G13329,'Location Type (FICM Codes)'!$A$7:$C$188,3,FALSE)","v":{"$error":"#N/A"}}]
[null,null,null,null,null,null,null,{"$f":"VLOOKUP($G$2:$G$50000,'Location Type (FICM Codes)'!$A$7:$B$188,2,FALSE)","v":{"$error":"#N/A"}},null,null,null,null,null,{"$f":"VLOOKUP(G3332:G13330,'Location Type (FICM Codes)'!$A$7:$C$188,3,FALSE)","v":{"$error":"#N/A"}}]
[null,null,null,null,null,null,null,{"$f":"VLOOKUP($G$2:$G$50000,'Location Type (FICM Codes)'!$A$7:$B$188,2,FALSE)","v":{"$error":"#N/A"}},null,null,null,null,null,{"$f":"VLOOKUP(G3337:G13335,'Location Type (FICM Codes)'!$A$7:$C$188,3,FALSE)","v":{"$error":"#N/A"}}]
[null,null,null,null,null,null,null,{"$f":"VLOOKUP($G$2:$G$50000,'Location Type (FICM Codes)'!$A$7:$B$188,2,FALSE)","v":{"$error":"#N/A"}},null,null,null,null,null,{"$f":"VLOOKUP(G3341:G13339,'Location Type (FICM Codes)'!$A$7:$C$188,3,FALSE)","v":{"$error":"#N/A"}}]
[null,null,null,null,null,null,null,{"$f":"VLOOKUP($G$2:$G$50000,'Location Type (FICM Codes)'!$A$7:$B$188,2,FALSE)","v":{"$error":"#N/A"}},null,null,null,null,null,{"$f":"VLOOKUP(G3346:G13344,'Location Type (FICM Codes)'!$A$7:$C$188,3,FALSE)","v":{"$error":"#N/A"}}]
[null,null,null,null,null,null,null,{"$f":"VLOOKUP($G$2:$G$50000,'Location Type (FICM Codes)'!$A$7:$B$188,2,FALSE)","v":{"$error":"#N/A"}},null,null,null,null,null,{"$f":"VLOOKUP(G3347:G13345,'Location Type (FICM Codes)'!$A$7:$C$188,3,FALSE)","v":{"$error":"#N/A"}}]
[null,null,null,null,null,null,null,{"$f":"VLOOKUP($G$2:$G$50000,'Location Type (FICM Codes)'!$A$7:$B$188,2,FALSE)","v":{"$error":"#N/A"}},null,null,null,null,null,{"$f":"VLOOKUP(G3351:G13349,'Location Type (FICM Codes)'!$A$7:$C$188,3,FALSE)","v":{"$error":"#N/A"}}]
[null,null,null,null,null,null,null,{"$f":"VLOOKUP($G$2:$G$50000,'Location Type (FICM Codes)'!$A$7:$B$188,2,FALSE)","v":{"$error":"#N/A"}},null,null,null,null,null,{"$f":"VLOOKUP(G3356:G13354,'Location Type (FICM Codes)'!$A$7:$C$188,3,FALSE)","v":{"$error":"#N/A"}}]
[null,null,null,null,null,null,null,{"$f":"VLOOKUP($G$2:$G$50000,'Location Type (FICM Codes)'!$A$7:$B$188,2,FALSE)","v":{"$error":"#N/A"}},null,null,null,null,null,{"$f":"VLOOKUP(G3361:G13359,'Location Type (FICM Codes)'!$A$7:$C$188,3,FALSE)","v":{"$error":"#N/A"}}]
[null,null,null,null,null,null,null,{"$f":"VLOOKUP($G$2:$G$50000,'Location Type (FICM Codes)'!$A$7:$B$188,2,FALSE)","v":{"$error":"#N/A"}},null,null,null,null,null,{"$f":"VLOOKUP(G3362:G13360,'Location Type (FICM Codes)'!$A$7:$C$188,3,FALSE)","v":{"$error":"#N/A"}}]
[null,null,null,null,null,null,null,{"$f":"VLOOKUP($G$2:$G$50000,'Location Type (FICM Codes)'!$A$7:$B$188,2,FALSE)","v":{"$error":"#N/A"}},null,null,null,null,null,{"$f":"VLOOKUP(G3368:G13366,'Location Type (FICM Codes)'!$A$7:$C$188,3,FALSE)","v":{"$error":"#N/A"}}]
[null,null,null,null,null,null,null,{"$f":"VLOOKUP($G$2:$G$50000,'Location Type (FICM Codes)'!$A$7:$B$188,2,FALSE)","v":{"$error":"#N/A"}},null,null,null,null,null,{"$f":"VLOOKUP(G3371:G13369,'Location Type (FICM Codes)'!$A$7:$C$188,3,FALSE)","v":{"$error":"#N/A"}}]
[null,null,null,null,null,null,null,{"$f":"VLOOKUP($G$2:$G$50000,'Location Type (FICM Codes)'!$A$7:$B$188,2,FALSE)","v":{"$error":"#N/A"}},null,null,null,null,null,{"$f":"VLOOKUP(G3376:G13374,'Location Type (FICM Codes)'!$A$7:$C$188,3,FALSE)","v":{"$error":"#N/A"}}]
[null,null,null,null,null,null,null,{"$f":"VLOOKUP($G$2:$G$50000,'Location Type (FICM Codes)'!$A$7:$B$188,2,FALSE)","v":{"$error":"#N/A"}},null,null,null,null,null,{"$f":"VLOOKUP(G3377:G13375,'Location Type (FICM Codes)'!$A$7:$C$188,3,FALSE)","v":{"$error":"#N/A"}}]
[null,null,null,null,null,null,null,{"$f":"VLOOKUP($G$2:$G$50000,'Location Type (FICM Codes)'!$A$7:$B$188,2,FALSE)","v":{"$error":"#N/A"}},null,null,null,null,null,{"$f":"VLOOKUP(G3381:G13379,'Location Type (FICM Codes)'!$A$7:$C$188,3,FALSE)","v":{"$error":"#N/A"}}]
[null,null,null,null,null,null,null,{"$f":"VLOOKUP($G$2:$G$50000,'Location Type (FICM Codes)'!$A$7:$B$188,2,FALSE)","v":{"$error":"#N/A"}},null,null,null,null,null,{"$f":"VLOOKUP(G3386:G13384,'Location Type (FICM Codes)'!$A$7:$C$188,3,FALSE)","v":{"$error":"#N/A"}}]
[null,null,null,null,null,null,null,{"$f":"VLOOKUP($G$2:$G$50000,'Location Type (FICM Codes)'!$A$7:$B$188,2,FALSE)","v":{"$error":"#N/A"}},null,null,null,null,null,{"$f":"VLOOKUP(G3391:G13389,'Location Type (FICM Codes)'!$A$7:$C$188,3,FALSE)","v":{"$error":"#N/A"}}]
[null,null,null,null,null,null,null,{"$f":"VLOOKUP($G$2:$G$50000,'Location Type (FICM Codes)'!$A$7:$B$188,2,FALSE)","v":{"$error":"#N/A"}},null,null,null,null,null,{"$f":"VLOOKUP(G3392:G13390,'Location Type (FICM Codes)'!$A$7:$C$188,3,FALSE)","v":{"$error":"#N/A"}}]
[null,null,null,null,null,null,null,{"$f":"VLOOKUP($G$2:$G$50000,'Location Type (FICM Codes)'!$A$7:$B$188,2,FALSE)","v":{"$error":"#N/A"}},null,null,null,null,null,{"$f":"VLOOKUP(G3398:G13396,'Location Type (FICM Codes)'!$A$7:$C$188,3,FALSE)","v":{"$error":"#N/A"}}]
[null,null,null,null,null,null,null,{"$f":"VLOOKUP($G$2:$G$50000,'Location Type (FICM Codes)'!$A$7:$B$188,2,FALSE)","v":{"$error":"#N/A"}},null,null,null,null,null,{"$f":"VLOOKUP(G3401:G13399,'Location Type (FICM Codes)'!$A$7:$C$188,3,FALSE)","v":{"$error":"#N/A"}}]
[null,null,null,null,null,null,null,{"$f":"VLOOKUP($G$2:$G$50000,'Location Type (FICM Codes)'!$A$7:$B$188,2,FALSE)","v":{"$error":"#N/A"}},null,null,null,null,null,{"$f":"VLOOKUP(G3406:G13404,'Location Type (FICM Codes)'!$A$7:$C$188,3,FALSE)","v":{"$error":"#N/A"}}]
[null,null,null,null,null,null,null,{"$f":"VLOOKUP($G$2:$G$50000,'Location Type (FICM Codes)'!$A$7:$B$188,2,FALSE)","v":{"$error":"#N/A"}},null,null,null,null,null,{"$f":"VLOOKUP(G3407:G13405,'Location Type (FICM Codes)'!$A$7:$C$188,3,FALSE)","v":{"$error":"#N/A"}}]
[null,null,null,null,null,null,null,{"$f":"VLOOKUP($G$2:$G$50000,'Location Type (FICM Codes)'!$A$7:$B$188,2,FALSE)","v":{"$error":"#N/A"}},null,null,null,null,null,{"$f":"VLOOKUP(G3411:G13409,'Location Type (FICM Codes)'!$A$7:$C$188,3,FALSE)","v":{"$error":"#N/A"}}]
[null,null,null,null,null,null,null,{"$f":"VLOOKUP($G$2:$G$50000,'Location Type (FICM Codes)'!$A$7:$B$188,2,FALSE)","v":{"$error":"#N/A"}},null,null,null,null,null,{"$f":"VLOOKUP(G3416:G13414,'Location Type (FICM Codes)'!$A$7:$C$188,3,FALSE)","v":{"$error":"#N/A"}}]
[null,null,null,null,null,null,null,{"$f":"VLOOKUP($G$2:$G$50000,'Location Type (FICM Codes)'!$A$7:$B$188,2,FALSE)","v":{"$error":"#N/A"}},null,null,null,null,null,{"$f":"VLOOKUP(G3421:G13419,'Location Type (FICM Codes)'!$A$7:$C$188,3,FALSE)","v":{"$error":"#N/A"}}]
[null,null,null,null,null,null,null,{"$f":"VLOOKUP($G$2:$G$50000,'Location Type (FICM Codes)'!$A$7:$B$188,2,FALSE)","v":{"$error":"#N/A"}},null,null,null,null,null,{"$f":"VLOOKUP(G3422:G13420,'Location Type (FICM Codes)'!$A$7:$C$188,3,FALSE)","v":{"$error":"#N/A"}}]
[null,null,null,null,null,null,null,{"$f":"VLOOKUP($G$2:$G$50000,'Location Type (FICM Codes)'!$A$7:$B$188,2,FALSE)","v":{"$error":"#N/A"}},null,null,null,null,null,{"$f":"VLOOKUP(G3428:G13426,'Location Type (FICM Codes)'!$A$7:$C$188,3,FALSE)","v":{"$error":"#N/A"}}]
[null,null,null,null,null,null,null,{"$f":"VLOOKUP($G$2:$G$50000,'Location Type (FICM Codes)'!$A$7:$B$188,2,FALSE)","v":{"$error":"#N/A"}},null,null,null,null,null,{"$f":"VLOOKUP(G3431:G13429,'Location Type (FICM Codes)'!$A$7:$C$188,3,FALSE)","v":{"$error":"#N/A"}}]
[null,null,null,null,null,null,null,{"$f":"VLOOKUP($G$2:$G$50000,'Location Type (FICM Codes)'!$A$7:$B$188,2,FALSE)","v":{"$error":"#N/A"}},null,null,null,null,null,{"$f":"VLOOKUP(G3436:G13434,'Location Type (FICM Codes)'!$A$7:$C$188,3,FALSE)","v":{"$error":"#N/A"}}]
[null,null,null,null,null,null,null,{"$f":"VLOOKUP($G$2:$G$50000,'Location Type (FICM Codes)'!$A$7:$B$188,2,FALSE)","v":{"$error":"#N/A"}},null,null,null,null,null,{"$f":"VLOOKUP(G3437:G13435,'Location Type (FICM Codes)'!$A$7:$C$188,3,FALSE)","v":{"$error":"#N/A"}}]
[null,null,null,null,null,null,null,{"$f":"VLOOKUP($G$2:$G$50000,'Location Type (FICM Codes)'!$A$7:$B$188,2,FALSE)","v":{"$error":"#N/A"}},null,null,null,null,null,{"$f":"VLOOKUP(G3441:G13439,'Location Type (FICM Codes)'!$A$7:$C$188,3,FALSE)","v":{"$error":"#N/A"}}]
[null,null,null,null,null,null,null,{"$f":"VLOOKUP($G$2:$G$50000,'Location Type (FICM Codes)'!$A$7:$B$188,2,FALSE)","v":{"$error":"#N/A"}},null,null,null,null,null,{"$f":"VLOOKUP(G3446:G13444,'Location Type (FICM Codes)'!$A$7:$C$188,3,FALSE)","v":{"$error":"#N/A"}}]
[null,null,null,null,null,null,null,{"$f":"VLOOKUP($G$2:$G$50000,'Location Type (FICM Codes)'!$A$7:$B$188,2,FALSE)","v":{"$error":"#N/A"}},null,null,null,null,null,{"$f":"VLOOKUP(G3451:G13449,'Location Type (FICM Codes)'!$A$7:$C$188,3,FALSE)","v":{"$error":"#N/A"}}]
[null,null,null,null,null,null,null,{"$f":"VLOOKUP($G$2:$G$50000,'Location Type (FICM Codes)'!$A$7:$B$188,2,FALSE)","v":{"$error":"#N/A"}},null,null,null,null,null,{"$f":"VLOOKUP(G3452:G13450,'Location Type (FICM Codes)'!$A$7:$C$188,3,FALSE)","v":{"$error":"#N/A"}}]
[null,null,null,null,null,null,null,{"$f":"VLOOKUP($G$2:$G$50000,'Location Type (FICM Codes)'!$A$7:$B$188,2,FALSE)","v":{"$error":"#N/A"}},null,null,null,null,null,{"$f":"VLOOKUP(G3458:G13456,'Location Type (FICM Codes)'!$A$7:$C$188,3,FALSE)","v":{"$error":"#N/A"}}]
[null,null,null,null,null,null,null,{"$f":"VLOOKUP($G$2:$G$50000,'Location Type (FICM Codes)'!$A$7:$B$188,2,FALSE)","v":{"$error":"#N/A"}},null,null,null,null,null,{"$f":"VLOOKUP(G3461:G13459,'Location Type (FICM Codes)'!$A$7:$C$188,3,FALSE)","v":{"$error":"#N/A"}}]
[null,null,null,null,null,null,null,{"$f":"VLOOKUP($G$2:$G$50000,'Location Type (FICM Codes)'!$A$7:$B$188,2,FALSE)","v":{"$error":"#N/A"}},null,null,null,null,null,{"$f":"VLOOKUP(G3466:G13464,'Location Type (FICM Codes)'!$A$7:$C$188,3,FALSE)","v":{"$error":"#N/A"}}]
[null,null,null,null,null,null,null,{"$f":"VLOOKUP($G$2:$G$50000,'Location Type (FICM Codes)'!$A$7:$B$188,2,FALSE)","v":{"$error":"#N/A"}},null,null,null,null,null,{"$f":"VLOOKUP(G3467:G13465,'Location Type (FICM Codes)'!$A$7:$C$188,3,FALSE)","v":{"$error":"#N/A"}}]
[null,null,null,null,null,null,null,{"$f":"VLOOKUP($G$2:$G$50000,'Location Type (FICM Codes)'!$A$7:$B$188,2,FALSE)","v":{"$error":"#N/A"}},null,null,null,null,null,{"$f":"VLOOKUP(G3471:G13469,'Location Type (FICM Codes)'!$A$7:$C$188,3,FALSE)","v":{"$error":"#N/A"}}]
[null,null,null,null,null,null,null,{"$f":"VLOOKUP($G$2:$G$50000,'Location Type (FICM Codes)'!$A$7:$B$188,2,FALSE)","v":{"$error":"#N/A"}},null,null,null,null,null,{"$f":"VLOOKUP(G3476:G13474,'Location Type (FICM Codes)'!$A$7:$C$188,3,FALSE)","v":{"$error":"#N/A"}}]
[null,null,null,null,null,null,null,{"$f":"VLOOKUP($G$2:$G$50000,'Location Type (FICM Codes)'!$A$7:$B$188,2,FALSE)","v":{"$error":"#N/A"}},null,null,null,null,null,{"$f":"VLOOKUP(G3481:G13479,'Location Type (FICM Codes)'!$A$7:$C$188,3,FALSE)","v":{"$error":"#N/A"}}]
[null,null,null,null,null,null,null,{"$f":"VLOOKUP($G$2:$G$50000,'Location Type (FICM Codes)'!$A$7:$B$188,2,FALSE)","v":{"$error":"#N/A"}},null,null,null,null,null,{"$f":"VLOOKUP(G3482:G13480,'Location Type (FICM Codes)'!$A$7:$C$188,3,FALSE)","v":{"$error":"#N/A"}}]
[null,null,null,null,null,null,null,{"$f":"VLOOKUP($G$2:$G$50000,'Location Type (FICM Codes)'!$A$7:$B$188,2,FALSE)","v":{"$error":"#N/A"}},null,null,null,null,null,{"$f":"VLOOKUP(G3488:G13486,'Location Type (FICM Codes)'!$A$7:$C$188,3,FALSE)","v":{"$error":"#N/A"}}]
[null,null,null,null,null,null,null,{"$f":"VLOOKUP($G$2:$G$50000,'Location Type (FICM Codes)'!$A$7:$B$188,2,FALSE)","v":{"$error":"#N/A"}},null,null,null,null,null,{"$f":"VLOOKUP(G3491:G13489,'Location Type (FICM Codes)'!$A$7:$C$188,3,FALSE)","v":{"$error":"#N/A"}}]
[null,null,null,null,null,null,null,{"$f":"VLOOKUP($G$2:$G$50000,'Location Type (FICM Codes)'!$A$7:$B$188,2,FALSE)","v":{"$error":"#N/A"}},null,null,null,null,null,{"$f":"VLOOKUP(G3496:G13494,'Location Type (FICM Codes)'!$A$7:$C$188,3,FALSE)","v":{"$error":"#N/A"}}]
[null,null,null,null,null,null,null,{"$f":"VLOOKUP($G$2:$G$50000,'Location Type (FICM Codes)'!$A$7:$B$188,2,FALSE)","v":{"$error":"#N/A"}},null,null,null,null,null,{"$f":"VLOOKUP(G3497:G13495,'Location Type (FICM Codes)'!$A$7:$C$188,3,FALSE)","v":{"$error":"#N/A"}}]
[null,null,null,null,null,null,null,{"$f":"VLOOKUP($G$2:$G$50000,'Location Type (FICM Codes)'!$A$7:$B$188,2,FALSE)","v":{"$error":"#N/A"}},null,null,null,null,null,{"$f":"VLOOKUP(G3501:G13499,'Location Type (FICM Codes)'!$A$7:$C$188,3,FALSE)","v":{"$error":"#N/A"}}]
[null,null,null,null,null,null,null,{"$f":"VLOOKUP($G$2:$G$50000,'Location Type (FICM Codes)'!$A$7:$B$188,2,FALSE)","v":{"$error":"#N/A"}},null,null,null,null,null,{"$f":"VLOOKUP(G3506:G13504,'Location Type (FICM Codes)'!$A$7:$C$188,3,FALSE)","v":{"$error":"#N/A"}}]
[null,null,null,null,null,null,null,{"$f":"VLOOKUP($G$2:$G$50000,'Location Type (FICM Codes)'!$A$7:$B$188,2,FALSE)","v":{"$error":"#N/A"}},null,null,null,null,null,{"$f":"VLOOKUP(G3511:G13509,'Location Type (FICM Codes)'!$A$7:$C$188,3,FALSE)","v":{"$error":"#N/A"}}]
[null,null,null,null,null,null,null,{"$f":"VLOOKUP($G$2:$G$50000,'Location Type (FICM Codes)'!$A$7:$B$188,2,FALSE)","v":{"$error":"#N/A"}},null,null,null,null,null,{"$f":"VLOOKUP(G3512:G13510,'Location Type (FICM Codes)'!$A$7:$C$188,3,FALSE)","v":{"$error":"#N/A"}}]
[null,null,null,null,null,null,null,{"$f":"VLOOKUP($G$2:$G$50000,'Location Type (FICM Codes)'!$A$7:$B$188,2,FALSE)","v":{"$error":"#N/A"}},null,null,null,null,null,{"$f":"VLOOKUP(G3518:G13516,'Location Type (FICM Codes)'!$A$7:$C$188,3,FALSE)","v":{"$error":"#N/A"}}]
[null,null,null,null,null,null,null,{"$f":"VLOOKUP($G$2:$G$50000,'Location Type (FICM Codes)'!$A$7:$B$188,2,FALSE)","v":{"$error":"#N/A"}},null,null,null,null,null,{"$f":"VLOOKUP(G3521:G13519,'Location Type (FICM Codes)'!$A$7:$C$188,3,FALSE)","v":{"$error":"#N/A"}}]
[null,null,null,null,null,null,null,{"$f":"VLOOKUP($G$2:$G$50000,'Location Type (FICM Codes)'!$A$7:$B$188,2,FALSE)","v":{"$error":"#N/A"}},null,null,null,null,null,{"$f":"VLOOKUP(G3526:G13524,'Location Type (FICM Codes)'!$A$7:$C$188,3,FALSE)","v":{"$error":"#N/A"}}]
[null,null,null,null,null,null,null,{"$f":"VLOOKUP($G$2:$G$50000,'Location Type (FICM Codes)'!$A$7:$B$188,2,FALSE)","v":{"$error":"#N/A"}},null,null,null,null,null,{"$f":"VLOOKUP(G3527:G13525,'Location Type (FICM Codes)'!$A$7:$C$188,3,FALSE)","v":{"$error":"#N/A"}}]
[null,null,null,null,null,null,null,{"$f":"VLOOKUP($G$2:$G$50000,'Location Type (FICM Codes)'!$A$7:$B$188,2,FALSE)","v":{"$error":"#N/A"}},null,null,null,null,null,{"$f":"VLOOKUP(G3531:G13529,'Location Type (FICM Codes)'!$A$7:$C$188,3,FALSE)","v":{"$error":"#N/A"}}]
[null,null,null,null,null,null,null,{"$f":"VLOOKUP($G$2:$G$50000,'Location Type (FICM Codes)'!$A$7:$B$188,2,FALSE)","v":{"$error":"#N/A"}},null,null,null,null,null,{"$f":"VLOOKUP(G3536:G13534,'Location Type (FICM Codes)'!$A$7:$C$188,3,FALSE)","v":{"$error":"#N/A"}}]
[null,null,null,null,null,null,null,{"$f":"VLOOKUP($G$2:$G$50000,'Location Type (FICM Codes)'!$A$7:$B$188,2,FALSE)","v":{"$error":"#N/A"}},null,null,null,null,null,{"$f":"VLOOKUP(G3541:G13539,'Location Type (FICM Codes)'!$A$7:$C$188,3,FALSE)","v":{"$error":"#N/A"}}]
[null,null,null,null,null,null,null,{"$f":"VLOOKUP($G$2:$G$50000,'Location Type (FICM Codes)'!$A$7:$B$188,2,FALSE)","v":{"$error":"#N/A"}},null,null,null,null,null,{"$f":"VLOOKUP(G3542:G13540,'Location Type (FICM Codes)'!$A$7:$C$188,3,FALSE)","v":{"$error":"#N/A"}}]
[null,null,null,null,null,null,null,{"$f":"VLOOKUP($G$2:$G$50000,'Location Type (FICM Codes)'!$A$7:$B$188,2,FALSE)","v":{"$error":"#N/A"}},null,null,null,null,null,{"$f":"VLOOKUP(G3548:G13546,'Location Type (FICM Codes)'!$A$7:$C$188,3,FALSE)","v":{"$error":"#N/A"}}]
[null,null,null,null,null,null,null,{"$f":"VLOOKUP($G$2:$G$50000,'Location Type (FICM Codes)'!$A$7:$B$188,2,FALSE)","v":{"$error":"#N/A"}},null,null,null,null,null,{"$f":"VLOOKUP(G3551:G13549,'Location Type (FICM Codes)'!$A$7:$C$188,3,FALSE)","v":{"$error":"#N/A"}}]
[null,null,null,null,null,null,null,{"$f":"VLOOKUP($G$2:$G$50000,'Location Type (FICM Codes)'!$A$7:$B$188,2,FALSE)","v":{"$error":"#N/A"}},null,null,null,null,null,{"$f":"VLOOKUP(G3556:G13554,'Location Type (FICM Codes)'!$A$7:$C$188,3,FALSE)","v":{"$error":"#N/A"}}]
[null,null,null,null,null,null,null,{"$f":"VLOOKUP($G$2:$G$50000,'Location Type (FICM Codes)'!$A$7:$B$188,2,FALSE)","v":{"$error":"#N/A"}},null,null,null,null,null,{"$f":"VLOOKUP(G3557:G13555,'Location Type (FICM Codes)'!$A$7:$C$188,3,FALSE)","v":{"$error":"#N/A"}}]
[null,null,null,null,null,null,null,{"$f":"VLOOKUP($G$2:$G$50000,'Location Type (FICM Codes)'!$A$7:$B$188,2,FALSE)","v":{"$error":"#N/A"}},null,null,null,null,null,{"$f":"VLOOKUP(G3561:G13559,'Location Type (FICM Codes)'!$A$7:$C$188,3,FALSE)","v":{"$error":"#N/A"}}]
[null,null,null,null,null,null,null,{"$f":"VLOOKUP($G$2:$G$50000,'Location Type (FICM Codes)'!$A$7:$B$188,2,FALSE)","v":{"$error":"#N/A"}},null,null,null,null,null,{"$f":"VLOOKUP(G3566:G13564,'Location Type (FICM Codes)'!$A$7:$C$188,3,FALSE)","v":{"$error":"#N/A"}}]
[null,null,null,null,null,null,null,{"$f":"VLOOKUP($G$2:$G$50000,'Location Type (FICM Codes)'!$A$7:$B$188,2,FALSE)","v":{"$error":"#N/A"}},null,null,null,null,null,{"$f":"VLOOKUP(G3571:G13569,'Location Type (FICM Codes)'!$A$7:$C$188,3,FALSE)","v":{"$error":"#N/A"}}]
[null,null,null,null,null,null,null,{"$f":"VLOOKUP($G$2:$G$50000,'Location Type (FICM Codes)'!$A$7:$B$188,2,FALSE)","v":{"$error":"#N/A"}},null,null,null,null,null,{"$f":"VLOOKUP(G3572:G13570,'Location Type (FICM Codes)'!$A$7:$C$188,3,FALSE)","v":{"$error":"#N/A"}}]
[null,null,null,null,null,null,null,{"$f":"VLOOKUP($G$2:$G$50000,'Location Type (FICM Codes)'!$A$7:$B$188,2,FALSE)","v":{"$error":"#N/A"}},null,null,null,null,null,{"$f":"VLOOKUP(G3578:G13576,'Location Type (FICM Codes)'!$A$7:$C$188,3,FALSE)","v":{"$error":"#N/A"}}]
[null,null,null,null,null,null,null,{"$f":"VLOOKUP($G$2:$G$50000,'Location Type (FICM Codes)'!$A$7:$B$188,2,FALSE)","v":{"$error":"#N/A"}},null,null,null,null,null,{"$f":"VLOOKUP(G3581:G13579,'Location Type (FICM Codes)'!$A$7:$C$188,3,FALSE)","v":{"$error":"#N/A"}}]
[null,null,null,null,null,null,null,{"$f":"VLOOKUP($G$2:$G$50000,'Location Type (FICM Codes)'!$A$7:$B$188,2,FALSE)","v":{"$error":"#N/A"}},null,null,null,null,null,{"$f":"VLOOKUP(G3586:G13584,'Location Type (FICM Codes)'!$A$7:$C$188,3,FALSE)","v":{"$error":"#N/A"}}]
[null,null,null,null,null,null,null,{"$f":"VLOOKUP($G$2:$G$50000,'Location Type (FICM Codes)'!$A$7:$B$188,2,FALSE)","v":{"$error":"#N/A"}},null,null,null,null,null,{"$f":"VLOOKUP(G3587:G13585,'Location Type (FICM Codes)'!$A$7:$C$188,3,FALSE)","v":{"$error":"#N/A"}}]
[null,null,null,null,null,null,null,{"$f":"VLOOKUP($G$2:$G$50000,'Location Type (FICM Codes)'!$A$7:$B$188,2,FALSE)","v":{"$error":"#N/A"}},null,null,null,null,null,{"$f":"VLOOKUP(G3591:G13589,'Location Type (FICM Codes)'!$A$7:$C$188,3,FALSE)","v":{"$error":"#N/A"}}]
[null,null,null,null,null,null,null,{"$f":"VLOOKUP($G$2:$G$50000,'Location Type (FICM Codes)'!$A$7:$B$188,2,FALSE)","v":{"$error":"#N/A"}},null,null,null,null,null,{"$f":"VLOOKUP(G3596:G13594,'Location Type (FICM Codes)'!$A$7:$C$188,3,FALSE)","v":{"$error":"#N/A"}}]
[null,null,null,null,null,null,null,{"$f":"VLOOKUP($G$2:$G$50000,'Location Type (FICM Codes)'!$A$7:$B$188,2,FALSE)","v":{"$error":"#N/A"}},null,null,null,null,null,{"$f":"VLOOKUP(G3601:G13599,'Location Type (FICM Codes)'!$A$7:$C$188,3,FALSE)","v":{"$error":"#N/A"}}]
[null,null,null,null,null,null,null,{"$f":"VLOOKUP($G$2:$G$50000,'Location Type (FICM Codes)'!$A$7:$B$188,2,FALSE)","v":{"$error":"#N/A"}},null,null,null,null,null,{"$f":"VLOOKUP(G3602:G13600,'Location Type (FICM Codes)'!$A$7:$C$188,3,FALSE)","v":{"$error":"#N/A"}}]
[null,null,null,null,null,null,null,{"$f":"VLOOKUP($G$2:$G$50000,'Location Type (FICM Codes)'!$A$7:$B$188,2,FALSE)","v":{"$error":"#N/A"}},null,null,null,null,null,{"$f":"VLOOKUP(G3608:G13606,'Location Type (FICM Codes)'!$A$7:$C$188,3,FALSE)","v":{"$error":"#N/A"}}]
[null,null,null,null,null,null,null,{"$f":"VLOOKUP($G$2:$G$50000,'Location Type (FICM Codes)'!$A$7:$B$188,2,FALSE)","v":{"$error":"#N/A"}},null,null,null,null,null,{"$f":"VLOOKUP(G3611:G13609,'Location Type (FICM Codes)'!$A$7:$C$188,3,FALSE)","v":{"$error":"#N/A"}}]
[null,null,null,null,null,null,null,{"$f":"VLOOKUP($G$2:$G$50000,'Location Type (FICM Codes)'!$A$7:$B$188,2,FALSE)","v":{"$error":"#N/A"}},null,null,null,null,null,{"$f":"VLOOKUP(G3616:G13614,'Location Type (FICM Codes)'!$A$7:$C$188,3,FALSE)","v":{"$error":"#N/A"}}]
[null,null,null,null,null,null,null,{"$f":"VLOOKUP($G$2:$G$50000,'Location Type (FICM Codes)'!$A$7:$B$188,2,FALSE)","v":{"$error":"#N/A"}},null,null,null,null,null,{"$f":"VLOOKUP(G3617:G13615,'Location Type (FICM Codes)'!$A$7:$C$188,3,FALSE)","v":{"$error":"#N/A"}}]
[null,null,null,null,null,null,null,{"$f":"VLOOKUP($G$2:$G$50000,'Location Type (FICM Codes)'!$A$7:$B$188,2,FALSE)","v":{"$error":"#N/A"}},null,null,null,null,null,{"$f":"VLOOKUP(G3622:G13620,'Location Type (FICM Codes)'!$A$7:$C$188,3,FALSE)","v":{"$error":"#N/A"}}]
[null,null,null,null,null,null,null,{"$f":"VLOOKUP($G$2:$G$50000,'Location Type (FICM Codes)'!$A$7:$B$188,2,FALSE)","v":{"$error":"#N/A"}},null,null,null,null,null,{"$f":"VLOOKUP(G3626:G13624,'Location Type (FICM Codes)'!$A$7:$C$188,3,FALSE)","v":{"$error":"#N/A"}}]
[null,null,null,null,null,null,null,{"$f":"VLOOKUP($G$2:$G$50000,'Location Type (FICM Codes)'!$A$7:$B$188,2,FALSE)","v":{"$error":"#N/A"}},null,null,null,null,null,{"$f":"VLOOKUP(G3631:G13629,'Location Type (FICM Codes)'!$A$7:$C$188,3,FALSE)","v":{"$error":"#N/A"}}]
[null,null,null,null,null,null,null,{"$f":"VLOOKUP($G$2:$G$50000,'Location Type (FICM Codes)'!$A$7:$B$188,2,FALSE)","v":{"$error":"#N/A"}},null,null,null,null,null,{"$f":"VLOOKUP(G3632:G13630,'Location Type (FICM Codes)'!$A$7:$C$188,3,FALSE)","v":{"$error":"#N/A"}}]
[null,null,null,null,null,null,null,{"$f":"VLOOKUP($G$2:$G$50000,'Location Type (FICM Codes)'!$A$7:$B$188,2,FALSE)","v":{"$error":"#N/A"}},null,null,null,null,null,{"$f":"VLOOKUP(G3638:G13636,'Location Type (FICM Codes)'!$A$7:$C$188,3,FALSE)","v":{"$error":"#N/A"}}]
[null,null,null,null,null,null,null,{"$f":"VLOOKUP($G$2:$G$50000,'Location Type (FICM Codes)'!$A$7:$B$188,2,FALSE)","v":{"$error":"#N/A"}},null,null,null,null,null,{"$f":"VLOOKUP(G3641:G13639,'Location Type (FICM Codes)'!$A$7:$C$188,3,FALSE)","v":{"$error":"#N/A"}}]
[null,null,null,null,null,null,null,{"$f":"VLOOKUP($G$2:$G$50000,'Location Type (FICM Codes)'!$A$7:$B$188,2,FALSE)","v":{"$error":"#N/A"}},null,null,null,null,null,{"$f":"VLOOKUP(G3646:G13644,'Location Type (FICM Codes)'!$A$7:$C$188,3,FALSE)","v":{"$error":"#N/A"}}]
[null,null,null,null,null,null,null,{"$f":"VLOOKUP($G$2:$G$50000,'Location Type (FICM Codes)'!$A$7:$B$188,2,FALSE)","v":{"$error":"#N/A"}},null,null,null,null,null,{"$f":"VLOOKUP(G3647:G13645,'Location Type (FICM Codes)'!$A$7:$C$188,3,FALSE)","v":{"$error":"#N/A"}}]
[null,null,null,null,null,null,null,{"$f":"VLOOKUP($G$2:$G$50000,'Location Type (FICM Codes)'!$A$7:$B$188,2,FALSE)","v":{"$error":"#N/A"}},null,null,null,null,null,{"$f":"VLOOKUP(G3652:G13650,'Location Type (FICM Codes)'!$A$7:$C$188,3,FALSE)","v":{"$error":"#N/A"}}]
[null,null,null,null,null,null,null,{"$f":"VLOOKUP($G$2:$G$50000,'Location Type (FICM Codes)'!$A$7:$B$188,2,FALSE)","v":{"$error":"#N/A"}},null,null,null,null,null,{"$f":"VLOOKUP(G3656:G13654,'Location Type (FICM Codes)'!$A$7:$C$188,3,FALSE)","v":{"$error":"#N/A"}}]
[null,null,null,null,null,null,null,{"$f":"VLOOKUP($G$2:$G$50000,'Location Type (FICM Codes)'!$A$7:$B$188,2,FALSE)","v":{"$error":"#N/A"}},null,null,null,null,null,{"$f":"VLOOKUP(G3661:G13659,'Location Type (FICM Codes)'!$A$7:$C$188,3,FALSE)","v":{"$error":"#N/A"}}]
[null,null,null,null,null,null,null,{"$f":"VLOOKUP($G$2:$G$50000,'Location Type (FICM Codes)'!$A$7:$B$188,2,FALSE)","v":{"$error":"#N/A"}},null,null,null,null,null,{"$f":"VLOOKUP(G3662:G13660,'Location Type (FICM Codes)'!$A$7:$C$188,3,FALSE)","v":{"$error":"#N/A"}}]
[null,null,null,null,null,null,null,{"$f":"VLOOKUP($G$2:$G$50000,'Location Type (FICM Codes)'!$A$7:$B$188,2,FALSE)","v":{"$error":"#N/A"}},null,null,null,null,null,{"$f":"VLOOKUP(G3668:G13666,'Location Type (FICM Codes)'!$A$7:$C$188,3,FALSE)","v":{"$error":"#N/A"}}]
[null,null,null,null,null,null,null,{"$f":"VLOOKUP($G$2:$G$50000,'Location Type (FICM Codes)'!$A$7:$B$188,2,FALSE)","v":{"$error":"#N/A"}},null,null,null,null,null,{"$f":"VLOOKUP(G3671:G13669,'Location Type (FICM Codes)'!$A$7:$C$188,3,FALSE)","v":{"$error":"#N/A"}}]
[null,null,null,null,null,null,null,{"$f":"VLOOKUP($G$2:$G$50000,'Location Type (FICM Codes)'!$A$7:$B$188,2,FALSE)","v":{"$error":"#N/A"}},null,null,null,null,null,{"$f":"VLOOKUP(G3676:G13674,'Location Type (FICM Codes)'!$A$7:$C$188,3,FALSE)","v":{"$error":"#N/A"}}]
[null,null,null,null,null,null,null,{"$f":"VLOOKUP($G$2:$G$50000,'Location Type (FICM Codes)'!$A$7:$B$188,2,FALSE)","v":{"$error":"#N/A"}},null,null,null,null,null,{"$f":"VLOOKUP(G3677:G13675,'Location Type (FICM Codes)'!$A$7:$C$188,3,FALSE)","v":{"$error":"#N/A"}}]
[null,null,null,null,null,null,null,{"$f":"VLOOKUP($G$2:$G$50000,'Location Type (FICM Codes)'!$A$7:$B$188,2,FALSE)","v":{"$error":"#N/A"}},null,null,null,null,null,{"$f":"VLOOKUP(G3682:G13680,'Location Type (FICM Codes)'!$A$7:$C$188,3,FALSE)","v":{"$error":"#N/A"}}]
[null,null,null,null,null,null,null,{"$f":"VLOOKUP($G$2:$G$50000,'Location Type (FICM Codes)'!$A$7:$B$188,2,FALSE)","v":{"$error":"#N/A"}},null,null,null,null,null,{"$f":"VLOOKUP(G3686:G13684,'Location Type (FICM Codes)'!$A$7:$C$188,3,FALSE)","v":{"$error":"#N/A"}}]
[null,null,null,null,null,null,null,{"$f":"VLOOKUP($G$2:$G$50000,'Location Type (FICM Codes)'!$A$7:$B$188,2,FALSE)","v":{"$error":"#N/A"}},null,null,null,null,null,{"$f":"VLOOKUP(G3691:G13689,'Location Type (FICM Codes)'!$A$7:$C$188,3,FALSE)","v":{"$error":"#N/A"}}]
[null,null,null,null,null,null,null,{"$f":"VLOOKUP($G$2:$G$50000,'Location Type (FICM Codes)'!$A$7:$B$188,2,FALSE)","v":{"$error":"#N/A"}},null,null,null,null,null,{"$f":"VLOOKUP(G3692:G13690,'Location Type (FICM Codes)'!$A$7:$C$188,3,FALSE)","v":{"$error":"#N/A"}}]
[null,null,null,null,null,null,null,{"$f":"VLOOKUP($G$2:$G$50000,'Location Type (FICM Codes)'!$A$7:$B$188,2,FALSE)","v":{"$error":"#N/A"}},null,null,null,null,null,{"$f":"VLOOKUP(G3698:G13696,'Location Type (FICM Codes)'!$A$7:$C$188,3,FALSE)","v":{"$error":"#N/A"}}]
[null,null,null,null,null,null,null,{"$f":"VLOOKUP($G$2:$G$50000,'Location Type (FICM Codes)'!$A$7:$B$188,2,FALSE)","v":{"$error":"#N/A"}},null,null,null,null,null,{"$f":"VLOOKUP(G3701:G13699,'Location Type (FICM Codes)'!$A$7:$C$188,3,FALSE)","v":{"$error":"#N/A"}}]
[null,null,null,null,null,null,null,{"$f":"VLOOKUP($G$2:$G$50000,'Location Type (FICM Codes)'!$A$7:$B$188,2,FALSE)","v":{"$error":"#N/A"}},null,null,null,null,null,{"$f":"VLOOKUP(G3706:G13704,'Location Type (FICM Codes)'!$A$7:$C$188,3,FALSE)","v":{"$error":"#N/A"}}]
[null,null,null,null,null,null,null,{"$f":"VLOOKUP($G$2:$G$50000,'Location Type (FICM Codes)'!$A$7:$B$188,2,FALSE)","v":{"$error":"#N/A"}},null,null,null,null,null,{"$f":"VLOOKUP(G3707:G13705,'Location Type (FICM Codes)'!$A$7:$C$188,3,FALSE)","v":{"$error":"#N/A"}}]
[null,null,null,null,null,null,null,{"$f":"VLOOKUP($G$2:$G$50000,'Location Type (FICM Codes)'!$A$7:$B$188,2,FALSE)","v":{"$error":"#N/A"}},null,null,null,null,null,{"$f":"VLOOKUP(G3712:G13710,'Location Type (FICM Codes)'!$A$7:$C$188,3,FALSE)","v":{"$error":"#N/A"}}]
[null,null,null,null,null,null,null,{"$f":"VLOOKUP($G$2:$G$50000,'Location Type (FICM Codes)'!$A$7:$B$188,2,FALSE)","v":{"$error":"#N/A"}},null,null,null,null,null,{"$f":"VLOOKUP(G3716:G13714,'Location Type (FICM Codes)'!$A$7:$C$188,3,FALSE)","v":{"$error":"#N/A"}}]
[null,null,null,null,null,null,null,{"$f":"VLOOKUP($G$2:$G$50000,'Location Type (FICM Codes)'!$A$7:$B$188,2,FALSE)","v":{"$error":"#N/A"}},null,null,null,null,null,{"$f":"VLOOKUP(G3721:G13719,'Location Type (FICM Codes)'!$A$7:$C$188,3,FALSE)","v":{"$error":"#N/A"}}]
[null,null,null,null,null,null,null,{"$f":"VLOOKUP($G$2:$G$50000,'Location Type (FICM Codes)'!$A$7:$B$188,2,FALSE)","v":{"$error":"#N/A"}},null,null,null,null,null,{"$f":"VLOOKUP(G3722:G13720,'Location Type (FICM Codes)'!$A$7:$C$188,3,FALSE)","v":{"$error":"#N/A"}}]
[null,null,null,null,null,null,null,{"$f":"VLOOKUP($G$2:$G$50000,'Location Type (FICM Codes)'!$A$7:$B$188,2,FALSE)","v":{"$error":"#N/A"}},null,null,null,null,null,{"$f":"VLOOKUP(G3728:G13726,'Location Type (FICM Codes)'!$A$7:$C$188,3,FALSE)","v":{"$error":"#N/A"}}]
[null,null,null,null,null,null,null,{"$f":"VLOOKUP($G$2:$G$50000,'Location Type (FICM Codes)'!$A$7:$B$188,2,FALSE)","v":{"$error":"#N/A"}},null,null,null,null,null,{"$f":"VLOOKUP(G3731:G13729,'Location Type (FICM Codes)'!$A$7:$C$188,3,FALSE)","v":{"$error":"#N/A"}}]
[null,null,null,null,null,null,null,{"$f":"VLOOKUP($G$2:$G$50000,'Location Type (FICM Codes)'!$A$7:$B$188,2,FALSE)","v":{"$error":"#N/A"}},null,null,null,null,null,{"$f":"VLOOKUP(G3736:G13734,'Location Type (FICM Codes)'!$A$7:$C$188,3,FALSE)","v":{"$error":"#N/A"}}]
[null,null,null,null,null,null,null,{"$f":"VLOOKUP($G$2:$G$50000,'Location Type (FICM Codes)'!$A$7:$B$188,2,FALSE)","v":{"$error":"#N/A"}},null,null,null,null,null,{"$f":"VLOOKUP(G3737:G13735,'Location Type (FICM Codes)'!$A$7:$C$188,3,FALSE)","v":{"$error":"#N/A"}}]
[null,null,null,null,null,null,null,{"$f":"VLOOKUP($G$2:$G$50000,'Location Type (FICM Codes)'!$A$7:$B$188,2,FALSE)","v":{"$error":"#N/A"}},null,null,null,null,null,{"$f":"VLOOKUP(G3742:G13740,'Location Type (FICM Codes)'!$A$7:$C$188,3,FALSE)","v":{"$error":"#N/A"}}]
[null,null,null,null,null,null,null,{"$f":"VLOOKUP($G$2:$G$50000,'Location Type (FICM Codes)'!$A$7:$B$188,2,FALSE)","v":{"$error":"#N/A"}},null,null,null,null,null,{"$f":"VLOOKUP(G3746:G13744,'Location Type (FICM Codes)'!$A$7:$C$188,3,FALSE)","v":{"$error":"#N/A"}}]
[null,null,null,null,null,null,null,{"$f":"VLOOKUP($G$2:$G$50000,'Location Type (FICM Codes)'!$A$7:$B$188,2,FALSE)","v":{"$error":"#N/A"}},null,null,null,null,null,{"$f":"VLOOKUP(G3751:G13749,'Location Type (FICM Codes)'!$A$7:$C$188,3,FALSE)","v":{"$error":"#N/A"}}]
[null,null,null,null,null,null,null,{"$f":"VLOOKUP($G$2:$G$50000,'Location Type (FICM Codes)'!$A$7:$B$188,2,FALSE)","v":{"$error":"#N/A"}},null,null,null,null,null,{"$f":"VLOOKUP(G3752:G13750,'Location Type (FICM Codes)'!$A$7:$C$188,3,FALSE)","v":{"$error":"#N/A"}}]
[null,null,null,null,null,null,null,{"$f":"VLOOKUP($G$2:$G$50000,'Location Type (FICM Codes)'!$A$7:$B$188,2,FALSE)","v":{"$error":"#N/A"}},null,null,null,null,null,{"$f":"VLOOKUP(G3758:G13756,'Location Type (FICM Codes)'!$A$7:$C$188,3,FALSE)","v":{"$error":"#N/A"}}]
[null,null,null,null,null,null,null,{"$f":"VLOOKUP($G$2:$G$50000,'Location Type (FICM Codes)'!$A$7:$B$188,2,FALSE)","v":{"$error":"#N/A"}},null,null,null,null,null,{"$f":"VLOOKUP(G3761:G13759,'Location Type (FICM Codes)'!$A$7:$C$188,3,FALSE)","v":{"$error":"#N/A"}}]
[null,null,null,null,null,null,null,{"$f":"VLOOKUP($G$2:$G$50000,'Location Type (FICM Codes)'!$A$7:$B$188,2,FALSE)","v":{"$error":"#N/A"}},null,null,null,null,null,{"$f":"VLOOKUP(G3766:G13764,'Location Type (FICM Codes)'!$A$7:$C$188,3,FALSE)","v":{"$error":"#N/A"}}]
[null,null,null,null,null,null,null,{"$f":"VLOOKUP($G$2:$G$50000,'Location Type (FICM Codes)'!$A$7:$B$188,2,FALSE)","v":{"$error":"#N/A"}},null,null,null,null,null,{"$f":"VLOOKUP(G3767:G13765,'Location Type (FICM Codes)'!$A$7:$C$188,3,FALSE)","v":{"$error":"#N/A"}}]
[null,null,null,null,null,null,null,{"$f":"VLOOKUP($G$2:$G$50000,'Location Type (FICM Codes)'!$A$7:$B$188,2,FALSE)","v":{"$error":"#N/A"}},null,null,null,null,null,{"$f":"VLOOKUP(G3772:G13770,'Location Type (FICM Codes)'!$A$7:$C$188,3,FALSE)","v":{"$error":"#N/A"}}]
[null,null,null,null,null,null,null,{"$f":"VLOOKUP($G$2:$G$50000,'Location Type (FICM Codes)'!$A$7:$B$188,2,FALSE)","v":{"$error":"#N/A"}},null,null,null,null,null,{"$f":"VLOOKUP(G3776:G13774,'Location Type (FICM Codes)'!$A$7:$C$188,3,FALSE)","v":{"$error":"#N/A"}}]
[null,null,null,null,null,null,null,{"$f":"VLOOKUP($G$2:$G$50000,'Location Type (FICM Codes)'!$A$7:$B$188,2,FALSE)","v":{"$error":"#N/A"}},null,null,null,null,null,{"$f":"VLOOKUP(G3781:G13779,'Location Type (FICM Codes)'!$A$7:$C$188,3,FALSE)","v":{"$error":"#N/A"}}]
[null,null,null,null,null,null,null,{"$f":"VLOOKUP($G$2:$G$50000,'Location Type (FICM Codes)'!$A$7:$B$188,2,FALSE)","v":{"$error":"#N/A"}},null,null,null,null,null,{"$f":"VLOOKUP(G3782:G13780,'Location Type (FICM Codes)'!$A$7:$C$188,3,FALSE)","v":{"$error":"#N/A"}}]
[null,null,null,null,null,null,null,{"$f":"VLOOKUP($G$2:$G$50000,'Location Type (FICM Codes)'!$A$7:$B$188,2,FALSE)","v":{"$error":"#N/A"}},null,null,null,null,null,{"$f":"VLOOKUP(G3788:G13786,'Location Type (FICM Codes)'!$A$7:$C$188,3,FALSE)","v":{"$error":"#N/A"}}]
[null,null,null,null,null,null,null,{"$f":"VLOOKUP($G$2:$G$50000,'Location Type (FICM Codes)'!$A$7:$B$188,2,FALSE)","v":{"$error":"#N/A"}},null,null,null,null,null,{"$f":"VLOOKUP(G3791:G13789,'Location Type (FICM Codes)'!$A$7:$C$188,3,FALSE)","v":{"$error":"#N/A"}}]
[null,null,null,null,null,null,null,{"$f":"VLOOKUP($G$2:$G$50000,'Location Type (FICM Codes)'!$A$7:$B$188,2,FALSE)","v":{"$error":"#N/A"}},null,null,null,null,null,{"$f":"VLOOKUP(G3796:G13794,'Location Type (FICM Codes)'!$A$7:$C$188,3,FALSE)","v":{"$error":"#N/A"}}]
[null,null,null,null,null,null,null,{"$f":"VLOOKUP($G$2:$G$50000,'Location Type (FICM Codes)'!$A$7:$B$188,2,FALSE)","v":{"$error":"#N/A"}},null,null,null,null,null,{"$f":"VLOOKUP(G3797:G13795,'Location Type (FICM Codes)'!$A$7:$C$188,3,FALSE)","v":{"$error":"#N/A"}}]
[null,null,null,null,null,null,null,{"$f":"VLOOKUP($G$2:$G$50000,'Location Type (FICM Codes)'!$A$7:$B$188,2,FALSE)","v":{"$error":"#N/A"}},null,null,null,null,null,{"$f":"VLOOKUP(G3802:G13800,'Location Type (FICM Codes)'!$A$7:$C$188,3,FALSE)","v":{"$error":"#N/A"}}]
[null,null,null,null,null,null,null,{"$f":"VLOOKUP($G$2:$G$50000,'Location Type (FICM Codes)'!$A$7:$B$188,2,FALSE)","v":{"$error":"#N/A"}},null,null,null,null,null,{"$f":"VLOOKUP(G3806:G13804,'Location Type (FICM Codes)'!$A$7:$C$188,3,FALSE)","v":{"$error":"#N/A"}}]
[null,null,null,null,null,null,null,{"$f":"VLOOKUP($G$2:$G$50000,'Location Type (FICM Codes)'!$A$7:$B$188,2,FALSE)","v":{"$error":"#N/A"}},null,null,null,null,null,{"$f":"VLOOKUP(G3811:G13809,'Location Type (FICM Codes)'!$A$7:$C$188,3,FALSE)","v":{"$error":"#N/A"}}]
[null,null,null,null,null,null,null,{"$f":"VLOOKUP($G$2:$G$50000,'Location Type (FICM Codes)'!$A$7:$B$188,2,FALSE)","v":{"$error":"#N/A"}},null,null,null,null,null,{"$f":"VLOOKUP(G3812:G13810,'Location Type (FICM Codes)'!$A$7:$C$188,3,FALSE)","v":{"$error":"#N/A"}}]
[null,null,null,null,null,null,null,{"$f":"VLOOKUP($G$2:$G$50000,'Location Type (FICM Codes)'!$A$7:$B$188,2,FALSE)","v":{"$error":"#N/A"}},null,null,null,null,null,{"$f":"VLOOKUP(G3818:G13816,'Location Type (FICM Codes)'!$A$7:$C$188,3,FALSE)","v":{"$error":"#N/A"}}]
[null,null,null,null,null,null,null,{"$f":"VLOOKUP($G$2:$G$50000,'Location Type (FICM Codes)'!$A$7:$B$188,2,FALSE)","v":{"$error":"#N/A"}},null,null,null,null,null,{"$f":"VLOOKUP(G3821:G13819,'Location Type (FICM Codes)'!$A$7:$C$188,3,FALSE)","v":{"$error":"#N/A"}}]
[null,null,null,null,null,null,null,{"$f":"VLOOKUP($G$2:$G$50000,'Location Type (FICM Codes)'!$A$7:$B$188,2,FALSE)","v":{"$error":"#N/A"}},null,null,null,null,null,{"$f":"VLOOKUP(G3826:G13824,'Location Type (FICM Codes)'!$A$7:$C$188,3,FALSE)","v":{"$error":"#N/A"}}]
[null,null,null,null,null,null,null,{"$f":"VLOOKUP($G$2:$G$50000,'Location Type (FICM Codes)'!$A$7:$B$188,2,FALSE)","v":{"$error":"#N/A"}},null,null,null,null,null,{"$f":"VLOOKUP(G3827:G13825,'Location Type (FICM Codes)'!$A$7:$C$188,3,FALSE)","v":{"$error":"#N/A"}}]
[null,null,null,null,null,null,null,{"$f":"VLOOKUP($G$2:$G$50000,'Location Type (FICM Codes)'!$A$7:$B$188,2,FALSE)","v":{"$error":"#N/A"}},null,null,null,null,null,{"$f":"VLOOKUP(G3832:G13830,'Location Type (FICM Codes)'!$A$7:$C$188,3,FALSE)","v":{"$error":"#N/A"}}]
[null,null,null,null,null,null,null,{"$f":"VLOOKUP($G$2:$G$50000,'Location Type (FICM Codes)'!$A$7:$B$188,2,FALSE)","v":{"$error":"#N/A"}},null,null,null,null,null,{"$f":"VLOOKUP(G3836:G13834,'Location Type (FICM Codes)'!$A$7:$C$188,3,FALSE)","v":{"$error":"#N/A"}}]
[null,null,null,null,null,null,null,{"$f":"VLOOKUP($G$2:$G$50000,'Location Type (FICM Codes)'!$A$7:$B$188,2,FALSE)","v":{"$error":"#N/A"}},null,null,null,null,null,{"$f":"VLOOKUP(G3841:G13839,'Location Type (FICM Codes)'!$A$7:$C$188,3,FALSE)","v":{"$error":"#N/A"}}]
[null,null,null,null,null,null,null,{"$f":"VLOOKUP($G$2:$G$50000,'Location Type (FICM Codes)'!$A$7:$B$188,2,FALSE)","v":{"$error":"#N/A"}},null,null,null,null,null,{"$f":"VLOOKUP(G3842:G13840,'Location Type (FICM Codes)'!$A$7:$C$188,3,FALSE)","v":{"$error":"#N/A"}}]
[null,null,null,null,null,null,null,{"$f":"VLOOKUP($G$2:$G$50000,'Location Type (FICM Codes)'!$A$7:$B$188,2,FALSE)","v":{"$error":"#N/A"}},null,null,null,null,null,{"$f":"VLOOKUP(G3848:G13846,'Location Type (FICM Codes)'!$A$7:$C$188,3,FALSE)","v":{"$error":"#N/A"}}]
[null,null,null,null,null,null,null,{"$f":"VLOOKUP($G$2:$G$50000,'Location Type (FICM Codes)'!$A$7:$B$188,2,FALSE)","v":{"$error":"#N/A"}},null,null,null,null,null,{"$f":"VLOOKUP(G3851:G13849,'Location Type (FICM Codes)'!$A$7:$C$188,3,FALSE)","v":{"$error":"#N/A"}}]
[null,null,null,null,null,null,null,{"$f":"VLOOKUP($G$2:$G$50000,'Location Type (FICM Codes)'!$A$7:$B$188,2,FALSE)","v":{"$error":"#N/A"}},null,null,null,null,null,{"$f":"VLOOKUP(G3856:G13854,'Location Type (FICM Codes)'!$A$7:$C$188,3,FALSE)","v":{"$error":"#N/A"}}]
[null,null,null,null,null,null,null,{"$f":"VLOOKUP($G$2:$G$50000,'Location Type (FICM Codes)'!$A$7:$B$188,2,FALSE)","v":{"$error":"#N/A"}},null,null,null,null,null,{"$f":"VLOOKUP(G3857:G13855,'Location Type (FICM Codes)'!$A$7:$C$188,3,FALSE)","v":{"$error":"#N/A"}}]
[null,null,null,null,null,null,null,{"$f":"VLOOKUP($G$2:$G$50000,'Location Type (FICM Codes)'!$A$7:$B$188,2,FALSE)","v":{"$error":"#N/A"}},null,null,null,null,null,{"$f":"VLOOKUP(G3862:G13860,'Location Type (FICM Codes)'!$A$7:$C$188,3,FALSE)","v":{"$error":"#N/A"}}]
[null,null,null,null,null,null,null,{"$f":"VLOOKUP($G$2:$G$50000,'Location Type (FICM Codes)'!$A$7:$B$188,2,FALSE)","v":{"$error":"#N/A"}},null,null,null,null,null,{"$f":"VLOOKUP(G3866:G13864,'Location Type (FICM Codes)'!$A$7:$C$188,3,FALSE)","v":{"$error":"#N/A"}}]
[null,null,null,null,null,null,null,{"$f":"VLOOKUP($G$2:$G$50000,'Location Type (FICM Codes)'!$A$7:$B$188,2,FALSE)","v":{"$error":"#N/A"}},null,null,null,null,null,{"$f":"VLOOKUP(G3871:G13869,'Location Type (FICM Codes)'!$A$7:$C$188,3,FALSE)","v":{"$error":"#N/A"}}]
[null,null,null,null,null,null,null,{"$f":"VLOOKUP($G$2:$G$50000,'Location Type (FICM Codes)'!$A$7:$B$188,2,FALSE)","v":{"$error":"#N/A"}},null,null,null,null,null,{"$f":"VLOOKUP(G3872:G13870,'Location Type (FICM Codes)'!$A$7:$C$188,3,FALSE)","v":{"$error":"#N/A"}}]
[null,null,null,null,null,null,null,{"$f":"VLOOKUP($G$2:$G$50000,'Location Type (FICM Codes)'!$A$7:$B$188,2,FALSE)","v":{"$error":"#N/A"}},null,null,null,null,null,{"$f":"VLOOKUP(G3878:G13876,'Location Type (FICM Codes)'!$A$7:$C$188,3,FALSE)","v":{"$error":"#N/A"}}]
[null,null,null,null,null,null,null,{"$f":"VLOOKUP($G$2:$G$50000,'Location Type (FICM Codes)'!$A$7:$B$188,2,FALSE)","v":{"$error":"#N/A"}},null,null,null,null,null,{"$f":"VLOOKUP(G3881:G13879,'Location Type (FICM Codes)'!$A$7:$C$188,3,FALSE)","v":{"$error":"#N/A"}}]
[null,null,null,null,null,null,null,{"$f":"VLOOKUP($G$2:$G$50000,'Location Type (FICM Codes)'!$A$7:$B$188,2,FALSE)","v":{"$error":"#N/A"}},null,null,null,null,null,{"$f":"VLOOKUP(G3886:G13884,'Location Type (FICM Codes)'!$A$7:$C$188,3,FALSE)","v":{"$error":"#N/A"}}]
[null,null,null,null,null,null,null,{"$f":"VLOOKUP($G$2:$G$50000,'Location Type (FICM Codes)'!$A$7:$B$188,2,FALSE)","v":{"$error":"#N/A"}},null,null,null,null,null,{"$f":"VLOOKUP(G3887:G13885,'Location Type (FICM Codes)'!$A$7:$C$188,3,FALSE)","v":{"$error":"#N/A"}}]
[null,null,null,null,null,null,null,{"$f":"VLOOKUP($G$2:$G$50000,'Location Type (FICM Codes)'!$A$7:$B$188,2,FALSE)","v":{"$error":"#N/A"}},null,null,null,null,null,{"$f":"VLOOKUP(G3892:G13890,'Location Type (FICM Codes)'!$A$7:$C$188,3,FALSE)","v":{"$error":"#N/A"}}]
[null,null,null,null,null,null,null,{"$f":"VLOOKUP($G$2:$G$50000,'Location Type (FICM Codes)'!$A$7:$B$188,2,FALSE)","v":{"$error":"#N/A"}},null,null,null,null,null,{"$f":"VLOOKUP(G3896:G13894,'Location Type (FICM Codes)'!$A$7:$C$188,3,FALSE)","v":{"$error":"#N/A"}}]
[null,null,null,null,null,null,null,{"$f":"VLOOKUP($G$2:$G$50000,'Location Type (FICM Codes)'!$A$7:$B$188,2,FALSE)","v":{"$error":"#N/A"}},null,null,null,null,null,{"$f":"VLOOKUP(G3901:G13899,'Location Type (FICM Codes)'!$A$7:$C$188,3,FALSE)","v":{"$error":"#N/A"}}]
[null,null,null,null,null,null,null,{"$f":"VLOOKUP($G$2:$G$50000,'Location Type (FICM Codes)'!$A$7:$B$188,2,FALSE)","v":{"$error":"#N/A"}},null,null,null,null,null,{"$f":"VLOOKUP(G3902:G13900,'Location Type (FICM Codes)'!$A$7:$C$188,3,FALSE)","v":{"$error":"#N/A"}}]
[null,null,null,null,null,null,null,{"$f":"VLOOKUP($G$2:$G$50000,'Location Type (FICM Codes)'!$A$7:$B$188,2,FALSE)","v":{"$error":"#N/A"}},null,null,null,null,null,{"$f":"VLOOKUP(G3906:G13904,'Location Type (FICM Codes)'!$A$7:$C$188,3,FALSE)","v":{"$error":"#N/A"}}]
[null,null,null,null,null,null,null,{"$f":"VLOOKUP($G$2:$G$50000,'Location Type (FICM Codes)'!$A$7:$B$188,2,FALSE)","v":{"$error":"#N/A"}},null,null,null,null,null,{"$f":"VLOOKUP(G3911:G13909,'Location Type (FICM Codes)'!$A$7:$C$188,3,FALSE)","v":{"$error":"#N/A"}}]
[null,null,null,null,null,null,null,{"$f":"VLOOKUP($G$2:$G$50000,'Location Type (FICM Codes)'!$A$7:$B$188,2,FALSE)","v":{"$error":"#N/A"}},null,null,null,null,null,{"$f":"VLOOKUP(G3916:G13914,'Location Type (FICM Codes)'!$A$7:$C$188,3,FALSE)","v":{"$error":"#N/A"}}]
[null,null,null,null,null,null,null,{"$f":"VLOOKUP($G$2:$G$50000,'Location Type (FICM Codes)'!$A$7:$B$188,2,FALSE)","v":{"$error":"#N/A"}},null,null,null,null,null,{"$f":"VLOOKUP(G3917:G13915,'Location Type (FICM Codes)'!$A$7:$C$188,3,FALSE)","v":{"$error":"#N/A"}}]
[null,null,null,null,null,null,null,{"$f":"VLOOKUP($G$2:$G$50000,'Location Type (FICM Codes)'!$A$7:$B$188,2,FALSE)","v":{"$error":"#N/A"}},null,null,null,null,null,{"$f":"VLOOKUP(G3922:G13920,'Location Type (FICM Codes)'!$A$7:$C$188,3,FALSE)","v":{"$error":"#N/A"}}]
[null,null,null,null,null,null,null,{"$f":"VLOOKUP($G$2:$G$50000,'Location Type (FICM Codes)'!$A$7:$B$188,2,FALSE)","v":{"$error":"#N/A"}},null,null,null,null,null,{"$f":"VLOOKUP(G3926:G13924,'Location Type (FICM Codes)'!$A$7:$C$188,3,FALSE)","v":{"$error":"#N/A"}}]
[null,null,null,null,null,null,null,{"$f":"VLOOKUP($G$2:$G$50000,'Location Type (FICM Codes)'!$A$7:$B$188,2,FALSE)","v":{"$error":"#N/A"}},null,null,null,null,null,{"$f":"VLOOKUP(G3931:G13929,'Location Type (FICM Codes)'!$A$7:$C$188,3,FALSE)","v":{"$error":"#N/A"}}]
[null,null,null,null,null,null,null,{"$f":"VLOOKUP($G$2:$G$50000,'Location Type (FICM Codes)'!$A$7:$B$188,2,FALSE)","v":{"$error":"#N/A"}},null,null,null,null,null,{"$f":"VLOOKUP(G3932:G13930,'Location Type (FICM Codes)'!$A$7:$C$188,3,FALSE)","v":{"$error":"#N/A"}}]
[null,null,null,null,null,null,null,{"$f":"VLOOKUP($G$2:$G$50000,'Location Type (FICM Codes)'!$A$7:$B$188,2,FALSE)","v":{"$error":"#N/A"}},null,null,null,null,null,{"$f":"VLOOKUP(G3936:G13934,'Location Type (FICM Codes)'!$A$7:$C$188,3,FALSE)","v":{"$error":"#N/A"}}]
[null,null,null,null,null,null,null,{"$f":"VLOOKUP($G$2:$G$50000,'Location Type (FICM Codes)'!$A$7:$B$188,2,FALSE)","v":{"$error":"#N/A"}},null,null,null,null,null,{"$f":"VLOOKUP(G3941:G13939,'Location Type (FICM Codes)'!$A$7:$C$188,3,FALSE)","v":{"$error":"#N/A"}}]
[null,null,null,null,null,null,null,{"$f":"VLOOKUP($G$2:$G$50000,'Location Type (FICM Codes)'!$A$7:$B$188,2,FALSE)","v":{"$error":"#N/A"}},null,null,null,null,null,{"$f":"VLOOKUP(G3946:G13944,'Location Type (FICM Codes)'!$A$7:$C$188,3,FALSE)","v":{"$error":"#N/A"}}]
[null,null,null,null,null,null,null,{"$f":"VLOOKUP($G$2:$G$50000,'Location Type (FICM Codes)'!$A$7:$B$188,2,FALSE)","v":{"$error":"#N/A"}},null,null,null,null,null,{"$f":"VLOOKUP(G3947:G13945,'Location Type (FICM Codes)'!$A$7:$C$188,3,FALSE)","v":{"$error":"#N/A"}}]
[null,null,null,null,null,null,null,{"$f":"VLOOKUP($G$2:$G$50000,'Location Type (FICM Codes)'!$A$7:$B$188,2,FALSE)","v":{"$error":"#N/A"}},null,null,null,null,null,{"$f":"VLOOKUP(G3952:G13950,'Location Type (FICM Codes)'!$A$7:$C$188,3,FALSE)","v":{"$error":"#N/A"}}]
[null,null,null,null,null,null,null,{"$f":"VLOOKUP($G$2:$G$50000,'Location Type (FICM Codes)'!$A$7:$B$188,2,FALSE)","v":{"$error":"#N/A"}},null,null,null,null,null,{"$f":"VLOOKUP(G3956:G13954,'Location Type (FICM Codes)'!$A$7:$C$188,3,FALSE)","v":{"$error":"#N/A"}}]
[null,null,null,null,null,null,null,{"$f":"VLOOKUP($G$2:$G$50000,'Location Type (FICM Codes)'!$A$7:$B$188,2,FALSE)","v":{"$error":"#N/A"}},null,null,null,null,null,{"$f":"VLOOKUP(G3961:G13959,'Location Type (FICM Codes)'!$A$7:$C$188,3,FALSE)","v":{"$error":"#N/A"}}]
[null,null,null,null,null,null,null,{"$f":"VLOOKUP($G$2:$G$50000,'Location Type (FICM Codes)'!$A$7:$B$188,2,FALSE)","v":{"$error":"#N/A"}},null,null,null,null,null,{"$f":"VLOOKUP(G3962:G13960,'Location Type (FICM Codes)'!$A$7:$C$188,3,FALSE)","v":{"$error":"#N/A"}}]
[null,null,null,null,null,null,null,{"$f":"VLOOKUP($G$2:$G$50000,'Location Type (FICM Codes)'!$A$7:$B$188,2,FALSE)","v":{"$error":"#N/A"}},null,null,null,null,null,{"$f":"VLOOKUP(G3966:G13964,'Location Type (FICM Codes)'!$A$7:$C$188,3,FALSE)","v":{"$error":"#N/A"}}]
[null,null,null,null,null,null,null,{"$f":"VLOOKUP($G$2:$G$50000,'Location Type (FICM Codes)'!$A$7:$B$188,2,FALSE)","v":{"$error":"#N/A"}},null,null,null,null,null,{"$f":"VLOOKUP(G3971:G13969,'Location Type (FICM Codes)'!$A$7:$C$188,3,FALSE)","v":{"$error":"#N/A"}}]
[null,null,null,null,null,null,null,{"$f":"VLOOKUP($G$2:$G$50000,'Location Type (FICM Codes)'!$A$7:$B$188,2,FALSE)","v":{"$error":"#N/A"}},null,null,null,null,null,{"$f":"VLOOKUP(G3976:G13974,'Location Type (FICM Codes)'!$A$7:$C$188,3,FALSE)","v":{"$error":"#N/A"}}]
[null,null,null,null,null,null,null,{"$f":"VLOOKUP($G$2:$G$50000,'Location Type (FICM Codes)'!$A$7:$B$188,2,FALSE)","v":{"$error":"#N/A"}},null,null,null,null,null,{"$f":"VLOOKUP(G3977:G13975,'Location Type (FICM Codes)'!$A$7:$C$188,3,FALSE)","v":{"$error":"#N/A"}}]
[null,null,null,null,null,null,null,{"$f":"VLOOKUP($G$2:$G$50000,'Location Type (FICM Codes)'!$A$7:$B$188,2,FALSE)","v":{"$error":"#N/A"}},null,null,null,null,null,{"$f":"VLOOKUP(G3982:G13980,'Location Type (FICM Codes)'!$A$7:$C$188,3,FALSE)","v":{"$error":"#N/A"}}]
[null,null,null,null,null,null,null,{"$f":"VLOOKUP($G$2:$G$50000,'Location Type (FICM Codes)'!$A$7:$B$188,2,FALSE)","v":{"$error":"#N/A"}},null,null,null,null,null,{"$f":"VLOOKUP(G3986:G13984,'Location Type (FICM Codes)'!$A$7:$C$188,3,FALSE)","v":{"$error":"#N/A"}}]
[null,null,null,null,null,null,null,{"$f":"VLOOKUP($G$2:$G$50000,'Location Type (FICM Codes)'!$A$7:$B$188,2,FALSE)","v":{"$error":"#N/A"}},null,null,null,null,null,{"$f":"VLOOKUP(G3991:G13989,'Location Type (FICM Codes)'!$A$7:$C$188,3,FALSE)","v":{"$error":"#N/A"}}]
[null,null,null,null,null,null,null,{"$f":"VLOOKUP($G$2:$G$50000,'Location Type (FICM Codes)'!$A$7:$B$188,2,FALSE)","v":{"$error":"#N/A"}},null,null,null,null,null,{"$f":"VLOOKUP(G3992:G13990,'Location Type (FICM Codes)'!$A$7:$C$188,3,FALSE)","v":{"$error":"#N/A"}}]
[null,null,null,null,null,null,null,{"$f":"VLOOKUP($G$2:$G$50000,'Location Type (FICM Codes)'!$A$7:$B$188,2,FALSE)","v":{"$error":"#N/A"}},null,null,null,null,null,{"$f":"VLOOKUP(G3996:G13994,'Location Type (FICM Codes)'!$A$7:$C$188,3,FALSE)","v":{"$error":"#N/A"}}]
[null,null,null,null,null,null,null,{"$f":"VLOOKUP($G$2:$G$50000,'Location Type (FICM Codes)'!$A$7:$B$188,2,FALSE)","v":{"$error":"#N/A"}},null,null,null,null,null,{"$f":"VLOOKUP(G4001:G13999,'Location Type (FICM Codes)'!$A$7:$C$188,3,FALSE)","v":{"$error":"#N/A"}}]
[null,null,null,null,null,null,null,{"$f":"VLOOKUP($G$2:$G$50000,'Location Type (FICM Codes)'!$A$7:$B$188,2,FALSE)","v":{"$error":"#N/A"}},null,null,null,null,null,{"$f":"VLOOKUP(G4006:G14004,'Location Type (FICM Codes)'!$A$7:$C$188,3,FALSE)","v":{"$error":"#N/A"}}]
[null,null,null,null,null,null,null,{"$f":"VLOOKUP($G$2:$G$50000,'Location Type (FICM Codes)'!$A$7:$B$188,2,FALSE)","v":{"$error":"#N/A"}},null,null,null,null,null,{"$f":"VLOOKUP(G4007:G14005,'Location Type (FICM Codes)'!$A$7:$C$188,3,FALSE)","v":{"$error":"#N/A"}}]
[null,null,null,null,null,null,null,{"$f":"VLOOKUP($G$2:$G$50000,'Location Type (FICM Codes)'!$A$7:$B$188,2,FALSE)","v":{"$error":"#N/A"}},null,null,null,null,null,{"$f":"VLOOKUP(G4012:G14010,'Location Type (FICM Codes)'!$A$7:$C$188,3,FALSE)","v":{"$error":"#N/A"}}]
[null,null,null,null,null,null,null,{"$f":"VLOOKUP($G$2:$G$50000,'Location Type (FICM Codes)'!$A$7:$B$188,2,FALSE)","v":{"$error":"#N/A"}},null,null,null,null,null,{"$f":"VLOOKUP(G4016:G14014,'Location Type (FICM Codes)'!$A$7:$C$188,3,FALSE)","v":{"$error":"#N/A"}}]
[null,null,null,null,null,null,null,{"$f":"VLOOKUP($G$2:$G$50000,'Location Type (FICM Codes)'!$A$7:$B$188,2,FALSE)","v":{"$error":"#N/A"}},null,null,null,null,null,{"$f":"VLOOKUP(G4021:G14019,'Location Type (FICM Codes)'!$A$7:$C$188,3,FALSE)","v":{"$error":"#N/A"}}]
[null,null,null,null,null,null,null,{"$f":"VLOOKUP($G$2:$G$50000,'Location Type (FICM Codes)'!$A$7:$B$188,2,FALSE)","v":{"$error":"#N/A"}},null,null,null,null,null,{"$f":"VLOOKUP(G4022:G14020,'Location Type (FICM Codes)'!$A$7:$C$188,3,FALSE)","v":{"$error":"#N/A"}}]
[null,null,null,null,null,null,null,{"$f":"VLOOKUP($G$2:$G$50000,'Location Type (FICM Codes)'!$A$7:$B$188,2,FALSE)","v":{"$error":"#N/A"}},null,null,null,null,null,{"$f":"VLOOKUP(G4026:G14024,'Location Type (FICM Codes)'!$A$7:$C$188,3,FALSE)","v":{"$error":"#N/A"}}]
[null,null,null,null,null,null,null,{"$f":"VLOOKUP($G$2:$G$50000,'Location Type (FICM Codes)'!$A$7:$B$188,2,FALSE)","v":{"$error":"#N/A"}},null,null,null,null,null,{"$f":"VLOOKUP(G4031:G14029,'Location Type (FICM Codes)'!$A$7:$C$188,3,FALSE)","v":{"$error":"#N/A"}}]
[null,null,null,null,null,null,null,{"$f":"VLOOKUP($G$2:$G$50000,'Location Type (FICM Codes)'!$A$7:$B$188,2,FALSE)","v":{"$error":"#N/A"}},null,null,null,null,null,{"$f":"VLOOKUP(G4036:G14034,'Location Type (FICM Codes)'!$A$7:$C$188,3,FALSE)","v":{"$error":"#N/A"}}]
[null,null,null,null,null,null,null,{"$f":"VLOOKUP($G$2:$G$50000,'Location Type (FICM Codes)'!$A$7:$B$188,2,FALSE)","v":{"$error":"#N/A"}},null,null,null,null,null,{"$f":"VLOOKUP(G4037:G14035,'Location Type (FICM Codes)'!$A$7:$C$188,3,FALSE)","v":{"$error":"#N/A"}}]
[null,null,null,null,null,null,null,{"$f":"VLOOKUP($G$2:$G$50000,'Location Type (FICM Codes)'!$A$7:$B$188,2,FALSE)","v":{"$error":"#N/A"}},null,null,null,null,null,{"$f":"VLOOKUP(G4042:G14040,'Location Type (FICM Codes)'!$A$7:$C$188,3,FALSE)","v":{"$error":"#N/A"}}]
[null,null,null,null,null,null,null,{"$f":"VLOOKUP($G$2:$G$50000,'Location Type (FICM Codes)'!$A$7:$B$188,2,FALSE)","v":{"$error":"#N/A"}},null,null,null,null,null,{"$f":"VLOOKUP(G4046:G14044,'Location Type (FICM Codes)'!$A$7:$C$188,3,FALSE)","v":{"$error":"#N/A"}}]
[null,null,null,null,null,null,null,{"$f":"VLOOKUP($G$2:$G$50000,'Location Type (FICM Codes)'!$A$7:$B$188,2,FALSE)","v":{"$error":"#N/A"}},null,null,null,null,null,{"$f":"VLOOKUP(G4051:G14049,'Location Type (FICM Codes)'!$A$7:$C$188,3,FALSE)","v":{"$error":"#N/A"}}]
[null,null,null,null,null,null,null,{"$f":"VLOOKUP($G$2:$G$50000,'Location Type (FICM Codes)'!$A$7:$B$188,2,FALSE)","v":{"$error":"#N/A"}},null,null,null,null,null,{"$f":"VLOOKUP(G4052:G14050,'Location Type (FICM Codes)'!$A$7:$C$188,3,FALSE)","v":{"$error":"#N/A"}}]
[null,null,null,null,null,null,null,{"$f":"VLOOKUP($G$2:$G$50000,'Location Type (FICM Codes)'!$A$7:$B$188,2,FALSE)","v":{"$error":"#N/A"}},null,null,null,null,null,{"$f":"VLOOKUP(G4056:G14054,'Location Type (FICM Codes)'!$A$7:$C$188,3,FALSE)","v":{"$error":"#N/A"}}]
[null,null,null,null,null,null,null,{"$f":"VLOOKUP($G$2:$G$50000,'Location Type (FICM Codes)'!$A$7:$B$188,2,FALSE)","v":{"$error":"#N/A"}},null,null,null,null,null,{"$f":"VLOOKUP(G4061:G14059,'Location Type (FICM Codes)'!$A$7:$C$188,3,FALSE)","v":{"$error":"#N/A"}}]
[null,null,null,null,null,null,null,{"$f":"VLOOKUP($G$2:$G$50000,'Location Type (FICM Codes)'!$A$7:$B$188,2,FALSE)","v":{"$error":"#N/A"}},null,null,null,null,null,{"$f":"VLOOKUP(G4066:G14064,'Location Type (FICM Codes)'!$A$7:$C$188,3,FALSE)","v":{"$error":"#N/A"}}]
[null,null,null,null,null,null,null,{"$f":"VLOOKUP($G$2:$G$50000,'Location Type (FICM Codes)'!$A$7:$B$188,2,FALSE)","v":{"$error":"#N/A"}},null,null,null,null,null,{"$f":"VLOOKUP(G4067:G14065,'Location Type (FICM Codes)'!$A$7:$C$188,3,FALSE)","v":{"$error":"#N/A"}}]
[null,null,null,null,null,null,null,{"$f":"VLOOKUP($G$2:$G$50000,'Location Type (FICM Codes)'!$A$7:$B$188,2,FALSE)","v":{"$error":"#N/A"}},null,null,null,null,null,{"$f":"VLOOKUP(G4072:G14070,'Location Type (FICM Codes)'!$A$7:$C$188,3,FALSE)","v":{"$error":"#N/A"}}]
[null,null,null,null,null,null,null,{"$f":"VLOOKUP($G$2:$G$50000,'Location Type (FICM Codes)'!$A$7:$B$188,2,FALSE)","v":{"$error":"#N/A"}},null,null,null,null,null,{"$f":"VLOOKUP(G4076:G14074,'Location Type (FICM Codes)'!$A$7:$C$188,3,FALSE)","v":{"$error":"#N/A"}}]
[null,null,null,null,null,null,null,{"$f":"VLOOKUP($G$2:$G$50000,'Location Type (FICM Codes)'!$A$7:$B$188,2,FALSE)","v":{"$error":"#N/A"}},null,null,null,null,null,{"$f":"VLOOKUP(G4081:G14079,'Location Type (FICM Codes)'!$A$7:$C$188,3,FALSE)","v":{"$error":"#N/A"}}]
[null,null,null,null,null,null,null,{"$f":"VLOOKUP($G$2:$G$50000,'Location Type (FICM Codes)'!$A$7:$B$188,2,FALSE)","v":{"$error":"#N/A"}},null,null,null,null,null,{"$f":"VLOOKUP(G4082:G14080,'Location Type (FICM Codes)'!$A$7:$C$188,3,FALSE)","v":{"$error":"#N/A"}}]
[null,null,null,null,null,null,null,{"$f":"VLOOKUP($G$2:$G$50000,'Location Type (FICM Codes)'!$A$7:$B$188,2,FALSE)","v":{"$error":"#N/A"}},null,null,null,null,null,{"$f":"VLOOKUP(G4086:G14084,'Location Type (FICM Codes)'!$A$7:$C$188,3,FALSE)","v":{"$error":"#N/A"}}]
[null,null,null,null,null,null,null,{"$f":"VLOOKUP($G$2:$G$50000,'Location Type (FICM Codes)'!$A$7:$B$188,2,FALSE)","v":{"$error":"#N/A"}},null,null,null,null,null,{"$f":"VLOOKUP(G4091:G14089,'Location Type (FICM Codes)'!$A$7:$C$188,3,FALSE)","v":{"$error":"#N/A"}}]
[null,null,null,null,null,null,null,{"$f":"VLOOKUP($G$2:$G$50000,'Location Type (FICM Codes)'!$A$7:$B$188,2,FALSE)","v":{"$error":"#N/A"}},null,null,null,null,null,{"$f":"VLOOKUP(G4096:G14094,'Location Type (FICM Codes)'!$A$7:$C$188,3,FALSE)","v":{"$error":"#N/A"}}]
[null,null,null,null,null,null,null,{"$f":"VLOOKUP($G$2:$G$50000,'Location Type (FICM Codes)'!$A$7:$B$188,2,FALSE)","v":{"$error":"#N/A"}},null,null,null,null,null,{"$f":"VLOOKUP(G4097:G14095,'Location Type (FICM Codes)'!$A$7:$C$188,3,FALSE)","v":{"$error":"#N/A"}}]
[null,null,null,null,null,null,null,{"$f":"VLOOKUP($G$2:$G$50000,'Location Type (FICM Codes)'!$A$7:$B$188,2,FALSE)","v":{"$error":"#N/A"}},null,null,null,null,null,{"$f":"VLOOKUP(G4102:G14100,'Location Type (FICM Codes)'!$A$7:$C$188,3,FALSE)","v":{"$error":"#N/A"}}]
[null,null,null,null,null,null,null,{"$f":"VLOOKUP($G$2:$G$50000,'Location Type (FICM Codes)'!$A$7:$B$188,2,FALSE)","v":{"$error":"#N/A"}},null,null,null,null,null,{"$f":"VLOOKUP(G4106:G14104,'Location Type (FICM Codes)'!$A$7:$C$188,3,FALSE)","v":{"$error":"#N/A"}}]
[null,null,null,null,null,null,null,{"$f":"VLOOKUP($G$2:$G$50000,'Location Type (FICM Codes)'!$A$7:$B$188,2,FALSE)","v":{"$error":"#N/A"}},null,null,null,null,null,{"$f":"VLOOKUP(G4111:G14109,'Location Type (FICM Codes)'!$A$7:$C$188,3,FALSE)","v":{"$error":"#N/A"}}]
[null,null,null,null,null,null,null,{"$f":"VLOOKUP($G$2:$G$50000,'Location Type (FICM Codes)'!$A$7:$B$188,2,FALSE)","v":{"$error":"#N/A"}},null,null,null,null,null,{"$f":"VLOOKUP(G4112:G14110,'Location Type (FICM Codes)'!$A$7:$C$188,3,FALSE)","v":{"$error":"#N/A"}}]
[null,null,null,null,null,null,null,{"$f":"VLOOKUP($G$2:$G$50000,'Location Type (FICM Codes)'!$A$7:$B$188,2,FALSE)","v":{"$error":"#N/A"}},null,null,null,null,null,{"$f":"VLOOKUP(G4116:G14114,'Location Type (FICM Codes)'!$A$7:$C$188,3,FALSE)","v":{"$error":"#N/A"}}]
[null,null,null,null,null,null,null,{"$f":"VLOOKUP($G$2:$G$50000,'Location Type (FICM Codes)'!$A$7:$B$188,2,FALSE)","v":{"$error":"#N/A"}},null,null,null,null,null,{"$f":"VLOOKUP(G4121:G14119,'Location Type (FICM Codes)'!$A$7:$C$188,3,FALSE)","v":{"$error":"#N/A"}}]
[null,null,null,null,null,null,null,{"$f":"VLOOKUP($G$2:$G$50000,'Location Type (FICM Codes)'!$A$7:$B$188,2,FALSE)","v":{"$error":"#N/A"}},null,null,null,null,null,{"$f":"VLOOKUP(G4126:G14124,'Location Type (FICM Codes)'!$A$7:$C$188,3,FALSE)","v":{"$error":"#N/A"}}]
[null,null,null,null,null,null,null,{"$f":"VLOOKUP($G$2:$G$50000,'Location Type (FICM Codes)'!$A$7:$B$188,2,FALSE)","v":{"$error":"#N/A"}},null,null,null,null,null,{"$f":"VLOOKUP(G4127:G14125,'Location Type (FICM Codes)'!$A$7:$C$188,3,FALSE)","v":{"$error":"#N/A"}}]
[null,null,null,null,null,null,null,{"$f":"VLOOKUP($G$2:$G$50000,'Location Type (FICM Codes)'!$A$7:$B$188,2,FALSE)","v":{"$error":"#N/A"}},null,null,null,null,null,{"$f":"VLOOKUP(G4132:G14130,'Location Type (FICM Codes)'!$A$7:$C$188,3,FALSE)","v":{"$error":"#N/A"}}]
[null,null,null,null,null,null,null,{"$f":"VLOOKUP($G$2:$G$50000,'Location Type (FICM Codes)'!$A$7:$B$188,2,FALSE)","v":{"$error":"#N/A"}},null,null,null,null,null,{"$f":"VLOOKUP(G4136:G14134,'Location Type (FICM Codes)'!$A$7:$C$188,3,FALSE)","v":{"$error":"#N/A"}}]
[null,null,null,null,null,null,null,{"$f":"VLOOKUP($G$2:$G$50000,'Location Type (FICM Codes)'!$A$7:$B$188,2,FALSE)","v":{"$error":"#N/A"}},null,null,null,null,null,{"$f":"VLOOKUP(G4141:G14139,'Location Type (FICM Codes)'!$A$7:$C$188,3,FALSE)","v":{"$error":"#N/A"}}]
[null,null,null,null,null,null,null,{"$f":"VLOOKUP($G$2:$G$50000,'Location Type (FICM Codes)'!$A$7:$B$188,2,FALSE)","v":{"$error":"#N/A"}},null,null,null,null,null,{"$f":"VLOOKUP(G4142:G14140,'Location Type (FICM Codes)'!$A$7:$C$188,3,FALSE)","v":{"$error":"#N/A"}}]
[null,null,null,null,null,null,null,{"$f":"VLOOKUP($G$2:$G$50000,'Location Type (FICM Codes)'!$A$7:$B$188,2,FALSE)","v":{"$error":"#N/A"}},null,null,null,null,null,{"$f":"VLOOKUP(G4146:G14144,'Location Type (FICM Codes)'!$A$7:$C$188,3,FALSE)","v":{"$error":"#N/A"}}]
[null,null,null,null,null,null,null,{"$f":"VLOOKUP($G$2:$G$50000,'Location Type (FICM Codes)'!$A$7:$B$188,2,FALSE)","v":{"$error":"#N/A"}},null,null,null,null,null,{"$f":"VLOOKUP(G4151:G14149,'Location Type (FICM Codes)'!$A$7:$C$188,3,FALSE)","v":{"$error":"#N/A"}}]
[null,null,null,null,null,null,null,{"$f":"VLOOKUP($G$2:$G$50000,'Location Type (FICM Codes)'!$A$7:$B$188,2,FALSE)","v":{"$error":"#N/A"}},null,null,null,null,null,{"$f":"VLOOKUP(G4156:G14154,'Location Type (FICM Codes)'!$A$7:$C$188,3,FALSE)","v":{"$error":"#N/A"}}]
[null,null,null,null,null,null,null,{"$f":"VLOOKUP($G$2:$G$50000,'Location Type (FICM Codes)'!$A$7:$B$188,2,FALSE)","v":{"$error":"#N/A"}},null,null,null,null,null,{"$f":"VLOOKUP(G4157:G14155,'Location Type (FICM Codes)'!$A$7:$C$188,3,FALSE)","v":{"$error":"#N/A"}}]
[null,null,null,null,null,null,null,{"$f":"VLOOKUP($G$2:$G$50000,'Location Type (FICM Codes)'!$A$7:$B$188,2,FALSE)","v":{"$error":"#N/A"}},null,null,null,null,null,{"$f":"VLOOKUP(G4163:G14161,'Location Type (FICM Codes)'!$A$7:$C$188,3,FALSE)","v":{"$error":"#N/A"}}]
[null,null,null,null,null,null,null,{"$f":"VLOOKUP($G$2:$G$50000,'Location Type (FICM Codes)'!$A$7:$B$188,2,FALSE)","v":{"$error":"#N/A"}},null,null,null,null,null,{"$f":"VLOOKUP(G4166:G14164,'Location Type (FICM Codes)'!$A$7:$C$188,3,FALSE)","v":{"$error":"#N/A"}}]
[null,null,null,null,null,null,null,{"$f":"VLOOKUP($G$2:$G$50000,'Location Type (FICM Codes)'!$A$7:$B$188,2,FALSE)","v":{"$error":"#N/A"}},null,null,null,null,null,{"$f":"VLOOKUP(G4171:G14169,'Location Type (FICM Codes)'!$A$7:$C$188,3,FALSE)","v":{"$error":"#N/A"}}]
[null,null,null,null,null,null,null,{"$f":"VLOOKUP($G$2:$G$50000,'Location Type (FICM Codes)'!$A$7:$B$188,2,FALSE)","v":{"$error":"#N/A"}},null,null,null,null,null,{"$f":"VLOOKUP(G4172:G14170,'Location Type (FICM Codes)'!$A$7:$C$188,3,FALSE)","v":{"$error":"#N/A"}}]
[null,null,null,null,null,null,null,{"$f":"VLOOKUP($G$2:$G$50000,'Location Type (FICM Codes)'!$A$7:$B$188,2,FALSE)","v":{"$error":"#N/A"}},null,null,null,null,null,{"$f":"VLOOKUP(G4176:G14174,'Location Type (FICM Codes)'!$A$7:$C$188,3,FALSE)","v":{"$error":"#N/A"}}]
[null,null,null,null,null,null,null,{"$f":"VLOOKUP($G$2:$G$50000,'Location Type (FICM Codes)'!$A$7:$B$188,2,FALSE)","v":{"$error":"#N/A"}},null,null,null,null,null,{"$f":"VLOOKUP(G4181:G14179,'Location Type (FICM Codes)'!$A$7:$C$188,3,FALSE)","v":{"$error":"#N/A"}}]
[null,null,null,null,null,null,null,{"$f":"VLOOKUP($G$2:$G$50000,'Location Type (FICM Codes)'!$A$7:$B$188,2,FALSE)","v":{"$error":"#N/A"}},null,null,null,null,null,{"$f":"VLOOKUP(G4186:G14184,'Location Type (FICM Codes)'!$A$7:$C$188,3,FALSE)","v":{"$error":"#N/A"}}]
[null,null,null,null,null,null,null,{"$f":"VLOOKUP($G$2:$G$50000,'Location Type (FICM Codes)'!$A$7:$B$188,2,FALSE)","v":{"$error":"#N/A"}},null,null,null,null,null,{"$f":"VLOOKUP(G4187:G14185,'Location Type (FICM Codes)'!$A$7:$C$188,3,FALSE)","v":{"$error":"#N/A"}}]
[null,null,null,null,null,null,null,{"$f":"VLOOKUP($G$2:$G$50000,'Location Type (FICM Codes)'!$A$7:$B$188,2,FALSE)","v":{"$error":"#N/A"}},null,null,null,null,null,{"$f":"VLOOKUP(G4193:G14191,'Location Type (FICM Codes)'!$A$7:$C$188,3,FALSE)","v":{"$error":"#N/A"}}]
[null,null,null,null,null,null,null,{"$f":"VLOOKUP($G$2:$G$50000,'Location Type (FICM Codes)'!$A$7:$B$188,2,FALSE)","v":{"$error":"#N/A"}},null,null,null,null,null,{"$f":"VLOOKUP(G4196:G14194,'Location Type (FICM Codes)'!$A$7:$C$188,3,FALSE)","v":{"$error":"#N/A"}}]
[null,null,null,null,null,null,null,{"$f":"VLOOKUP($G$2:$G$50000,'Location Type (FICM Codes)'!$A$7:$B$188,2,FALSE)","v":{"$error":"#N/A"}},null,null,null,null,null,{"$f":"VLOOKUP(G4201:G14199,'Location Type (FICM Codes)'!$A$7:$C$188,3,FALSE)","v":{"$error":"#N/A"}}]
[null,null,null,null,null,null,null,{"$f":"VLOOKUP($G$2:$G$50000,'Location Type (FICM Codes)'!$A$7:$B$188,2,FALSE)","v":{"$error":"#N/A"}},null,null,null,null,null,{"$f":"VLOOKUP(G4202:G14200,'Location Type (FICM Codes)'!$A$7:$C$188,3,FALSE)","v":{"$error":"#N/A"}}]
[null,null,null,null,null,null,null,{"$f":"VLOOKUP($G$2:$G$50000,'Location Type (FICM Codes)'!$A$7:$B$188,2,FALSE)","v":{"$error":"#N/A"}},null,null,null,null,null,{"$f":"VLOOKUP(G4206:G14204,'Location Type (FICM Codes)'!$A$7:$C$188,3,FALSE)","v":{"$error":"#N/A"}}]
[null,null,null,null,null,null,null,{"$f":"VLOOKUP($G$2:$G$50000,'Location Type (FICM Codes)'!$A$7:$B$188,2,FALSE)","v":{"$error":"#N/A"}},null,null,null,null,null,{"$f":"VLOOKUP(G4211:G14209,'Location Type (FICM Codes)'!$A$7:$C$188,3,FALSE)","v":{"$error":"#N/A"}}]
[null,null,null,null,null,null,null,{"$f":"VLOOKUP($G$2:$G$50000,'Location Type (FICM Codes)'!$A$7:$B$188,2,FALSE)","v":{"$error":"#N/A"}},null,null,null,null,null,{"$f":"VLOOKUP(G4216:G14214,'Location Type (FICM Codes)'!$A$7:$C$188,3,FALSE)","v":{"$error":"#N/A"}}]
[null,null,null,null,null,null,null,{"$f":"VLOOKUP($G$2:$G$50000,'Location Type (FICM Codes)'!$A$7:$B$188,2,FALSE)","v":{"$error":"#N/A"}},null,null,null,null,null,{"$f":"VLOOKUP(G4217:G14215,'Location Type (FICM Codes)'!$A$7:$C$188,3,FALSE)","v":{"$error":"#N/A"}}]
[null,null,null,null,null,null,null,{"$f":"VLOOKUP($G$2:$G$50000,'Location Type (FICM Codes)'!$A$7:$B$188,2,FALSE)","v":{"$error":"#N/A"}},null,null,null,null,null,{"$f":"VLOOKUP(G4223:G14221,'Location Type (FICM Codes)'!$A$7:$C$188,3,FALSE)","v":{"$error":"#N/A"}}]
[null,null,null,null,null,null,null,{"$f":"VLOOKUP($G$2:$G$50000,'Location Type (FICM Codes)'!$A$7:$B$188,2,FALSE)","v":{"$error":"#N/A"}},null,null,null,null,null,{"$f":"VLOOKUP(G4226:G14224,'Location Type (FICM Codes)'!$A$7:$C$188,3,FALSE)","v":{"$error":"#N/A"}}]
[null,null,null,null,null,null,null,{"$f":"VLOOKUP($G$2:$G$50000,'Location Type (FICM Codes)'!$A$7:$B$188,2,FALSE)","v":{"$error":"#N/A"}},null,null,null,null,null,{"$f":"VLOOKUP(G4231:G14229,'Location Type (FICM Codes)'!$A$7:$C$188,3,FALSE)","v":{"$error":"#N/A"}}]
[null,null,null,null,null,null,null,{"$f":"VLOOKUP($G$2:$G$50000,'Location Type (FICM Codes)'!$A$7:$B$188,2,FALSE)","v":{"$error":"#N/A"}},null,null,null,null,null,{"$f":"VLOOKUP(G4232:G14230,'Location Type (FICM Codes)'!$A$7:$C$188,3,FALSE)","v":{"$error":"#N/A"}}]
[null,null,null,null,null,null,null,{"$f":"VLOOKUP($G$2:$G$50000,'Location Type (FICM Codes)'!$A$7:$B$188,2,FALSE)","v":{"$error":"#N/A"}},null,null,null,null,null,{"$f":"VLOOKUP(G4236:G14234,'Location Type (FICM Codes)'!$A$7:$C$188,3,FALSE)","v":{"$error":"#N/A"}}]
[null,null,null,null,null,null,null,{"$f":"VLOOKUP($G$2:$G$50000,'Location Type (FICM Codes)'!$A$7:$B$188,2,FALSE)","v":{"$error":"#N/A"}},null,null,null,null,null,{"$f":"VLOOKUP(G4241:G14239,'Location Type (FICM Codes)'!$A$7:$C$188,3,FALSE)","v":{"$error":"#N/A"}}]
[null,null,null,null,null,null,null,{"$f":"VLOOKUP($G$2:$G$50000,'Location Type (FICM Codes)'!$A$7:$B$188,2,FALSE)","v":{"$error":"#N/A"}},null,null,null,null,null,{"$f":"VLOOKUP(G4246:G14244,'Location Type (FICM Codes)'!$A$7:$C$188,3,FALSE)","v":{"$error":"#N/A"}}]
[null,null,null,null,null,null,null,{"$f":"VLOOKUP($G$2:$G$50000,'Location Type (FICM Codes)'!$A$7:$B$188,2,FALSE)","v":{"$error":"#N/A"}},null,null,null,null,null,{"$f":"VLOOKUP(G4247:G14245,'Location Type (FICM Codes)'!$A$7:$C$188,3,FALSE)","v":{"$error":"#N/A"}}]
[null,null,null,null,null,null,null,{"$f":"VLOOKUP($G$2:$G$50000,'Location Type (FICM Codes)'!$A$7:$B$188,2,FALSE)","v":{"$error":"#N/A"}},null,null,null,null,null,{"$f":"VLOOKUP(G4253:G14251,'Location Type (FICM Codes)'!$A$7:$C$188,3,FALSE)","v":{"$error":"#N/A"}}]
[null,null,null,null,null,null,null,{"$f":"VLOOKUP($G$2:$G$50000,'Location Type (FICM Codes)'!$A$7:$B$188,2,FALSE)","v":{"$error":"#N/A"}},null,null,null,null,null,{"$f":"VLOOKUP(G4256:G14254,'Location Type (FICM Codes)'!$A$7:$C$188,3,FALSE)","v":{"$error":"#N/A"}}]
[null,null,null,null,null,null,null,{"$f":"VLOOKUP($G$2:$G$50000,'Location Type (FICM Codes)'!$A$7:$B$188,2,FALSE)","v":{"$error":"#N/A"}},null,null,null,null,null,{"$f":"VLOOKUP(G4261:G14259,'Location Type (FICM Codes)'!$A$7:$C$188,3,FALSE)","v":{"$error":"#N/A"}}]
[null,null,null,null,null,null,null,{"$f":"VLOOKUP($G$2:$G$50000,'Location Type (FICM Codes)'!$A$7:$B$188,2,FALSE)","v":{"$error":"#N/A"}},null,null,null,null,null,{"$f":"VLOOKUP(G4262:G14260,'Location Type (FICM Codes)'!$A$7:$C$188,3,FALSE)","v":{"$error":"#N/A"}}]
[null,null,null,null,null,null,null,{"$f":"VLOOKUP($G$2:$G$50000,'Location Type (FICM Codes)'!$A$7:$B$188,2,FALSE)","v":{"$error":"#N/A"}},null,null,null,null,null,{"$f":"VLOOKUP(G4266:G14264,'Location Type (FICM Codes)'!$A$7:$C$188,3,FALSE)","v":{"$error":"#N/A"}}]
[null,null,null,null,null,null,null,{"$f":"VLOOKUP($G$2:$G$50000,'Location Type (FICM Codes)'!$A$7:$B$188,2,FALSE)","v":{"$error":"#N/A"}},null,null,null,null,null,{"$f":"VLOOKUP(G4271:G14269,'Location Type (FICM Codes)'!$A$7:$C$188,3,FALSE)","v":{"$error":"#N/A"}}]
[null,null,null,null,null,null,null,{"$f":"VLOOKUP($G$2:$G$50000,'Location Type (FICM Codes)'!$A$7:$B$188,2,FALSE)","v":{"$error":"#N/A"}},null,null,null,null,null,{"$f":"VLOOKUP(G4276:G14274,'Location Type (FICM Codes)'!$A$7:$C$188,3,FALSE)","v":{"$error":"#N/A"}}]
[null,null,null,null,null,null,null,{"$f":"VLOOKUP($G$2:$G$50000,'Location Type (FICM Codes)'!$A$7:$B$188,2,FALSE)","v":{"$error":"#N/A"}},null,null,null,null,null,{"$f":"VLOOKUP(G4277:G14275,'Location Type (FICM Codes)'!$A$7:$C$188,3,FALSE)","v":{"$error":"#N/A"}}]
[null,null,null,null,null,null,null,{"$f":"VLOOKUP($G$2:$G$50000,'Location Type (FICM Codes)'!$A$7:$B$188,2,FALSE)","v":{"$error":"#N/A"}},null,null,null,null,null,{"$f":"VLOOKUP(G4283:G14281,'Location Type (FICM Codes)'!$A$7:$C$188,3,FALSE)","v":{"$error":"#N/A"}}]
[null,null,null,null,null,null,null,{"$f":"VLOOKUP($G$2:$G$50000,'Location Type (FICM Codes)'!$A$7:$B$188,2,FALSE)","v":{"$error":"#N/A"}},null,null,null,null,null,{"$f":"VLOOKUP(G4286:G14284,'Location Type (FICM Codes)'!$A$7:$C$188,3,FALSE)","v":{"$error":"#N/A"}}]
[null,null,null,null,null,null,null,{"$f":"VLOOKUP($G$2:$G$50000,'Location Type (FICM Codes)'!$A$7:$B$188,2,FALSE)","v":{"$error":"#N/A"}},null,null,null,null,null,{"$f":"VLOOKUP(G4291:G14289,'Location Type (FICM Codes)'!$A$7:$C$188,3,FALSE)","v":{"$error":"#N/A"}}]
[null,null,null,null,null,null,null,{"$f":"VLOOKUP($G$2:$G$50000,'Location Type (FICM Codes)'!$A$7:$B$188,2,FALSE)","v":{"$error":"#N/A"}},null,null,null,null,null,{"$f":"VLOOKUP(G4292:G14290,'Location Type (FICM Codes)'!$A$7:$C$188,3,FALSE)","v":{"$error":"#N/A"}}]
[null,null,null,null,null,null,null,{"$f":"VLOOKUP($G$2:$G$50000,'Location Type (FICM Codes)'!$A$7:$B$188,2,FALSE)","v":{"$error":"#N/A"}},null,null,null,null,null,{"$f":"VLOOKUP(G4296:G14294,'Location Type (FICM Codes)'!$A$7:$C$188,3,FALSE)","v":{"$error":"#N/A"}}]
[null,null,null,null,null,null,null,{"$f":"VLOOKUP($G$2:$G$50000,'Location Type (FICM Codes)'!$A$7:$B$188,2,FALSE)","v":{"$error":"#N/A"}},null,null,null,null,null,{"$f":"VLOOKUP(G4301:G14299,'Location Type (FICM Codes)'!$A$7:$C$188,3,FALSE)","v":{"$error":"#N/A"}}]
[null,null,null,null,null,null,null,{"$f":"VLOOKUP($G$2:$G$50000,'Location Type (FICM Codes)'!$A$7:$B$188,2,FALSE)","v":{"$error":"#N/A"}},null,null,null,null,null,{"$f":"VLOOKUP(G4306:G14304,'Location Type (FICM Codes)'!$A$7:$C$188,3,FALSE)","v":{"$error":"#N/A"}}]
[null,null,null,null,null,null,null,{"$f":"VLOOKUP($G$2:$G$50000,'Location Type (FICM Codes)'!$A$7:$B$188,2,FALSE)","v":{"$error":"#N/A"}},null,null,null,null,null,{"$f":"VLOOKUP(G4307:G14305,'Location Type (FICM Codes)'!$A$7:$C$188,3,FALSE)","v":{"$error":"#N/A"}}]
[null,null,null,null,null,null,null,{"$f":"VLOOKUP($G$2:$G$50000,'Location Type (FICM Codes)'!$A$7:$B$188,2,FALSE)","v":{"$error":"#N/A"}},null,null,null,null,null,{"$f":"VLOOKUP(G4313:G14311,'Location Type (FICM Codes)'!$A$7:$C$188,3,FALSE)","v":{"$error":"#N/A"}}]
[null,null,null,null,null,null,null,{"$f":"VLOOKUP($G$2:$G$50000,'Location Type (FICM Codes)'!$A$7:$B$188,2,FALSE)","v":{"$error":"#N/A"}},null,null,null,null,null,{"$f":"VLOOKUP(G4316:G14314,'Location Type (FICM Codes)'!$A$7:$C$188,3,FALSE)","v":{"$error":"#N/A"}}]
[null,null,null,null,null,null,null,{"$f":"VLOOKUP($G$2:$G$50000,'Location Type (FICM Codes)'!$A$7:$B$188,2,FALSE)","v":{"$error":"#N/A"}},null,null,null,null,null,{"$f":"VLOOKUP(G4321:G14319,'Location Type (FICM Codes)'!$A$7:$C$188,3,FALSE)","v":{"$error":"#N/A"}}]
[null,null,null,null,null,null,null,{"$f":"VLOOKUP($G$2:$G$50000,'Location Type (FICM Codes)'!$A$7:$B$188,2,FALSE)","v":{"$error":"#N/A"}},null,null,null,null,null,{"$f":"VLOOKUP(G4322:G14320,'Location Type (FICM Codes)'!$A$7:$C$188,3,FALSE)","v":{"$error":"#N/A"}}]
[null,null,null,null,null,null,null,{"$f":"VLOOKUP($G$2:$G$50000,'Location Type (FICM Codes)'!$A$7:$B$188,2,FALSE)","v":{"$error":"#N/A"}},null,null,null,null,null,{"$f":"VLOOKUP(G4326:G14324,'Location Type (FICM Codes)'!$A$7:$C$188,3,FALSE)","v":{"$error":"#N/A"}}]
[null,null,null,null,null,null,null,{"$f":"VLOOKUP($G$2:$G$50000,'Location Type (FICM Codes)'!$A$7:$B$188,2,FALSE)","v":{"$error":"#N/A"}},null,null,null,null,null,{"$f":"VLOOKUP(G4331:G14329,'Location Type (FICM Codes)'!$A$7:$C$188,3,FALSE)","v":{"$error":"#N/A"}}]
[null,null,null,null,null,null,null,{"$f":"VLOOKUP($G$2:$G$50000,'Location Type (FICM Codes)'!$A$7:$B$188,2,FALSE)","v":{"$error":"#N/A"}},null,null,null,null,null,{"$f":"VLOOKUP(G4336:G14334,'Location Type (FICM Codes)'!$A$7:$C$188,3,FALSE)","v":{"$error":"#N/A"}}]
[null,null,null,null,null,null,null,{"$f":"VLOOKUP($G$2:$G$50000,'Location Type (FICM Codes)'!$A$7:$B$188,2,FALSE)","v":{"$error":"#N/A"}},null,null,null,null,null,{"$f":"VLOOKUP(G4337:G14335,'Location Type (FICM Codes)'!$A$7:$C$188,3,FALSE)","v":{"$error":"#N/A"}}]
[null,null,null,null,null,null,null,{"$f":"VLOOKUP($G$2:$G$50000,'Location Type (FICM Codes)'!$A$7:$B$188,2,FALSE)","v":{"$error":"#N/A"}},null,null,null,null,null,{"$f":"VLOOKUP(G4343:G14341,'Location Type (FICM Codes)'!$A$7:$C$188,3,FALSE)","v":{"$error":"#N/A"}}]
[null,null,null,null,null,null,null,{"$f":"VLOOKUP($G$2:$G$50000,'Location Type (FICM Codes)'!$A$7:$B$188,2,FALSE)","v":{"$error":"#N/A"}},null,null,null,null,null,{"$f":"VLOOKUP(G4346:G14344,'Location Type (FICM Codes)'!$A$7:$C$188,3,FALSE)","v":{"$error":"#N/A"}}]
[null,null,null,null,null,null,null,{"$f":"VLOOKUP($G$2:$G$50000,'Location Type (FICM Codes)'!$A$7:$B$188,2,FALSE)","v":{"$error":"#N/A"}},null,null,null,null,null,{"$f":"VLOOKUP(G4351:G14349,'Location Type (FICM Codes)'!$A$7:$C$188,3,FALSE)","v":{"$error":"#N/A"}}]
[null,null,null,null,null,null,null,{"$f":"VLOOKUP($G$2:$G$50000,'Location Type (FICM Codes)'!$A$7:$B$188,2,FALSE)","v":{"$error":"#N/A"}},null,null,null,null,null,{"$f":"VLOOKUP(G4352:G14350,'Location Type (FICM Codes)'!$A$7:$C$188,3,FALSE)","v":{"$error":"#N/A"}}]
[null,null,null,null,null,null,null,{"$f":"VLOOKUP($G$2:$G$50000,'Location Type (FICM Codes)'!$A$7:$B$188,2,FALSE)","v":{"$error":"#N/A"}},null,null,null,null,null,{"$f":"VLOOKUP(G4356:G14354,'Location Type (FICM Codes)'!$A$7:$C$188,3,FALSE)","v":{"$error":"#N/A"}}]
[null,null,null,null,null,null,null,{"$f":"VLOOKUP($G$2:$G$50000,'Location Type (FICM Codes)'!$A$7:$B$188,2,FALSE)","v":{"$error":"#N/A"}},null,null,null,null,null,{"$f":"VLOOKUP(G4361:G14359,'Location Type (FICM Codes)'!$A$7:$C$188,3,FALSE)","v":{"$error":"#N/A"}}]
[null,null,null,null,null,null,null,{"$f":"VLOOKUP($G$2:$G$50000,'Location Type (FICM Codes)'!$A$7:$B$188,2,FALSE)","v":{"$error":"#N/A"}},null,null,null,null,null,{"$f":"VLOOKUP(G4366:G14364,'Location Type (FICM Codes)'!$A$7:$C$188,3,FALSE)","v":{"$error":"#N/A"}}]
[null,null,null,null,null,null,null,{"$f":"VLOOKUP($G$2:$G$50000,'Location Type (FICM Codes)'!$A$7:$B$188,2,FALSE)","v":{"$error":"#N/A"}},null,null,null,null,null,{"$f":"VLOOKUP(G4367:G14365,'Location Type (FICM Codes)'!$A$7:$C$188,3,FALSE)","v":{"$error":"#N/A"}}]
[null,null,null,null,null,null,null,{"$f":"VLOOKUP($G$2:$G$50000,'Location Type (FICM Codes)'!$A$7:$B$188,2,FALSE)","v":{"$error":"#N/A"}},null,null,null,null,null,{"$f":"VLOOKUP(G4373:G14371,'Location Type (FICM Codes)'!$A$7:$C$188,3,FALSE)","v":{"$error":"#N/A"}}]
[null,null,null,null,null,null,null,{"$f":"VLOOKUP($G$2:$G$50000,'Location Type (FICM Codes)'!$A$7:$B$188,2,FALSE)","v":{"$error":"#N/A"}},null,null,null,null,null,{"$f":"VLOOKUP(G4376:G14374,'Location Type (FICM Codes)'!$A$7:$C$188,3,FALSE)","v":{"$error":"#N/A"}}]
[null,null,null,null,null,null,null,{"$f":"VLOOKUP($G$2:$G$50000,'Location Type (FICM Codes)'!$A$7:$B$188,2,FALSE)","v":{"$error":"#N/A"}},null,null,null,null,null,{"$f":"VLOOKUP(G4381:G14379,'Location Type (FICM Codes)'!$A$7:$C$188,3,FALSE)","v":{"$error":"#N/A"}}]
[null,null,null,null,null,null,null,{"$f":"VLOOKUP($G$2:$G$50000,'Location Type (FICM Codes)'!$A$7:$B$188,2,FALSE)","v":{"$error":"#N/A"}},null,null,null,null,null,{"$f":"VLOOKUP(G4382:G14380,'Location Type (FICM Codes)'!$A$7:$C$188,3,FALSE)","v":{"$error":"#N/A"}}]
[null,null,null,null,null,null,null,{"$f":"VLOOKUP($G$2:$G$50000,'Location Type (FICM Codes)'!$A$7:$B$188,2,FALSE)","v":{"$error":"#N/A"}},null,null,null,null,null,{"$f":"VLOOKUP(G4386:G14384,'Location Type (FICM Codes)'!$A$7:$C$188,3,FALSE)","v":{"$error":"#N/A"}}]
[null,null,null,null,null,null,null,{"$f":"VLOOKUP($G$2:$G$50000,'Location Type (FICM Codes)'!$A$7:$B$188,2,FALSE)","v":{"$error":"#N/A"}},null,null,null,null,null,{"$f":"VLOOKUP(G4391:G14389,'Location Type (FICM Codes)'!$A$7:$C$188,3,FALSE)","v":{"$error":"#N/A"}}]
[null,null,null,null,null,null,null,{"$f":"VLOOKUP($G$2:$G$50000,'Location Type (FICM Codes)'!$A$7:$B$188,2,FALSE)","v":{"$error":"#N/A"}},null,null,null,null,null,{"$f":"VLOOKUP(G4396:G14394,'Location Type (FICM Codes)'!$A$7:$C$188,3,FALSE)","v":{"$error":"#N/A"}}]
[null,null,null,null,null,null,null,{"$f":"VLOOKUP($G$2:$G$50000,'Location Type (FICM Codes)'!$A$7:$B$188,2,FALSE)","v":{"$error":"#N/A"}},null,null,null,null,null,{"$f":"VLOOKUP(G4397:G14395,'Location Type (FICM Codes)'!$A$7:$C$188,3,FALSE)","v":{"$error":"#N/A"}}]
[null,null,null,null,null,null,null,{"$f":"VLOOKUP($G$2:$G$50000,'Location Type (FICM Codes)'!$A$7:$B$188,2,FALSE)","v":{"$error":"#N/A"}},null,null,null,null,null,{"$f":"VLOOKUP(G4403:G14401,'Location Type (FICM Codes)'!$A$7:$C$188,3,FALSE)","v":{"$error":"#N/A"}}]
[null,null,null,null,null,null,null,{"$f":"VLOOKUP($G$2:$G$50000,'Location Type (FICM Codes)'!$A$7:$B$188,2,FALSE)","v":{"$error":"#N/A"}},null,null,null,null,null,{"$f":"VLOOKUP(G4406:G14404,'Location Type (FICM Codes)'!$A$7:$C$188,3,FALSE)","v":{"$error":"#N/A"}}]
[null,null,null,null,null,null,null,{"$f":"VLOOKUP($G$2:$G$50000,'Location Type (FICM Codes)'!$A$7:$B$188,2,FALSE)","v":{"$error":"#N/A"}},null,null,null,null,null,{"$f":"VLOOKUP(G4411:G14409,'Location Type (FICM Codes)'!$A$7:$C$188,3,FALSE)","v":{"$error":"#N/A"}}]
[null,null,null,null,null,null,null,{"$f":"VLOOKUP($G$2:$G$50000,'Location Type (FICM Codes)'!$A$7:$B$188,2,FALSE)","v":{"$error":"#N/A"}},null,null,null,null,null,{"$f":"VLOOKUP(G4412:G14410,'Location Type (FICM Codes)'!$A$7:$C$188,3,FALSE)","v":{"$error":"#N/A"}}]
[null,null,null,null,null,null,null,{"$f":"VLOOKUP($G$2:$G$50000,'Location Type (FICM Codes)'!$A$7:$B$188,2,FALSE)","v":{"$error":"#N/A"}},null,null,null,null,null,{"$f":"VLOOKUP(G4416:G14414,'Location Type (FICM Codes)'!$A$7:$C$188,3,FALSE)","v":{"$error":"#N/A"}}]
[null,null,null,null,null,null,null,{"$f":"VLOOKUP($G$2:$G$50000,'Location Type (FICM Codes)'!$A$7:$B$188,2,FALSE)","v":{"$error":"#N/A"}},null,null,null,null,null,{"$f":"VLOOKUP(G4421:G14419,'Location Type (FICM Codes)'!$A$7:$C$188,3,FALSE)","v":{"$error":"#N/A"}}]
[null,null,null,null,null,null,null,{"$f":"VLOOKUP($G$2:$G$50000,'Location Type (FICM Codes)'!$A$7:$B$188,2,FALSE)","v":{"$error":"#N/A"}},null,null,null,null,null,{"$f":"VLOOKUP(G4426:G14424,'Location Type (FICM Codes)'!$A$7:$C$188,3,FALSE)","v":{"$error":"#N/A"}}]
[null,null,null,null,null,null,null,{"$f":"VLOOKUP($G$2:$G$50000,'Location Type (FICM Codes)'!$A$7:$B$188,2,FALSE)","v":{"$error":"#N/A"}},null,null,null,null,null,{"$f":"VLOOKUP(G4427:G14425,'Location Type (FICM Codes)'!$A$7:$C$188,3,FALSE)","v":{"$error":"#N/A"}}]
[null,null,null,null,null,null,null,{"$f":"VLOOKUP($G$2:$G$50000,'Location Type (FICM Codes)'!$A$7:$B$188,2,FALSE)","v":{"$error":"#N/A"}},null,null,null,null,null,{"$f":"VLOOKUP(G4433:G14431,'Location Type (FICM Codes)'!$A$7:$C$188,3,FALSE)","v":{"$error":"#N/A"}}]
[null,null,null,null,null,null,null,{"$f":"VLOOKUP($G$2:$G$50000,'Location Type (FICM Codes)'!$A$7:$B$188,2,FALSE)","v":{"$error":"#N/A"}},null,null,null,null,null,{"$f":"VLOOKUP(G4436:G14434,'Location Type (FICM Codes)'!$A$7:$C$188,3,FALSE)","v":{"$error":"#N/A"}}]
[null,null,null,null,null,null,null,{"$f":"VLOOKUP($G$2:$G$50000,'Location Type (FICM Codes)'!$A$7:$B$188,2,FALSE)","v":{"$error":"#N/A"}},null,null,null,null,null,{"$f":"VLOOKUP(G4441:G14439,'Location Type (FICM Codes)'!$A$7:$C$188,3,FALSE)","v":{"$error":"#N/A"}}]
[null,null,null,null,null,null,null,{"$f":"VLOOKUP($G$2:$G$50000,'Location Type (FICM Codes)'!$A$7:$B$188,2,FALSE)","v":{"$error":"#N/A"}},null,null,null,null,null,{"$f":"VLOOKUP(G4442:G14440,'Location Type (FICM Codes)'!$A$7:$C$188,3,FALSE)","v":{"$error":"#N/A"}}]
[null,null,null,null,null,null,null,{"$f":"VLOOKUP($G$2:$G$50000,'Location Type (FICM Codes)'!$A$7:$B$188,2,FALSE)","v":{"$error":"#N/A"}},null,null,null,null,null,{"$f":"VLOOKUP(G4447:G14445,'Location Type (FICM Codes)'!$A$7:$C$188,3,FALSE)","v":{"$error":"#N/A"}}]
[null,null,null,null,null,null,null,{"$f":"VLOOKUP($G$2:$G$50000,'Location Type (FICM Codes)'!$A$7:$B$188,2,FALSE)","v":{"$error":"#N/A"}},null,null,null,null,null,{"$f":"VLOOKUP(G4451:G14449,'Location Type (FICM Codes)'!$A$7:$C$188,3,FALSE)","v":{"$error":"#N/A"}}]
[null,null,null,null,null,null,null,{"$f":"VLOOKUP($G$2:$G$50000,'Location Type (FICM Codes)'!$A$7:$B$188,2,FALSE)","v":{"$error":"#N/A"}},null,null,null,null,null,{"$f":"VLOOKUP(G4456:G14454,'Location Type (FICM Codes)'!$A$7:$C$188,3,FALSE)","v":{"$error":"#N/A"}}]
[null,null,null,null,null,null,null,{"$f":"VLOOKUP($G$2:$G$50000,'Location Type (FICM Codes)'!$A$7:$B$188,2,FALSE)","v":{"$error":"#N/A"}},null,null,null,null,null,{"$f":"VLOOKUP(G4457:G14455,'Location Type (FICM Codes)'!$A$7:$C$188,3,FALSE)","v":{"$error":"#N/A"}}]
[null,null,null,null,null,null,null,{"$f":"VLOOKUP($G$2:$G$50000,'Location Type (FICM Codes)'!$A$7:$B$188,2,FALSE)","v":{"$error":"#N/A"}},null,null,null,null,null,{"$f":"VLOOKUP(G4463:G14461,'Location Type (FICM Codes)'!$A$7:$C$188,3,FALSE)","v":{"$error":"#N/A"}}]
[null,null,null,null,null,null,null,{"$f":"VLOOKUP($G$2:$G$50000,'Location Type (FICM Codes)'!$A$7:$B$188,2,FALSE)","v":{"$error":"#N/A"}},null,null,null,null,null,{"$f":"VLOOKUP(G4466:G14464,'Location Type (FICM Codes)'!$A$7:$C$188,3,FALSE)","v":{"$error":"#N/A"}}]
[null,null,null,null,null,null,null,{"$f":"VLOOKUP($G$2:$G$50000,'Location Type (FICM Codes)'!$A$7:$B$188,2,FALSE)","v":{"$error":"#N/A"}},null,null,null,null,null,{"$f":"VLOOKUP(G4471:G14469,'Location Type (FICM Codes)'!$A$7:$C$188,3,FALSE)","v":{"$error":"#N/A"}}]
[null,null,null,null,null,null,null,{"$f":"VLOOKUP($G$2:$G$50000,'Location Type (FICM Codes)'!$A$7:$B$188,2,FALSE)","v":{"$error":"#N/A"}},null,null,null,null,null,{"$f":"VLOOKUP(G4472:G14470,'Location Type (FICM Codes)'!$A$7:$C$188,3,FALSE)","v":{"$error":"#N/A"}}]
[null,null,null,null,null,null,null,{"$f":"VLOOKUP($G$2:$G$50000,'Location Type (FICM Codes)'!$A$7:$B$188,2,FALSE)","v":{"$error":"#N/A"}},null,null,null,null,null,{"$f":"VLOOKUP(G4477:G14475,'Location Type (FICM Codes)'!$A$7:$C$188,3,FALSE)","v":{"$error":"#N/A"}}]
[null,null,null,null,null,null,null,{"$f":"VLOOKUP($G$2:$G$50000,'Location Type (FICM Codes)'!$A$7:$B$188,2,FALSE)","v":{"$error":"#N/A"}},null,null,null,null,null,{"$f":"VLOOKUP(G4481:G14479,'Location Type (FICM Codes)'!$A$7:$C$188,3,FALSE)","v":{"$error":"#N/A"}}]
[null,null,null,null,null,null,null,{"$f":"VLOOKUP($G$2:$G$50000,'Location Type (FICM Codes)'!$A$7:$B$188,2,FALSE)","v":{"$error":"#N/A"}},null,null,null,null,null,{"$f":"VLOOKUP(G4486:G14484,'Location Type (FICM Codes)'!$A$7:$C$188,3,FALSE)","v":{"$error":"#N/A"}}]
[null,null,null,null,null,null,null,{"$f":"VLOOKUP($G$2:$G$50000,'Location Type (FICM Codes)'!$A$7:$B$188,2,FALSE)","v":{"$error":"#N/A"}},null,null,null,null,null,{"$f":"VLOOKUP(G4487:G14485,'Location Type (FICM Codes)'!$A$7:$C$188,3,FALSE)","v":{"$error":"#N/A"}}]
[null,null,null,null,null,null,null,{"$f":"VLOOKUP($G$2:$G$50000,'Location Type (FICM Codes)'!$A$7:$B$188,2,FALSE)","v":{"$error":"#N/A"}},null,null,null,null,null,{"$f":"VLOOKUP(G4493:G14491,'Location Type (FICM Codes)'!$A$7:$C$188,3,FALSE)","v":{"$error":"#N/A"}}]
[null,null,null,null,null,null,null,{"$f":"VLOOKUP($G$2:$G$50000,'Location Type (FICM Codes)'!$A$7:$B$188,2,FALSE)","v":{"$error":"#N/A"}},null,null,null,null,null,{"$f":"VLOOKUP(G4496:G14494,'Location Type (FICM Codes)'!$A$7:$C$188,3,FALSE)","v":{"$error":"#N/A"}}]
[null,null,null,null,null,null,null,{"$f":"VLOOKUP($G$2:$G$50000,'Location Type (FICM Codes)'!$A$7:$B$188,2,FALSE)","v":{"$error":"#N/A"}},null,null,null,null,null,{"$f":"VLOOKUP(G4501:G14499,'Location Type (FICM Codes)'!$A$7:$C$188,3,FALSE)","v":{"$error":"#N/A"}}]
[null,null,null,null,null,null,null,{"$f":"VLOOKUP($G$2:$G$50000,'Location Type (FICM Codes)'!$A$7:$B$188,2,FALSE)","v":{"$error":"#N/A"}},null,null,null,null,null,{"$f":"VLOOKUP(G4502:G14500,'Location Type (FICM Codes)'!$A$7:$C$188,3,FALSE)","v":{"$error":"#N/A"}}]
[null,null,null,null,null,null,null,{"$f":"VLOOKUP($G$2:$G$50000,'Location Type (FICM Codes)'!$A$7:$B$188,2,FALSE)","v":{"$error":"#N/A"}},null,null,null,null,null,{"$f":"VLOOKUP(G4507:G14505,'Location Type (FICM Codes)'!$A$7:$C$188,3,FALSE)","v":{"$error":"#N/A"}}]
[null,null,null,null,null,null,null,{"$f":"VLOOKUP($G$2:$G$50000,'Location Type (FICM Codes)'!$A$7:$B$188,2,FALSE)","v":{"$error":"#N/A"}},null,null,null,null,null,{"$f":"VLOOKUP(G4511:G14509,'Location Type (FICM Codes)'!$A$7:$C$188,3,FALSE)","v":{"$error":"#N/A"}}]
[null,null,null,null,null,null,null,{"$f":"VLOOKUP($G$2:$G$50000,'Location Type (FICM Codes)'!$A$7:$B$188,2,FALSE)","v":{"$error":"#N/A"}},null,null,null,null,null,{"$f":"VLOOKUP(G4516:G14514,'Location Type (FICM Codes)'!$A$7:$C$188,3,FALSE)","v":{"$error":"#N/A"}}]
[null,null,null,null,null,null,null,{"$f":"VLOOKUP($G$2:$G$50000,'Location Type (FICM Codes)'!$A$7:$B$188,2,FALSE)","v":{"$error":"#N/A"}},null,null,null,null,null,{"$f":"VLOOKUP(G4517:G14515,'Location Type (FICM Codes)'!$A$7:$C$188,3,FALSE)","v":{"$error":"#N/A"}}]
[null,null,null,null,null,null,null,{"$f":"VLOOKUP($G$2:$G$50000,'Location Type (FICM Codes)'!$A$7:$B$188,2,FALSE)","v":{"$error":"#N/A"}},null,null,null,null,null,{"$f":"VLOOKUP(G4523:G14521,'Location Type (FICM Codes)'!$A$7:$C$188,3,FALSE)","v":{"$error":"#N/A"}}]
[null,null,null,null,null,null,null,{"$f":"VLOOKUP($G$2:$G$50000,'Location Type (FICM Codes)'!$A$7:$B$188,2,FALSE)","v":{"$error":"#N/A"}},null,null,null,null,null,{"$f":"VLOOKUP(G4526:G14524,'Location Type (FICM Codes)'!$A$7:$C$188,3,FALSE)","v":{"$error":"#N/A"}}]
[null,null,null,null,null,null,null,{"$f":"VLOOKUP($G$2:$G$50000,'Location Type (FICM Codes)'!$A$7:$B$188,2,FALSE)","v":{"$error":"#N/A"}},null,null,null,null,null,{"$f":"VLOOKUP(G4531:G14529,'Location Type (FICM Codes)'!$A$7:$C$188,3,FALSE)","v":{"$error":"#N/A"}}]
[null,null,null,null,null,null,null,{"$f":"VLOOKUP($G$2:$G$50000,'Location Type (FICM Codes)'!$A$7:$B$188,2,FALSE)","v":{"$error":"#N/A"}},null,null,null,null,null,{"$f":"VLOOKUP(G4532:G14530,'Location Type (FICM Codes)'!$A$7:$C$188,3,FALSE)","v":{"$error":"#N/A"}}]
[null,null,null,null,null,null,null,{"$f":"VLOOKUP($G$2:$G$50000,'Location Type (FICM Codes)'!$A$7:$B$188,2,FALSE)","v":{"$error":"#N/A"}},null,null,null,null,null,{"$f":"VLOOKUP(G4537:G14535,'Location Type (FICM Codes)'!$A$7:$C$188,3,FALSE)","v":{"$error":"#N/A"}}]
[null,null,null,null,null,null,null,{"$f":"VLOOKUP($G$2:$G$50000,'Location Type (FICM Codes)'!$A$7:$B$188,2,FALSE)","v":{"$error":"#N/A"}},null,null,null,null,null,{"$f":"VLOOKUP(G4541:G14539,'Location Type (FICM Codes)'!$A$7:$C$188,3,FALSE)","v":{"$error":"#N/A"}}]
[null,null,null,null,null,null,null,{"$f":"VLOOKUP($G$2:$G$50000,'Location Type (FICM Codes)'!$A$7:$B$188,2,FALSE)","v":{"$error":"#N/A"}},null,null,null,null,null,{"$f":"VLOOKUP(G4546:G14544,'Location Type (FICM Codes)'!$A$7:$C$188,3,FALSE)","v":{"$error":"#N/A"}}]
[null,null,null,null,null,null,null,{"$f":"VLOOKUP($G$2:$G$50000,'Location Type (FICM Codes)'!$A$7:$B$188,2,FALSE)","v":{"$error":"#N/A"}},null,null,null,null,null,{"$f":"VLOOKUP(G4547:G14545,'Location Type (FICM Codes)'!$A$7:$C$188,3,FALSE)","v":{"$error":"#N/A"}}]
[null,null,null,null,null,null,null,{"$f":"VLOOKUP($G$2:$G$50000,'Location Type (FICM Codes)'!$A$7:$B$188,2,FALSE)","v":{"$error":"#N/A"}},null,null,null,null,null,{"$f":"VLOOKUP(G4553:G14551,'Location Type (FICM Codes)'!$A$7:$C$188,3,FALSE)","v":{"$error":"#N/A"}}]
[null,null,null,null,null,null,null,{"$f":"VLOOKUP($G$2:$G$50000,'Location Type (FICM Codes)'!$A$7:$B$188,2,FALSE)","v":{"$error":"#N/A"}},null,null,null,null,null,{"$f":"VLOOKUP(G4556:G14554,'Location Type (FICM Codes)'!$A$7:$C$188,3,FALSE)","v":{"$error":"#N/A"}}]
[null,null,null,null,null,null,null,{"$f":"VLOOKUP($G$2:$G$50000,'Location Type (FICM Codes)'!$A$7:$B$188,2,FALSE)","v":{"$error":"#N/A"}},null,null,null,null,null,{"$f":"VLOOKUP(G4561:G14559,'Location Type (FICM Codes)'!$A$7:$C$188,3,FALSE)","v":{"$error":"#N/A"}}]
[null,null,null,null,null,null,null,{"$f":"VLOOKUP($G$2:$G$50000,'Location Type (FICM Codes)'!$A$7:$B$188,2,FALSE)","v":{"$error":"#N/A"}},null,null,null,null,null,{"$f":"VLOOKUP(G4562:G14560,'Location Type (FICM Codes)'!$A$7:$C$188,3,FALSE)","v":{"$error":"#N/A"}}]
[null,null,null,null,null,null,null,{"$f":"VLOOKUP($G$2:$G$50000,'Location Type (FICM Codes)'!$A$7:$B$188,2,FALSE)","v":{"$error":"#N/A"}},null,null,null,null,null,{"$f":"VLOOKUP(G4567:G14565,'Location Type (FICM Codes)'!$A$7:$C$188,3,FALSE)","v":{"$error":"#N/A"}}]
[null,null,null,null,null,null,null,{"$f":"VLOOKUP($G$2:$G$50000,'Location Type (FICM Codes)'!$A$7:$B$188,2,FALSE)","v":{"$error":"#N/A"}},null,null,null,null,null,{"$f":"VLOOKUP(G4571:G14569,'Location Type (FICM Codes)'!$A$7:$C$188,3,FALSE)","v":{"$error":"#N/A"}}]
[null,null,null,null,null,null,null,{"$f":"VLOOKUP($G$2:$G$50000,'Location Type (FICM Codes)'!$A$7:$B$188,2,FALSE)","v":{"$error":"#N/A"}},null,null,null,null,null,{"$f":"VLOOKUP(G4576:G14574,'Location Type (FICM Codes)'!$A$7:$C$188,3,FALSE)","v":{"$error":"#N/A"}}]
[null,null,null,null,null,null,null,{"$f":"VLOOKUP($G$2:$G$50000,'Location Type (FICM Codes)'!$A$7:$B$188,2,FALSE)","v":{"$error":"#N/A"}},null,null,null,null,null,{"$f":"VLOOKUP(G4577:G14575,'Location Type (FICM Codes)'!$A$7:$C$188,3,FALSE)","v":{"$error":"#N/A"}}]
[null,null,null,null,null,null,null,{"$f":"VLOOKUP($G$2:$G$50000,'Location Type (FICM Codes)'!$A$7:$B$188,2,FALSE)","v":{"$error":"#N/A"}},null,null,null,null,null,{"$f":"VLOOKUP(G4583:G14581,'Location Type (FICM Codes)'!$A$7:$C$188,3,FALSE)","v":{"$error":"#N/A"}}]
[null,null,null,null,null,null,null,{"$f":"VLOOKUP($G$2:$G$50000,'Location Type (FICM Codes)'!$A$7:$B$188,2,FALSE)","v":{"$error":"#N/A"}},null,null,null,null,null,{"$f":"VLOOKUP(G4586:G14584,'Location Type (FICM Codes)'!$A$7:$C$188,3,FALSE)","v":{"$error":"#N/A"}}]
[null,null,null,null,null,null,null,{"$f":"VLOOKUP($G$2:$G$50000,'Location Type (FICM Codes)'!$A$7:$B$188,2,FALSE)","v":{"$error":"#N/A"}},null,null,null,null,null,{"$f":"VLOOKUP(G4591:G14589,'Location Type (FICM Codes)'!$A$7:$C$188,3,FALSE)","v":{"$error":"#N/A"}}]
[null,null,null,null,null,null,null,{"$f":"VLOOKUP($G$2:$G$50000,'Location Type (FICM Codes)'!$A$7:$B$188,2,FALSE)","v":{"$error":"#N/A"}},null,null,null,null,null,{"$f":"VLOOKUP(G4592:G14590,'Location Type (FICM Codes)'!$A$7:$C$188,3,FALSE)","v":{"$error":"#N/A"}}]
[null,null,null,null,null,null,null,{"$f":"VLOOKUP($G$2:$G$50000,'Location Type (FICM Codes)'!$A$7:$B$188,2,FALSE)","v":{"$error":"#N/A"}},null,null,null,null,null,{"$f":"VLOOKUP(G4597:G14595,'Location Type (FICM Codes)'!$A$7:$C$188,3,FALSE)","v":{"$error":"#N/A"}}]
[null,null,null,null,null,null,null,{"$f":"VLOOKUP($G$2:$G$50000,'Location Type (FICM Codes)'!$A$7:$B$188,2,FALSE)","v":{"$error":"#N/A"}},null,null,null,null,null,{"$f":"VLOOKUP(G4601:G14599,'Location Type (FICM Codes)'!$A$7:$C$188,3,FALSE)","v":{"$error":"#N/A"}}]
[null,null,null,null,null,null,null,{"$f":"VLOOKUP($G$2:$G$50000,'Location Type (FICM Codes)'!$A$7:$B$188,2,FALSE)","v":{"$error":"#N/A"}},null,null,null,null,null,{"$f":"VLOOKUP(G4606:G14604,'Location Type (FICM Codes)'!$A$7:$C$188,3,FALSE)","v":{"$error":"#N/A"}}]
[null,null,null,null,null,null,null,{"$f":"VLOOKUP($G$2:$G$50000,'Location Type (FICM Codes)'!$A$7:$B$188,2,FALSE)","v":{"$error":"#N/A"}},null,null,null,null,null,{"$f":"VLOOKUP(G4607:G14605,'Location Type (FICM Codes)'!$A$7:$C$188,3,FALSE)","v":{"$error":"#N/A"}}]
[null,null,null,null,null,null,null,{"$f":"VLOOKUP($G$2:$G$50000,'Location Type (FICM Codes)'!$A$7:$B$188,2,FALSE)","v":{"$error":"#N/A"}},null,null,null,null,null,{"$f":"VLOOKUP(G4613:G14611,'Location Type (FICM Codes)'!$A$7:$C$188,3,FALSE)","v":{"$error":"#N/A"}}]
[null,null,null,null,null,null,null,{"$f":"VLOOKUP($G$2:$G$50000,'Location Type (FICM Codes)'!$A$7:$B$188,2,FALSE)","v":{"$error":"#N/A"}},null,null,null,null,null,{"$f":"VLOOKUP(G4616:G14614,'Location Type (FICM Codes)'!$A$7:$C$188,3,FALSE)","v":{"$error":"#N/A"}}]
[null,null,null,null,null,null,null,{"$f":"VLOOKUP($G$2:$G$50000,'Location Type (FICM Codes)'!$A$7:$B$188,2,FALSE)","v":{"$error":"#N/A"}},null,null,null,null,null,{"$f":"VLOOKUP(G4621:G14619,'Location Type (FICM Codes)'!$A$7:$C$188,3,FALSE)","v":{"$error":"#N/A"}}]
[null,null,null,null,null,null,null,{"$f":"VLOOKUP($G$2:$G$50000,'Location Type (FICM Codes)'!$A$7:$B$188,2,FALSE)","v":{"$error":"#N/A"}},null,null,null,null,null,{"$f":"VLOOKUP(G4622:G14620,'Location Type (FICM Codes)'!$A$7:$C$188,3,FALSE)","v":{"$error":"#N/A"}}]
[null,null,null,null,null,null,null,{"$f":"VLOOKUP($G$2:$G$50000,'Location Type (FICM Codes)'!$A$7:$B$188,2,FALSE)","v":{"$error":"#N/A"}},null,null,null,null,null,{"$f":"VLOOKUP(G4627:G14625,'Location Type (FICM Codes)'!$A$7:$C$188,3,FALSE)","v":{"$error":"#N/A"}}]
[null,null,null,null,null,null,null,{"$f":"VLOOKUP($G$2:$G$50000,'Location Type (FICM Codes)'!$A$7:$B$188,2,FALSE)","v":{"$error":"#N/A"}},null,null,null,null,null,{"$f":"VLOOKUP(G4631:G14629,'Location Type (FICM Codes)'!$A$7:$C$188,3,FALSE)","v":{"$error":"#N/A"}}]
[null,null,null,null,null,null,null,{"$f":"VLOOKUP($G$2:$G$50000,'Location Type (FICM Codes)'!$A$7:$B$188,2,FALSE)","v":{"$error":"#N/A"}},null,null,null,null,null,{"$f":"VLOOKUP(G4636:G14634,'Location Type (FICM Codes)'!$A$7:$C$188,3,FALSE)","v":{"$error":"#N/A"}}]
[null,null,null,null,null,null,null,{"$f":"VLOOKUP($G$2:$G$50000,'Location Type (FICM Codes)'!$A$7:$B$188,2,FALSE)","v":{"$error":"#N/A"}},null,null,null,null,null,{"$f":"VLOOKUP(G4637:G14635,'Location Type (FICM Codes)'!$A$7:$C$188,3,FALSE)","v":{"$error":"#N/A"}}]
[null,null,null,null,null,null,null,{"$f":"VLOOKUP($G$2:$G$50000,'Location Type (FICM Codes)'!$A$7:$B$188,2,FALSE)","v":{"$error":"#N/A"}},null,null,null,null,null,{"$f":"VLOOKUP(G4643:G14641,'Location Type (FICM Codes)'!$A$7:$C$188,3,FALSE)","v":{"$error":"#N/A"}}]
[null,null,null,null,null,null,null,{"$f":"VLOOKUP($G$2:$G$50000,'Location Type (FICM Codes)'!$A$7:$B$188,2,FALSE)","v":{"$error":"#N/A"}},null,null,null,null,null,{"$f":"VLOOKUP(G4646:G14644,'Location Type (FICM Codes)'!$A$7:$C$188,3,FALSE)","v":{"$error":"#N/A"}}]
[null,null,null,null,null,null,null,{"$f":"VLOOKUP($G$2:$G$50000,'Location Type (FICM Codes)'!$A$7:$B$188,2,FALSE)","v":{"$error":"#N/A"}},null,null,null,null,null,{"$f":"VLOOKUP(G4651:G14649,'Location Type (FICM Codes)'!$A$7:$C$188,3,FALSE)","v":{"$error":"#N/A"}}]
[null,null,null,null,null,null,null,{"$f":"VLOOKUP($G$2:$G$50000,'Location Type (FICM Codes)'!$A$7:$B$188,2,FALSE)","v":{"$error":"#N/A"}},null,null,null,null,null,{"$f":"VLOOKUP(G4652:G14650,'Location Type (FICM Codes)'!$A$7:$C$188,3,FALSE)","v":{"$error":"#N/A"}}]
[null,null,null,null,null,null,null,{"$f":"VLOOKUP($G$2:$G$50000,'Location Type (FICM Codes)'!$A$7:$B$188,2,FALSE)","v":{"$error":"#N/A"}},null,null,null,null,null,{"$f":"VLOOKUP(G4657:G14655,'Location Type (FICM Codes)'!$A$7:$C$188,3,FALSE)","v":{"$error":"#N/A"}}]
[null,null,null,null,null,null,null,{"$f":"VLOOKUP($G$2:$G$50000,'Location Type (FICM Codes)'!$A$7:$B$188,2,FALSE)","v":{"$error":"#N/A"}},null,null,null,null,null,{"$f":"VLOOKUP(G4661:G14659,'Location Type (FICM Codes)'!$A$7:$C$188,3,FALSE)","v":{"$error":"#N/A"}}]
[null,null,null,null,null,null,null,{"$f":"VLOOKUP($G$2:$G$50000,'Location Type (FICM Codes)'!$A$7:$B$188,2,FALSE)","v":{"$error":"#N/A"}},null,null,null,null,null,{"$f":"VLOOKUP(G4666:G14664,'Location Type (FICM Codes)'!$A$7:$C$188,3,FALSE)","v":{"$error":"#N/A"}}]
[null,null,null,null,null,null,null,{"$f":"VLOOKUP($G$2:$G$50000,'Location Type (FICM Codes)'!$A$7:$B$188,2,FALSE)","v":{"$error":"#N/A"}},null,null,null,null,null,{"$f":"VLOOKUP(G4667:G14665,'Location Type (FICM Codes)'!$A$7:$C$188,3,FALSE)","v":{"$error":"#N/A"}}]
[null,null,null,null,null,null,null,{"$f":"VLOOKUP($G$2:$G$50000,'Location Type (FICM Codes)'!$A$7:$B$188,2,FALSE)","v":{"$error":"#N/A"}},null,null,null,null,null,{"$f":"VLOOKUP(G4673:G14671,'Location Type (FICM Codes)'!$A$7:$C$188,3,FALSE)","v":{"$error":"#N/A"}}]
[null,null,null,null,null,null,null,{"$f":"VLOOKUP($G$2:$G$50000,'Location Type (FICM Codes)'!$A$7:$B$188,2,FALSE)","v":{"$error":"#N/A"}},null,null,null,null,null,{"$f":"VLOOKUP(G4676:G14674,'Location Type (FICM Codes)'!$A$7:$C$188,3,FALSE)","v":{"$error":"#N/A"}}]
[null,null,null,null,null,null,null,{"$f":"VLOOKUP($G$2:$G$50000,'Location Type (FICM Codes)'!$A$7:$B$188,2,FALSE)","v":{"$error":"#N/A"}},null,null,null,null,null,{"$f":"VLOOKUP(G4681:G14679,'Location Type (FICM Codes)'!$A$7:$C$188,3,FALSE)","v":{"$error":"#N/A"}}]
[null,null,null,null,null,null,null,{"$f":"VLOOKUP($G$2:$G$50000,'Location Type (FICM Codes)'!$A$7:$B$188,2,FALSE)","v":{"$error":"#N/A"}},null,null,null,null,null,{"$f":"VLOOKUP(G4682:G14680,'Location Type (FICM Codes)'!$A$7:$C$188,3,FALSE)","v":{"$error":"#N/A"}}]
[null,null,null,null,null,null,null,{"$f":"VLOOKUP($G$2:$G$50000,'Location Type (FICM Codes)'!$A$7:$B$188,2,FALSE)","v":{"$error":"#N/A"}},null,null,null,null,null,{"$f":"VLOOKUP(G4687:G14685,'Location Type (FICM Codes)'!$A$7:$C$188,3,FALSE)","v":{"$error":"#N/A"}}]
[null,null,null,null,null,null,null,{"$f":"VLOOKUP($G$2:$G$50000,'Location Type (FICM Codes)'!$A$7:$B$188,2,FALSE)","v":{"$error":"#N/A"}},null,null,null,null,null,{"$f":"VLOOKUP(G4691:G14689,'Location Type (FICM Codes)'!$A$7:$C$188,3,FALSE)","v":{"$error":"#N/A"}}]
[null,null,null,null,null,null,null,{"$f":"VLOOKUP($G$2:$G$50000,'Location Type (FICM Codes)'!$A$7:$B$188,2,FALSE)","v":{"$error":"#N/A"}},null,null,null,null,null,{"$f":"VLOOKUP(G4696:G14694,'Location Type (FICM Codes)'!$A$7:$C$188,3,FALSE)","v":{"$error":"#N/A"}}]
[null,null,null,null,null,null,null,{"$f":"VLOOKUP($G$2:$G$50000,'Location Type (FICM Codes)'!$A$7:$B$188,2,FALSE)","v":{"$error":"#N/A"}},null,null,null,null,null,{"$f":"VLOOKUP(G4697:G14695,'Location Type (FICM Codes)'!$A$7:$C$188,3,FALSE)","v":{"$error":"#N/A"}}]
[null,null,null,null,null,null,null,{"$f":"VLOOKUP($G$2:$G$50000,'Location Type (FICM Codes)'!$A$7:$B$188,2,FALSE)","v":{"$error":"#N/A"}},null,null,null,null,null,{"$f":"VLOOKUP(G4701:G14699,'Location Type (FICM Codes)'!$A$7:$C$188,3,FALSE)","v":{"$error":"#N/A"}}]
[null,null,null,null,null,null,null,{"$f":"VLOOKUP($G$2:$G$50000,'Location Type (FICM Codes)'!$A$7:$B$188,2,FALSE)","v":{"$error":"#N/A"}},null,null,null,null,null,{"$f":"VLOOKUP(G4706:G14704,'Location Type (FICM Codes)'!$A$7:$C$188,3,FALSE)","v":{"$error":"#N/A"}}]
[null,null,null,null,null,null,null,{"$f":"VLOOKUP($G$2:$G$50000,'Location Type (FICM Codes)'!$A$7:$B$188,2,FALSE)","v":{"$error":"#N/A"}},null,null,null,null,null,{"$f":"VLOOKUP(G4711:G14709,'Location Type (FICM Codes)'!$A$7:$C$188,3,FALSE)","v":{"$error":"#N/A"}}]
[null,null,null,null,null,null,null,{"$f":"VLOOKUP($G$2:$G$50000,'Location Type (FICM Codes)'!$A$7:$B$188,2,FALSE)","v":{"$error":"#N/A"}},null,null,null,null,null,{"$f":"VLOOKUP(G4712:G14710,'Location Type (FICM Codes)'!$A$7:$C$188,3,FALSE)","v":{"$error":"#N/A"}}]
[null,null,null,null,null,null,null,{"$f":"VLOOKUP($G$2:$G$50000,'Location Type (FICM Codes)'!$A$7:$B$188,2,FALSE)","v":{"$error":"#N/A"}},null,null,null,null,null,{"$f":"VLOOKUP(G4717:G14715,'Location Type (FICM Codes)'!$A$7:$C$188,3,FALSE)","v":{"$error":"#N/A"}}]
[null,null,null,null,null,null,null,{"$f":"VLOOKUP($G$2:$G$50000,'Location Type (FICM Codes)'!$A$7:$B$188,2,FALSE)","v":{"$error":"#N/A"}},null,null,null,null,null,{"$f":"VLOOKUP(G4721:G14719,'Location Type (FICM Codes)'!$A$7:$C$188,3,FALSE)","v":{"$error":"#N/A"}}]
[null,null,null,null,null,null,null,{"$f":"VLOOKUP($G$2:$G$50000,'Location Type (FICM Codes)'!$A$7:$B$188,2,FALSE)","v":{"$error":"#N/A"}},null,null,null,null,null,{"$f":"VLOOKUP(G4726:G14724,'Location Type (FICM Codes)'!$A$7:$C$188,3,FALSE)","v":{"$error":"#N/A"}}]
[null,null,null,null,null,null,null,{"$f":"VLOOKUP($G$2:$G$50000,'Location Type (FICM Codes)'!$A$7:$B$188,2,FALSE)","v":{"$error":"#N/A"}},null,null,null,null,null,{"$f":"VLOOKUP(G4727:G14725,'Location Type (FICM Codes)'!$A$7:$C$188,3,FALSE)","v":{"$error":"#N/A"}}]
[null,null,null,null,null,null,null,{"$f":"VLOOKUP($G$2:$G$50000,'Location Type (FICM Codes)'!$A$7:$B$188,2,FALSE)","v":{"$error":"#N/A"}},null,null,null,null,null,{"$f":"VLOOKUP(G4731:G14729,'Location Type (FICM Codes)'!$A$7:$C$188,3,FALSE)","v":{"$error":"#N/A"}}]
[null,null,null,null,null,null,null,{"$f":"VLOOKUP($G$2:$G$50000,'Location Type (FICM Codes)'!$A$7:$B$188,2,FALSE)","v":{"$error":"#N/A"}},null,null,null,null,null,{"$f":"VLOOKUP(G4736:G14734,'Location Type (FICM Codes)'!$A$7:$C$188,3,FALSE)","v":{"$error":"#N/A"}}]
[null,null,null,null,null,null,null,{"$f":"VLOOKUP($G$2:$G$50000,'Location Type (FICM Codes)'!$A$7:$B$188,2,FALSE)","v":{"$error":"#N/A"}},null,null,null,null,null,{"$f":"VLOOKUP(G4741:G14739,'Location Type (FICM Codes)'!$A$7:$C$188,3,FALSE)","v":{"$error":"#N/A"}}]
[null,null,null,null,null,null,null,{"$f":"VLOOKUP($G$2:$G$50000,'Location Type (FICM Codes)'!$A$7:$B$188,2,FALSE)","v":{"$error":"#N/A"}},null,null,null,null,null,{"$f":"VLOOKUP(G4742:G14740,'Location Type (FICM Codes)'!$A$7:$C$188,3,FALSE)","v":{"$error":"#N/A"}}]
[null,null,null,null,null,null,null,{"$f":"VLOOKUP($G$2:$G$50000,'Location Type (FICM Codes)'!$A$7:$B$188,2,FALSE)","v":{"$error":"#N/A"}},null,null,null,null,null,{"$f":"VLOOKUP(G4747:G14745,'Location Type (FICM Codes)'!$A$7:$C$188,3,FALSE)","v":{"$error":"#N/A"}}]
[null,null,null,null,null,null,null,{"$f":"VLOOKUP($G$2:$G$50000,'Location Type (FICM Codes)'!$A$7:$B$188,2,FALSE)","v":{"$error":"#N/A"}},null,null,null,null,null,{"$f":"VLOOKUP(G4751:G14749,'Location Type (FICM Codes)'!$A$7:$C$188,3,FALSE)","v":{"$error":"#N/A"}}]
[null,null,null,null,null,null,null,{"$f":"VLOOKUP($G$2:$G$50000,'Location Type (FICM Codes)'!$A$7:$B$188,2,FALSE)","v":{"$error":"#N/A"}},null,null,null,null,null,{"$f":"VLOOKUP(G4756:G14754,'Location Type (FICM Codes)'!$A$7:$C$188,3,FALSE)","v":{"$error":"#N/A"}}]
[null,null,null,null,null,null,null,{"$f":"VLOOKUP($G$2:$G$50000,'Location Type (FICM Codes)'!$A$7:$B$188,2,FALSE)","v":{"$error":"#N/A"}},null,null,null,null,null,{"$f":"VLOOKUP(G4757:G14755,'Location Type (FICM Codes)'!$A$7:$C$188,3,FALSE)","v":{"$error":"#N/A"}}]
[null,null,null,null,null,null,null,{"$f":"VLOOKUP($G$2:$G$50000,'Location Type (FICM Codes)'!$A$7:$B$188,2,FALSE)","v":{"$error":"#N/A"}},null,null,null,null,null,{"$f":"VLOOKUP(G4761:G14759,'Location Type (FICM Codes)'!$A$7:$C$188,3,FALSE)","v":{"$error":"#N/A"}}]
[null,null,null,null,null,null,null,{"$f":"VLOOKUP($G$2:$G$50000,'Location Type (FICM Codes)'!$A$7:$B$188,2,FALSE)","v":{"$error":"#N/A"}},null,null,null,null,null,{"$f":"VLOOKUP(G4766:G14764,'Location Type (FICM Codes)'!$A$7:$C$188,3,FALSE)","v":{"$error":"#N/A"}}]
[null,null,null,null,null,null,null,{"$f":"VLOOKUP($G$2:$G$50000,'Location Type (FICM Codes)'!$A$7:$B$188,2,FALSE)","v":{"$error":"#N/A"}},null,null,null,null,null,{"$f":"VLOOKUP(G4771:G14769,'Location Type (FICM Codes)'!$A$7:$C$188,3,FALSE)","v":{"$error":"#N/A"}}]
[null,null,null,null,null,null,null,{"$f":"VLOOKUP($G$2:$G$50000,'Location Type (FICM Codes)'!$A$7:$B$188,2,FALSE)","v":{"$error":"#N/A"}},null,null,null,null,null,{"$f":"VLOOKUP(G4772:G14770,'Location Type (FICM Codes)'!$A$7:$C$188,3,FALSE)","v":{"$error":"#N/A"}}]
[null,null,null,null,null,null,null,{"$f":"VLOOKUP($G$2:$G$50000,'Location Type (FICM Codes)'!$A$7:$B$188,2,FALSE)","v":{"$error":"#N/A"}},null,null,null,null,null,{"$f":"VLOOKUP(G4777:G14775,'Location Type (FICM Codes)'!$A$7:$C$188,3,FALSE)","v":{"$error":"#N/A"}}]
[null,null,null,null,null,null,null,{"$f":"VLOOKUP($G$2:$G$50000,'Location Type (FICM Codes)'!$A$7:$B$188,2,FALSE)","v":{"$error":"#N/A"}},null,null,null,null,null,{"$f":"VLOOKUP(G4781:G14779,'Location Type (FICM Codes)'!$A$7:$C$188,3,FALSE)","v":{"$error":"#N/A"}}]
[null,null,null,null,null,null,null,{"$f":"VLOOKUP($G$2:$G$50000,'Location Type (FICM Codes)'!$A$7:$B$188,2,FALSE)","v":{"$error":"#N/A"}},null,null,null,null,null,{"$f":"VLOOKUP(G4786:G14784,'Location Type (FICM Codes)'!$A$7:$C$188,3,FALSE)","v":{"$error":"#N/A"}}]
[null,null,null,null,null,null,null,{"$f":"VLOOKUP($G$2:$G$50000,'Location Type (FICM Codes)'!$A$7:$B$188,2,FALSE)","v":{"$error":"#N/A"}},null,null,null,null,null,{"$f":"VLOOKUP(G4787:G14785,'Location Type (FICM Codes)'!$A$7:$C$188,3,FALSE)","v":{"$error":"#N/A"}}]
[null,null,null,null,null,null,null,{"$f":"VLOOKUP($G$2:$G$50000,'Location Type (FICM Codes)'!$A$7:$B$188,2,FALSE)","v":{"$error":"#N/A"}},null,null,null,null,null,{"$f":"VLOOKUP(G4791:G14789,'Location Type (FICM Codes)'!$A$7:$C$188,3,FALSE)","v":{"$error":"#N/A"}}]
[null,null,null,null,null,null,null,{"$f":"VLOOKUP($G$2:$G$50000,'Location Type (FICM Codes)'!$A$7:$B$188,2,FALSE)","v":{"$error":"#N/A"}},null,null,null,null,null,{"$f":"VLOOKUP(G4796:G14794,'Location Type (FICM Codes)'!$A$7:$C$188,3,FALSE)","v":{"$error":"#N/A"}}]
[null,null,null,null,null,null,null,{"$f":"VLOOKUP($G$2:$G$50000,'Location Type (FICM Codes)'!$A$7:$B$188,2,FALSE)","v":{"$error":"#N/A"}},null,null,null,null,null,{"$f":"VLOOKUP(G4801:G14799,'Location Type (FICM Codes)'!$A$7:$C$188,3,FALSE)","v":{"$error":"#N/A"}}]
[null,null,null,null,null,null,null,{"$f":"VLOOKUP($G$2:$G$50000,'Location Type (FICM Codes)'!$A$7:$B$188,2,FALSE)","v":{"$error":"#N/A"}},null,null,null,null,null,{"$f":"VLOOKUP(G4802:G14800,'Location Type (FICM Codes)'!$A$7:$C$188,3,FALSE)","v":{"$error":"#N/A"}}]
[null,null,null,null,null,null,null,{"$f":"VLOOKUP($G$2:$G$50000,'Location Type (FICM Codes)'!$A$7:$B$188,2,FALSE)","v":{"$error":"#N/A"}},null,null,null,null,null,{"$f":"VLOOKUP(G4807:G14805,'Location Type (FICM Codes)'!$A$7:$C$188,3,FALSE)","v":{"$error":"#N/A"}}]
[null,null,null,null,null,null,null,{"$f":"VLOOKUP($G$2:$G$50000,'Location Type (FICM Codes)'!$A$7:$B$188,2,FALSE)","v":{"$error":"#N/A"}},null,null,null,null,null,{"$f":"VLOOKUP(G4811:G14809,'Location Type (FICM Codes)'!$A$7:$C$188,3,FALSE)","v":{"$error":"#N/A"}}]
[null,null,null,null,null,null,null,{"$f":"VLOOKUP($G$2:$G$50000,'Location Type (FICM Codes)'!$A$7:$B$188,2,FALSE)","v":{"$error":"#N/A"}},null,null,null,null,null,{"$f":"VLOOKUP(G4816:G14814,'Location Type (FICM Codes)'!$A$7:$C$188,3,FALSE)","v":{"$error":"#N/A"}}]
[null,null,null,null,null,null,null,{"$f":"VLOOKUP($G$2:$G$50000,'Location Type (FICM Codes)'!$A$7:$B$188,2,FALSE)","v":{"$error":"#N/A"}},null,null,null,null,null,{"$f":"VLOOKUP(G4817:G14815,'Location Type (FICM Codes)'!$A$7:$C$188,3,FALSE)","v":{"$error":"#N/A"}}]
[null,null,null,null,null,null,null,{"$f":"VLOOKUP($G$2:$G$50000,'Location Type (FICM Codes)'!$A$7:$B$188,2,FALSE)","v":{"$error":"#N/A"}},null,null,null,null,null,{"$f":"VLOOKUP(G4821:G14819,'Location Type (FICM Codes)'!$A$7:$C$188,3,FALSE)","v":{"$error":"#N/A"}}]
[null,null,null,null,null,null,null,{"$f":"VLOOKUP($G$2:$G$50000,'Location Type (FICM Codes)'!$A$7:$B$188,2,FALSE)","v":{"$error":"#N/A"}},null,null,null,null,null,{"$f":"VLOOKUP(G4826:G14824,'Location Type (FICM Codes)'!$A$7:$C$188,3,FALSE)","v":{"$error":"#N/A"}}]
[null,null,null,null,null,null,null,{"$f":"VLOOKUP($G$2:$G$50000,'Location Type (FICM Codes)'!$A$7:$B$188,2,FALSE)","v":{"$error":"#N/A"}},null,null,null,null,null,{"$f":"VLOOKUP(G4831:G14829,'Location Type (FICM Codes)'!$A$7:$C$188,3,FALSE)","v":{"$error":"#N/A"}}]
[null,null,null,null,null,null,null,{"$f":"VLOOKUP($G$2:$G$50000,'Location Type (FICM Codes)'!$A$7:$B$188,2,FALSE)","v":{"$error":"#N/A"}},null,null,null,null,null,{"$f":"VLOOKUP(G4832:G14830,'Location Type (FICM Codes)'!$A$7:$C$188,3,FALSE)","v":{"$error":"#N/A"}}]
[null,null,null,null,null,null,null,{"$f":"VLOOKUP($G$2:$G$50000,'Location Type (FICM Codes)'!$A$7:$B$188,2,FALSE)","v":{"$error":"#N/A"}},null,null,null,null,null,{"$f":"VLOOKUP(G4837:G14835,'Location Type (FICM Codes)'!$A$7:$C$188,3,FALSE)","v":{"$error":"#N/A"}}]
[null,null,null,null,null,null,null,{"$f":"VLOOKUP($G$2:$G$50000,'Location Type (FICM Codes)'!$A$7:$B$188,2,FALSE)","v":{"$error":"#N/A"}},null,null,null,null,null,{"$f":"VLOOKUP(G4841:G14839,'Location Type (FICM Codes)'!$A$7:$C$188,3,FALSE)","v":{"$error":"#N/A"}}]
[null,null,null,null,null,null,null,{"$f":"VLOOKUP($G$2:$G$50000,'Location Type (FICM Codes)'!$A$7:$B$188,2,FALSE)","v":{"$error":"#N/A"}},null,null,null,null,null,{"$f":"VLOOKUP(G4846:G14844,'Location Type (FICM Codes)'!$A$7:$C$188,3,FALSE)","v":{"$error":"#N/A"}}]
[null,null,null,null,null,null,null,{"$f":"VLOOKUP($G$2:$G$50000,'Location Type (FICM Codes)'!$A$7:$B$188,2,FALSE)","v":{"$error":"#N/A"}},null,null,null,null,null,{"$f":"VLOOKUP(G4847:G14845,'Location Type (FICM Codes)'!$A$7:$C$188,3,FALSE)","v":{"$error":"#N/A"}}]
[null,null,null,null,null,null,null,{"$f":"VLOOKUP($G$2:$G$50000,'Location Type (FICM Codes)'!$A$7:$B$188,2,FALSE)","v":{"$error":"#N/A"}},null,null,null,null,null,{"$f":"VLOOKUP(G4851:G14849,'Location Type (FICM Codes)'!$A$7:$C$188,3,FALSE)","v":{"$error":"#N/A"}}]
[null,null,null,null,null,null,null,{"$f":"VLOOKUP($G$2:$G$50000,'Location Type (FICM Codes)'!$A$7:$B$188,2,FALSE)","v":{"$error":"#N/A"}},null,null,null,null,null,{"$f":"VLOOKUP(G4856:G14854,'Location Type (FICM Codes)'!$A$7:$C$188,3,FALSE)","v":{"$error":"#N/A"}}]
[null,null,null,null,null,null,null,{"$f":"VLOOKUP($G$2:$G$50000,'Location Type (FICM Codes)'!$A$7:$B$188,2,FALSE)","v":{"$error":"#N/A"}},null,null,null,null,null,{"$f":"VLOOKUP(G4861:G14859,'Location Type (FICM Codes)'!$A$7:$C$188,3,FALSE)","v":{"$error":"#N/A"}}]
[null,null,null,null,null,null,null,{"$f":"VLOOKUP($G$2:$G$50000,'Location Type (FICM Codes)'!$A$7:$B$188,2,FALSE)","v":{"$error":"#N/A"}},null,null,null,null,null,{"$f":"VLOOKUP(G4862:G14860,'Location Type (FICM Codes)'!$A$7:$C$188,3,FALSE)","v":{"$error":"#N/A"}}]
[null,null,null,null,null,null,null,{"$f":"VLOOKUP($G$2:$G$50000,'Location Type (FICM Codes)'!$A$7:$B$188,2,FALSE)","v":{"$error":"#N/A"}},null,null,null,null,null,{"$f":"VLOOKUP(G4867:G14865,'Location Type (FICM Codes)'!$A$7:$C$188,3,FALSE)","v":{"$error":"#N/A"}}]
[null,null,null,null,null,null,null,{"$f":"VLOOKUP($G$2:$G$50000,'Location Type (FICM Codes)'!$A$7:$B$188,2,FALSE)","v":{"$error":"#N/A"}},null,null,null,null,null,{"$f":"VLOOKUP(G4871:G14869,'Location Type (FICM Codes)'!$A$7:$C$188,3,FALSE)","v":{"$error":"#N/A"}}]
[null,null,null,null,null,null,null,{"$f":"VLOOKUP($G$2:$G$50000,'Location Type (FICM Codes)'!$A$7:$B$188,2,FALSE)","v":{"$error":"#N/A"}},null,null,null,null,null,{"$f":"VLOOKUP(G4876:G14874,'Location Type (FICM Codes)'!$A$7:$C$188,3,FALSE)","v":{"$error":"#N/A"}}]
[null,null,null,null,null,null,null,{"$f":"VLOOKUP($G$2:$G$50000,'Location Type (FICM Codes)'!$A$7:$B$188,2,FALSE)","v":{"$error":"#N/A"}},null,null,null,null,null,{"$f":"VLOOKUP(G4877:G14875,'Location Type (FICM Codes)'!$A$7:$C$188,3,FALSE)","v":{"$error":"#N/A"}}]
[null,null,null,null,null,null,null,{"$f":"VLOOKUP($G$2:$G$50000,'Location Type (FICM Codes)'!$A$7:$B$188,2,FALSE)","v":{"$error":"#N/A"}},null,null,null,null,null,{"$f":"VLOOKUP(G4881:G14879,'Location Type (FICM Codes)'!$A$7:$C$188,3,FALSE)","v":{"$error":"#N/A"}}]
[null,null,null,null,null,null,null,{"$f":"VLOOKUP($G$2:$G$50000,'Location Type (FICM Codes)'!$A$7:$B$188,2,FALSE)","v":{"$error":"#N/A"}},null,null,null,null,null,{"$f":"VLOOKUP(G4886:G14884,'Location Type (FICM Codes)'!$A$7:$C$188,3,FALSE)","v":{"$error":"#N/A"}}]
[null,null,null,null,null,null,null,{"$f":"VLOOKUP($G$2:$G$50000,'Location Type (FICM Codes)'!$A$7:$B$188,2,FALSE)","v":{"$error":"#N/A"}},null,null,null,null,null,{"$f":"VLOOKUP(G4891:G14889,'Location Type (FICM Codes)'!$A$7:$C$188,3,FALSE)","v":{"$error":"#N/A"}}]
[null,null,null,null,null,null,null,{"$f":"VLOOKUP($G$2:$G$50000,'Location Type (FICM Codes)'!$A$7:$B$188,2,FALSE)","v":{"$error":"#N/A"}},null,null,null,null,null,{"$f":"VLOOKUP(G4892:G14890,'Location Type (FICM Codes)'!$A$7:$C$188,3,FALSE)","v":{"$error":"#N/A"}}]
[null,null,null,null,null,null,null,{"$f":"VLOOKUP($G$2:$G$50000,'Location Type (FICM Codes)'!$A$7:$B$188,2,FALSE)","v":{"$error":"#N/A"}},null,null,null,null,null,{"$f":"VLOOKUP(G4897:G14895,'Location Type (FICM Codes)'!$A$7:$C$188,3,FALSE)","v":{"$error":"#N/A"}}]
[null,null,null,null,null,null,null,{"$f":"VLOOKUP($G$2:$G$50000,'Location Type (FICM Codes)'!$A$7:$B$188,2,FALSE)","v":{"$error":"#N/A"}},null,null,null,null,null,{"$f":"VLOOKUP(G4901:G14899,'Location Type (FICM Codes)'!$A$7:$C$188,3,FALSE)","v":{"$error":"#N/A"}}]
[null,null,null,null,null,null,null,{"$f":"VLOOKUP($G$2:$G$50000,'Location Type (FICM Codes)'!$A$7:$B$188,2,FALSE)","v":{"$error":"#N/A"}},null,null,null,null,null,{"$f":"VLOOKUP(G4906:G14904,'Location Type (FICM Codes)'!$A$7:$C$188,3,FALSE)","v":{"$error":"#N/A"}}]
[null,null,null,null,null,null,null,{"$f":"VLOOKUP($G$2:$G$50000,'Location Type (FICM Codes)'!$A$7:$B$188,2,FALSE)","v":{"$error":"#N/A"}},null,null,null,null,null,{"$f":"VLOOKUP(G4907:G14905,'Location Type (FICM Codes)'!$A$7:$C$188,3,FALSE)","v":{"$error":"#N/A"}}]
[null,null,null,null,null,null,null,{"$f":"VLOOKUP($G$2:$G$50000,'Location Type (FICM Codes)'!$A$7:$B$188,2,FALSE)","v":{"$error":"#N/A"}},null,null,null,null,null,{"$f":"VLOOKUP(G4911:G14909,'Location Type (FICM Codes)'!$A$7:$C$188,3,FALSE)","v":{"$error":"#N/A"}}]
[null,null,null,null,null,null,null,{"$f":"VLOOKUP($G$2:$G$50000,'Location Type (FICM Codes)'!$A$7:$B$188,2,FALSE)","v":{"$error":"#N/A"}},null,null,null,null,null,{"$f":"VLOOKUP(G4916:G14914,'Location Type (FICM Codes)'!$A$7:$C$188,3,FALSE)","v":{"$error":"#N/A"}}]
[null,null,null,null,null,null,null,{"$f":"VLOOKUP($G$2:$G$50000,'Location Type (FICM Codes)'!$A$7:$B$188,2,FALSE)","v":{"$error":"#N/A"}},null,null,null,null,null,{"$f":"VLOOKUP(G4921:G14919,'Location Type (FICM Codes)'!$A$7:$C$188,3,FALSE)","v":{"$error":"#N/A"}}]
[null,null,null,null,null,null,null,{"$f":"VLOOKUP($G$2:$G$50000,'Location Type (FICM Codes)'!$A$7:$B$188,2,FALSE)","v":{"$error":"#N/A"}},null,null,null,null,null,{"$f":"VLOOKUP(G4922:G14920,'Location Type (FICM Codes)'!$A$7:$C$188,3,FALSE)","v":{"$error":"#N/A"}}]
[null,null,null,null,null,null,null,{"$f":"VLOOKUP($G$2:$G$50000,'Location Type (FICM Codes)'!$A$7:$B$188,2,FALSE)","v":{"$error":"#N/A"}},null,null,null,null,null,{"$f":"VLOOKUP(G4927:G14925,'Location Type (FICM Codes)'!$A$7:$C$188,3,FALSE)","v":{"$error":"#N/A"}}]
[null,null,null,null,null,null,null,{"$f":"VLOOKUP($G$2:$G$50000,'Location Type (FICM Codes)'!$A$7:$B$188,2,FALSE)","v":{"$error":"#N/A"}},null,null,null,null,null,{"$f":"VLOOKUP(G4931:G14929,'Location Type (FICM Codes)'!$A$7:$C$188,3,FALSE)","v":{"$error":"#N/A"}}]
[null,null,null,null,null,null,null,{"$f":"VLOOKUP($G$2:$G$50000,'Location Type (FICM Codes)'!$A$7:$B$188,2,FALSE)","v":{"$error":"#N/A"}},null,null,null,null,null,{"$f":"VLOOKUP(G4936:G14934,'Location Type (FICM Codes)'!$A$7:$C$188,3,FALSE)","v":{"$error":"#N/A"}}]
[null,null,null,null,null,null,null,{"$f":"VLOOKUP($G$2:$G$50000,'Location Type (FICM Codes)'!$A$7:$B$188,2,FALSE)","v":{"$error":"#N/A"}},null,null,null,null,null,{"$f":"VLOOKUP(G4937:G14935,'Location Type (FICM Codes)'!$A$7:$C$188,3,FALSE)","v":{"$error":"#N/A"}}]
[null,null,null,null,null,null,null,{"$f":"VLOOKUP($G$2:$G$50000,'Location Type (FICM Codes)'!$A$7:$B$188,2,FALSE)","v":{"$error":"#N/A"}},null,null,null,null,null,{"$f":"VLOOKUP(G4941:G14939,'Location Type (FICM Codes)'!$A$7:$C$188,3,FALSE)","v":{"$error":"#N/A"}}]
[null,null,null,null,null,null,null,{"$f":"VLOOKUP($G$2:$G$50000,'Location Type (FICM Codes)'!$A$7:$B$188,2,FALSE)","v":{"$error":"#N/A"}},null,null,null,null,null,{"$f":"VLOOKUP(G4946:G14944,'Location Type (FICM Codes)'!$A$7:$C$188,3,FALSE)","v":{"$error":"#N/A"}}]
[null,null,null,null,null,null,null,{"$f":"VLOOKUP($G$2:$G$50000,'Location Type (FICM Codes)'!$A$7:$B$188,2,FALSE)","v":{"$error":"#N/A"}},null,null,null,null,null,{"$f":"VLOOKUP(G4951:G14949,'Location Type (FICM Codes)'!$A$7:$C$188,3,FALSE)","v":{"$error":"#N/A"}}]
[null,null,null,null,null,null,null,{"$f":"VLOOKUP($G$2:$G$50000,'Location Type (FICM Codes)'!$A$7:$B$188,2,FALSE)","v":{"$error":"#N/A"}},null,null,null,null,null,{"$f":"VLOOKUP(G4952:G14950,'Location Type (FICM Codes)'!$A$7:$C$188,3,FALSE)","v":{"$error":"#N/A"}}]
[null,null,null,null,null,null,null,{"$f":"VLOOKUP($G$2:$G$50000,'Location Type (FICM Codes)'!$A$7:$B$188,2,FALSE)","v":{"$error":"#N/A"}},null,null,null,null,null,{"$f":"VLOOKUP(G4957:G14955,'Location Type (FICM Codes)'!$A$7:$C$188,3,FALSE)","v":{"$error":"#N/A"}}]
[null,null,null,null,null,null,null,{"$f":"VLOOKUP($G$2:$G$50000,'Location Type (FICM Codes)'!$A$7:$B$188,2,FALSE)","v":{"$error":"#N/A"}},null,null,null,null,null,{"$f":"VLOOKUP(G4961:G14959,'Location Type (FICM Codes)'!$A$7:$C$188,3,FALSE)","v":{"$error":"#N/A"}}]
[null,null,null,null,null,null,null,{"$f":"VLOOKUP($G$2:$G$50000,'Location Type (FICM Codes)'!$A$7:$B$188,2,FALSE)","v":{"$error":"#N/A"}},null,null,null,null,null,{"$f":"VLOOKUP(G4966:G14964,'Location Type (FICM Codes)'!$A$7:$C$188,3,FALSE)","v":{"$error":"#N/A"}}]
[null,null,null,null,null,null,null,{"$f":"VLOOKUP($G$2:$G$50000,'Location Type (FICM Codes)'!$A$7:$B$188,2,FALSE)","v":{"$error":"#N/A"}},null,null,null,null,null,{"$f":"VLOOKUP(G4967:G14965,'Location Type (FICM Codes)'!$A$7:$C$188,3,FALSE)","v":{"$error":"#N/A"}}]
[null,null,null,null,null,null,null,{"$f":"VLOOKUP($G$2:$G$50000,'Location Type (FICM Codes)'!$A$7:$B$188,2,FALSE)","v":{"$error":"#N/A"}},null,null,null,null,null,{"$f":"VLOOKUP(G4971:G14969,'Location Type (FICM Codes)'!$A$7:$C$188,3,FALSE)","v":{"$error":"#N/A"}}]
[null,null,null,null,null,null,null,{"$f":"VLOOKUP($G$2:$G$50000,'Location Type (FICM Codes)'!$A$7:$B$188,2,FALSE)","v":{"$error":"#N/A"}},null,null,null,null,null,{"$f":"VLOOKUP(G4976:G14974,'Location Type (FICM Codes)'!$A$7:$C$188,3,FALSE)","v":{"$error":"#N/A"}}]
[null,null,null,null,null,null,null,{"$f":"VLOOKUP($G$2:$G$50000,'Location Type (FICM Codes)'!$A$7:$B$188,2,FALSE)","v":{"$error":"#N/A"}},null,null,null,null,null,{"$f":"VLOOKUP(G4981:G14979,'Location Type (FICM Codes)'!$A$7:$C$188,3,FALSE)","v":{"$error":"#N/A"}}]
[null,null,null,null,null,null,null,{"$f":"VLOOKUP($G$2:$G$50000,'Location Type (FICM Codes)'!$A$7:$B$188,2,FALSE)","v":{"$error":"#N/A"}},null,null,null,null,null,{"$f":"VLOOKUP(G4982:G14980,'Location Type (FICM Codes)'!$A$7:$C$188,3,FALSE)","v":{"$error":"#N/A"}}]
[null,null,null,null,null,null,null,{"$f":"VLOOKUP($G$2:$G$50000,'Location Type (FICM Codes)'!$A$7:$B$188,2,FALSE)","v":{"$error":"#N/A"}},null,null,null,null,null,{"$f":"VLOOKUP(G4988:G14986,'Location Type (FICM Codes)'!$A$7:$C$188,3,FALSE)","v":{"$error":"#N/A"}}]
[null,null,null,null,null,null,null,{"$f":"VLOOKUP($G$2:$G$50000,'Location Type (FICM Codes)'!$A$7:$B$188,2,FALSE)","v":{"$error":"#N/A"}},null,null,null,null,null,{"$f":"VLOOKUP(G4991:G14989,'Location Type (FICM Codes)'!$A$7:$C$188,3,FALSE)","v":{"$error":"#N/A"}}]
[null,null,null,null,null,null,null,{"$f":"VLOOKUP($G$2:$G$50000,'Location Type (FICM Codes)'!$A$7:$B$188,2,FALSE)","v":{"$error":"#N/A"}},null,null,null,null,null,{"$f":"VLOOKUP(G4996:G14994,'Location Type (FICM Codes)'!$A$7:$C$188,3,FALSE)","v":{"$error":"#N/A"}}]
[null,null,null,null,null,null,null,{"$f":"VLOOKUP($G$2:$G$50000,'Location Type (FICM Codes)'!$A$7:$B$188,2,FALSE)","v":{"$error":"#N/A"}},null,null,null,null,null,{"$f":"VLOOKUP(G4997:G14995,'Location Type (FICM Codes)'!$A$7:$C$188,3,FALSE)","v":{"$error":"#N/A"}}]
[null,null,null,null,null,null,null,{"$f":"VLOOKUP($G$2:$G$50000,'Location Type (FICM Codes)'!$A$7:$B$188,2,FALSE)","v":{"$error":"#N/A"}},null,null,null,null,null,{"$f":"VLOOKUP(G5001:G14999,'Location Type (FICM Codes)'!$A$7:$C$188,3,FALSE)","v":{"$error":"#N/A"}}]
[null,null,null,null,null,null,null,{"$f":"VLOOKUP($G$2:$G$50000,'Location Type (FICM Codes)'!$A$7:$B$188,2,FALSE)","v":{"$error":"#N/A"}},null,null,null,null,null,{"$f":"VLOOKUP(G5006:G15004,'Location Type (FICM Codes)'!$A$7:$C$188,3,FALSE)","v":{"$error":"#N/A"}}]
[null,null,null,null,null,null,null,{"$f":"VLOOKUP($G$2:$G$50000,'Location Type (FICM Codes)'!$A$7:$B$188,2,FALSE)","v":{"$error":"#N/A"}},null,null,null,null,null,{"$f":"VLOOKUP(G5011:G15009,'Location Type (FICM Codes)'!$A$7:$C$188,3,FALSE)","v":{"$error":"#N/A"}}]
[null,null,null,null,null,null,null,{"$f":"VLOOKUP($G$2:$G$50000,'Location Type (FICM Codes)'!$A$7:$B$188,2,FALSE)","v":{"$error":"#N/A"}},null,null,null,null,null,{"$f":"VLOOKUP(G5012:G15010,'Location Type (FICM Codes)'!$A$7:$C$188,3,FALSE)","v":{"$error":"#N/A"}}]
[null,null,null,null,null,null,null,{"$f":"VLOOKUP($G$2:$G$50000,'Location Type (FICM Codes)'!$A$7:$B$188,2,FALSE)","v":{"$error":"#N/A"}},null,null,null,null,null,{"$f":"VLOOKUP(G5018:G15016,'Location Type (FICM Codes)'!$A$7:$C$188,3,FALSE)","v":{"$error":"#N/A"}}]
[null,null,null,null,null,null,null,{"$f":"VLOOKUP($G$2:$G$50000,'Location Type (FICM Codes)'!$A$7:$B$188,2,FALSE)","v":{"$error":"#N/A"}},null,null,null,null,null,{"$f":"VLOOKUP(G5021:G15019,'Location Type (FICM Codes)'!$A$7:$C$188,3,FALSE)","v":{"$error":"#N/A"}}]
[null,null,null,null,null,null,null,{"$f":"VLOOKUP($G$2:$G$50000,'Location Type (FICM Codes)'!$A$7:$B$188,2,FALSE)","v":{"$error":"#N/A"}},null,null,null,null,null,{"$f":"VLOOKUP(G5026:G15024,'Location Type (FICM Codes)'!$A$7:$C$188,3,FALSE)","v":{"$error":"#N/A"}}]
[null,null,null,null,null,null,null,{"$f":"VLOOKUP($G$2:$G$50000,'Location Type (FICM Codes)'!$A$7:$B$188,2,FALSE)","v":{"$error":"#N/A"}},null,null,null,null,null,{"$f":"VLOOKUP(G5027:G15025,'Location Type (FICM Codes)'!$A$7:$C$188,3,FALSE)","v":{"$error":"#N/A"}}]
[null,null,null,null,null,null,null,{"$f":"VLOOKUP($G$2:$G$50000,'Location Type (FICM Codes)'!$A$7:$B$188,2,FALSE)","v":{"$error":"#N/A"}},null,null,null,null,null,{"$f":"VLOOKUP(G5031:G15029,'Location Type (FICM Codes)'!$A$7:$C$188,3,FALSE)","v":{"$error":"#N/A"}}]
[null,null,null,null,null,null,null,{"$f":"VLOOKUP($G$2:$G$50000,'Location Type (FICM Codes)'!$A$7:$B$188,2,FALSE)","v":{"$error":"#N/A"}},null,null,null,null,null,{"$f":"VLOOKUP(G5036:G15034,'Location Type (FICM Codes)'!$A$7:$C$188,3,FALSE)","v":{"$error":"#N/A"}}]
[null,null,null,null,null,null,null,{"$f":"VLOOKUP($G$2:$G$50000,'Location Type (FICM Codes)'!$A$7:$B$188,2,FALSE)","v":{"$error":"#N/A"}},null,null,null,null,null,{"$f":"VLOOKUP(G5041:G15039,'Location Type (FICM Codes)'!$A$7:$C$188,3,FALSE)","v":{"$error":"#N/A"}}]
[null,null,null,null,null,null,null,{"$f":"VLOOKUP($G$2:$G$50000,'Location Type (FICM Codes)'!$A$7:$B$188,2,FALSE)","v":{"$error":"#N/A"}},null,null,null,null,null,{"$f":"VLOOKUP(G5042:G15040,'Location Type (FICM Codes)'!$A$7:$C$188,3,FALSE)","v":{"$error":"#N/A"}}]
[null,null,null,null,null,null,null,{"$f":"VLOOKUP($G$2:$G$50000,'Location Type (FICM Codes)'!$A$7:$B$188,2,FALSE)","v":{"$error":"#N/A"}},null,null,null,null,null,{"$f":"VLOOKUP(G5048:G15046,'Location Type (FICM Codes)'!$A$7:$C$188,3,FALSE)","v":{"$error":"#N/A"}}]
[null,null,null,null,null,null,null,{"$f":"VLOOKUP($G$2:$G$50000,'Location Type (FICM Codes)'!$A$7:$B$188,2,FALSE)","v":{"$error":"#N/A"}},null,null,null,null,null,{"$f":"VLOOKUP(G5051:G15049,'Location Type (FICM Codes)'!$A$7:$C$188,3,FALSE)","v":{"$error":"#N/A"}}]
[null,null,null,null,null,null,null,{"$f":"VLOOKUP($G$2:$G$50000,'Location Type (FICM Codes)'!$A$7:$B$188,2,FALSE)","v":{"$error":"#N/A"}},null,null,null,null,null,{"$f":"VLOOKUP(G5056:G15054,'Location Type (FICM Codes)'!$A$7:$C$188,3,FALSE)","v":{"$error":"#N/A"}}]
[null,null,null,null,null,null,null,{"$f":"VLOOKUP($G$2:$G$50000,'Location Type (FICM Codes)'!$A$7:$B$188,2,FALSE)","v":{"$error":"#N/A"}},null,null,null,null,null,{"$f":"VLOOKUP(G5057:G15055,'Location Type (FICM Codes)'!$A$7:$C$188,3,FALSE)","v":{"$error":"#N/A"}}]
[null,null,null,null,null,null,null,{"$f":"VLOOKUP($G$2:$G$50000,'Location Type (FICM Codes)'!$A$7:$B$188,2,FALSE)","v":{"$error":"#N/A"}},null,null,null,null,null,{"$f":"VLOOKUP(G5061:G15059,'Location Type (FICM Codes)'!$A$7:$C$188,3,FALSE)","v":{"$error":"#N/A"}}]
[null,null,null,null,null,null,null,{"$f":"VLOOKUP($G$2:$G$50000,'Location Type (FICM Codes)'!$A$7:$B$188,2,FALSE)","v":{"$error":"#N/A"}},null,null,null,null,null,{"$f":"VLOOKUP(G5066:G15064,'Location Type (FICM Codes)'!$A$7:$C$188,3,FALSE)","v":{"$error":"#N/A"}}]
[null,null,null,null,null,null,null,{"$f":"VLOOKUP($G$2:$G$50000,'Location Type (FICM Codes)'!$A$7:$B$188,2,FALSE)","v":{"$error":"#N/A"}},null,null,null,null,null,{"$f":"VLOOKUP(G5071:G15069,'Location Type (FICM Codes)'!$A$7:$C$188,3,FALSE)","v":{"$error":"#N/A"}}]
[null,null,null,null,null,null,null,{"$f":"VLOOKUP($G$2:$G$50000,'Location Type (FICM Codes)'!$A$7:$B$188,2,FALSE)","v":{"$error":"#N/A"}},null,null,null,null,null,{"$f":"VLOOKUP(G5072:G15070,'Location Type (FICM Codes)'!$A$7:$C$188,3,FALSE)","v":{"$error":"#N/A"}}]
[null,null,null,null,null,null,null,{"$f":"VLOOKUP($G$2:$G$50000,'Location Type (FICM Codes)'!$A$7:$B$188,2,FALSE)","v":{"$error":"#N/A"}},null,null,null,null,null,{"$f":"VLOOKUP(G5078:G15076,'Location Type (FICM Codes)'!$A$7:$C$188,3,FALSE)","v":{"$error":"#N/A"}}]
[null,null,null,null,null,null,null,{"$f":"VLOOKUP($G$2:$G$50000,'Location Type (FICM Codes)'!$A$7:$B$188,2,FALSE)","v":{"$error":"#N/A"}},null,null,null,null,null,{"$f":"VLOOKUP(G5081:G15079,'Location Type (FICM Codes)'!$A$7:$C$188,3,FALSE)","v":{"$error":"#N/A"}}]
[null,null,null,null,null,null,null,{"$f":"VLOOKUP($G$2:$G$50000,'Location Type (FICM Codes)'!$A$7:$B$188,2,FALSE)","v":{"$error":"#N/A"}},null,null,null,null,null,{"$f":"VLOOKUP(G5086:G15084,'Location Type (FICM Codes)'!$A$7:$C$188,3,FALSE)","v":{"$error":"#N/A"}}]
[null,null,null,null,null,null,null,{"$f":"VLOOKUP($G$2:$G$50000,'Location Type (FICM Codes)'!$A$7:$B$188,2,FALSE)","v":{"$error":"#N/A"}},null,null,null,null,null,{"$f":"VLOOKUP(G5087:G15085,'Location Type (FICM Codes)'!$A$7:$C$188,3,FALSE)","v":{"$error":"#N/A"}}]
[null,null,null,null,null,null,null,{"$f":"VLOOKUP($G$2:$G$50000,'Location Type (FICM Codes)'!$A$7:$B$188,2,FALSE)","v":{"$error":"#N/A"}},null,null,null,null,null,{"$f":"VLOOKUP(G5091:G15089,'Location Type (FICM Codes)'!$A$7:$C$188,3,FALSE)","v":{"$error":"#N/A"}}]
[null,null,null,null,null,null,null,{"$f":"VLOOKUP($G$2:$G$50000,'Location Type (FICM Codes)'!$A$7:$B$188,2,FALSE)","v":{"$error":"#N/A"}},null,null,null,null,null,{"$f":"VLOOKUP(G5096:G15094,'Location Type (FICM Codes)'!$A$7:$C$188,3,FALSE)","v":{"$error":"#N/A"}}]
[null,null,null,null,null,null,null,{"$f":"VLOOKUP($G$2:$G$50000,'Location Type (FICM Codes)'!$A$7:$B$188,2,FALSE)","v":{"$error":"#N/A"}},null,null,null,null,null,{"$f":"VLOOKUP(G5101:G15099,'Location Type (FICM Codes)'!$A$7:$C$188,3,FALSE)","v":{"$error":"#N/A"}}]
[null,null,null,null,null,null,null,{"$f":"VLOOKUP($G$2:$G$50000,'Location Type (FICM Codes)'!$A$7:$B$188,2,FALSE)","v":{"$error":"#N/A"}},null,null,null,null,null,{"$f":"VLOOKUP(G5102:G15100,'Location Type (FICM Codes)'!$A$7:$C$188,3,FALSE)","v":{"$error":"#N/A"}}]
[null,null,null,null,null,null,null,{"$f":"VLOOKUP($G$2:$G$50000,'Location Type (FICM Codes)'!$A$7:$B$188,2,FALSE)","v":{"$error":"#N/A"}},null,null,null,null,null,{"$f":"VLOOKUP(G5108:G15106,'Location Type (FICM Codes)'!$A$7:$C$188,3,FALSE)","v":{"$error":"#N/A"}}]
[null,null,null,null,null,null,null,{"$f":"VLOOKUP($G$2:$G$50000,'Location Type (FICM Codes)'!$A$7:$B$188,2,FALSE)","v":{"$error":"#N/A"}},null,null,null,null,null,{"$f":"VLOOKUP(G5111:G15109,'Location Type (FICM Codes)'!$A$7:$C$188,3,FALSE)","v":{"$error":"#N/A"}}]
[null,null,null,null,null,null,null,{"$f":"VLOOKUP($G$2:$G$50000,'Location Type (FICM Codes)'!$A$7:$B$188,2,FALSE)","v":{"$error":"#N/A"}},null,null,null,null,null,{"$f":"VLOOKUP(G5116:G15114,'Location Type (FICM Codes)'!$A$7:$C$188,3,FALSE)","v":{"$error":"#N/A"}}]
[null,null,null,null,null,null,null,{"$f":"VLOOKUP($G$2:$G$50000,'Location Type (FICM Codes)'!$A$7:$B$188,2,FALSE)","v":{"$error":"#N/A"}},null,null,null,null,null,{"$f":"VLOOKUP(G5117:G15115,'Location Type (FICM Codes)'!$A$7:$C$188,3,FALSE)","v":{"$error":"#N/A"}}]
[null,null,null,null,null,null,null,{"$f":"VLOOKUP($G$2:$G$50000,'Location Type (FICM Codes)'!$A$7:$B$188,2,FALSE)","v":{"$error":"#N/A"}},null,null,null,null,null,{"$f":"VLOOKUP(G5121:G15119,'Location Type (FICM Codes)'!$A$7:$C$188,3,FALSE)","v":{"$error":"#N/A"}}]
[null,null,null,null,null,null,null,{"$f":"VLOOKUP($G$2:$G$50000,'Location Type (FICM Codes)'!$A$7:$B$188,2,FALSE)","v":{"$error":"#N/A"}},null,null,null,null,null,{"$f":"VLOOKUP(G5126:G15124,'Location Type (FICM Codes)'!$A$7:$C$188,3,FALSE)","v":{"$error":"#N/A"}}]
[null,null,null,null,null,null,null,{"$f":"VLOOKUP($G$2:$G$50000,'Location Type (FICM Codes)'!$A$7:$B$188,2,FALSE)","v":{"$error":"#N/A"}},null,null,null,null,null,{"$f":"VLOOKUP(G5131:G15129,'Location Type (FICM Codes)'!$A$7:$C$188,3,FALSE)","v":{"$error":"#N/A"}}]
[null,null,null,null,null,null,null,{"$f":"VLOOKUP($G$2:$G$50000,'Location Type (FICM Codes)'!$A$7:$B$188,2,FALSE)","v":{"$error":"#N/A"}},null,null,null,null,null,{"$f":"VLOOKUP(G5132:G15130,'Location Type (FICM Codes)'!$A$7:$C$188,3,FALSE)","v":{"$error":"#N/A"}}]
[null,null,null,null,null,null,null,{"$f":"VLOOKUP($G$2:$G$50000,'Location Type (FICM Codes)'!$A$7:$B$188,2,FALSE)","v":{"$error":"#N/A"}},null,null,null,null,null,{"$f":"VLOOKUP(G5138:G15136,'Location Type (FICM Codes)'!$A$7:$C$188,3,FALSE)","v":{"$error":"#N/A"}}]
[null,null,null,null,null,null,null,{"$f":"VLOOKUP($G$2:$G$50000,'Location Type (FICM Codes)'!$A$7:$B$188,2,FALSE)","v":{"$error":"#N/A"}},null,null,null,null,null,{"$f":"VLOOKUP(G5141:G15139,'Location Type (FICM Codes)'!$A$7:$C$188,3,FALSE)","v":{"$error":"#N/A"}}]
[null,null,null,null,null,null,null,{"$f":"VLOOKUP($G$2:$G$50000,'Location Type (FICM Codes)'!$A$7:$B$188,2,FALSE)","v":{"$error":"#N/A"}},null,null,null,null,null,{"$f":"VLOOKUP(G5146:G15144,'Location Type (FICM Codes)'!$A$7:$C$188,3,FALSE)","v":{"$error":"#N/A"}}]
[null,null,null,null,null,null,null,{"$f":"VLOOKUP($G$2:$G$50000,'Location Type (FICM Codes)'!$A$7:$B$188,2,FALSE)","v":{"$error":"#N/A"}},null,null,null,null,null,{"$f":"VLOOKUP(G5147:G15145,'Location Type (FICM Codes)'!$A$7:$C$188,3,FALSE)","v":{"$error":"#N/A"}}]
[null,null,null,null,null,null,null,{"$f":"VLOOKUP($G$2:$G$50000,'Location Type (FICM Codes)'!$A$7:$B$188,2,FALSE)","v":{"$error":"#N/A"}},null,null,null,null,null,{"$f":"VLOOKUP(G5151:G15149,'Location Type (FICM Codes)'!$A$7:$C$188,3,FALSE)","v":{"$error":"#N/A"}}]
[null,null,null,null,null,null,null,{"$f":"VLOOKUP($G$2:$G$50000,'Location Type (FICM Codes)'!$A$7:$B$188,2,FALSE)","v":{"$error":"#N/A"}},null,null,null,null,null,{"$f":"VLOOKUP(G5156:G15154,'Location Type (FICM Codes)'!$A$7:$C$188,3,FALSE)","v":{"$error":"#N/A"}}]
[null,null,null,null,null,null,null,{"$f":"VLOOKUP($G$2:$G$50000,'Location Type (FICM Codes)'!$A$7:$B$188,2,FALSE)","v":{"$error":"#N/A"}},null,null,null,null,null,{"$f":"VLOOKUP(G5161:G15159,'Location Type (FICM Codes)'!$A$7:$C$188,3,FALSE)","v":{"$error":"#N/A"}}]
[null,null,null,null,null,null,null,{"$f":"VLOOKUP($G$2:$G$50000,'Location Type (FICM Codes)'!$A$7:$B$188,2,FALSE)","v":{"$error":"#N/A"}},null,null,null,null,null,{"$f":"VLOOKUP(G5162:G15160,'Location Type (FICM Codes)'!$A$7:$C$188,3,FALSE)","v":{"$error":"#N/A"}}]
[null,null,null,null,null,null,null,{"$f":"VLOOKUP($G$2:$G$50000,'Location Type (FICM Codes)'!$A$7:$B$188,2,FALSE)","v":{"$error":"#N/A"}},null,null,null,null,null,{"$f":"VLOOKUP(G5168:G15166,'Location Type (FICM Codes)'!$A$7:$C$188,3,FALSE)","v":{"$error":"#N/A"}}]
[null,null,null,null,null,null,null,{"$f":"VLOOKUP($G$2:$G$50000,'Location Type (FICM Codes)'!$A$7:$B$188,2,FALSE)","v":{"$error":"#N/A"}},null,null,null,null,null,{"$f":"VLOOKUP(G5171:G15169,'Location Type (FICM Codes)'!$A$7:$C$188,3,FALSE)","v":{"$error":"#N/A"}}]
[null,null,null,null,null,null,null,{"$f":"VLOOKUP($G$2:$G$50000,'Location Type (FICM Codes)'!$A$7:$B$188,2,FALSE)","v":{"$error":"#N/A"}},null,null,null,null,null,{"$f":"VLOOKUP(G5176:G15174,'Location Type (FICM Codes)'!$A$7:$C$188,3,FALSE)","v":{"$error":"#N/A"}}]
[null,null,null,null,null,null,null,{"$f":"VLOOKUP($G$2:$G$50000,'Location Type (FICM Codes)'!$A$7:$B$188,2,FALSE)","v":{"$error":"#N/A"}},null,null,null,null,null,{"$f":"VLOOKUP(G5177:G15175,'Location Type (FICM Codes)'!$A$7:$C$188,3,FALSE)","v":{"$error":"#N/A"}}]
[null,null,null,null,null,null,null,{"$f":"VLOOKUP($G$2:$G$50000,'Location Type (FICM Codes)'!$A$7:$B$188,2,FALSE)","v":{"$error":"#N/A"}},null,null,null,null,null,{"$f":"VLOOKUP(G5181:G15179,'Location Type (FICM Codes)'!$A$7:$C$188,3,FALSE)","v":{"$error":"#N/A"}}]
[null,null,null,null,null,null,null,{"$f":"VLOOKUP($G$2:$G$50000,'Location Type (FICM Codes)'!$A$7:$B$188,2,FALSE)","v":{"$error":"#N/A"}},null,null,null,null,null,{"$f":"VLOOKUP(G5186:G15184,'Location Type (FICM Codes)'!$A$7:$C$188,3,FALSE)","v":{"$error":"#N/A"}}]
[null,null,null,null,null,null,null,{"$f":"VLOOKUP($G$2:$G$50000,'Location Type (FICM Codes)'!$A$7:$B$188,2,FALSE)","v":{"$error":"#N/A"}},null,null,null,null,null,{"$f":"VLOOKUP(G5191:G15189,'Location Type (FICM Codes)'!$A$7:$C$188,3,FALSE)","v":{"$error":"#N/A"}}]
[null,null,null,null,null,null,null,{"$f":"VLOOKUP($G$2:$G$50000,'Location Type (FICM Codes)'!$A$7:$B$188,2,FALSE)","v":{"$error":"#N/A"}},null,null,null,null,null,{"$f":"VLOOKUP(G5192:G15190,'Location Type (FICM Codes)'!$A$7:$C$188,3,FALSE)","v":{"$error":"#N/A"}}]
[null,null,null,null,null,null,null,{"$f":"VLOOKUP($G$2:$G$50000,'Location Type (FICM Codes)'!$A$7:$B$188,2,FALSE)","v":{"$error":"#N/A"}},null,null,null,null,null,{"$f":"VLOOKUP(G5198:G15196,'Location Type (FICM Codes)'!$A$7:$C$188,3,FALSE)","v":{"$error":"#N/A"}}]
[null,null,null,null,null,null,null,{"$f":"VLOOKUP($G$2:$G$50000,'Location Type (FICM Codes)'!$A$7:$B$188,2,FALSE)","v":{"$error":"#N/A"}},null,null,null,null,null,{"$f":"VLOOKUP(G5201:G15199,'Location Type (FICM Codes)'!$A$7:$C$188,3,FALSE)","v":{"$error":"#N/A"}}]
[null,null,null,null,null,null,null,{"$f":"VLOOKUP($G$2:$G$50000,'Location Type (FICM Codes)'!$A$7:$B$188,2,FALSE)","v":{"$error":"#N/A"}},null,null,null,null,null,{"$f":"VLOOKUP(G5206:G15204,'Location Type (FICM Codes)'!$A$7:$C$188,3,FALSE)","v":{"$error":"#N/A"}}]
[null,null,null,null,null,null,null,{"$f":"VLOOKUP($G$2:$G$50000,'Location Type (FICM Codes)'!$A$7:$B$188,2,FALSE)","v":{"$error":"#N/A"}},null,null,null,null,null,{"$f":"VLOOKUP(G5207:G15205,'Location Type (FICM Codes)'!$A$7:$C$188,3,FALSE)","v":{"$error":"#N/A"}}]
[null,null,null,null,null,null,null,{"$f":"VLOOKUP($G$2:$G$50000,'Location Type (FICM Codes)'!$A$7:$B$188,2,FALSE)","v":{"$error":"#N/A"}},null,null,null,null,null,{"$f":"VLOOKUP(G5211:G15209,'Location Type (FICM Codes)'!$A$7:$C$188,3,FALSE)","v":{"$error":"#N/A"}}]
[null,null,null,null,null,null,null,{"$f":"VLOOKUP($G$2:$G$50000,'Location Type (FICM Codes)'!$A$7:$B$188,2,FALSE)","v":{"$error":"#N/A"}},null,null,null,null,null,{"$f":"VLOOKUP(G5216:G15214,'Location Type (FICM Codes)'!$A$7:$C$188,3,FALSE)","v":{"$error":"#N/A"}}]
[null,null,null,null,null,null,null,{"$f":"VLOOKUP($G$2:$G$50000,'Location Type (FICM Codes)'!$A$7:$B$188,2,FALSE)","v":{"$error":"#N/A"}},null,null,null,null,null,{"$f":"VLOOKUP(G5221:G15219,'Location Type (FICM Codes)'!$A$7:$C$188,3,FALSE)","v":{"$error":"#N/A"}}]
[null,null,null,null,null,null,null,{"$f":"VLOOKUP($G$2:$G$50000,'Location Type (FICM Codes)'!$A$7:$B$188,2,FALSE)","v":{"$error":"#N/A"}},null,null,null,null,null,{"$f":"VLOOKUP(G5222:G15220,'Location Type (FICM Codes)'!$A$7:$C$188,3,FALSE)","v":{"$error":"#N/A"}}]
[null,null,null,null,null,null,null,{"$f":"VLOOKUP($G$2:$G$50000,'Location Type (FICM Codes)'!$A$7:$B$188,2,FALSE)","v":{"$error":"#N/A"}},null,null,null,null,null,{"$f":"VLOOKUP(G5228:G15226,'Location Type (FICM Codes)'!$A$7:$C$188,3,FALSE)","v":{"$error":"#N/A"}}]
[null,null,null,null,null,null,null,{"$f":"VLOOKUP($G$2:$G$50000,'Location Type (FICM Codes)'!$A$7:$B$188,2,FALSE)","v":{"$error":"#N/A"}},null,null,null,null,null,{"$f":"VLOOKUP(G5231:G15229,'Location Type (FICM Codes)'!$A$7:$C$188,3,FALSE)","v":{"$error":"#N/A"}}]
[null,null,null,null,null,null,null,{"$f":"VLOOKUP($G$2:$G$50000,'Location Type (FICM Codes)'!$A$7:$B$188,2,FALSE)","v":{"$error":"#N/A"}},null,null,null,null,null,{"$f":"VLOOKUP(G5236:G15234,'Location Type (FICM Codes)'!$A$7:$C$188,3,FALSE)","v":{"$error":"#N/A"}}]
[null,null,null,null,null,null,null,{"$f":"VLOOKUP($G$2:$G$50000,'Location Type (FICM Codes)'!$A$7:$B$188,2,FALSE)","v":{"$error":"#N/A"}},null,null,null,null,null,{"$f":"VLOOKUP(G5237:G15235,'Location Type (FICM Codes)'!$A$7:$C$188,3,FALSE)","v":{"$error":"#N/A"}}]
[null,null,null,null,null,null,null,{"$f":"VLOOKUP($G$2:$G$50000,'Location Type (FICM Codes)'!$A$7:$B$188,2,FALSE)","v":{"$error":"#N/A"}},null,null,null,null,null,{"$f":"VLOOKUP(G5242:G15240,'Location Type (FICM Codes)'!$A$7:$C$188,3,FALSE)","v":{"$error":"#N/A"}}]
[null,null,null,null,null,null,null,{"$f":"VLOOKUP($G$2:$G$50000,'Location Type (FICM Codes)'!$A$7:$B$188,2,FALSE)","v":{"$error":"#N/A"}},null,null,null,null,null,{"$f":"VLOOKUP(G5246:G15244,'Location Type (FICM Codes)'!$A$7:$C$188,3,FALSE)","v":{"$error":"#N/A"}}]
[null,null,null,null,null,null,null,{"$f":"VLOOKUP($G$2:$G$50000,'Location Type (FICM Codes)'!$A$7:$B$188,2,FALSE)","v":{"$error":"#N/A"}},null,null,null,null,null,{"$f":"VLOOKUP(G5251:G15249,'Location Type (FICM Codes)'!$A$7:$C$188,3,FALSE)","v":{"$error":"#N/A"}}]
[null,null,null,null,null,null,null,{"$f":"VLOOKUP($G$2:$G$50000,'Location Type (FICM Codes)'!$A$7:$B$188,2,FALSE)","v":{"$error":"#N/A"}},null,null,null,null,null,{"$f":"VLOOKUP(G5252:G15250,'Location Type (FICM Codes)'!$A$7:$C$188,3,FALSE)","v":{"$error":"#N/A"}}]
[null,null,null,null,null,null,null,{"$f":"VLOOKUP($G$2:$G$50000,'Location Type (FICM Codes)'!$A$7:$B$188,2,FALSE)","v":{"$error":"#N/A"}},null,null,null,null,null,{"$f":"VLOOKUP(G5258:G15256,'Location Type (FICM Codes)'!$A$7:$C$188,3,FALSE)","v":{"$error":"#N/A"}}]
[null,null,null,null,null,null,null,{"$f":"VLOOKUP($G$2:$G$50000,'Location Type (FICM Codes)'!$A$7:$B$188,2,FALSE)","v":{"$error":"#N/A"}},null,null,null,null,null,{"$f":"VLOOKUP(G5261:G15259,'Location Type (FICM Codes)'!$A$7:$C$188,3,FALSE)","v":{"$error":"#N/A"}}]
[null,null,null,null,null,null,null,{"$f":"VLOOKUP($G$2:$G$50000,'Location Type (FICM Codes)'!$A$7:$B$188,2,FALSE)","v":{"$error":"#N/A"}},null,null,null,null,null,{"$f":"VLOOKUP(G5266:G15264,'Location Type (FICM Codes)'!$A$7:$C$188,3,FALSE)","v":{"$error":"#N/A"}}]
[null,null,null,null,null,null,null,{"$f":"VLOOKUP($G$2:$G$50000,'Location Type (FICM Codes)'!$A$7:$B$188,2,FALSE)","v":{"$error":"#N/A"}},null,null,null,null,null,{"$f":"VLOOKUP(G5267:G15265,'Location Type (FICM Codes)'!$A$7:$C$188,3,FALSE)","v":{"$error":"#N/A"}}]
[null,null,null,null,null,null,null,{"$f":"VLOOKUP($G$2:$G$50000,'Location Type (FICM Codes)'!$A$7:$B$188,2,FALSE)","v":{"$error":"#N/A"}},null,null,null,null,null,{"$f":"VLOOKUP(G5272:G15270,'Location Type (FICM Codes)'!$A$7:$C$188,3,FALSE)","v":{"$error":"#N/A"}}]
[null,null,null,null,null,null,null,{"$f":"VLOOKUP($G$2:$G$50000,'Location Type (FICM Codes)'!$A$7:$B$188,2,FALSE)","v":{"$error":"#N/A"}},null,null,null,null,null,{"$f":"VLOOKUP(G5276:G15274,'Location Type (FICM Codes)'!$A$7:$C$188,3,FALSE)","v":{"$error":"#N/A"}}]
[null,null,null,null,null,null,null,{"$f":"VLOOKUP($G$2:$G$50000,'Location Type (FICM Codes)'!$A$7:$B$188,2,FALSE)","v":{"$error":"#N/A"}},null,null,null,null,null,{"$f":"VLOOKUP(G5281:G15279,'Location Type (FICM Codes)'!$A$7:$C$188,3,FALSE)","v":{"$error":"#N/A"}}]
[null,null,null,null,null,null,null,{"$f":"VLOOKUP($G$2:$G$50000,'Location Type (FICM Codes)'!$A$7:$B$188,2,FALSE)","v":{"$error":"#N/A"}},null,null,null,null,null,{"$f":"VLOOKUP(G5282:G15280,'Location Type (FICM Codes)'!$A$7:$C$188,3,FALSE)","v":{"$error":"#N/A"}}]
[null,null,null,null,null,null,null,{"$f":"VLOOKUP($G$2:$G$50000,'Location Type (FICM Codes)'!$A$7:$B$188,2,FALSE)","v":{"$error":"#N/A"}},null,null,null,null,null,{"$f":"VLOOKUP(G5288:G15286,'Location Type (FICM Codes)'!$A$7:$C$188,3,FALSE)","v":{"$error":"#N/A"}}]
[null,null,null,null,null,null,null,{"$f":"VLOOKUP($G$2:$G$50000,'Location Type (FICM Codes)'!$A$7:$B$188,2,FALSE)","v":{"$error":"#N/A"}},null,null,null,null,null,{"$f":"VLOOKUP(G5291:G15289,'Location Type (FICM Codes)'!$A$7:$C$188,3,FALSE)","v":{"$error":"#N/A"}}]
[null,null,null,null,null,null,null,{"$f":"VLOOKUP($G$2:$G$50000,'Location Type (FICM Codes)'!$A$7:$B$188,2,FALSE)","v":{"$error":"#N/A"}},null,null,null,null,null,{"$f":"VLOOKUP(G5296:G15294,'Location Type (FICM Codes)'!$A$7:$C$188,3,FALSE)","v":{"$error":"#N/A"}}]
[null,null,null,null,null,null,null,{"$f":"VLOOKUP($G$2:$G$50000,'Location Type (FICM Codes)'!$A$7:$B$188,2,FALSE)","v":{"$error":"#N/A"}},null,null,null,null,null,{"$f":"VLOOKUP(G5297:G15295,'Location Type (FICM Codes)'!$A$7:$C$188,3,FALSE)","v":{"$error":"#N/A"}}]
[null,null,null,null,null,null,null,{"$f":"VLOOKUP($G$2:$G$50000,'Location Type (FICM Codes)'!$A$7:$B$188,2,FALSE)","v":{"$error":"#N/A"}},null,null,null,null,null,{"$f":"VLOOKUP(G5302:G15300,'Location Type (FICM Codes)'!$A$7:$C$188,3,FALSE)","v":{"$error":"#N/A"}}]
[null,null,null,null,null,null,null,{"$f":"VLOOKUP($G$2:$G$50000,'Location Type (FICM Codes)'!$A$7:$B$188,2,FALSE)","v":{"$error":"#N/A"}},null,null,null,null,null,{"$f":"VLOOKUP(G5306:G15304,'Location Type (FICM Codes)'!$A$7:$C$188,3,FALSE)","v":{"$error":"#N/A"}}]
[null,null,null,null,null,null,null,{"$f":"VLOOKUP($G$2:$G$50000,'Location Type (FICM Codes)'!$A$7:$B$188,2,FALSE)","v":{"$error":"#N/A"}},null,null,null,null,null,{"$f":"VLOOKUP(G5311:G15309,'Location Type (FICM Codes)'!$A$7:$C$188,3,FALSE)","v":{"$error":"#N/A"}}]
[null,null,null,null,null,null,null,{"$f":"VLOOKUP($G$2:$G$50000,'Location Type (FICM Codes)'!$A$7:$B$188,2,FALSE)","v":{"$error":"#N/A"}},null,null,null,null,null,{"$f":"VLOOKUP(G5312:G15310,'Location Type (FICM Codes)'!$A$7:$C$188,3,FALSE)","v":{"$error":"#N/A"}}]
[null,null,null,null,null,null,null,{"$f":"VLOOKUP($G$2:$G$50000,'Location Type (FICM Codes)'!$A$7:$B$188,2,FALSE)","v":{"$error":"#N/A"}},null,null,null,null,null,{"$f":"VLOOKUP(G5318:G15316,'Location Type (FICM Codes)'!$A$7:$C$188,3,FALSE)","v":{"$error":"#N/A"}}]
[null,null,null,null,null,null,null,{"$f":"VLOOKUP($G$2:$G$50000,'Location Type (FICM Codes)'!$A$7:$B$188,2,FALSE)","v":{"$error":"#N/A"}},null,null,null,null,null,{"$f":"VLOOKUP(G5321:G15319,'Location Type (FICM Codes)'!$A$7:$C$188,3,FALSE)","v":{"$error":"#N/A"}}]
[null,null,null,null,null,null,null,{"$f":"VLOOKUP($G$2:$G$50000,'Location Type (FICM Codes)'!$A$7:$B$188,2,FALSE)","v":{"$error":"#N/A"}},null,null,null,null,null,{"$f":"VLOOKUP(G5326:G15324,'Location Type (FICM Codes)'!$A$7:$C$188,3,FALSE)","v":{"$error":"#N/A"}}]
[null,null,null,null,null,null,null,{"$f":"VLOOKUP($G$2:$G$50000,'Location Type (FICM Codes)'!$A$7:$B$188,2,FALSE)","v":{"$error":"#N/A"}},null,null,null,null,null,{"$f":"VLOOKUP(G5327:G15325,'Location Type (FICM Codes)'!$A$7:$C$188,3,FALSE)","v":{"$error":"#N/A"}}]
[null,null,null,null,null,null,null,{"$f":"VLOOKUP($G$2:$G$50000,'Location Type (FICM Codes)'!$A$7:$B$188,2,FALSE)","v":{"$error":"#N/A"}},null,null,null,null,null,{"$f":"VLOOKUP(G5332:G15330,'Location Type (FICM Codes)'!$A$7:$C$188,3,FALSE)","v":{"$error":"#N/A"}}]
[null,null,null,null,null,null,null,{"$f":"VLOOKUP($G$2:$G$50000,'Location Type (FICM Codes)'!$A$7:$B$188,2,FALSE)","v":{"$error":"#N/A"}},null,null,null,null,null,{"$f":"VLOOKUP(G5336:G15334,'Location Type (FICM Codes)'!$A$7:$C$188,3,FALSE)","v":{"$error":"#N/A"}}]
[null,null,null,null,null,null,null,{"$f":"VLOOKUP($G$2:$G$50000,'Location Type (FICM Codes)'!$A$7:$B$188,2,FALSE)","v":{"$error":"#N/A"}},null,null,null,null,null,{"$f":"VLOOKUP(G5341:G15339,'Location Type (FICM Codes)'!$A$7:$C$188,3,FALSE)","v":{"$error":"#N/A"}}]
[null,null,null,null,null,null,null,{"$f":"VLOOKUP($G$2:$G$50000,'Location Type (FICM Codes)'!$A$7:$B$188,2,FALSE)","v":{"$error":"#N/A"}},null,null,null,null,null,{"$f":"VLOOKUP(G5342:G15340,'Location Type (FICM Codes)'!$A$7:$C$188,3,FALSE)","v":{"$error":"#N/A"}}]
[null,null,null,null,null,null,null,{"$f":"VLOOKUP($G$2:$G$50000,'Location Type (FICM Codes)'!$A$7:$B$188,2,FALSE)","v":{"$error":"#N/A"}},null,null,null,null,null,{"$f":"VLOOKUP(G5348:G15346,'Location Type (FICM Codes)'!$A$7:$C$188,3,FALSE)","v":{"$error":"#N/A"}}]
[null,null,null,null,null,null,null,{"$f":"VLOOKUP($G$2:$G$50000,'Location Type (FICM Codes)'!$A$7:$B$188,2,FALSE)","v":{"$error":"#N/A"}},null,null,null,null,null,{"$f":"VLOOKUP(G5351:G15349,'Location Type (FICM Codes)'!$A$7:$C$188,3,FALSE)","v":{"$error":"#N/A"}}]
[null,null,null,null,null,null,null,{"$f":"VLOOKUP($G$2:$G$50000,'Location Type (FICM Codes)'!$A$7:$B$188,2,FALSE)","v":{"$error":"#N/A"}},null,null,null,null,null,{"$f":"VLOOKUP(G5356:G15354,'Location Type (FICM Codes)'!$A$7:$C$188,3,FALSE)","v":{"$error":"#N/A"}}]
[null,null,null,null,null,null,null,{"$f":"VLOOKUP($G$2:$G$50000,'Location Type (FICM Codes)'!$A$7:$B$188,2,FALSE)","v":{"$error":"#N/A"}},null,null,null,null,null,{"$f":"VLOOKUP(G5357:G15355,'Location Type (FICM Codes)'!$A$7:$C$188,3,FALSE)","v":{"$error":"#N/A"}}]
[null,null,null,null,null,null,null,{"$f":"VLOOKUP($G$2:$G$50000,'Location Type (FICM Codes)'!$A$7:$B$188,2,FALSE)","v":{"$error":"#N/A"}},null,null,null,null,null,{"$f":"VLOOKUP(G5362:G15360,'Location Type (FICM Codes)'!$A$7:$C$188,3,FALSE)","v":{"$error":"#N/A"}}]
[null,null,null,null,null,null,null,{"$f":"VLOOKUP($G$2:$G$50000,'Location Type (FICM Codes)'!$A$7:$B$188,2,FALSE)","v":{"$error":"#N/A"}},null,null,null,null,null,{"$f":"VLOOKUP(G5366:G15364,'Location Type (FICM Codes)'!$A$7:$C$188,3,FALSE)","v":{"$error":"#N/A"}}]
[null,null,null,null,null,null,null,{"$f":"VLOOKUP($G$2:$G$50000,'Location Type (FICM Codes)'!$A$7:$B$188,2,FALSE)","v":{"$error":"#N/A"}},null,null,null,null,null,{"$f":"VLOOKUP(G5371:G15369,'Location Type (FICM Codes)'!$A$7:$C$188,3,FALSE)","v":{"$error":"#N/A"}}]
[null,null,null,null,null,null,null,{"$f":"VLOOKUP($G$2:$G$50000,'Location Type (FICM Codes)'!$A$7:$B$188,2,FALSE)","v":{"$error":"#N/A"}},null,null,null,null,null,{"$f":"VLOOKUP(G5372:G15370,'Location Type (FICM Codes)'!$A$7:$C$188,3,FALSE)","v":{"$error":"#N/A"}}]
[null,null,null,null,null,null,null,{"$f":"VLOOKUP($G$2:$G$50000,'Location Type (FICM Codes)'!$A$7:$B$188,2,FALSE)","v":{"$error":"#N/A"}},null,null,null,null,null,{"$f":"VLOOKUP(G5378:G15376,'Location Type (FICM Codes)'!$A$7:$C$188,3,FALSE)","v":{"$error":"#N/A"}}]
[null,null,null,null,null,null,null,{"$f":"VLOOKUP($G$2:$G$50000,'Location Type (FICM Codes)'!$A$7:$B$188,2,FALSE)","v":{"$error":"#N/A"}},null,null,null,null,null,{"$f":"VLOOKUP(G5381:G15379,'Location Type (FICM Codes)'!$A$7:$C$188,3,FALSE)","v":{"$error":"#N/A"}}]
[null,null,null,null,null,null,null,{"$f":"VLOOKUP($G$2:$G$50000,'Location Type (FICM Codes)'!$A$7:$B$188,2,FALSE)","v":{"$error":"#N/A"}},null,null,null,null,null,{"$f":"VLOOKUP(G5386:G15384,'Location Type (FICM Codes)'!$A$7:$C$188,3,FALSE)","v":{"$error":"#N/A"}}]
[null,null,null,null,null,null,null,{"$f":"VLOOKUP($G$2:$G$50000,'Location Type (FICM Codes)'!$A$7:$B$188,2,FALSE)","v":{"$error":"#N/A"}},null,null,null,null,null,{"$f":"VLOOKUP(G5387:G15385,'Location Type (FICM Codes)'!$A$7:$C$188,3,FALSE)","v":{"$error":"#N/A"}}]
[null,null,null,null,null,null,null,{"$f":"VLOOKUP($G$2:$G$50000,'Location Type (FICM Codes)'!$A$7:$B$188,2,FALSE)","v":{"$error":"#N/A"}},null,null,null,null,null,{"$f":"VLOOKUP(G5392:G15390,'Location Type (FICM Codes)'!$A$7:$C$188,3,FALSE)","v":{"$error":"#N/A"}}]
[null,null,null,null,null,null,null,{"$f":"VLOOKUP($G$2:$G$50000,'Location Type (FICM Codes)'!$A$7:$B$188,2,FALSE)","v":{"$error":"#N/A"}},null,null,null,null,null,{"$f":"VLOOKUP(G5396:G15394,'Location Type (FICM Codes)'!$A$7:$C$188,3,FALSE)","v":{"$error":"#N/A"}}]
[null,null,null,null,null,null,null,{"$f":"VLOOKUP($G$2:$G$50000,'Location Type (FICM Codes)'!$A$7:$B$188,2,FALSE)","v":{"$error":"#N/A"}},null,null,null,null,null,{"$f":"VLOOKUP(G5401:G15399,'Location Type (FICM Codes)'!$A$7:$C$188,3,FALSE)","v":{"$error":"#N/A"}}]
[null,null,null,null,null,null,null,{"$f":"VLOOKUP($G$2:$G$50000,'Location Type (FICM Codes)'!$A$7:$B$188,2,FALSE)","v":{"$error":"#N/A"}},null,null,null,null,null,{"$f":"VLOOKUP(G5402:G15400,'Location Type (FICM Codes)'!$A$7:$C$188,3,FALSE)","v":{"$error":"#N/A"}}]
[null,null,null,null,null,null,null,{"$f":"VLOOKUP($G$2:$G$50000,'Location Type (FICM Codes)'!$A$7:$B$188,2,FALSE)","v":{"$error":"#N/A"}},null,null,null,null,null,{"$f":"VLOOKUP(G5408:G15406,'Location Type (FICM Codes)'!$A$7:$C$188,3,FALSE)","v":{"$error":"#N/A"}}]
[null,null,null,null,null,null,null,{"$f":"VLOOKUP($G$2:$G$50000,'Location Type (FICM Codes)'!$A$7:$B$188,2,FALSE)","v":{"$error":"#N/A"}},null,null,null,null,null,{"$f":"VLOOKUP(G5411:G15409,'Location Type (FICM Codes)'!$A$7:$C$188,3,FALSE)","v":{"$error":"#N/A"}}]
[null,null,null,null,null,null,null,{"$f":"VLOOKUP($G$2:$G$50000,'Location Type (FICM Codes)'!$A$7:$B$188,2,FALSE)","v":{"$error":"#N/A"}},null,null,null,null,null,{"$f":"VLOOKUP(G5416:G15414,'Location Type (FICM Codes)'!$A$7:$C$188,3,FALSE)","v":{"$error":"#N/A"}}]
[null,null,null,null,null,null,null,{"$f":"VLOOKUP($G$2:$G$50000,'Location Type (FICM Codes)'!$A$7:$B$188,2,FALSE)","v":{"$error":"#N/A"}},null,null,null,null,null,{"$f":"VLOOKUP(G5417:G15415,'Location Type (FICM Codes)'!$A$7:$C$188,3,FALSE)","v":{"$error":"#N/A"}}]
[null,null,null,null,null,null,null,{"$f":"VLOOKUP($G$2:$G$50000,'Location Type (FICM Codes)'!$A$7:$B$188,2,FALSE)","v":{"$error":"#N/A"}},null,null,null,null,null,{"$f":"VLOOKUP(G5422:G15420,'Location Type (FICM Codes)'!$A$7:$C$188,3,FALSE)","v":{"$error":"#N/A"}}]
[null,null,null,null,null,null,null,{"$f":"VLOOKUP($G$2:$G$50000,'Location Type (FICM Codes)'!$A$7:$B$188,2,FALSE)","v":{"$error":"#N/A"}},null,null,null,null,null,{"$f":"VLOOKUP(G5426:G15424,'Location Type (FICM Codes)'!$A$7:$C$188,3,FALSE)","v":{"$error":"#N/A"}}]
[null,null,null,null,null,null,null,{"$f":"VLOOKUP($G$2:$G$50000,'Location Type (FICM Codes)'!$A$7:$B$188,2,FALSE)","v":{"$error":"#N/A"}},null,null,null,null,null,{"$f":"VLOOKUP(G5431:G15429,'Location Type (FICM Codes)'!$A$7:$C$188,3,FALSE)","v":{"$error":"#N/A"}}]
[null,null,null,null,null,null,null,{"$f":"VLOOKUP($G$2:$G$50000,'Location Type (FICM Codes)'!$A$7:$B$188,2,FALSE)","v":{"$error":"#N/A"}},null,null,null,null,null,{"$f":"VLOOKUP(G5432:G15430,'Location Type (FICM Codes)'!$A$7:$C$188,3,FALSE)","v":{"$error":"#N/A"}}]
[null,null,null,null,null,null,null,{"$f":"VLOOKUP($G$2:$G$50000,'Location Type (FICM Codes)'!$A$7:$B$188,2,FALSE)","v":{"$error":"#N/A"}},null,null,null,null,null,{"$f":"VLOOKUP(G5438:G15436,'Location Type (FICM Codes)'!$A$7:$C$188,3,FALSE)","v":{"$error":"#N/A"}}]
[null,null,null,null,null,null,null,{"$f":"VLOOKUP($G$2:$G$50000,'Location Type (FICM Codes)'!$A$7:$B$188,2,FALSE)","v":{"$error":"#N/A"}},null,null,null,null,null,{"$f":"VLOOKUP(G5441:G15439,'Location Type (FICM Codes)'!$A$7:$C$188,3,FALSE)","v":{"$error":"#N/A"}}]
[null,null,null,null,null,null,null,{"$f":"VLOOKUP($G$2:$G$50000,'Location Type (FICM Codes)'!$A$7:$B$188,2,FALSE)","v":{"$error":"#N/A"}},null,null,null,null,null,{"$f":"VLOOKUP(G5446:G15444,'Location Type (FICM Codes)'!$A$7:$C$188,3,FALSE)","v":{"$error":"#N/A"}}]
[null,null,null,null,null,null,null,{"$f":"VLOOKUP($G$2:$G$50000,'Location Type (FICM Codes)'!$A$7:$B$188,2,FALSE)","v":{"$error":"#N/A"}},null,null,null,null,null,{"$f":"VLOOKUP(G5447:G15445,'Location Type (FICM Codes)'!$A$7:$C$188,3,FALSE)","v":{"$error":"#N/A"}}]
[null,null,null,null,null,null,null,{"$f":"VLOOKUP($G$2:$G$50000,'Location Type (FICM Codes)'!$A$7:$B$188,2,FALSE)","v":{"$error":"#N/A"}},null,null,null,null,null,{"$f":"VLOOKUP(G5452:G15450,'Location Type (FICM Codes)'!$A$7:$C$188,3,FALSE)","v":{"$error":"#N/A"}}]
[null,null,null,null,null,null,null,{"$f":"VLOOKUP($G$2:$G$50000,'Location Type (FICM Codes)'!$A$7:$B$188,2,FALSE)","v":{"$error":"#N/A"}},null,null,null,null,null,{"$f":"VLOOKUP(G5456:G15454,'Location Type (FICM Codes)'!$A$7:$C$188,3,FALSE)","v":{"$error":"#N/A"}}]
[null,null,null,null,null,null,null,{"$f":"VLOOKUP($G$2:$G$50000,'Location Type (FICM Codes)'!$A$7:$B$188,2,FALSE)","v":{"$error":"#N/A"}},null,null,null,null,null,{"$f":"VLOOKUP(G5461:G15459,'Location Type (FICM Codes)'!$A$7:$C$188,3,FALSE)","v":{"$error":"#N/A"}}]
[null,null,null,null,null,null,null,{"$f":"VLOOKUP($G$2:$G$50000,'Location Type (FICM Codes)'!$A$7:$B$188,2,FALSE)","v":{"$error":"#N/A"}},null,null,null,null,null,{"$f":"VLOOKUP(G5462:G15460,'Location Type (FICM Codes)'!$A$7:$C$188,3,FALSE)","v":{"$error":"#N/A"}}]
[null,null,null,null,null,null,null,{"$f":"VLOOKUP($G$2:$G$50000,'Location Type (FICM Codes)'!$A$7:$B$188,2,FALSE)","v":{"$error":"#N/A"}},null,null,null,null,null,{"$f":"VLOOKUP(G5468:G15466,'Location Type (FICM Codes)'!$A$7:$C$188,3,FALSE)","v":{"$error":"#N/A"}}]
[null,null,null,null,null,null,null,{"$f":"VLOOKUP($G$2:$G$50000,'Location Type (FICM Codes)'!$A$7:$B$188,2,FALSE)","v":{"$error":"#N/A"}},null,null,null,null,null,{"$f":"VLOOKUP(G5471:G15469,'Location Type (FICM Codes)'!$A$7:$C$188,3,FALSE)","v":{"$error":"#N/A"}}]
[null,null,null,null,null,null,null,{"$f":"VLOOKUP($G$2:$G$50000,'Location Type (FICM Codes)'!$A$7:$B$188,2,FALSE)","v":{"$error":"#N/A"}},null,null,null,null,null,{"$f":"VLOOKUP(G5476:G15474,'Location Type (FICM Codes)'!$A$7:$C$188,3,FALSE)","v":{"$error":"#N/A"}}]
[null,null,null,null,null,null,null,{"$f":"VLOOKUP($G$2:$G$50000,'Location Type (FICM Codes)'!$A$7:$B$188,2,FALSE)","v":{"$error":"#N/A"}},null,null,null,null,null,{"$f":"VLOOKUP(G5477:G15475,'Location Type (FICM Codes)'!$A$7:$C$188,3,FALSE)","v":{"$error":"#N/A"}}]
[null,null,null,null,null,null,null,{"$f":"VLOOKUP($G$2:$G$50000,'Location Type (FICM Codes)'!$A$7:$B$188,2,FALSE)","v":{"$error":"#N/A"}},null,null,null,null,null,{"$f":"VLOOKUP(G5482:G15480,'Location Type (FICM Codes)'!$A$7:$C$188,3,FALSE)","v":{"$error":"#N/A"}}]
[null,null,null,null,null,null,null,{"$f":"VLOOKUP($G$2:$G$50000,'Location Type (FICM Codes)'!$A$7:$B$188,2,FALSE)","v":{"$error":"#N/A"}},null,null,null,null,null,{"$f":"VLOOKUP(G5486:G15484,'Location Type (FICM Codes)'!$A$7:$C$188,3,FALSE)","v":{"$error":"#N/A"}}]
[null,null,null,null,null,null,null,{"$f":"VLOOKUP($G$2:$G$50000,'Location Type (FICM Codes)'!$A$7:$B$188,2,FALSE)","v":{"$error":"#N/A"}},null,null,null,null,null,{"$f":"VLOOKUP(G5491:G15489,'Location Type (FICM Codes)'!$A$7:$C$188,3,FALSE)","v":{"$error":"#N/A"}}]
[null,null,null,null,null,null,null,{"$f":"VLOOKUP($G$2:$G$50000,'Location Type (FICM Codes)'!$A$7:$B$188,2,FALSE)","v":{"$error":"#N/A"}},null,null,null,null,null,{"$f":"VLOOKUP(G5492:G15490,'Location Type (FICM Codes)'!$A$7:$C$188,3,FALSE)","v":{"$error":"#N/A"}}]
[null,null,null,null,null,null,null,{"$f":"VLOOKUP($G$2:$G$50000,'Location Type (FICM Codes)'!$A$7:$B$188,2,FALSE)","v":{"$error":"#N/A"}},null,null,null,null,null,{"$f":"VLOOKUP(G5498:G15496,'Location Type (FICM Codes)'!$A$7:$C$188,3,FALSE)","v":{"$error":"#N/A"}}]
[null,null,null,null,null,null,null,{"$f":"VLOOKUP($G$2:$G$50000,'Location Type (FICM Codes)'!$A$7:$B$188,2,FALSE)","v":{"$error":"#N/A"}},null,null,null,null,null,{"$f":"VLOOKUP(G5501:G15499,'Location Type (FICM Codes)'!$A$7:$C$188,3,FALSE)","v":{"$error":"#N/A"}}]
[null,null,null,null,null,null,null,{"$f":"VLOOKUP($G$2:$G$50000,'Location Type (FICM Codes)'!$A$7:$B$188,2,FALSE)","v":{"$error":"#N/A"}},null,null,null,null,null,{"$f":"VLOOKUP(G5506:G15504,'Location Type (FICM Codes)'!$A$7:$C$188,3,FALSE)","v":{"$error":"#N/A"}}]
[null,null,null,null,null,null,null,{"$f":"VLOOKUP($G$2:$G$50000,'Location Type (FICM Codes)'!$A$7:$B$188,2,FALSE)","v":{"$error":"#N/A"}},null,null,null,null,null,{"$f":"VLOOKUP(G5507:G15505,'Location Type (FICM Codes)'!$A$7:$C$188,3,FALSE)","v":{"$error":"#N/A"}}]
[null,null,null,null,null,null,null,{"$f":"VLOOKUP($G$2:$G$50000,'Location Type (FICM Codes)'!$A$7:$B$188,2,FALSE)","v":{"$error":"#N/A"}},null,null,null,null,null,{"$f":"VLOOKUP(G5512:G15510,'Location Type (FICM Codes)'!$A$7:$C$188,3,FALSE)","v":{"$error":"#N/A"}}]
[null,null,null,null,null,null,null,{"$f":"VLOOKUP($G$2:$G$50000,'Location Type (FICM Codes)'!$A$7:$B$188,2,FALSE)","v":{"$error":"#N/A"}},null,null,null,null,null,{"$f":"VLOOKUP(G5516:G15514,'Location Type (FICM Codes)'!$A$7:$C$188,3,FALSE)","v":{"$error":"#N/A"}}]
[null,null,null,null,null,null,null,{"$f":"VLOOKUP($G$2:$G$50000,'Location Type (FICM Codes)'!$A$7:$B$188,2,FALSE)","v":{"$error":"#N/A"}},null,null,null,null,null,{"$f":"VLOOKUP(G5521:G15519,'Location Type (FICM Codes)'!$A$7:$C$188,3,FALSE)","v":{"$error":"#N/A"}}]
[null,null,null,null,null,null,null,{"$f":"VLOOKUP($G$2:$G$50000,'Location Type (FICM Codes)'!$A$7:$B$188,2,FALSE)","v":{"$error":"#N/A"}},null,null,null,null,null,{"$f":"VLOOKUP(G5522:G15520,'Location Type (FICM Codes)'!$A$7:$C$188,3,FALSE)","v":{"$error":"#N/A"}}]
[null,null,null,null,null,null,null,{"$f":"VLOOKUP($G$2:$G$50000,'Location Type (FICM Codes)'!$A$7:$B$188,2,FALSE)","v":{"$error":"#N/A"}},null,null,null,null,null,{"$f":"VLOOKUP(G5526:G15524,'Location Type (FICM Codes)'!$A$7:$C$188,3,FALSE)","v":{"$error":"#N/A"}}]
[null,null,null,null,null,null,null,{"$f":"VLOOKUP($G$2:$G$50000,'Location Type (FICM Codes)'!$A$7:$B$188,2,FALSE)","v":{"$error":"#N/A"}},null,null,null,null,null,{"$f":"VLOOKUP(G5531:G15529,'Location Type (FICM Codes)'!$A$7:$C$188,3,FALSE)","v":{"$error":"#N/A"}}]
[null,null,null,null,null,null,null,{"$f":"VLOOKUP($G$2:$G$50000,'Location Type (FICM Codes)'!$A$7:$B$188,2,FALSE)","v":{"$error":"#N/A"}},null,null,null,null,null,{"$f":"VLOOKUP(G5536:G15534,'Location Type (FICM Codes)'!$A$7:$C$188,3,FALSE)","v":{"$error":"#N/A"}}]
[null,null,null,null,null,null,null,{"$f":"VLOOKUP($G$2:$G$50000,'Location Type (FICM Codes)'!$A$7:$B$188,2,FALSE)","v":{"$error":"#N/A"}},null,null,null,null,null,{"$f":"VLOOKUP(G5537:G15535,'Location Type (FICM Codes)'!$A$7:$C$188,3,FALSE)","v":{"$error":"#N/A"}}]
[null,null,null,null,null,null,null,{"$f":"VLOOKUP($G$2:$G$50000,'Location Type (FICM Codes)'!$A$7:$B$188,2,FALSE)","v":{"$error":"#N/A"}},null,null,null,null,null,{"$f":"VLOOKUP(G5542:G15540,'Location Type (FICM Codes)'!$A$7:$C$188,3,FALSE)","v":{"$error":"#N/A"}}]
[null,null,null,null,null,null,null,{"$f":"VLOOKUP($G$2:$G$50000,'Location Type (FICM Codes)'!$A$7:$B$188,2,FALSE)","v":{"$error":"#N/A"}},null,null,null,null,null,{"$f":"VLOOKUP(G5546:G15544,'Location Type (FICM Codes)'!$A$7:$C$188,3,FALSE)","v":{"$error":"#N/A"}}]
[null,null,null,null,null,null,null,{"$f":"VLOOKUP($G$2:$G$50000,'Location Type (FICM Codes)'!$A$7:$B$188,2,FALSE)","v":{"$error":"#N/A"}},null,null,null,null,null,{"$f":"VLOOKUP(G5551:G15549,'Location Type (FICM Codes)'!$A$7:$C$188,3,FALSE)","v":{"$error":"#N/A"}}]
[null,null,null,null,null,null,null,{"$f":"VLOOKUP($G$2:$G$50000,'Location Type (FICM Codes)'!$A$7:$B$188,2,FALSE)","v":{"$error":"#N/A"}},null,null,null,null,null,{"$f":"VLOOKUP(G5552:G15550,'Location Type (FICM Codes)'!$A$7:$C$188,3,FALSE)","v":{"$error":"#N/A"}}]
[null,null,null,null,null,null,null,{"$f":"VLOOKUP($G$2:$G$50000,'Location Type (FICM Codes)'!$A$7:$B$188,2,FALSE)","v":{"$error":"#N/A"}},null,null,null,null,null,{"$f":"VLOOKUP(G5556:G15554,'Location Type (FICM Codes)'!$A$7:$C$188,3,FALSE)","v":{"$error":"#N/A"}}]
[null,null,null,null,null,null,null,{"$f":"VLOOKUP($G$2:$G$50000,'Location Type (FICM Codes)'!$A$7:$B$188,2,FALSE)","v":{"$error":"#N/A"}},null,null,null,null,null,{"$f":"VLOOKUP(G5561:G15559,'Location Type (FICM Codes)'!$A$7:$C$188,3,FALSE)","v":{"$error":"#N/A"}}]
[null,null,null,null,null,null,null,{"$f":"VLOOKUP($G$2:$G$50000,'Location Type (FICM Codes)'!$A$7:$B$188,2,FALSE)","v":{"$error":"#N/A"}},null,null,null,null,null,{"$f":"VLOOKUP(G5566:G15564,'Location Type (FICM Codes)'!$A$7:$C$188,3,FALSE)","v":{"$error":"#N/A"}}]
[null,null,null,null,null,null,null,{"$f":"VLOOKUP($G$2:$G$50000,'Location Type (FICM Codes)'!$A$7:$B$188,2,FALSE)","v":{"$error":"#N/A"}},null,null,null,null,null,{"$f":"VLOOKUP(G5567:G15565,'Location Type (FICM Codes)'!$A$7:$C$188,3,FALSE)","v":{"$error":"#N/A"}}]
[null,null,null,null,null,null,null,{"$f":"VLOOKUP($G$2:$G$50000,'Location Type (FICM Codes)'!$A$7:$B$188,2,FALSE)","v":{"$error":"#N/A"}},null,null,null,null,null,{"$f":"VLOOKUP(G5572:G15570,'Location Type (FICM Codes)'!$A$7:$C$188,3,FALSE)","v":{"$error":"#N/A"}}]
[null,null,null,null,null,null,null,{"$f":"VLOOKUP($G$2:$G$50000,'Location Type (FICM Codes)'!$A$7:$B$188,2,FALSE)","v":{"$error":"#N/A"}},null,null,null,null,null,{"$f":"VLOOKUP(G5576:G15574,'Location Type (FICM Codes)'!$A$7:$C$188,3,FALSE)","v":{"$error":"#N/A"}}]
[null,null,null,null,null,null,null,{"$f":"VLOOKUP($G$2:$G$50000,'Location Type (FICM Codes)'!$A$7:$B$188,2,FALSE)","v":{"$error":"#N/A"}},null,null,null,null,null,{"$f":"VLOOKUP(G5581:G15579,'Location Type (FICM Codes)'!$A$7:$C$188,3,FALSE)","v":{"$error":"#N/A"}}]
[null,null,null,null,null,null,null,{"$f":"VLOOKUP($G$2:$G$50000,'Location Type (FICM Codes)'!$A$7:$B$188,2,FALSE)","v":{"$error":"#N/A"}},null,null,null,null,null,{"$f":"VLOOKUP(G5582:G15580,'Location Type (FICM Codes)'!$A$7:$C$188,3,FALSE)","v":{"$error":"#N/A"}}]
[null,null,null,null,null,null,null,{"$f":"VLOOKUP($G$2:$G$50000,'Location Type (FICM Codes)'!$A$7:$B$188,2,FALSE)","v":{"$error":"#N/A"}},null,null,null,null,null,{"$f":"VLOOKUP(G5586:G15584,'Location Type (FICM Codes)'!$A$7:$C$188,3,FALSE)","v":{"$error":"#N/A"}}]
[null,null,null,null,null,null,null,{"$f":"VLOOKUP($G$2:$G$50000,'Location Type (FICM Codes)'!$A$7:$B$188,2,FALSE)","v":{"$error":"#N/A"}},null,null,null,null,null,{"$f":"VLOOKUP(G5591:G15589,'Location Type (FICM Codes)'!$A$7:$C$188,3,FALSE)","v":{"$error":"#N/A"}}]
[null,null,null,null,null,null,null,{"$f":"VLOOKUP($G$2:$G$50000,'Location Type (FICM Codes)'!$A$7:$B$188,2,FALSE)","v":{"$error":"#N/A"}},null,null,null,null,null,{"$f":"VLOOKUP(G5596:G15594,'Location Type (FICM Codes)'!$A$7:$C$188,3,FALSE)","v":{"$error":"#N/A"}}]
[null,null,null,null,null,null,null,{"$f":"VLOOKUP($G$2:$G$50000,'Location Type (FICM Codes)'!$A$7:$B$188,2,FALSE)","v":{"$error":"#N/A"}},null,null,null,null,null,{"$f":"VLOOKUP(G5597:G15595,'Location Type (FICM Codes)'!$A$7:$C$188,3,FALSE)","v":{"$error":"#N/A"}}]
[null,null,null,null,null,null,null,{"$f":"VLOOKUP($G$2:$G$50000,'Location Type (FICM Codes)'!$A$7:$B$188,2,FALSE)","v":{"$error":"#N/A"}},null,null,null,null,null,{"$f":"VLOOKUP(G5602:G15600,'Location Type (FICM Codes)'!$A$7:$C$188,3,FALSE)","v":{"$error":"#N/A"}}]
[null,null,null,null,null,null,null,{"$f":"VLOOKUP($G$2:$G$50000,'Location Type (FICM Codes)'!$A$7:$B$188,2,FALSE)","v":{"$error":"#N/A"}},null,null,null,null,null,{"$f":"VLOOKUP(G5606:G15604,'Location Type (FICM Codes)'!$A$7:$C$188,3,FALSE)","v":{"$error":"#N/A"}}]
[null,null,null,null,null,null,null,{"$f":"VLOOKUP($G$2:$G$50000,'Location Type (FICM Codes)'!$A$7:$B$188,2,FALSE)","v":{"$error":"#N/A"}},null,null,null,null,null,{"$f":"VLOOKUP(G5611:G15609,'Location Type (FICM Codes)'!$A$7:$C$188,3,FALSE)","v":{"$error":"#N/A"}}]
[null,null,null,null,null,null,null,{"$f":"VLOOKUP($G$2:$G$50000,'Location Type (FICM Codes)'!$A$7:$B$188,2,FALSE)","v":{"$error":"#N/A"}},null,null,null,null,null,{"$f":"VLOOKUP(G5612:G15610,'Location Type (FICM Codes)'!$A$7:$C$188,3,FALSE)","v":{"$error":"#N/A"}}]
[null,null,null,null,null,null,null,{"$f":"VLOOKUP($G$2:$G$50000,'Location Type (FICM Codes)'!$A$7:$B$188,2,FALSE)","v":{"$error":"#N/A"}},null,null,null,null,null,{"$f":"VLOOKUP(G5616:G15614,'Location Type (FICM Codes)'!$A$7:$C$188,3,FALSE)","v":{"$error":"#N/A"}}]
[null,null,null,null,null,null,null,{"$f":"VLOOKUP($G$2:$G$50000,'Location Type (FICM Codes)'!$A$7:$B$188,2,FALSE)","v":{"$error":"#N/A"}},null,null,null,null,null,{"$f":"VLOOKUP(G5621:G15619,'Location Type (FICM Codes)'!$A$7:$C$188,3,FALSE)","v":{"$error":"#N/A"}}]
[null,null,null,null,null,null,null,{"$f":"VLOOKUP($G$2:$G$50000,'Location Type (FICM Codes)'!$A$7:$B$188,2,FALSE)","v":{"$error":"#N/A"}},null,null,null,null,null,{"$f":"VLOOKUP(G5626:G15624,'Location Type (FICM Codes)'!$A$7:$C$188,3,FALSE)","v":{"$error":"#N/A"}}]
[null,null,null,null,null,null,null,{"$f":"VLOOKUP($G$2:$G$50000,'Location Type (FICM Codes)'!$A$7:$B$188,2,FALSE)","v":{"$error":"#N/A"}},null,null,null,null,null,{"$f":"VLOOKUP(G5627:G15625,'Location Type (FICM Codes)'!$A$7:$C$188,3,FALSE)","v":{"$error":"#N/A"}}]
[null,null,null,null,null,null,null,{"$f":"VLOOKUP($G$2:$G$50000,'Location Type (FICM Codes)'!$A$7:$B$188,2,FALSE)","v":{"$error":"#N/A"}},null,null,null,null,null,{"$f":"VLOOKUP(G5632:G15630,'Location Type (FICM Codes)'!$A$7:$C$188,3,FALSE)","v":{"$error":"#N/A"}}]
[null,null,null,null,null,null,null,{"$f":"VLOOKUP($G$2:$G$50000,'Location Type (FICM Codes)'!$A$7:$B$188,2,FALSE)","v":{"$error":"#N/A"}},null,null,null,null,null,{"$f":"VLOOKUP(G5636:G15634,'Location Type (FICM Codes)'!$A$7:$C$188,3,FALSE)","v":{"$error":"#N/A"}}]
[null,null,null,null,null,null,null,{"$f":"VLOOKUP($G$2:$G$50000,'Location Type (FICM Codes)'!$A$7:$B$188,2,FALSE)","v":{"$error":"#N/A"}},null,null,null,null,null,{"$f":"VLOOKUP(G5641:G15639,'Location Type (FICM Codes)'!$A$7:$C$188,3,FALSE)","v":{"$error":"#N/A"}}]
[null,null,null,null,null,null,null,{"$f":"VLOOKUP($G$2:$G$50000,'Location Type (FICM Codes)'!$A$7:$B$188,2,FALSE)","v":{"$error":"#N/A"}},null,null,null,null,null,{"$f":"VLOOKUP(G5642:G15640,'Location Type (FICM Codes)'!$A$7:$C$188,3,FALSE)","v":{"$error":"#N/A"}}]
[null,null,null,null,null,null,null,{"$f":"VLOOKUP($G$2:$G$50000,'Location Type (FICM Codes)'!$A$7:$B$188,2,FALSE)","v":{"$error":"#N/A"}},null,null,null,null,null,{"$f":"VLOOKUP(G5646:G15644,'Location Type (FICM Codes)'!$A$7:$C$188,3,FALSE)","v":{"$error":"#N/A"}}]
[null,null,null,null,null,null,null,{"$f":"VLOOKUP($G$2:$G$50000,'Location Type (FICM Codes)'!$A$7:$B$188,2,FALSE)","v":{"$error":"#N/A"}},null,null,null,null,null,{"$f":"VLOOKUP(G5651:G15649,'Location Type (FICM Codes)'!$A$7:$C$188,3,FALSE)","v":{"$error":"#N/A"}}]
[null,null,null,null,null,null,null,{"$f":"VLOOKUP($G$2:$G$50000,'Location Type (FICM Codes)'!$A$7:$B$188,2,FALSE)","v":{"$error":"#N/A"}},null,null,null,null,null,{"$f":"VLOOKUP(G5656:G15654,'Location Type (FICM Codes)'!$A$7:$C$188,3,FALSE)","v":{"$error":"#N/A"}}]
[null,null,null,null,null,null,null,{"$f":"VLOOKUP($G$2:$G$50000,'Location Type (FICM Codes)'!$A$7:$B$188,2,FALSE)","v":{"$error":"#N/A"}},null,null,null,null,null,{"$f":"VLOOKUP(G5657:G15655,'Location Type (FICM Codes)'!$A$7:$C$188,3,FALSE)","v":{"$error":"#N/A"}}]
[null,null,null,null,null,null,null,{"$f":"VLOOKUP($G$2:$G$50000,'Location Type (FICM Codes)'!$A$7:$B$188,2,FALSE)","v":{"$error":"#N/A"}},null,null,null,null,null,{"$f":"VLOOKUP(G5662:G15660,'Location Type (FICM Codes)'!$A$7:$C$188,3,FALSE)","v":{"$error":"#N/A"}}]
[null,null,null,null,null,null,null,{"$f":"VLOOKUP($G$2:$G$50000,'Location Type (FICM Codes)'!$A$7:$B$188,2,FALSE)","v":{"$error":"#N/A"}},null,null,null,null,null,{"$f":"VLOOKUP(G5666:G15664,'Location Type (FICM Codes)'!$A$7:$C$188,3,FALSE)","v":{"$error":"#N/A"}}]
[null,null,null,null,null,null,null,{"$f":"VLOOKUP($G$2:$G$50000,'Location Type (FICM Codes)'!$A$7:$B$188,2,FALSE)","v":{"$error":"#N/A"}},null,null,null,null,null,{"$f":"VLOOKUP(G5671:G15669,'Location Type (FICM Codes)'!$A$7:$C$188,3,FALSE)","v":{"$error":"#N/A"}}]
[null,null,null,null,null,null,null,{"$f":"VLOOKUP($G$2:$G$50000,'Location Type (FICM Codes)'!$A$7:$B$188,2,FALSE)","v":{"$error":"#N/A"}},null,null,null,null,null,{"$f":"VLOOKUP(G5672:G15670,'Location Type (FICM Codes)'!$A$7:$C$188,3,FALSE)","v":{"$error":"#N/A"}}]
[null,null,null,null,null,null,null,{"$f":"VLOOKUP($G$2:$G$50000,'Location Type (FICM Codes)'!$A$7:$B$188,2,FALSE)","v":{"$error":"#N/A"}},null,null,null,null,null,{"$f":"VLOOKUP(G5676:G15674,'Location Type (FICM Codes)'!$A$7:$C$188,3,FALSE)","v":{"$error":"#N/A"}}]
[null,null,null,null,null,null,null,{"$f":"VLOOKUP($G$2:$G$50000,'Location Type (FICM Codes)'!$A$7:$B$188,2,FALSE)","v":{"$error":"#N/A"}},null,null,null,null,null,{"$f":"VLOOKUP(G5681:G15679,'Location Type (FICM Codes)'!$A$7:$C$188,3,FALSE)","v":{"$error":"#N/A"}}]
[null,null,null,null,null,null,null,{"$f":"VLOOKUP($G$2:$G$50000,'Location Type (FICM Codes)'!$A$7:$B$188,2,FALSE)","v":{"$error":"#N/A"}},null,null,null,null,null,{"$f":"VLOOKUP(G5686:G15684,'Location Type (FICM Codes)'!$A$7:$C$188,3,FALSE)","v":{"$error":"#N/A"}}]
[null,null,null,null,null,null,null,{"$f":"VLOOKUP($G$2:$G$50000,'Location Type (FICM Codes)'!$A$7:$B$188,2,FALSE)","v":{"$error":"#N/A"}},null,null,null,null,null,{"$f":"VLOOKUP(G5687:G15685,'Location Type (FICM Codes)'!$A$7:$C$188,3,FALSE)","v":{"$error":"#N/A"}}]
[null,null,null,null,null,null,null,{"$f":"VLOOKUP($G$2:$G$50000,'Location Type (FICM Codes)'!$A$7:$B$188,2,FALSE)","v":{"$error":"#N/A"}},null,null,null,null,null,{"$f":"VLOOKUP(G5692:G15690,'Location Type (FICM Codes)'!$A$7:$C$188,3,FALSE)","v":{"$error":"#N/A"}}]
[null,null,null,null,null,null,null,{"$f":"VLOOKUP($G$2:$G$50000,'Location Type (FICM Codes)'!$A$7:$B$188,2,FALSE)","v":{"$error":"#N/A"}},null,null,null,null,null,{"$f":"VLOOKUP(G5696:G15694,'Location Type (FICM Codes)'!$A$7:$C$188,3,FALSE)","v":{"$error":"#N/A"}}]
[null,null,null,null,null,null,null,{"$f":"VLOOKUP($G$2:$G$50000,'Location Type (FICM Codes)'!$A$7:$B$188,2,FALSE)","v":{"$error":"#N/A"}},null,null,null,null,null,{"$f":"VLOOKUP(G5701:G15699,'Location Type (FICM Codes)'!$A$7:$C$188,3,FALSE)","v":{"$error":"#N/A"}}]
[null,null,null,null,null,null,null,{"$f":"VLOOKUP($G$2:$G$50000,'Location Type (FICM Codes)'!$A$7:$B$188,2,FALSE)","v":{"$error":"#N/A"}},null,null,null,null,null,{"$f":"VLOOKUP(G5702:G15700,'Location Type (FICM Codes)'!$A$7:$C$188,3,FALSE)","v":{"$error":"#N/A"}}]
[null,null,null,null,null,null,null,{"$f":"VLOOKUP($G$2:$G$50000,'Location Type (FICM Codes)'!$A$7:$B$188,2,FALSE)","v":{"$error":"#N/A"}},null,null,null,null,null,{"$f":"VLOOKUP(G5706:G15704,'Location Type (FICM Codes)'!$A$7:$C$188,3,FALSE)","v":{"$error":"#N/A"}}]
[null,null,null,null,null,null,null,{"$f":"VLOOKUP($G$2:$G$50000,'Location Type (FICM Codes)'!$A$7:$B$188,2,FALSE)","v":{"$error":"#N/A"}},null,null,null,null,null,{"$f":"VLOOKUP(G5711:G15709,'Location Type (FICM Codes)'!$A$7:$C$188,3,FALSE)","v":{"$error":"#N/A"}}]
[null,null,null,null,null,null,null,{"$f":"VLOOKUP($G$2:$G$50000,'Location Type (FICM Codes)'!$A$7:$B$188,2,FALSE)","v":{"$error":"#N/A"}},null,null,null,null,null,{"$f":"VLOOKUP(G5716:G15714,'Location Type (FICM Codes)'!$A$7:$C$188,3,FALSE)","v":{"$error":"#N/A"}}]
[null,null,null,null,null,null,null,{"$f":"VLOOKUP($G$2:$G$50000,'Location Type (FICM Codes)'!$A$7:$B$188,2,FALSE)","v":{"$error":"#N/A"}},null,null,null,null,null,{"$f":"VLOOKUP(G5717:G15715,'Location Type (FICM Codes)'!$A$7:$C$188,3,FALSE)","v":{"$error":"#N/A"}}]
[null,null,null,null,null,null,null,{"$f":"VLOOKUP($G$2:$G$50000,'Location Type (FICM Codes)'!$A$7:$B$188,2,FALSE)","v":{"$error":"#N/A"}},null,null,null,null,null,{"$f":"VLOOKUP(G5722:G15720,'Location Type (FICM Codes)'!$A$7:$C$188,3,FALSE)","v":{"$error":"#N/A"}}]
[null,null,null,null,null,null,null,{"$f":"VLOOKUP($G$2:$G$50000,'Location Type (FICM Codes)'!$A$7:$B$188,2,FALSE)","v":{"$error":"#N/A"}},null,null,null,null,null,{"$f":"VLOOKUP(G5726:G15724,'Location Type (FICM Codes)'!$A$7:$C$188,3,FALSE)","v":{"$error":"#N/A"}}]
[null,null,null,null,null,null,null,{"$f":"VLOOKUP($G$2:$G$50000,'Location Type (FICM Codes)'!$A$7:$B$188,2,FALSE)","v":{"$error":"#N/A"}},null,null,null,null,null,{"$f":"VLOOKUP(G5731:G15729,'Location Type (FICM Codes)'!$A$7:$C$188,3,FALSE)","v":{"$error":"#N/A"}}]
[null,null,null,null,null,null,null,{"$f":"VLOOKUP($G$2:$G$50000,'Location Type (FICM Codes)'!$A$7:$B$188,2,FALSE)","v":{"$error":"#N/A"}},null,null,null,null,null,{"$f":"VLOOKUP(G5732:G15730,'Location Type (FICM Codes)'!$A$7:$C$188,3,FALSE)","v":{"$error":"#N/A"}}]
[null,null,null,null,null,null,null,{"$f":"VLOOKUP($G$2:$G$50000,'Location Type (FICM Codes)'!$A$7:$B$188,2,FALSE)","v":{"$error":"#N/A"}},null,null,null,null,null,{"$f":"VLOOKUP(G5736:G15734,'Location Type (FICM Codes)'!$A$7:$C$188,3,FALSE)","v":{"$error":"#N/A"}}]
[null,null,null,null,null,null,null,{"$f":"VLOOKUP($G$2:$G$50000,'Location Type (FICM Codes)'!$A$7:$B$188,2,FALSE)","v":{"$error":"#N/A"}},null,null,null,null,null,{"$f":"VLOOKUP(G5741:G15739,'Location Type (FICM Codes)'!$A$7:$C$188,3,FALSE)","v":{"$error":"#N/A"}}]
[null,null,null,null,null,null,null,{"$f":"VLOOKUP($G$2:$G$50000,'Location Type (FICM Codes)'!$A$7:$B$188,2,FALSE)","v":{"$error":"#N/A"}},null,null,null,null,null,{"$f":"VLOOKUP(G5746:G15744,'Location Type (FICM Codes)'!$A$7:$C$188,3,FALSE)","v":{"$error":"#N/A"}}]
[null,null,null,null,null,null,null,{"$f":"VLOOKUP($G$2:$G$50000,'Location Type (FICM Codes)'!$A$7:$B$188,2,FALSE)","v":{"$error":"#N/A"}},null,null,null,null,null,{"$f":"VLOOKUP(G5747:G15745,'Location Type (FICM Codes)'!$A$7:$C$188,3,FALSE)","v":{"$error":"#N/A"}}]
[null,null,null,null,null,null,null,{"$f":"VLOOKUP($G$2:$G$50000,'Location Type (FICM Codes)'!$A$7:$B$188,2,FALSE)","v":{"$error":"#N/A"}},null,null,null,null,null,{"$f":"VLOOKUP(G5752:G15750,'Location Type (FICM Codes)'!$A$7:$C$188,3,FALSE)","v":{"$error":"#N/A"}}]
[null,null,null,null,null,null,null,{"$f":"VLOOKUP($G$2:$G$50000,'Location Type (FICM Codes)'!$A$7:$B$188,2,FALSE)","v":{"$error":"#N/A"}},null,null,null,null,null,{"$f":"VLOOKUP(G5756:G15754,'Location Type (FICM Codes)'!$A$7:$C$188,3,FALSE)","v":{"$error":"#N/A"}}]
[null,null,null,null,null,null,null,{"$f":"VLOOKUP($G$2:$G$50000,'Location Type (FICM Codes)'!$A$7:$B$188,2,FALSE)","v":{"$error":"#N/A"}},null,null,null,null,null,{"$f":"VLOOKUP(G5761:G15759,'Location Type (FICM Codes)'!$A$7:$C$188,3,FALSE)","v":{"$error":"#N/A"}}]
[null,null,null,null,null,null,null,{"$f":"VLOOKUP($G$2:$G$50000,'Location Type (FICM Codes)'!$A$7:$B$188,2,FALSE)","v":{"$error":"#N/A"}},null,null,null,null,null,{"$f":"VLOOKUP(G5762:G15760,'Location Type (FICM Codes)'!$A$7:$C$188,3,FALSE)","v":{"$error":"#N/A"}}]
[null,null,null,null,null,null,null,{"$f":"VLOOKUP($G$2:$G$50000,'Location Type (FICM Codes)'!$A$7:$B$188,2,FALSE)","v":{"$error":"#N/A"}},null,null,null,null,null,{"$f":"VLOOKUP(G5766:G15764,'Location Type (FICM Codes)'!$A$7:$C$188,3,FALSE)","v":{"$error":"#N/A"}}]
[null,null,null,null,null,null,null,{"$f":"VLOOKUP($G$2:$G$50000,'Location Type (FICM Codes)'!$A$7:$B$188,2,FALSE)","v":{"$error":"#N/A"}},null,null,null,null,null,{"$f":"VLOOKUP(G5771:G15769,'Location Type (FICM Codes)'!$A$7:$C$188,3,FALSE)","v":{"$error":"#N/A"}}]
[null,null,null,null,null,null,null,{"$f":"VLOOKUP($G$2:$G$50000,'Location Type (FICM Codes)'!$A$7:$B$188,2,FALSE)","v":{"$error":"#N/A"}},null,null,null,null,null,{"$f":"VLOOKUP(G5776:G15774,'Location Type (FICM Codes)'!$A$7:$C$188,3,FALSE)","v":{"$error":"#N/A"}}]
[null,null,null,null,null,null,null,{"$f":"VLOOKUP($G$2:$G$50000,'Location Type (FICM Codes)'!$A$7:$B$188,2,FALSE)","v":{"$error":"#N/A"}},null,null,null,null,null,{"$f":"VLOOKUP(G5777:G15775,'Location Type (FICM Codes)'!$A$7:$C$188,3,FALSE)","v":{"$error":"#N/A"}}]
[null,null,null,null,null,null,null,{"$f":"VLOOKUP($G$2:$G$50000,'Location Type (FICM Codes)'!$A$7:$B$188,2,FALSE)","v":{"$error":"#N/A"}},null,null,null,null,null,{"$f":"VLOOKUP(G5783:G15781,'Location Type (FICM Codes)'!$A$7:$C$188,3,FALSE)","v":{"$error":"#N/A"}}]
[null,null,null,null,null,null,null,{"$f":"VLOOKUP($G$2:$G$50000,'Location Type (FICM Codes)'!$A$7:$B$188,2,FALSE)","v":{"$error":"#N/A"}},null,null,null,null,null,{"$f":"VLOOKUP(G5786:G15784,'Location Type (FICM Codes)'!$A$7:$C$188,3,FALSE)","v":{"$error":"#N/A"}}]
[null,null,null,null,null,null,null,{"$f":"VLOOKUP($G$2:$G$50000,'Location Type (FICM Codes)'!$A$7:$B$188,2,FALSE)","v":{"$error":"#N/A"}},null,null,null,null,null,{"$f":"VLOOKUP(G5791:G15789,'Location Type (FICM Codes)'!$A$7:$C$188,3,FALSE)","v":{"$error":"#N/A"}}]
[null,null,null,null,null,null,null,{"$f":"VLOOKUP($G$2:$G$50000,'Location Type (FICM Codes)'!$A$7:$B$188,2,FALSE)","v":{"$error":"#N/A"}},null,null,null,null,null,{"$f":"VLOOKUP(G5792:G15790,'Location Type (FICM Codes)'!$A$7:$C$188,3,FALSE)","v":{"$error":"#N/A"}}]
[null,null,null,null,null,null,null,{"$f":"VLOOKUP($G$2:$G$50000,'Location Type (FICM Codes)'!$A$7:$B$188,2,FALSE)","v":{"$error":"#N/A"}},null,null,null,null,null,{"$f":"VLOOKUP(G5796:G15794,'Location Type (FICM Codes)'!$A$7:$C$188,3,FALSE)","v":{"$error":"#N/A"}}]
[null,null,null,null,null,null,null,{"$f":"VLOOKUP($G$2:$G$50000,'Location Type (FICM Codes)'!$A$7:$B$188,2,FALSE)","v":{"$error":"#N/A"}},null,null,null,null,null,{"$f":"VLOOKUP(G5801:G15799,'Location Type (FICM Codes)'!$A$7:$C$188,3,FALSE)","v":{"$error":"#N/A"}}]
[null,null,null,null,null,null,null,{"$f":"VLOOKUP($G$2:$G$50000,'Location Type (FICM Codes)'!$A$7:$B$188,2,FALSE)","v":{"$error":"#N/A"}},null,null,null,null,null,{"$f":"VLOOKUP(G5806:G15804,'Location Type (FICM Codes)'!$A$7:$C$188,3,FALSE)","v":{"$error":"#N/A"}}]
[null,null,null,null,null,null,null,{"$f":"VLOOKUP($G$2:$G$50000,'Location Type (FICM Codes)'!$A$7:$B$188,2,FALSE)","v":{"$error":"#N/A"}},null,null,null,null,null,{"$f":"VLOOKUP(G5807:G15805,'Location Type (FICM Codes)'!$A$7:$C$188,3,FALSE)","v":{"$error":"#N/A"}}]
[null,null,null,null,null,null,null,{"$f":"VLOOKUP($G$2:$G$50000,'Location Type (FICM Codes)'!$A$7:$B$188,2,FALSE)","v":{"$error":"#N/A"}},null,null,null,null,null,{"$f":"VLOOKUP(G5813:G15811,'Location Type (FICM Codes)'!$A$7:$C$188,3,FALSE)","v":{"$error":"#N/A"}}]
[null,null,null,null,null,null,null,{"$f":"VLOOKUP($G$2:$G$50000,'Location Type (FICM Codes)'!$A$7:$B$188,2,FALSE)","v":{"$error":"#N/A"}},null,null,null,null,null,{"$f":"VLOOKUP(G5816:G15814,'Location Type (FICM Codes)'!$A$7:$C$188,3,FALSE)","v":{"$error":"#N/A"}}]
[null,null,null,null,null,null,null,{"$f":"VLOOKUP($G$2:$G$50000,'Location Type (FICM Codes)'!$A$7:$B$188,2,FALSE)","v":{"$error":"#N/A"}},null,null,null,null,null,{"$f":"VLOOKUP(G5821:G15819,'Location Type (FICM Codes)'!$A$7:$C$188,3,FALSE)","v":{"$error":"#N/A"}}]
[null,null,null,null,null,null,null,{"$f":"VLOOKUP($G$2:$G$50000,'Location Type (FICM Codes)'!$A$7:$B$188,2,FALSE)","v":{"$error":"#N/A"}},null,null,null,null,null,{"$f":"VLOOKUP(G5822:G15820,'Location Type (FICM Codes)'!$A$7:$C$188,3,FALSE)","v":{"$error":"#N/A"}}]
[null,null,null,null,null,null,null,{"$f":"VLOOKUP($G$2:$G$50000,'Location Type (FICM Codes)'!$A$7:$B$188,2,FALSE)","v":{"$error":"#N/A"}},null,null,null,null,null,{"$f":"VLOOKUP(G5826:G15824,'Location Type (FICM Codes)'!$A$7:$C$188,3,FALSE)","v":{"$error":"#N/A"}}]
[null,null,null,null,null,null,null,{"$f":"VLOOKUP($G$2:$G$50000,'Location Type (FICM Codes)'!$A$7:$B$188,2,FALSE)","v":{"$error":"#N/A"}},null,null,null,null,null,{"$f":"VLOOKUP(G5831:G15829,'Location Type (FICM Codes)'!$A$7:$C$188,3,FALSE)","v":{"$error":"#N/A"}}]
[null,null,null,null,null,null,null,{"$f":"VLOOKUP($G$2:$G$50000,'Location Type (FICM Codes)'!$A$7:$B$188,2,FALSE)","v":{"$error":"#N/A"}},null,null,null,null,null,{"$f":"VLOOKUP(G5836:G15834,'Location Type (FICM Codes)'!$A$7:$C$188,3,FALSE)","v":{"$error":"#N/A"}}]
[null,null,null,null,null,null,null,{"$f":"VLOOKUP($G$2:$G$50000,'Location Type (FICM Codes)'!$A$7:$B$188,2,FALSE)","v":{"$error":"#N/A"}},null,null,null,null,null,{"$f":"VLOOKUP(G5837:G15835,'Location Type (FICM Codes)'!$A$7:$C$188,3,FALSE)","v":{"$error":"#N/A"}}]
[null,null,null,null,null,null,null,{"$f":"VLOOKUP($G$2:$G$50000,'Location Type (FICM Codes)'!$A$7:$B$188,2,FALSE)","v":{"$error":"#N/A"}},null,null,null,null,null,{"$f":"VLOOKUP(G5843:G15841,'Location Type (FICM Codes)'!$A$7:$C$188,3,FALSE)","v":{"$error":"#N/A"}}]
[null,null,null,null,null,null,null,{"$f":"VLOOKUP($G$2:$G$50000,'Location Type (FICM Codes)'!$A$7:$B$188,2,FALSE)","v":{"$error":"#N/A"}},null,null,null,null,null,{"$f":"VLOOKUP(G5846:G15844,'Location Type (FICM Codes)'!$A$7:$C$188,3,FALSE)","v":{"$error":"#N/A"}}]
[null,null,null,null,null,null,null,{"$f":"VLOOKUP($G$2:$G$50000,'Location Type (FICM Codes)'!$A$7:$B$188,2,FALSE)","v":{"$error":"#N/A"}},null,null,null,null,null,{"$f":"VLOOKUP(G5851:G15849,'Location Type (FICM Codes)'!$A$7:$C$188,3,FALSE)","v":{"$error":"#N/A"}}]
[null,null,null,null,null,null,null,{"$f":"VLOOKUP($G$2:$G$50000,'Location Type (FICM Codes)'!$A$7:$B$188,2,FALSE)","v":{"$error":"#N/A"}},null,null,null,null,null,{"$f":"VLOOKUP(G5852:G15850,'Location Type (FICM Codes)'!$A$7:$C$188,3,FALSE)","v":{"$error":"#N/A"}}]
[null,null,null,null,null,null,null,{"$f":"VLOOKUP($G$2:$G$50000,'Location Type (FICM Codes)'!$A$7:$B$188,2,FALSE)","v":{"$error":"#N/A"}},null,null,null,null,null,{"$f":"VLOOKUP(G5856:G15854,'Location Type (FICM Codes)'!$A$7:$C$188,3,FALSE)","v":{"$error":"#N/A"}}]
[null,null,null,null,null,null,null,{"$f":"VLOOKUP($G$2:$G$50000,'Location Type (FICM Codes)'!$A$7:$B$188,2,FALSE)","v":{"$error":"#N/A"}},null,null,null,null,null,{"$f":"VLOOKUP(G5861:G15859,'Location Type (FICM Codes)'!$A$7:$C$188,3,FALSE)","v":{"$error":"#N/A"}}]
[null,null,null,null,null,null,null,{"$f":"VLOOKUP($G$2:$G$50000,'Location Type (FICM Codes)'!$A$7:$B$188,2,FALSE)","v":{"$error":"#N/A"}},null,null,null,null,null,{"$f":"VLOOKUP(G5866:G15864,'Location Type (FICM Codes)'!$A$7:$C$188,3,FALSE)","v":{"$error":"#N/A"}}]
[null,null,null,null,null,null,null,{"$f":"VLOOKUP($G$2:$G$50000,'Location Type (FICM Codes)'!$A$7:$B$188,2,FALSE)","v":{"$error":"#N/A"}},null,null,null,null,null,{"$f":"VLOOKUP(G5867:G15865,'Location Type (FICM Codes)'!$A$7:$C$188,3,FALSE)","v":{"$error":"#N/A"}}]
[null,null,null,null,null,null,null,{"$f":"VLOOKUP($G$2:$G$50000,'Location Type (FICM Codes)'!$A$7:$B$188,2,FALSE)","v":{"$error":"#N/A"}},null,null,null,null,null,{"$f":"VLOOKUP(G5873:G15871,'Location Type (FICM Codes)'!$A$7:$C$188,3,FALSE)","v":{"$error":"#N/A"}}]
[null,null,null,null,null,null,null,{"$f":"VLOOKUP($G$2:$G$50000,'Location Type (FICM Codes)'!$A$7:$B$188,2,FALSE)","v":{"$error":"#N/A"}},null,null,null,null,null,{"$f":"VLOOKUP(G5876:G15874,'Location Type (FICM Codes)'!$A$7:$C$188,3,FALSE)","v":{"$error":"#N/A"}}]
[null,null,null,null,null,null,null,{"$f":"VLOOKUP($G$2:$G$50000,'Location Type (FICM Codes)'!$A$7:$B$188,2,FALSE)","v":{"$error":"#N/A"}},null,null,null,null,null,{"$f":"VLOOKUP(G5881:G15879,'Location Type (FICM Codes)'!$A$7:$C$188,3,FALSE)","v":{"$error":"#N/A"}}]
[null,null,null,null,null,null,null,{"$f":"VLOOKUP($G$2:$G$50000,'Location Type (FICM Codes)'!$A$7:$B$188,2,FALSE)","v":{"$error":"#N/A"}},null,null,null,null,null,{"$f":"VLOOKUP(G5882:G15880,'Location Type (FICM Codes)'!$A$7:$C$188,3,FALSE)","v":{"$error":"#N/A"}}]
[null,null,null,null,null,null,null,{"$f":"VLOOKUP($G$2:$G$50000,'Location Type (FICM Codes)'!$A$7:$B$188,2,FALSE)","v":{"$error":"#N/A"}},null,null,null,null,null,{"$f":"VLOOKUP(G5886:G15884,'Location Type (FICM Codes)'!$A$7:$C$188,3,FALSE)","v":{"$error":"#N/A"}}]
[null,null,null,null,null,null,null,{"$f":"VLOOKUP($G$2:$G$50000,'Location Type (FICM Codes)'!$A$7:$B$188,2,FALSE)","v":{"$error":"#N/A"}},null,null,null,null,null,{"$f":"VLOOKUP(G5891:G15889,'Location Type (FICM Codes)'!$A$7:$C$188,3,FALSE)","v":{"$error":"#N/A"}}]
[null,null,null,null,null,null,null,{"$f":"VLOOKUP($G$2:$G$50000,'Location Type (FICM Codes)'!$A$7:$B$188,2,FALSE)","v":{"$error":"#N/A"}},null,null,null,null,null,{"$f":"VLOOKUP(G5896:G15894,'Location Type (FICM Codes)'!$A$7:$C$188,3,FALSE)","v":{"$error":"#N/A"}}]
[null,null,null,null,null,null,null,{"$f":"VLOOKUP($G$2:$G$50000,'Location Type (FICM Codes)'!$A$7:$B$188,2,FALSE)","v":{"$error":"#N/A"}},null,null,null,null,null,{"$f":"VLOOKUP(G5897:G15895,'Location Type (FICM Codes)'!$A$7:$C$188,3,FALSE)","v":{"$error":"#N/A"}}]
[null,null,null,null,null,null,null,{"$f":"VLOOKUP($G$2:$G$50000,'Location Type (FICM Codes)'!$A$7:$B$188,2,FALSE)","v":{"$error":"#N/A"}},null,null,null,null,null,{"$f":"VLOOKUP(G5903:G15901,'Location Type (FICM Codes)'!$A$7:$C$188,3,FALSE)","v":{"$error":"#N/A"}}]
[null,null,null,null,null,null,null,{"$f":"VLOOKUP($G$2:$G$50000,'Location Type (FICM Codes)'!$A$7:$B$188,2,FALSE)","v":{"$error":"#N/A"}},null,null,null,null,null,{"$f":"VLOOKUP(G5906:G15904,'Location Type (FICM Codes)'!$A$7:$C$188,3,FALSE)","v":{"$error":"#N/A"}}]
[null,null,null,null,null,null,null,{"$f":"VLOOKUP($G$2:$G$50000,'Location Type (FICM Codes)'!$A$7:$B$188,2,FALSE)","v":{"$error":"#N/A"}},null,null,null,null,null,{"$f":"VLOOKUP(G5911:G15909,'Location Type (FICM Codes)'!$A$7:$C$188,3,FALSE)","v":{"$error":"#N/A"}}]
[null,null,null,null,null,null,null,{"$f":"VLOOKUP($G$2:$G$50000,'Location Type (FICM Codes)'!$A$7:$B$188,2,FALSE)","v":{"$error":"#N/A"}},null,null,null,null,null,{"$f":"VLOOKUP(G5912:G15910,'Location Type (FICM Codes)'!$A$7:$C$188,3,FALSE)","v":{"$error":"#N/A"}}]
[null,null,null,null,null,null,null,{"$f":"VLOOKUP($G$2:$G$50000,'Location Type (FICM Codes)'!$A$7:$B$188,2,FALSE)","v":{"$error":"#N/A"}},null,null,null,null,null,{"$f":"VLOOKUP(G5916:G15914,'Location Type (FICM Codes)'!$A$7:$C$188,3,FALSE)","v":{"$error":"#N/A"}}]
[null,null,null,null,null,null,null,{"$f":"VLOOKUP($G$2:$G$50000,'Location Type (FICM Codes)'!$A$7:$B$188,2,FALSE)","v":{"$error":"#N/A"}},null,null,null,null,null,{"$f":"VLOOKUP(G5921:G15919,'Location Type (FICM Codes)'!$A$7:$C$188,3,FALSE)","v":{"$error":"#N/A"}}]
[null,null,null,null,null,null,null,{"$f":"VLOOKUP($G$2:$G$50000,'Location Type (FICM Codes)'!$A$7:$B$188,2,FALSE)","v":{"$error":"#N/A"}},null,null,null,null,null,{"$f":"VLOOKUP(G5926:G15924,'Location Type (FICM Codes)'!$A$7:$C$188,3,FALSE)","v":{"$error":"#N/A"}}]
[null,null,null,null,null,null,null,{"$f":"VLOOKUP($G$2:$G$50000,'Location Type (FICM Codes)'!$A$7:$B$188,2,FALSE)","v":{"$error":"#N/A"}},null,null,null,null,null,{"$f":"VLOOKUP(G5927:G15925,'Location Type (FICM Codes)'!$A$7:$C$188,3,FALSE)","v":{"$error":"#N/A"}}]
[null,null,null,null,null,null,null,{"$f":"VLOOKUP($G$2:$G$50000,'Location Type (FICM Codes)'!$A$7:$B$188,2,FALSE)","v":{"$error":"#N/A"}},null,null,null,null,null,{"$f":"VLOOKUP(G5933:G15931,'Location Type (FICM Codes)'!$A$7:$C$188,3,FALSE)","v":{"$error":"#N/A"}}]
[null,null,null,null,null,null,null,{"$f":"VLOOKUP($G$2:$G$50000,'Location Type (FICM Codes)'!$A$7:$B$188,2,FALSE)","v":{"$error":"#N/A"}},null,null,null,null,null,{"$f":"VLOOKUP(G5936:G15934,'Location Type (FICM Codes)'!$A$7:$C$188,3,FALSE)","v":{"$error":"#N/A"}}]
[null,null,null,null,null,null,null,{"$f":"VLOOKUP($G$2:$G$50000,'Location Type (FICM Codes)'!$A$7:$B$188,2,FALSE)","v":{"$error":"#N/A"}},null,null,null,null,null,{"$f":"VLOOKUP(G5941:G15939,'Location Type (FICM Codes)'!$A$7:$C$188,3,FALSE)","v":{"$error":"#N/A"}}]
[null,null,null,null,null,null,null,{"$f":"VLOOKUP($G$2:$G$50000,'Location Type (FICM Codes)'!$A$7:$B$188,2,FALSE)","v":{"$error":"#N/A"}},null,null,null,null,null,{"$f":"VLOOKUP(G5942:G15940,'Location Type (FICM Codes)'!$A$7:$C$188,3,FALSE)","v":{"$error":"#N/A"}}]
[null,null,null,null,null,null,null,{"$f":"VLOOKUP($G$2:$G$50000,'Location Type (FICM Codes)'!$A$7:$B$188,2,FALSE)","v":{"$error":"#N/A"}},null,null,null,null,null,{"$f":"VLOOKUP(G5946:G15944,'Location Type (FICM Codes)'!$A$7:$C$188,3,FALSE)","v":{"$error":"#N/A"}}]
[null,null,null,null,null,null,null,{"$f":"VLOOKUP($G$2:$G$50000,'Location Type (FICM Codes)'!$A$7:$B$188,2,FALSE)","v":{"$error":"#N/A"}},null,null,null,null,null,{"$f":"VLOOKUP(G5951:G15949,'Location Type (FICM Codes)'!$A$7:$C$188,3,FALSE)","v":{"$error":"#N/A"}}]
[null,null,null,null,null,null,null,{"$f":"VLOOKUP($G$2:$G$50000,'Location Type (FICM Codes)'!$A$7:$B$188,2,FALSE)","v":{"$error":"#N/A"}},null,null,null,null,null,{"$f":"VLOOKUP(G5956:G15954,'Location Type (FICM Codes)'!$A$7:$C$188,3,FALSE)","v":{"$error":"#N/A"}}]
[null,null,null,null,null,null,null,{"$f":"VLOOKUP($G$2:$G$50000,'Location Type (FICM Codes)'!$A$7:$B$188,2,FALSE)","v":{"$error":"#N/A"}},null,null,null,null,null,{"$f":"VLOOKUP(G5957:G15955,'Location Type (FICM Codes)'!$A$7:$C$188,3,FALSE)","v":{"$error":"#N/A"}}]
[null,null,null,null,null,null,null,{"$f":"VLOOKUP($G$2:$G$50000,'Location Type (FICM Codes)'!$A$7:$B$188,2,FALSE)","v":{"$error":"#N/A"}},null,null,null,null,null,{"$f":"VLOOKUP(G5963:G15961,'Location Type (FICM Codes)'!$A$7:$C$188,3,FALSE)","v":{"$error":"#N/A"}}]
[null,null,null,null,null,null,null,{"$f":"VLOOKUP($G$2:$G$50000,'Location Type (FICM Codes)'!$A$7:$B$188,2,FALSE)","v":{"$error":"#N/A"}},null,null,null,null,null,{"$f":"VLOOKUP(G5966:G15964,'Location Type (FICM Codes)'!$A$7:$C$188,3,FALSE)","v":{"$error":"#N/A"}}]
[null,null,null,null,null,null,null,{"$f":"VLOOKUP($G$2:$G$50000,'Location Type (FICM Codes)'!$A$7:$B$188,2,FALSE)","v":{"$error":"#N/A"}},null,null,null,null,null,{"$f":"VLOOKUP(G5971:G15969,'Location Type (FICM Codes)'!$A$7:$C$188,3,FALSE)","v":{"$error":"#N/A"}}]
[null,null,null,null,null,null,null,{"$f":"VLOOKUP($G$2:$G$50000,'Location Type (FICM Codes)'!$A$7:$B$188,2,FALSE)","v":{"$error":"#N/A"}},null,null,null,null,null,{"$f":"VLOOKUP(G5972:G15970,'Location Type (FICM Codes)'!$A$7:$C$188,3,FALSE)","v":{"$error":"#N/A"}}]
[null,null,null,null,null,null,null,{"$f":"VLOOKUP($G$2:$G$50000,'Location Type (FICM Codes)'!$A$7:$B$188,2,FALSE)","v":{"$error":"#N/A"}},null,null,null,null,null,{"$f":"VLOOKUP(G5976:G15974,'Location Type (FICM Codes)'!$A$7:$C$188,3,FALSE)","v":{"$error":"#N/A"}}]
[null,null,null,null,null,null,null,{"$f":"VLOOKUP($G$2:$G$50000,'Location Type (FICM Codes)'!$A$7:$B$188,2,FALSE)","v":{"$error":"#N/A"}},null,null,null,null,null,{"$f":"VLOOKUP(G5981:G15979,'Location Type (FICM Codes)'!$A$7:$C$188,3,FALSE)","v":{"$error":"#N/A"}}]
[null,null,null,null,null,null,null,{"$f":"VLOOKUP($G$2:$G$50000,'Location Type (FICM Codes)'!$A$7:$B$188,2,FALSE)","v":{"$error":"#N/A"}},null,null,null,null,null,{"$f":"VLOOKUP(G5986:G15984,'Location Type (FICM Codes)'!$A$7:$C$188,3,FALSE)","v":{"$error":"#N/A"}}]
[null,null,null,null,null,null,null,{"$f":"VLOOKUP($G$2:$G$50000,'Location Type (FICM Codes)'!$A$7:$B$188,2,FALSE)","v":{"$error":"#N/A"}},null,null,null,null,null,{"$f":"VLOOKUP(G5987:G15985,'Location Type (FICM Codes)'!$A$7:$C$188,3,FALSE)","v":{"$error":"#N/A"}}]
[null,null,null,null,null,null,null,{"$f":"VLOOKUP($G$2:$G$50000,'Location Type (FICM Codes)'!$A$7:$B$188,2,FALSE)","v":{"$error":"#N/A"}},null,null,null,null,null,{"$f":"VLOOKUP(G5993:G15991,'Location Type (FICM Codes)'!$A$7:$C$188,3,FALSE)","v":{"$error":"#N/A"}}]
[null,null,null,null,null,null,null,{"$f":"VLOOKUP($G$2:$G$50000,'Location Type (FICM Codes)'!$A$7:$B$188,2,FALSE)","v":{"$error":"#N/A"}},null,null,null,null,null,{"$f":"VLOOKUP(G5996:G15994,'Location Type (FICM Codes)'!$A$7:$C$188,3,FALSE)","v":{"$error":"#N/A"}}]
[null,null,null,null,null,null,null,{"$f":"VLOOKUP($G$2:$G$50000,'Location Type (FICM Codes)'!$A$7:$B$188,2,FALSE)","v":{"$error":"#N/A"}},null,null,null,null,null,{"$f":"VLOOKUP(G6001:G15999,'Location Type (FICM Codes)'!$A$7:$C$188,3,FALSE)","v":{"$error":"#N/A"}}]
[null,null,null,null,null,null,null,{"$f":"VLOOKUP($G$2:$G$50000,'Location Type (FICM Codes)'!$A$7:$B$188,2,FALSE)","v":{"$error":"#N/A"}},null,null,null,null,null,{"$f":"VLOOKUP(G6002:G16000,'Location Type (FICM Codes)'!$A$7:$C$188,3,FALSE)","v":{"$error":"#N/A"}}]
[null,null,null,null,null,null,null,{"$f":"VLOOKUP($G$2:$G$50000,'Location Type (FICM Codes)'!$A$7:$B$188,2,FALSE)","v":{"$error":"#N/A"}},null,null,null,null,null,{"$f":"VLOOKUP(G6006:G16004,'Location Type (FICM Codes)'!$A$7:$C$188,3,FALSE)","v":{"$error":"#N/A"}}]
[null,null,null,null,null,null,null,{"$f":"VLOOKUP($G$2:$G$50000,'Location Type (FICM Codes)'!$A$7:$B$188,2,FALSE)","v":{"$error":"#N/A"}},null,null,null,null,null,{"$f":"VLOOKUP(G6011:G16009,'Location Type (FICM Codes)'!$A$7:$C$188,3,FALSE)","v":{"$error":"#N/A"}}]
[null,null,null,null,null,null,null,{"$f":"VLOOKUP($G$2:$G$50000,'Location Type (FICM Codes)'!$A$7:$B$188,2,FALSE)","v":{"$error":"#N/A"}},null,null,null,null,null,{"$f":"VLOOKUP(G6016:G16014,'Location Type (FICM Codes)'!$A$7:$C$188,3,FALSE)","v":{"$error":"#N/A"}}]
[null,null,null,null,null,null,null,{"$f":"VLOOKUP($G$2:$G$50000,'Location Type (FICM Codes)'!$A$7:$B$188,2,FALSE)","v":{"$error":"#N/A"}},null,null,null,null,null,{"$f":"VLOOKUP(G6017:G16015,'Location Type (FICM Codes)'!$A$7:$C$188,3,FALSE)","v":{"$error":"#N/A"}}]
[null,null,null,null,null,null,null,{"$f":"VLOOKUP($G$2:$G$50000,'Location Type (FICM Codes)'!$A$7:$B$188,2,FALSE)","v":{"$error":"#N/A"}},null,null,null,null,null,{"$f":"VLOOKUP(G6023:G16021,'Location Type (FICM Codes)'!$A$7:$C$188,3,FALSE)","v":{"$error":"#N/A"}}]
[null,null,null,null,null,null,null,{"$f":"VLOOKUP($G$2:$G$50000,'Location Type (FICM Codes)'!$A$7:$B$188,2,FALSE)","v":{"$error":"#N/A"}},null,null,null,null,null,{"$f":"VLOOKUP(G6026:G16024,'Location Type (FICM Codes)'!$A$7:$C$188,3,FALSE)","v":{"$error":"#N/A"}}]
[null,null,null,null,null,null,null,{"$f":"VLOOKUP($G$2:$G$50000,'Location Type (FICM Codes)'!$A$7:$B$188,2,FALSE)","v":{"$error":"#N/A"}},null,null,null,null,null,{"$f":"VLOOKUP(G6031:G16029,'Location Type (FICM Codes)'!$A$7:$C$188,3,FALSE)","v":{"$error":"#N/A"}}]
[null,null,null,null,null,null,null,{"$f":"VLOOKUP($G$2:$G$50000,'Location Type (FICM Codes)'!$A$7:$B$188,2,FALSE)","v":{"$error":"#N/A"}},null,null,null,null,null,{"$f":"VLOOKUP(G6032:G16030,'Location Type (FICM Codes)'!$A$7:$C$188,3,FALSE)","v":{"$error":"#N/A"}}]
[null,null,null,null,null,null,null,{"$f":"VLOOKUP($G$2:$G$50000,'Location Type (FICM Codes)'!$A$7:$B$188,2,FALSE)","v":{"$error":"#N/A"}},null,null,null,null,null,{"$f":"VLOOKUP(G6036:G16034,'Location Type (FICM Codes)'!$A$7:$C$188,3,FALSE)","v":{"$error":"#N/A"}}]
[null,null,null,null,null,null,null,{"$f":"VLOOKUP($G$2:$G$50000,'Location Type (FICM Codes)'!$A$7:$B$188,2,FALSE)","v":{"$error":"#N/A"}},null,null,null,null,null,{"$f":"VLOOKUP(G6041:G16039,'Location Type (FICM Codes)'!$A$7:$C$188,3,FALSE)","v":{"$error":"#N/A"}}]
[null,null,null,null,null,null,null,{"$f":"VLOOKUP($G$2:$G$50000,'Location Type (FICM Codes)'!$A$7:$B$188,2,FALSE)","v":{"$error":"#N/A"}},null,null,null,null,null,{"$f":"VLOOKUP(G6046:G16044,'Location Type (FICM Codes)'!$A$7:$C$188,3,FALSE)","v":{"$error":"#N/A"}}]
[null,null,null,null,null,null,null,{"$f":"VLOOKUP($G$2:$G$50000,'Location Type (FICM Codes)'!$A$7:$B$188,2,FALSE)","v":{"$error":"#N/A"}},null,null,null,null,null,{"$f":"VLOOKUP(G6047:G16045,'Location Type (FICM Codes)'!$A$7:$C$188,3,FALSE)","v":{"$error":"#N/A"}}]
[null,null,null,null,null,null,null,{"$f":"VLOOKUP($G$2:$G$50000,'Location Type (FICM Codes)'!$A$7:$B$188,2,FALSE)","v":{"$error":"#N/A"}},null,null,null,null,null,{"$f":"VLOOKUP(G6053:G16051,'Location Type (FICM Codes)'!$A$7:$C$188,3,FALSE)","v":{"$error":"#N/A"}}]
[null,null,null,null,null,null,null,{"$f":"VLOOKUP($G$2:$G$50000,'Location Type (FICM Codes)'!$A$7:$B$188,2,FALSE)","v":{"$error":"#N/A"}},null,null,null,null,null,{"$f":"VLOOKUP(G6056:G16054,'Location Type (FICM Codes)'!$A$7:$C$188,3,FALSE)","v":{"$error":"#N/A"}}]
[null,null,null,null,null,null,null,{"$f":"VLOOKUP($G$2:$G$50000,'Location Type (FICM Codes)'!$A$7:$B$188,2,FALSE)","v":{"$error":"#N/A"}},null,null,null,null,null,{"$f":"VLOOKUP(G6061:G16059,'Location Type (FICM Codes)'!$A$7:$C$188,3,FALSE)","v":{"$error":"#N/A"}}]
[null,null,null,null,null,null,null,{"$f":"VLOOKUP($G$2:$G$50000,'Location Type (FICM Codes)'!$A$7:$B$188,2,FALSE)","v":{"$error":"#N/A"}},null,null,null,null,null,{"$f":"VLOOKUP(G6062:G16060,'Location Type (FICM Codes)'!$A$7:$C$188,3,FALSE)","v":{"$error":"#N/A"}}]
[null,null,null,null,null,null,null,{"$f":"VLOOKUP($G$2:$G$50000,'Location Type (FICM Codes)'!$A$7:$B$188,2,FALSE)","v":{"$error":"#N/A"}},null,null,null,null,null,{"$f":"VLOOKUP(G6067:G16065,'Location Type (FICM Codes)'!$A$7:$C$188,3,FALSE)","v":{"$error":"#N/A"}}]
[null,null,null,null,null,null,null,{"$f":"VLOOKUP($G$2:$G$50000,'Location Type (FICM Codes)'!$A$7:$B$188,2,FALSE)","v":{"$error":"#N/A"}},null,null,null,null,null,{"$f":"VLOOKUP(G6071:G16069,'Location Type (FICM Codes)'!$A$7:$C$188,3,FALSE)","v":{"$error":"#N/A"}}]
[null,null,null,null,null,null,null,{"$f":"VLOOKUP($G$2:$G$50000,'Location Type (FICM Codes)'!$A$7:$B$188,2,FALSE)","v":{"$error":"#N/A"}},null,null,null,null,null,{"$f":"VLOOKUP(G6076:G16074,'Location Type (FICM Codes)'!$A$7:$C$188,3,FALSE)","v":{"$error":"#N/A"}}]
[null,null,null,null,null,null,null,{"$f":"VLOOKUP($G$2:$G$50000,'Location Type (FICM Codes)'!$A$7:$B$188,2,FALSE)","v":{"$error":"#N/A"}},null,null,null,null,null,{"$f":"VLOOKUP(G6077:G16075,'Location Type (FICM Codes)'!$A$7:$C$188,3,FALSE)","v":{"$error":"#N/A"}}]
[null,null,null,null,null,null,null,{"$f":"VLOOKUP($G$2:$G$50000,'Location Type (FICM Codes)'!$A$7:$B$188,2,FALSE)","v":{"$error":"#N/A"}},null,null,null,null,null,{"$f":"VLOOKUP(G6083:G16081,'Location Type (FICM Codes)'!$A$7:$C$188,3,FALSE)","v":{"$error":"#N/A"}}]
[null,null,null,null,null,null,null,{"$f":"VLOOKUP($G$2:$G$50000,'Location Type (FICM Codes)'!$A$7:$B$188,2,FALSE)","v":{"$error":"#N/A"}},null,null,null,null,null,{"$f":"VLOOKUP(G6086:G16084,'Location Type (FICM Codes)'!$A$7:$C$188,3,FALSE)","v":{"$error":"#N/A"}}]
[null,null,null,null,null,null,null,{"$f":"VLOOKUP($G$2:$G$50000,'Location Type (FICM Codes)'!$A$7:$B$188,2,FALSE)","v":{"$error":"#N/A"}},null,null,null,null,null,{"$f":"VLOOKUP(G6091:G16089,'Location Type (FICM Codes)'!$A$7:$C$188,3,FALSE)","v":{"$error":"#N/A"}}]
[null,null,null,null,null,null,null,{"$f":"VLOOKUP($G$2:$G$50000,'Location Type (FICM Codes)'!$A$7:$B$188,2,FALSE)","v":{"$error":"#N/A"}},null,null,null,null,null,{"$f":"VLOOKUP(G6092:G16090,'Location Type (FICM Codes)'!$A$7:$C$188,3,FALSE)","v":{"$error":"#N/A"}}]
[null,null,null,null,null,null,null,{"$f":"VLOOKUP($G$2:$G$50000,'Location Type (FICM Codes)'!$A$7:$B$188,2,FALSE)","v":{"$error":"#N/A"}},null,null,null,null,null,{"$f":"VLOOKUP(G6097:G16095,'Location Type (FICM Codes)'!$A$7:$C$188,3,FALSE)","v":{"$error":"#N/A"}}]
[null,null,null,null,null,null,null,{"$f":"VLOOKUP($G$2:$G$50000,'Location Type (FICM Codes)'!$A$7:$B$188,2,FALSE)","v":{"$error":"#N/A"}},null,null,null,null,null,{"$f":"VLOOKUP(G6101:G16099,'Location Type (FICM Codes)'!$A$7:$C$188,3,FALSE)","v":{"$error":"#N/A"}}]
[null,null,null,null,null,null,null,{"$f":"VLOOKUP($G$2:$G$50000,'Location Type (FICM Codes)'!$A$7:$B$188,2,FALSE)","v":{"$error":"#N/A"}},null,null,null,null,null,{"$f":"VLOOKUP(G6106:G16104,'Location Type (FICM Codes)'!$A$7:$C$188,3,FALSE)","v":{"$error":"#N/A"}}]
[null,null,null,null,null,null,null,{"$f":"VLOOKUP($G$2:$G$50000,'Location Type (FICM Codes)'!$A$7:$B$188,2,FALSE)","v":{"$error":"#N/A"}},null,null,null,null,null,{"$f":"VLOOKUP(G6107:G16105,'Location Type (FICM Codes)'!$A$7:$C$188,3,FALSE)","v":{"$error":"#N/A"}}]
[null,null,null,null,null,null,null,{"$f":"VLOOKUP($G$2:$G$50000,'Location Type (FICM Codes)'!$A$7:$B$188,2,FALSE)","v":{"$error":"#N/A"}},null,null,null,null,null,{"$f":"VLOOKUP(G6113:G16111,'Location Type (FICM Codes)'!$A$7:$C$188,3,FALSE)","v":{"$error":"#N/A"}}]
[null,null,null,null,null,null,null,{"$f":"VLOOKUP($G$2:$G$50000,'Location Type (FICM Codes)'!$A$7:$B$188,2,FALSE)","v":{"$error":"#N/A"}},null,null,null,null,null,{"$f":"VLOOKUP(G6116:G16114,'Location Type (FICM Codes)'!$A$7:$C$188,3,FALSE)","v":{"$error":"#N/A"}}]
[null,null,null,null,null,null,null,{"$f":"VLOOKUP($G$2:$G$50000,'Location Type (FICM Codes)'!$A$7:$B$188,2,FALSE)","v":{"$error":"#N/A"}},null,null,null,null,null,{"$f":"VLOOKUP(G6121:G16119,'Location Type (FICM Codes)'!$A$7:$C$188,3,FALSE)","v":{"$error":"#N/A"}}]
[null,null,null,null,null,null,null,{"$f":"VLOOKUP($G$2:$G$50000,'Location Type (FICM Codes)'!$A$7:$B$188,2,FALSE)","v":{"$error":"#N/A"}},null,null,null,null,null,{"$f":"VLOOKUP(G6122:G16120,'Location Type (FICM Codes)'!$A$7:$C$188,3,FALSE)","v":{"$error":"#N/A"}}]
[null,null,null,null,null,null,null,{"$f":"VLOOKUP($G$2:$G$50000,'Location Type (FICM Codes)'!$A$7:$B$188,2,FALSE)","v":{"$error":"#N/A"}},null,null,null,null,null,{"$f":"VLOOKUP(G6127:G16125,'Location Type (FICM Codes)'!$A$7:$C$188,3,FALSE)","v":{"$error":"#N/A"}}]
[null,null,null,null,null,null,null,{"$f":"VLOOKUP($G$2:$G$50000,'Location Type (FICM Codes)'!$A$7:$B$188,2,FALSE)","v":{"$error":"#N/A"}},null,null,null,null,null,{"$f":"VLOOKUP(G6131:G16129,'Location Type (FICM Codes)'!$A$7:$C$188,3,FALSE)","v":{"$error":"#N/A"}}]
[null,null,null,null,null,null,null,{"$f":"VLOOKUP($G$2:$G$50000,'Location Type (FICM Codes)'!$A$7:$B$188,2,FALSE)","v":{"$error":"#N/A"}},null,null,null,null,null,{"$f":"VLOOKUP(G6136:G16134,'Location Type (FICM Codes)'!$A$7:$C$188,3,FALSE)","v":{"$error":"#N/A"}}]
[null,null,null,null,null,null,null,{"$f":"VLOOKUP($G$2:$G$50000,'Location Type (FICM Codes)'!$A$7:$B$188,2,FALSE)","v":{"$error":"#N/A"}},null,null,null,null,null,{"$f":"VLOOKUP(G6137:G16135,'Location Type (FICM Codes)'!$A$7:$C$188,3,FALSE)","v":{"$error":"#N/A"}}]
[null,null,null,null,null,null,null,{"$f":"VLOOKUP($G$2:$G$50000,'Location Type (FICM Codes)'!$A$7:$B$188,2,FALSE)","v":{"$error":"#N/A"}},null,null,null,null,null,{"$f":"VLOOKUP(G6143:G16141,'Location Type (FICM Codes)'!$A$7:$C$188,3,FALSE)","v":{"$error":"#N/A"}}]
[null,null,null,null,null,null,null,{"$f":"VLOOKUP($G$2:$G$50000,'Location Type (FICM Codes)'!$A$7:$B$188,2,FALSE)","v":{"$error":"#N/A"}},null,null,null,null,null,{"$f":"VLOOKUP(G6146:G16144,'Location Type (FICM Codes)'!$A$7:$C$188,3,FALSE)","v":{"$error":"#N/A"}}]
[null,null,null,null,null,null,null,{"$f":"VLOOKUP($G$2:$G$50000,'Location Type (FICM Codes)'!$A$7:$B$188,2,FALSE)","v":{"$error":"#N/A"}},null,null,null,null,null,{"$f":"VLOOKUP(G6151:G16149,'Location Type (FICM Codes)'!$A$7:$C$188,3,FALSE)","v":{"$error":"#N/A"}}]
[null,null,null,null,null,null,null,{"$f":"VLOOKUP($G$2:$G$50000,'Location Type (FICM Codes)'!$A$7:$B$188,2,FALSE)","v":{"$error":"#N/A"}},null,null,null,null,null,{"$f":"VLOOKUP(G6152:G16150,'Location Type (FICM Codes)'!$A$7:$C$188,3,FALSE)","v":{"$error":"#N/A"}}]
[null,null,null,null,null,null,null,{"$f":"VLOOKUP($G$2:$G$50000,'Location Type (FICM Codes)'!$A$7:$B$188,2,FALSE)","v":{"$error":"#N/A"}},null,null,null,null,null,{"$f":"VLOOKUP(G6157:G16155,'Location Type (FICM Codes)'!$A$7:$C$188,3,FALSE)","v":{"$error":"#N/A"}}]
[null,null,null,null,null,null,null,{"$f":"VLOOKUP($G$2:$G$50000,'Location Type (FICM Codes)'!$A$7:$B$188,2,FALSE)","v":{"$error":"#N/A"}},null,null,null,null,null,{"$f":"VLOOKUP(G6161:G16159,'Location Type (FICM Codes)'!$A$7:$C$188,3,FALSE)","v":{"$error":"#N/A"}}]
[null,null,null,null,null,null,null,{"$f":"VLOOKUP($G$2:$G$50000,'Location Type (FICM Codes)'!$A$7:$B$188,2,FALSE)","v":{"$error":"#N/A"}},null,null,null,null,null,{"$f":"VLOOKUP(G6166:G16164,'Location Type (FICM Codes)'!$A$7:$C$188,3,FALSE)","v":{"$error":"#N/A"}}]
[null,null,null,null,null,null,null,{"$f":"VLOOKUP($G$2:$G$50000,'Location Type (FICM Codes)'!$A$7:$B$188,2,FALSE)","v":{"$error":"#N/A"}},null,null,null,null,null,{"$f":"VLOOKUP(G6167:G16165,'Location Type (FICM Codes)'!$A$7:$C$188,3,FALSE)","v":{"$error":"#N/A"}}]
[null,null,null,null,null,null,null,{"$f":"VLOOKUP($G$2:$G$50000,'Location Type (FICM Codes)'!$A$7:$B$188,2,FALSE)","v":{"$error":"#N/A"}},null,null,null,null,null,{"$f":"VLOOKUP(G6173:G16171,'Location Type (FICM Codes)'!$A$7:$C$188,3,FALSE)","v":{"$error":"#N/A"}}]
[null,null,null,null,null,null,null,{"$f":"VLOOKUP($G$2:$G$50000,'Location Type (FICM Codes)'!$A$7:$B$188,2,FALSE)","v":{"$error":"#N/A"}},null,null,null,null,null,{"$f":"VLOOKUP(G6176:G16174,'Location Type (FICM Codes)'!$A$7:$C$188,3,FALSE)","v":{"$error":"#N/A"}}]
[null,null,null,null,null,null,null,{"$f":"VLOOKUP($G$2:$G$50000,'Location Type (FICM Codes)'!$A$7:$B$188,2,FALSE)","v":{"$error":"#N/A"}},null,null,null,null,null,{"$f":"VLOOKUP(G6181:G16179,'Location Type (FICM Codes)'!$A$7:$C$188,3,FALSE)","v":{"$error":"#N/A"}}]
[null,null,null,null,null,null,null,{"$f":"VLOOKUP($G$2:$G$50000,'Location Type (FICM Codes)'!$A$7:$B$188,2,FALSE)","v":{"$error":"#N/A"}},null,null,null,null,null,{"$f":"VLOOKUP(G6182:G16180,'Location Type (FICM Codes)'!$A$7:$C$188,3,FALSE)","v":{"$error":"#N/A"}}]
[null,null,null,null,null,null,null,{"$f":"VLOOKUP($G$2:$G$50000,'Location Type (FICM Codes)'!$A$7:$B$188,2,FALSE)","v":{"$error":"#N/A"}},null,null,null,null,null,{"$f":"VLOOKUP(G6187:G16185,'Location Type (FICM Codes)'!$A$7:$C$188,3,FALSE)","v":{"$error":"#N/A"}}]
[null,null,null,null,null,null,null,{"$f":"VLOOKUP($G$2:$G$50000,'Location Type (FICM Codes)'!$A$7:$B$188,2,FALSE)","v":{"$error":"#N/A"}},null,null,null,null,null,{"$f":"VLOOKUP(G6191:G16189,'Location Type (FICM Codes)'!$A$7:$C$188,3,FALSE)","v":{"$error":"#N/A"}}]
[null,null,null,null,null,null,null,{"$f":"VLOOKUP($G$2:$G$50000,'Location Type (FICM Codes)'!$A$7:$B$188,2,FALSE)","v":{"$error":"#N/A"}},null,null,null,null,null,{"$f":"VLOOKUP(G6196:G16194,'Location Type (FICM Codes)'!$A$7:$C$188,3,FALSE)","v":{"$error":"#N/A"}}]
[null,null,null,null,null,null,null,{"$f":"VLOOKUP($G$2:$G$50000,'Location Type (FICM Codes)'!$A$7:$B$188,2,FALSE)","v":{"$error":"#N/A"}},null,null,null,null,null,{"$f":"VLOOKUP(G6197:G16195,'Location Type (FICM Codes)'!$A$7:$C$188,3,FALSE)","v":{"$error":"#N/A"}}]
[null,null,null,null,null,null,null,{"$f":"VLOOKUP($G$2:$G$50000,'Location Type (FICM Codes)'!$A$7:$B$188,2,FALSE)","v":{"$error":"#N/A"}},null,null,null,null,null,{"$f":"VLOOKUP(G6203:G16201,'Location Type (FICM Codes)'!$A$7:$C$188,3,FALSE)","v":{"$error":"#N/A"}}]
[null,null,null,null,null,null,null,{"$f":"VLOOKUP($G$2:$G$50000,'Location Type (FICM Codes)'!$A$7:$B$188,2,FALSE)","v":{"$error":"#N/A"}},null,null,null,null,null,{"$f":"VLOOKUP(G6206:G16204,'Location Type (FICM Codes)'!$A$7:$C$188,3,FALSE)","v":{"$error":"#N/A"}}]
[null,null,null,null,null,null,null,{"$f":"VLOOKUP($G$2:$G$50000,'Location Type (FICM Codes)'!$A$7:$B$188,2,FALSE)","v":{"$error":"#N/A"}},null,null,null,null,null,{"$f":"VLOOKUP(G6211:G16209,'Location Type (FICM Codes)'!$A$7:$C$188,3,FALSE)","v":{"$error":"#N/A"}}]
[null,null,null,null,null,null,null,{"$f":"VLOOKUP($G$2:$G$50000,'Location Type (FICM Codes)'!$A$7:$B$188,2,FALSE)","v":{"$error":"#N/A"}},null,null,null,null,null,{"$f":"VLOOKUP(G6212:G16210,'Location Type (FICM Codes)'!$A$7:$C$188,3,FALSE)","v":{"$error":"#N/A"}}]
[null,null,null,null,null,null,null,{"$f":"VLOOKUP($G$2:$G$50000,'Location Type (FICM Codes)'!$A$7:$B$188,2,FALSE)","v":{"$error":"#N/A"}},null,null,null,null,null,{"$f":"VLOOKUP(G6217:G16215,'Location Type (FICM Codes)'!$A$7:$C$188,3,FALSE)","v":{"$error":"#N/A"}}]
[null,null,null,null,null,null,null,{"$f":"VLOOKUP($G$2:$G$50000,'Location Type (FICM Codes)'!$A$7:$B$188,2,FALSE)","v":{"$error":"#N/A"}},null,null,null,null,null,{"$f":"VLOOKUP(G6221:G16219,'Location Type (FICM Codes)'!$A$7:$C$188,3,FALSE)","v":{"$error":"#N/A"}}]
[null,null,null,null,null,null,null,{"$f":"VLOOKUP($G$2:$G$50000,'Location Type (FICM Codes)'!$A$7:$B$188,2,FALSE)","v":{"$error":"#N/A"}},null,null,null,null,null,{"$f":"VLOOKUP(G6226:G16224,'Location Type (FICM Codes)'!$A$7:$C$188,3,FALSE)","v":{"$error":"#N/A"}}]
[null,null,null,null,null,null,null,{"$f":"VLOOKUP($G$2:$G$50000,'Location Type (FICM Codes)'!$A$7:$B$188,2,FALSE)","v":{"$error":"#N/A"}},null,null,null,null,null,{"$f":"VLOOKUP(G6227:G16225,'Location Type (FICM Codes)'!$A$7:$C$188,3,FALSE)","v":{"$error":"#N/A"}}]
[null,null,null,null,null,null,null,{"$f":"VLOOKUP($G$2:$G$50000,'Location Type (FICM Codes)'!$A$7:$B$188,2,FALSE)","v":{"$error":"#N/A"}},null,null,null,null,null,{"$f":"VLOOKUP(G6233:G16231,'Location Type (FICM Codes)'!$A$7:$C$188,3,FALSE)","v":{"$error":"#N/A"}}]
[null,null,null,null,null,null,null,{"$f":"VLOOKUP($G$2:$G$50000,'Location Type (FICM Codes)'!$A$7:$B$188,2,FALSE)","v":{"$error":"#N/A"}},null,null,null,null,null,{"$f":"VLOOKUP(G6236:G16234,'Location Type (FICM Codes)'!$A$7:$C$188,3,FALSE)","v":{"$error":"#N/A"}}]
[null,null,null,null,null,null,null,{"$f":"VLOOKUP($G$2:$G$50000,'Location Type (FICM Codes)'!$A$7:$B$188,2,FALSE)","v":{"$error":"#N/A"}},null,null,null,null,null,{"$f":"VLOOKUP(G6241:G16239,'Location Type (FICM Codes)'!$A$7:$C$188,3,FALSE)","v":{"$error":"#N/A"}}]
[null,null,null,null,null,null,null,{"$f":"VLOOKUP($G$2:$G$50000,'Location Type (FICM Codes)'!$A$7:$B$188,2,FALSE)","v":{"$error":"#N/A"}},null,null,null,null,null,{"$f":"VLOOKUP(G6242:G16240,'Location Type (FICM Codes)'!$A$7:$C$188,3,FALSE)","v":{"$error":"#N/A"}}]
[null,null,null,null,null,null,null,{"$f":"VLOOKUP($G$2:$G$50000,'Location Type (FICM Codes)'!$A$7:$B$188,2,FALSE)","v":{"$error":"#N/A"}},null,null,null,null,null,{"$f":"VLOOKUP(G6247:G16245,'Location Type (FICM Codes)'!$A$7:$C$188,3,FALSE)","v":{"$error":"#N/A"}}]
[null,null,null,null,null,null,null,{"$f":"VLOOKUP($G$2:$G$50000,'Location Type (FICM Codes)'!$A$7:$B$188,2,FALSE)","v":{"$error":"#N/A"}},null,null,null,null,null,{"$f":"VLOOKUP(G6251:G16249,'Location Type (FICM Codes)'!$A$7:$C$188,3,FALSE)","v":{"$error":"#N/A"}}]
[null,null,null,null,null,null,null,{"$f":"VLOOKUP($G$2:$G$50000,'Location Type (FICM Codes)'!$A$7:$B$188,2,FALSE)","v":{"$error":"#N/A"}},null,null,null,null,null,{"$f":"VLOOKUP(G6256:G16254,'Location Type (FICM Codes)'!$A$7:$C$188,3,FALSE)","v":{"$error":"#N/A"}}]
[null,null,null,null,null,null,null,{"$f":"VLOOKUP($G$2:$G$50000,'Location Type (FICM Codes)'!$A$7:$B$188,2,FALSE)","v":{"$error":"#N/A"}},null,null,null,null,null,{"$f":"VLOOKUP(G6257:G16255,'Location Type (FICM Codes)'!$A$7:$C$188,3,FALSE)","v":{"$error":"#N/A"}}]
[null,null,null,null,null,null,null,{"$f":"VLOOKUP($G$2:$G$50000,'Location Type (FICM Codes)'!$A$7:$B$188,2,FALSE)","v":{"$error":"#N/A"}},null,null,null,null,null,{"$f":"VLOOKUP(G6263:G16261,'Location Type (FICM Codes)'!$A$7:$C$188,3,FALSE)","v":{"$error":"#N/A"}}]
[null,null,null,null,null,null,null,{"$f":"VLOOKUP($G$2:$G$50000,'Location Type (FICM Codes)'!$A$7:$B$188,2,FALSE)","v":{"$error":"#N/A"}},null,null,null,null,null,{"$f":"VLOOKUP(G6266:G16264,'Location Type (FICM Codes)'!$A$7:$C$188,3,FALSE)","v":{"$error":"#N/A"}}]
[null,null,null,null,null,null,null,{"$f":"VLOOKUP($G$2:$G$50000,'Location Type (FICM Codes)'!$A$7:$B$188,2,FALSE)","v":{"$error":"#N/A"}},null,null,null,null,null,{"$f":"VLOOKUP(G6271:G16269,'Location Type (FICM Codes)'!$A$7:$C$188,3,FALSE)","v":{"$error":"#N/A"}}]
[null,null,null,null,null,null,null,{"$f":"VLOOKUP($G$2:$G$50000,'Location Type (FICM Codes)'!$A$7:$B$188,2,FALSE)","v":{"$error":"#N/A"}},null,null,null,null,null,{"$f":"VLOOKUP(G6272:G16270,'Location Type (FICM Codes)'!$A$7:$C$188,3,FALSE)","v":{"$error":"#N/A"}}]
[null,null,null,null,null,null,null,{"$f":"VLOOKUP($G$2:$G$50000,'Location Type (FICM Codes)'!$A$7:$B$188,2,FALSE)","v":{"$error":"#N/A"}},null,null,null,null,null,{"$f":"VLOOKUP(G6277:G16275,'Location Type (FICM Codes)'!$A$7:$C$188,3,FALSE)","v":{"$error":"#N/A"}}]
[null,null,null,null,null,null,null,{"$f":"VLOOKUP($G$2:$G$50000,'Location Type (FICM Codes)'!$A$7:$B$188,2,FALSE)","v":{"$error":"#N/A"}},null,null,null,null,null,{"$f":"VLOOKUP(G6281:G16279,'Location Type (FICM Codes)'!$A$7:$C$188,3,FALSE)","v":{"$error":"#N/A"}}]
[null,null,null,null,null,null,null,{"$f":"VLOOKUP($G$2:$G$50000,'Location Type (FICM Codes)'!$A$7:$B$188,2,FALSE)","v":{"$error":"#N/A"}},null,null,null,null,null,{"$f":"VLOOKUP(G6286:G16284,'Location Type (FICM Codes)'!$A$7:$C$188,3,FALSE)","v":{"$error":"#N/A"}}]
[null,null,null,null,null,null,null,{"$f":"VLOOKUP($G$2:$G$50000,'Location Type (FICM Codes)'!$A$7:$B$188,2,FALSE)","v":{"$error":"#N/A"}},null,null,null,null,null,{"$f":"VLOOKUP(G6287:G16285,'Location Type (FICM Codes)'!$A$7:$C$188,3,FALSE)","v":{"$error":"#N/A"}}]
[null,null,null,null,null,null,null,{"$f":"VLOOKUP($G$2:$G$50000,'Location Type (FICM Codes)'!$A$7:$B$188,2,FALSE)","v":{"$error":"#N/A"}},null,null,null,null,null,{"$f":"VLOOKUP(G6293:G16291,'Location Type (FICM Codes)'!$A$7:$C$188,3,FALSE)","v":{"$error":"#N/A"}}]
[null,null,null,null,null,null,null,{"$f":"VLOOKUP($G$2:$G$50000,'Location Type (FICM Codes)'!$A$7:$B$188,2,FALSE)","v":{"$error":"#N/A"}},null,null,null,null,null,{"$f":"VLOOKUP(G6296:G16294,'Location Type (FICM Codes)'!$A$7:$C$188,3,FALSE)","v":{"$error":"#N/A"}}]
[null,null,null,null,null,null,null,{"$f":"VLOOKUP($G$2:$G$50000,'Location Type (FICM Codes)'!$A$7:$B$188,2,FALSE)","v":{"$error":"#N/A"}},null,null,null,null,null,{"$f":"VLOOKUP(G6301:G16299,'Location Type (FICM Codes)'!$A$7:$C$188,3,FALSE)","v":{"$error":"#N/A"}}]
[null,null,null,null,null,null,null,{"$f":"VLOOKUP($G$2:$G$50000,'Location Type (FICM Codes)'!$A$7:$B$188,2,FALSE)","v":{"$error":"#N/A"}},null,null,null,null,null,{"$f":"VLOOKUP(G6302:G16300,'Location Type (FICM Codes)'!$A$7:$C$188,3,FALSE)","v":{"$error":"#N/A"}}]
[null,null,null,null,null,null,null,{"$f":"VLOOKUP($G$2:$G$50000,'Location Type (FICM Codes)'!$A$7:$B$188,2,FALSE)","v":{"$error":"#N/A"}},null,null,null,null,null,{"$f":"VLOOKUP(G6307:G16305,'Location Type (FICM Codes)'!$A$7:$C$188,3,FALSE)","v":{"$error":"#N/A"}}]
[null,null,null,null,null,null,null,{"$f":"VLOOKUP($G$2:$G$50000,'Location Type (FICM Codes)'!$A$7:$B$188,2,FALSE)","v":{"$error":"#N/A"}},null,null,null,null,null,{"$f":"VLOOKUP(G6311:G16309,'Location Type (FICM Codes)'!$A$7:$C$188,3,FALSE)","v":{"$error":"#N/A"}}]
[null,null,null,null,null,null,null,{"$f":"VLOOKUP($G$2:$G$50000,'Location Type (FICM Codes)'!$A$7:$B$188,2,FALSE)","v":{"$error":"#N/A"}},null,null,null,null,null,{"$f":"VLOOKUP(G6316:G16314,'Location Type (FICM Codes)'!$A$7:$C$188,3,FALSE)","v":{"$error":"#N/A"}}]
[null,null,null,null,null,null,null,{"$f":"VLOOKUP($G$2:$G$50000,'Location Type (FICM Codes)'!$A$7:$B$188,2,FALSE)","v":{"$error":"#N/A"}},null,null,null,null,null,{"$f":"VLOOKUP(G6317:G16315,'Location Type (FICM Codes)'!$A$7:$C$188,3,FALSE)","v":{"$error":"#N/A"}}]
[null,null,null,null,null,null,null,{"$f":"VLOOKUP($G$2:$G$50000,'Location Type (FICM Codes)'!$A$7:$B$188,2,FALSE)","v":{"$error":"#N/A"}},null,null,null,null,null,{"$f":"VLOOKUP(G6321:G16319,'Location Type (FICM Codes)'!$A$7:$C$188,3,FALSE)","v":{"$error":"#N/A"}}]
[null,null,null,null,null,null,null,{"$f":"VLOOKUP($G$2:$G$50000,'Location Type (FICM Codes)'!$A$7:$B$188,2,FALSE)","v":{"$error":"#N/A"}},null,null,null,null,null,{"$f":"VLOOKUP(G6326:G16324,'Location Type (FICM Codes)'!$A$7:$C$188,3,FALSE)","v":{"$error":"#N/A"}}]
[null,null,null,null,null,null,null,{"$f":"VLOOKUP($G$2:$G$50000,'Location Type (FICM Codes)'!$A$7:$B$188,2,FALSE)","v":{"$error":"#N/A"}},null,null,null,null,null,{"$f":"VLOOKUP(G6331:G16329,'Location Type (FICM Codes)'!$A$7:$C$188,3,FALSE)","v":{"$error":"#N/A"}}]
[null,null,null,null,null,null,null,{"$f":"VLOOKUP($G$2:$G$50000,'Location Type (FICM Codes)'!$A$7:$B$188,2,FALSE)","v":{"$error":"#N/A"}},null,null,null,null,null,{"$f":"VLOOKUP(G6332:G16330,'Location Type (FICM Codes)'!$A$7:$C$188,3,FALSE)","v":{"$error":"#N/A"}}]
[null,null,null,null,null,null,null,{"$f":"VLOOKUP($G$2:$G$50000,'Location Type (FICM Codes)'!$A$7:$B$188,2,FALSE)","v":{"$error":"#N/A"}},null,null,null,null,null,{"$f":"VLOOKUP(G6337:G16335,'Location Type (FICM Codes)'!$A$7:$C$188,3,FALSE)","v":{"$error":"#N/A"}}]
[null,null,null,null,null,null,null,{"$f":"VLOOKUP($G$2:$G$50000,'Location Type (FICM Codes)'!$A$7:$B$188,2,FALSE)","v":{"$error":"#N/A"}},null,null,null,null,null,{"$f":"VLOOKUP(G6341:G16339,'Location Type (FICM Codes)'!$A$7:$C$188,3,FALSE)","v":{"$error":"#N/A"}}]
[null,null,null,null,null,null,null,{"$f":"VLOOKUP($G$2:$G$50000,'Location Type (FICM Codes)'!$A$7:$B$188,2,FALSE)","v":{"$error":"#N/A"}},null,null,null,null,null,{"$f":"VLOOKUP(G6346:G16344,'Location Type (FICM Codes)'!$A$7:$C$188,3,FALSE)","v":{"$error":"#N/A"}}]
[null,null,null,null,null,null,null,{"$f":"VLOOKUP($G$2:$G$50000,'Location Type (FICM Codes)'!$A$7:$B$188,2,FALSE)","v":{"$error":"#N/A"}},null,null,null,null,null,{"$f":"VLOOKUP(G6347:G16345,'Location Type (FICM Codes)'!$A$7:$C$188,3,FALSE)","v":{"$error":"#N/A"}}]
[null,null,null,null,null,null,null,{"$f":"VLOOKUP($G$2:$G$50000,'Location Type (FICM Codes)'!$A$7:$B$188,2,FALSE)","v":{"$error":"#N/A"}},null,null,null,null,null,{"$f":"VLOOKUP(G6351:G16349,'Location Type (FICM Codes)'!$A$7:$C$188,3,FALSE)","v":{"$error":"#N/A"}}]
[null,null,null,null,null,null,null,{"$f":"VLOOKUP($G$2:$G$50000,'Location Type (FICM Codes)'!$A$7:$B$188,2,FALSE)","v":{"$error":"#N/A"}},null,null,null,null,null,{"$f":"VLOOKUP(G6356:G16354,'Location Type (FICM Codes)'!$A$7:$C$188,3,FALSE)","v":{"$error":"#N/A"}}]
[null,null,null,null,null,null,null,{"$f":"VLOOKUP($G$2:$G$50000,'Location Type (FICM Codes)'!$A$7:$B$188,2,FALSE)","v":{"$error":"#N/A"}},null,null,null,null,null,{"$f":"VLOOKUP(G6361:G16359,'Location Type (FICM Codes)'!$A$7:$C$188,3,FALSE)","v":{"$error":"#N/A"}}]
[null,null,null,null,null,null,null,{"$f":"VLOOKUP($G$2:$G$50000,'Location Type (FICM Codes)'!$A$7:$B$188,2,FALSE)","v":{"$error":"#N/A"}},null,null,null,null,null,{"$f":"VLOOKUP(G6362:G16360,'Location Type (FICM Codes)'!$A$7:$C$188,3,FALSE)","v":{"$error":"#N/A"}}]
[null,null,null,null,null,null,null,{"$f":"VLOOKUP($G$2:$G$50000,'Location Type (FICM Codes)'!$A$7:$B$188,2,FALSE)","v":{"$error":"#N/A"}},null,null,null,null,null,{"$f":"VLOOKUP(G6367:G16365,'Location Type (FICM Codes)'!$A$7:$C$188,3,FALSE)","v":{"$error":"#N/A"}}]
[null,null,null,null,null,null,null,{"$f":"VLOOKUP($G$2:$G$50000,'Location Type (FICM Codes)'!$A$7:$B$188,2,FALSE)","v":{"$error":"#N/A"}},null,null,null,null,null,{"$f":"VLOOKUP(G6371:G16369,'Location Type (FICM Codes)'!$A$7:$C$188,3,FALSE)","v":{"$error":"#N/A"}}]
[null,null,null,null,null,null,null,{"$f":"VLOOKUP($G$2:$G$50000,'Location Type (FICM Codes)'!$A$7:$B$188,2,FALSE)","v":{"$error":"#N/A"}},null,null,null,null,null,{"$f":"VLOOKUP(G6376:G16374,'Location Type (FICM Codes)'!$A$7:$C$188,3,FALSE)","v":{"$error":"#N/A"}}]
[null,null,null,null,null,null,null,{"$f":"VLOOKUP($G$2:$G$50000,'Location Type (FICM Codes)'!$A$7:$B$188,2,FALSE)","v":{"$error":"#N/A"}},null,null,null,null,null,{"$f":"VLOOKUP(G6377:G16375,'Location Type (FICM Codes)'!$A$7:$C$188,3,FALSE)","v":{"$error":"#N/A"}}]
[null,null,null,null,null,null,null,{"$f":"VLOOKUP($G$2:$G$50000,'Location Type (FICM Codes)'!$A$7:$B$188,2,FALSE)","v":{"$error":"#N/A"}},null,null,null,null,null,{"$f":"VLOOKUP(G6381:G16379,'Location Type (FICM Codes)'!$A$7:$C$188,3,FALSE)","v":{"$error":"#N/A"}}]
[null,null,null,null,null,null,null,{"$f":"VLOOKUP($G$2:$G$50000,'Location Type (FICM Codes)'!$A$7:$B$188,2,FALSE)","v":{"$error":"#N/A"}},null,null,null,null,null,{"$f":"VLOOKUP(G6386:G16384,'Location Type (FICM Codes)'!$A$7:$C$188,3,FALSE)","v":{"$error":"#N/A"}}]
[null,null,null,null,null,null,null,{"$f":"VLOOKUP($G$2:$G$50000,'Location Type (FICM Codes)'!$A$7:$B$188,2,FALSE)","v":{"$error":"#N/A"}},null,null,null,null,null,{"$f":"VLOOKUP(G6391:G16389,'Location Type (FICM Codes)'!$A$7:$C$188,3,FALSE)","v":{"$error":"#N/A"}}]
[null,null,null,null,null,null,null,{"$f":"VLOOKUP($G$2:$G$50000,'Location Type (FICM Codes)'!$A$7:$B$188,2,FALSE)","v":{"$error":"#N/A"}},null,null,null,null,null,{"$f":"VLOOKUP(G6392:G16390,'Location Type (FICM Codes)'!$A$7:$C$188,3,FALSE)","v":{"$error":"#N/A"}}]
[null,null,null,null,null,null,null,{"$f":"VLOOKUP($G$2:$G$50000,'Location Type (FICM Codes)'!$A$7:$B$188,2,FALSE)","v":{"$error":"#N/A"}},null,null,null,null,null,{"$f":"VLOOKUP(G6397:G16395,'Location Type (FICM Codes)'!$A$7:$C$188,3,FALSE)","v":{"$error":"#N/A"}}]
[null,null,null,null,null,null,null,{"$f":"VLOOKUP($G$2:$G$50000,'Location Type (FICM Codes)'!$A$7:$B$188,2,FALSE)","v":{"$error":"#N/A"}},null,null,null,null,null,{"$f":"VLOOKUP(G6401:G16399,'Location Type (FICM Codes)'!$A$7:$C$188,3,FALSE)","v":{"$error":"#N/A"}}]
[null,null,null,null,null,null,null,{"$f":"VLOOKUP($G$2:$G$50000,'Location Type (FICM Codes)'!$A$7:$B$188,2,FALSE)","v":{"$error":"#N/A"}},null,null,null,null,null,{"$f":"VLOOKUP(G6406:G16404,'Location Type (FICM Codes)'!$A$7:$C$188,3,FALSE)","v":{"$error":"#N/A"}}]
[null,null,null,null,null,null,null,{"$f":"VLOOKUP($G$2:$G$50000,'Location Type (FICM Codes)'!$A$7:$B$188,2,FALSE)","v":{"$error":"#N/A"}},null,null,null,null,null,{"$f":"VLOOKUP(G6407:G16405,'Location Type (FICM Codes)'!$A$7:$C$188,3,FALSE)","v":{"$error":"#N/A"}}]
[null,null,null,null,null,null,null,{"$f":"VLOOKUP($G$2:$G$50000,'Location Type (FICM Codes)'!$A$7:$B$188,2,FALSE)","v":{"$error":"#N/A"}},null,null,null,null,null,{"$f":"VLOOKUP(G6411:G16409,'Location Type (FICM Codes)'!$A$7:$C$188,3,FALSE)","v":{"$error":"#N/A"}}]
[null,null,null,null,null,null,null,{"$f":"VLOOKUP($G$2:$G$50000,'Location Type (FICM Codes)'!$A$7:$B$188,2,FALSE)","v":{"$error":"#N/A"}},null,null,null,null,null,{"$f":"VLOOKUP(G6416:G16414,'Location Type (FICM Codes)'!$A$7:$C$188,3,FALSE)","v":{"$error":"#N/A"}}]
[null,null,null,null,null,null,null,{"$f":"VLOOKUP($G$2:$G$50000,'Location Type (FICM Codes)'!$A$7:$B$188,2,FALSE)","v":{"$error":"#N/A"}},null,null,null,null,null,{"$f":"VLOOKUP(G6421:G16419,'Location Type (FICM Codes)'!$A$7:$C$188,3,FALSE)","v":{"$error":"#N/A"}}]
[null,null,null,null,null,null,null,{"$f":"VLOOKUP($G$2:$G$50000,'Location Type (FICM Codes)'!$A$7:$B$188,2,FALSE)","v":{"$error":"#N/A"}},null,null,null,null,null,{"$f":"VLOOKUP(G6422:G16420,'Location Type (FICM Codes)'!$A$7:$C$188,3,FALSE)","v":{"$error":"#N/A"}}]
[null,null,null,null,null,null,null,{"$f":"VLOOKUP($G$2:$G$50000,'Location Type (FICM Codes)'!$A$7:$B$188,2,FALSE)","v":{"$error":"#N/A"}},null,null,null,null,null,{"$f":"VLOOKUP(G6427:G16425,'Location Type (FICM Codes)'!$A$7:$C$188,3,FALSE)","v":{"$error":"#N/A"}}]
[null,null,null,null,null,null,null,{"$f":"VLOOKUP($G$2:$G$50000,'Location Type (FICM Codes)'!$A$7:$B$188,2,FALSE)","v":{"$error":"#N/A"}},null,null,null,null,null,{"$f":"VLOOKUP(G6431:G16429,'Location Type (FICM Codes)'!$A$7:$C$188,3,FALSE)","v":{"$error":"#N/A"}}]
[null,null,null,null,null,null,null,{"$f":"VLOOKUP($G$2:$G$50000,'Location Type (FICM Codes)'!$A$7:$B$188,2,FALSE)","v":{"$error":"#N/A"}},null,null,null,null,null,{"$f":"VLOOKUP(G6436:G16434,'Location Type (FICM Codes)'!$A$7:$C$188,3,FALSE)","v":{"$error":"#N/A"}}]
[null,null,null,null,null,null,null,{"$f":"VLOOKUP($G$2:$G$50000,'Location Type (FICM Codes)'!$A$7:$B$188,2,FALSE)","v":{"$error":"#N/A"}},null,null,null,null,null,{"$f":"VLOOKUP(G6437:G16435,'Location Type (FICM Codes)'!$A$7:$C$188,3,FALSE)","v":{"$error":"#N/A"}}]
[null,null,null,null,null,null,null,{"$f":"VLOOKUP($G$2:$G$50000,'Location Type (FICM Codes)'!$A$7:$B$188,2,FALSE)","v":{"$error":"#N/A"}},null,null,null,null,null,{"$f":"VLOOKUP(G6441:G16439,'Location Type (FICM Codes)'!$A$7:$C$188,3,FALSE)","v":{"$error":"#N/A"}}]
[null,null,null,null,null,null,null,{"$f":"VLOOKUP($G$2:$G$50000,'Location Type (FICM Codes)'!$A$7:$B$188,2,FALSE)","v":{"$error":"#N/A"}},null,null,null,null,null,{"$f":"VLOOKUP(G6446:G16444,'Location Type (FICM Codes)'!$A$7:$C$188,3,FALSE)","v":{"$error":"#N/A"}}]
[null,null,null,null,null,null,null,{"$f":"VLOOKUP($G$2:$G$50000,'Location Type (FICM Codes)'!$A$7:$B$188,2,FALSE)","v":{"$error":"#N/A"}},null,null,null,null,null,{"$f":"VLOOKUP(G6451:G16449,'Location Type (FICM Codes)'!$A$7:$C$188,3,FALSE)","v":{"$error":"#N/A"}}]
[null,null,null,null,null,null,null,{"$f":"VLOOKUP($G$2:$G$50000,'Location Type (FICM Codes)'!$A$7:$B$188,2,FALSE)","v":{"$error":"#N/A"}},null,null,null,null,null,{"$f":"VLOOKUP(G6452:G16450,'Location Type (FICM Codes)'!$A$7:$C$188,3,FALSE)","v":{"$error":"#N/A"}}]
[null,null,null,null,null,null,null,{"$f":"VLOOKUP($G$2:$G$50000,'Location Type (FICM Codes)'!$A$7:$B$188,2,FALSE)","v":{"$error":"#N/A"}},null,null,null,null,null,{"$f":"VLOOKUP(G6457:G16455,'Location Type (FICM Codes)'!$A$7:$C$188,3,FALSE)","v":{"$error":"#N/A"}}]
[null,null,null,null,null,null,null,{"$f":"VLOOKUP($G$2:$G$50000,'Location Type (FICM Codes)'!$A$7:$B$188,2,FALSE)","v":{"$error":"#N/A"}},null,null,null,null,null,{"$f":"VLOOKUP(G6461:G16459,'Location Type (FICM Codes)'!$A$7:$C$188,3,FALSE)","v":{"$error":"#N/A"}}]
[null,null,null,null,null,null,null,{"$f":"VLOOKUP($G$2:$G$50000,'Location Type (FICM Codes)'!$A$7:$B$188,2,FALSE)","v":{"$error":"#N/A"}},null,null,null,null,null,{"$f":"VLOOKUP(G6466:G16464,'Location Type (FICM Codes)'!$A$7:$C$188,3,FALSE)","v":{"$error":"#N/A"}}]
[null,null,null,null,null,null,null,{"$f":"VLOOKUP($G$2:$G$50000,'Location Type (FICM Codes)'!$A$7:$B$188,2,FALSE)","v":{"$error":"#N/A"}},null,null,null,null,null,{"$f":"VLOOKUP(G6467:G16465,'Location Type (FICM Codes)'!$A$7:$C$188,3,FALSE)","v":{"$error":"#N/A"}}]
[null,null,null,null,null,null,null,{"$f":"VLOOKUP($G$2:$G$50000,'Location Type (FICM Codes)'!$A$7:$B$188,2,FALSE)","v":{"$error":"#N/A"}},null,null,null,null,null,{"$f":"VLOOKUP(G6471:G16469,'Location Type (FICM Codes)'!$A$7:$C$188,3,FALSE)","v":{"$error":"#N/A"}}]
[null,null,null,null,null,null,null,{"$f":"VLOOKUP($G$2:$G$50000,'Location Type (FICM Codes)'!$A$7:$B$188,2,FALSE)","v":{"$error":"#N/A"}},null,null,null,null,null,{"$f":"VLOOKUP(G6476:G16474,'Location Type (FICM Codes)'!$A$7:$C$188,3,FALSE)","v":{"$error":"#N/A"}}]
[null,null,null,null,null,null,null,{"$f":"VLOOKUP($G$2:$G$50000,'Location Type (FICM Codes)'!$A$7:$B$188,2,FALSE)","v":{"$error":"#N/A"}},null,null,null,null,null,{"$f":"VLOOKUP(G6481:G16479,'Location Type (FICM Codes)'!$A$7:$C$188,3,FALSE)","v":{"$error":"#N/A"}}]
[null,null,null,null,null,null,null,{"$f":"VLOOKUP($G$2:$G$50000,'Location Type (FICM Codes)'!$A$7:$B$188,2,FALSE)","v":{"$error":"#N/A"}},null,null,null,null,null,{"$f":"VLOOKUP(G6482:G16480,'Location Type (FICM Codes)'!$A$7:$C$188,3,FALSE)","v":{"$error":"#N/A"}}]
[null,null,null,null,null,null,null,{"$f":"VLOOKUP($G$2:$G$50000,'Location Type (FICM Codes)'!$A$7:$B$188,2,FALSE)","v":{"$error":"#N/A"}},null,null,null,null,null,{"$f":"VLOOKUP(G6487:G16485,'Location Type (FICM Codes)'!$A$7:$C$188,3,FALSE)","v":{"$error":"#N/A"}}]
[null,null,null,null,null,null,null,{"$f":"VLOOKUP($G$2:$G$50000,'Location Type (FICM Codes)'!$A$7:$B$188,2,FALSE)","v":{"$error":"#N/A"}},null,null,null,null,null,{"$f":"VLOOKUP(G6491:G16489,'Location Type (FICM Codes)'!$A$7:$C$188,3,FALSE)","v":{"$error":"#N/A"}}]
[null,null,null,null,null,null,null,{"$f":"VLOOKUP($G$2:$G$50000,'Location Type (FICM Codes)'!$A$7:$B$188,2,FALSE)","v":{"$error":"#N/A"}},null,null,null,null,null,{"$f":"VLOOKUP(G6496:G16494,'Location Type (FICM Codes)'!$A$7:$C$188,3,FALSE)","v":{"$error":"#N/A"}}]
[null,null,null,null,null,null,null,{"$f":"VLOOKUP($G$2:$G$50000,'Location Type (FICM Codes)'!$A$7:$B$188,2,FALSE)","v":{"$error":"#N/A"}},null,null,null,null,null,{"$f":"VLOOKUP(G6497:G16495,'Location Type (FICM Codes)'!$A$7:$C$188,3,FALSE)","v":{"$error":"#N/A"}}]
[null,null,null,null,null,null,null,{"$f":"VLOOKUP($G$2:$G$50000,'Location Type (FICM Codes)'!$A$7:$B$188,2,FALSE)","v":{"$error":"#N/A"}},null,null,null,null,null,{"$f":"VLOOKUP(G6501:G16499,'Location Type (FICM Codes)'!$A$7:$C$188,3,FALSE)","v":{"$error":"#N/A"}}]
[null,null,null,null,null,null,null,{"$f":"VLOOKUP($G$2:$G$50000,'Location Type (FICM Codes)'!$A$7:$B$188,2,FALSE)","v":{"$error":"#N/A"}},null,null,null,null,null,{"$f":"VLOOKUP(G6506:G16504,'Location Type (FICM Codes)'!$A$7:$C$188,3,FALSE)","v":{"$error":"#N/A"}}]
[null,null,null,null,null,null,null,{"$f":"VLOOKUP($G$2:$G$50000,'Location Type (FICM Codes)'!$A$7:$B$188,2,FALSE)","v":{"$error":"#N/A"}},null,null,null,null,null,{"$f":"VLOOKUP(G6511:G16509,'Location Type (FICM Codes)'!$A$7:$C$188,3,FALSE)","v":{"$error":"#N/A"}}]
[null,null,null,null,null,null,null,{"$f":"VLOOKUP($G$2:$G$50000,'Location Type (FICM Codes)'!$A$7:$B$188,2,FALSE)","v":{"$error":"#N/A"}},null,null,null,null,null,{"$f":"VLOOKUP(G6512:G16510,'Location Type (FICM Codes)'!$A$7:$C$188,3,FALSE)","v":{"$error":"#N/A"}}]
[null,null,null,null,null,null,null,{"$f":"VLOOKUP($G$2:$G$50000,'Location Type (FICM Codes)'!$A$7:$B$188,2,FALSE)","v":{"$error":"#N/A"}},null,null,null,null,null,{"$f":"VLOOKUP(G6517:G16515,'Location Type (FICM Codes)'!$A$7:$C$188,3,FALSE)","v":{"$error":"#N/A"}}]
[null,null,null,null,null,null,null,{"$f":"VLOOKUP($G$2:$G$50000,'Location Type (FICM Codes)'!$A$7:$B$188,2,FALSE)","v":{"$error":"#N/A"}},null,null,null,null,null,{"$f":"VLOOKUP(G6521:G16519,'Location Type (FICM Codes)'!$A$7:$C$188,3,FALSE)","v":{"$error":"#N/A"}}]
[null,null,null,null,null,null,null,{"$f":"VLOOKUP($G$2:$G$50000,'Location Type (FICM Codes)'!$A$7:$B$188,2,FALSE)","v":{"$error":"#N/A"}},null,null,null,null,null,{"$f":"VLOOKUP(G6526:G16524,'Location Type (FICM Codes)'!$A$7:$C$188,3,FALSE)","v":{"$error":"#N/A"}}]
[null,null,null,null,null,null,null,{"$f":"VLOOKUP($G$2:$G$50000,'Location Type (FICM Codes)'!$A$7:$B$188,2,FALSE)","v":{"$error":"#N/A"}},null,null,null,null,null,{"$f":"VLOOKUP(G6527:G16525,'Location Type (FICM Codes)'!$A$7:$C$188,3,FALSE)","v":{"$error":"#N/A"}}]
[null,null,null,null,null,null,null,{"$f":"VLOOKUP($G$2:$G$50000,'Location Type (FICM Codes)'!$A$7:$B$188,2,FALSE)","v":{"$error":"#N/A"}},null,null,null,null,null,{"$f":"VLOOKUP(G6531:G16529,'Location Type (FICM Codes)'!$A$7:$C$188,3,FALSE)","v":{"$error":"#N/A"}}]
[null,null,null,null,null,null,null,{"$f":"VLOOKUP($G$2:$G$50000,'Location Type (FICM Codes)'!$A$7:$B$188,2,FALSE)","v":{"$error":"#N/A"}},null,null,null,null,null,{"$f":"VLOOKUP(G6536:G16534,'Location Type (FICM Codes)'!$A$7:$C$188,3,FALSE)","v":{"$error":"#N/A"}}]
[null,null,null,null,null,null,null,{"$f":"VLOOKUP($G$2:$G$50000,'Location Type (FICM Codes)'!$A$7:$B$188,2,FALSE)","v":{"$error":"#N/A"}},null,null,null,null,null,{"$f":"VLOOKUP(G6541:G16539,'Location Type (FICM Codes)'!$A$7:$C$188,3,FALSE)","v":{"$error":"#N/A"}}]
[null,null,null,null,null,null,null,{"$f":"VLOOKUP($G$2:$G$50000,'Location Type (FICM Codes)'!$A$7:$B$188,2,FALSE)","v":{"$error":"#N/A"}},null,null,null,null,null,{"$f":"VLOOKUP(G6542:G16540,'Location Type (FICM Codes)'!$A$7:$C$188,3,FALSE)","v":{"$error":"#N/A"}}]
[null,null,null,null,null,null,null,{"$f":"VLOOKUP($G$2:$G$50000,'Location Type (FICM Codes)'!$A$7:$B$188,2,FALSE)","v":{"$error":"#N/A"}},null,null,null,null,null,{"$f":"VLOOKUP(G6547:G16545,'Location Type (FICM Codes)'!$A$7:$C$188,3,FALSE)","v":{"$error":"#N/A"}}]
[null,null,null,null,null,null,null,{"$f":"VLOOKUP($G$2:$G$50000,'Location Type (FICM Codes)'!$A$7:$B$188,2,FALSE)","v":{"$error":"#N/A"}},null,null,null,null,null,{"$f":"VLOOKUP(G6551:G16549,'Location Type (FICM Codes)'!$A$7:$C$188,3,FALSE)","v":{"$error":"#N/A"}}]
[null,null,null,null,null,null,null,{"$f":"VLOOKUP($G$2:$G$50000,'Location Type (FICM Codes)'!$A$7:$B$188,2,FALSE)","v":{"$error":"#N/A"}},null,null,null,null,null,{"$f":"VLOOKUP(G6556:G16554,'Location Type (FICM Codes)'!$A$7:$C$188,3,FALSE)","v":{"$error":"#N/A"}}]
[null,null,null,null,null,null,null,{"$f":"VLOOKUP($G$2:$G$50000,'Location Type (FICM Codes)'!$A$7:$B$188,2,FALSE)","v":{"$error":"#N/A"}},null,null,null,null,null,{"$f":"VLOOKUP(G6557:G16555,'Location Type (FICM Codes)'!$A$7:$C$188,3,FALSE)","v":{"$error":"#N/A"}}]
[null,null,null,null,null,null,null,{"$f":"VLOOKUP($G$2:$G$50000,'Location Type (FICM Codes)'!$A$7:$B$188,2,FALSE)","v":{"$error":"#N/A"}},null,null,null,null,null,{"$f":"VLOOKUP(G6561:G16559,'Location Type (FICM Codes)'!$A$7:$C$188,3,FALSE)","v":{"$error":"#N/A"}}]
[null,null,null,null,null,null,null,{"$f":"VLOOKUP($G$2:$G$50000,'Location Type (FICM Codes)'!$A$7:$B$188,2,FALSE)","v":{"$error":"#N/A"}},null,null,null,null,null,{"$f":"VLOOKUP(G6566:G16564,'Location Type (FICM Codes)'!$A$7:$C$188,3,FALSE)","v":{"$error":"#N/A"}}]
[null,null,null,null,null,null,null,{"$f":"VLOOKUP($G$2:$G$50000,'Location Type (FICM Codes)'!$A$7:$B$188,2,FALSE)","v":{"$error":"#N/A"}},null,null,null,null,null,{"$f":"VLOOKUP(G6571:G16569,'Location Type (FICM Codes)'!$A$7:$C$188,3,FALSE)","v":{"$error":"#N/A"}}]
[null,null,null,null,null,null,null,{"$f":"VLOOKUP($G$2:$G$50000,'Location Type (FICM Codes)'!$A$7:$B$188,2,FALSE)","v":{"$error":"#N/A"}},null,null,null,null,null,{"$f":"VLOOKUP(G6572:G16570,'Location Type (FICM Codes)'!$A$7:$C$188,3,FALSE)","v":{"$error":"#N/A"}}]
[null,null,null,null,null,null,null,{"$f":"VLOOKUP($G$2:$G$50000,'Location Type (FICM Codes)'!$A$7:$B$188,2,FALSE)","v":{"$error":"#N/A"}},null,null,null,null,null,{"$f":"VLOOKUP(G6577:G16575,'Location Type (FICM Codes)'!$A$7:$C$188,3,FALSE)","v":{"$error":"#N/A"}}]
[null,null,null,null,null,null,null,{"$f":"VLOOKUP($G$2:$G$50000,'Location Type (FICM Codes)'!$A$7:$B$188,2,FALSE)","v":{"$error":"#N/A"}},null,null,null,null,null,{"$f":"VLOOKUP(G6581:G16579,'Location Type (FICM Codes)'!$A$7:$C$188,3,FALSE)","v":{"$error":"#N/A"}}]
[null,null,null,null,null,null,null,{"$f":"VLOOKUP($G$2:$G$50000,'Location Type (FICM Codes)'!$A$7:$B$188,2,FALSE)","v":{"$error":"#N/A"}},null,null,null,null,null,{"$f":"VLOOKUP(G6586:G16584,'Location Type (FICM Codes)'!$A$7:$C$188,3,FALSE)","v":{"$error":"#N/A"}}]
[null,null,null,null,null,null,null,{"$f":"VLOOKUP($G$2:$G$50000,'Location Type (FICM Codes)'!$A$7:$B$188,2,FALSE)","v":{"$error":"#N/A"}},null,null,null,null,null,{"$f":"VLOOKUP(G6587:G16585,'Location Type (FICM Codes)'!$A$7:$C$188,3,FALSE)","v":{"$error":"#N/A"}}]
[null,null,null,null,null,null,null,{"$f":"VLOOKUP($G$2:$G$50000,'Location Type (FICM Codes)'!$A$7:$B$188,2,FALSE)","v":{"$error":"#N/A"}},null,null,null,null,null,{"$f":"VLOOKUP(G6591:G16589,'Location Type (FICM Codes)'!$A$7:$C$188,3,FALSE)","v":{"$error":"#N/A"}}]
[null,null,null,null,null,null,null,{"$f":"VLOOKUP($G$2:$G$50000,'Location Type (FICM Codes)'!$A$7:$B$188,2,FALSE)","v":{"$error":"#N/A"}},null,null,null,null,null,{"$f":"VLOOKUP(G6596:G16594,'Location Type (FICM Codes)'!$A$7:$C$188,3,FALSE)","v":{"$error":"#N/A"}}]
[null,null,null,null,null,null,null,{"$f":"VLOOKUP($G$2:$G$50000,'Location Type (FICM Codes)'!$A$7:$B$188,2,FALSE)","v":{"$error":"#N/A"}},null,null,null,null,null,{"$f":"VLOOKUP(G6601:G16599,'Location Type (FICM Codes)'!$A$7:$C$188,3,FALSE)","v":{"$error":"#N/A"}}]
[null,null,null,null,null,null,null,{"$f":"VLOOKUP($G$2:$G$50000,'Location Type (FICM Codes)'!$A$7:$B$188,2,FALSE)","v":{"$error":"#N/A"}},null,null,null,null,null,{"$f":"VLOOKUP(G6602:G16600,'Location Type (FICM Codes)'!$A$7:$C$188,3,FALSE)","v":{"$error":"#N/A"}}]
[null,null,null,null,null,null,null,{"$f":"VLOOKUP($G$2:$G$50000,'Location Type (FICM Codes)'!$A$7:$B$188,2,FALSE)","v":{"$error":"#N/A"}},null,null,null,null,null,{"$f":"VLOOKUP(G6608:G16606,'Location Type (FICM Codes)'!$A$7:$C$188,3,FALSE)","v":{"$error":"#N/A"}}]
[null,null,null,null,null,null,null,{"$f":"VLOOKUP($G$2:$G$50000,'Location Type (FICM Codes)'!$A$7:$B$188,2,FALSE)","v":{"$error":"#N/A"}},null,null,null,null,null,{"$f":"VLOOKUP(G6611:G16609,'Location Type (FICM Codes)'!$A$7:$C$188,3,FALSE)","v":{"$error":"#N/A"}}]
[null,null,null,null,null,null,null,{"$f":"VLOOKUP($G$2:$G$50000,'Location Type (FICM Codes)'!$A$7:$B$188,2,FALSE)","v":{"$error":"#N/A"}},null,null,null,null,null,{"$f":"VLOOKUP(G6616:G16614,'Location Type (FICM Codes)'!$A$7:$C$188,3,FALSE)","v":{"$error":"#N/A"}}]
[null,null,null,null,null,null,null,{"$f":"VLOOKUP($G$2:$G$50000,'Location Type (FICM Codes)'!$A$7:$B$188,2,FALSE)","v":{"$error":"#N/A"}},null,null,null,null,null,{"$f":"VLOOKUP(G6617:G16615,'Location Type (FICM Codes)'!$A$7:$C$188,3,FALSE)","v":{"$error":"#N/A"}}]
[null,null,null,null,null,null,null,{"$f":"VLOOKUP($G$2:$G$50000,'Location Type (FICM Codes)'!$A$7:$B$188,2,FALSE)","v":{"$error":"#N/A"}},null,null,null,null,null,{"$f":"VLOOKUP(G6621:G16619,'Location Type (FICM Codes)'!$A$7:$C$188,3,FALSE)","v":{"$error":"#N/A"}}]
[null,null,null,null,null,null,null,{"$f":"VLOOKUP($G$2:$G$50000,'Location Type (FICM Codes)'!$A$7:$B$188,2,FALSE)","v":{"$error":"#N/A"}},null,null,null,null,null,{"$f":"VLOOKUP(G6626:G16624,'Location Type (FICM Codes)'!$A$7:$C$188,3,FALSE)","v":{"$error":"#N/A"}}]
[null,null,null,null,null,null,null,{"$f":"VLOOKUP($G$2:$G$50000,'Location Type (FICM Codes)'!$A$7:$B$188,2,FALSE)","v":{"$error":"#N/A"}},null,null,null,null,null,{"$f":"VLOOKUP(G6631:G16629,'Location Type (FICM Codes)'!$A$7:$C$188,3,FALSE)","v":{"$error":"#N/A"}}]
[null,null,null,null,null,null,null,{"$f":"VLOOKUP($G$2:$G$50000,'Location Type (FICM Codes)'!$A$7:$B$188,2,FALSE)","v":{"$error":"#N/A"}},null,null,null,null,null,{"$f":"VLOOKUP(G6632:G16630,'Location Type (FICM Codes)'!$A$7:$C$188,3,FALSE)","v":{"$error":"#N/A"}}]
[null,null,null,null,null,null,null,{"$f":"VLOOKUP($G$2:$G$50000,'Location Type (FICM Codes)'!$A$7:$B$188,2,FALSE)","v":{"$error":"#N/A"}},null,null,null,null,null,{"$f":"VLOOKUP(G6638:G16636,'Location Type (FICM Codes)'!$A$7:$C$188,3,FALSE)","v":{"$error":"#N/A"}}]
[null,null,null,null,null,null,null,{"$f":"VLOOKUP($G$2:$G$50000,'Location Type (FICM Codes)'!$A$7:$B$188,2,FALSE)","v":{"$error":"#N/A"}},null,null,null,null,null,{"$f":"VLOOKUP(G6641:G16639,'Location Type (FICM Codes)'!$A$7:$C$188,3,FALSE)","v":{"$error":"#N/A"}}]
[null,null,null,null,null,null,null,{"$f":"VLOOKUP($G$2:$G$50000,'Location Type (FICM Codes)'!$A$7:$B$188,2,FALSE)","v":{"$error":"#N/A"}},null,null,null,null,null,{"$f":"VLOOKUP(G6646:G16644,'Location Type (FICM Codes)'!$A$7:$C$188,3,FALSE)","v":{"$error":"#N/A"}}]
[null,null,null,null,null,null,null,{"$f":"VLOOKUP($G$2:$G$50000,'Location Type (FICM Codes)'!$A$7:$B$188,2,FALSE)","v":{"$error":"#N/A"}},null,null,null,null,null,{"$f":"VLOOKUP(G6647:G16645,'Location Type (FICM Codes)'!$A$7:$C$188,3,FALSE)","v":{"$error":"#N/A"}}]
[null,null,null,null,null,null,null,{"$f":"VLOOKUP($G$2:$G$50000,'Location Type (FICM Codes)'!$A$7:$B$188,2,FALSE)","v":{"$error":"#N/A"}},null,null,null,null,null,{"$f":"VLOOKUP(G6651:G16649,'Location Type (FICM Codes)'!$A$7:$C$188,3,FALSE)","v":{"$error":"#N/A"}}]
[null,null,null,null,null,null,null,{"$f":"VLOOKUP($G$2:$G$50000,'Location Type (FICM Codes)'!$A$7:$B$188,2,FALSE)","v":{"$error":"#N/A"}},null,null,null,null,null,{"$f":"VLOOKUP(G6656:G16654,'Location Type (FICM Codes)'!$A$7:$C$188,3,FALSE)","v":{"$error":"#N/A"}}]
[null,null,null,null,null,null,null,{"$f":"VLOOKUP($G$2:$G$50000,'Location Type (FICM Codes)'!$A$7:$B$188,2,FALSE)","v":{"$error":"#N/A"}},null,null,null,null,null,{"$f":"VLOOKUP(G6661:G16659,'Location Type (FICM Codes)'!$A$7:$C$188,3,FALSE)","v":{"$error":"#N/A"}}]
[null,null,null,null,null,null,null,{"$f":"VLOOKUP($G$2:$G$50000,'Location Type (FICM Codes)'!$A$7:$B$188,2,FALSE)","v":{"$error":"#N/A"}},null,null,null,null,null,{"$f":"VLOOKUP(G6662:G16660,'Location Type (FICM Codes)'!$A$7:$C$188,3,FALSE)","v":{"$error":"#N/A"}}]
[null,null,null,null,null,null,null,{"$f":"VLOOKUP($G$2:$G$50000,'Location Type (FICM Codes)'!$A$7:$B$188,2,FALSE)","v":{"$error":"#N/A"}},null,null,null,null,null,{"$f":"VLOOKUP(G6668:G16666,'Location Type (FICM Codes)'!$A$7:$C$188,3,FALSE)","v":{"$error":"#N/A"}}]
[null,null,null,null,null,null,null,{"$f":"VLOOKUP($G$2:$G$50000,'Location Type (FICM Codes)'!$A$7:$B$188,2,FALSE)","v":{"$error":"#N/A"}},null,null,null,null,null,{"$f":"VLOOKUP(G6671:G16669,'Location Type (FICM Codes)'!$A$7:$C$188,3,FALSE)","v":{"$error":"#N/A"}}]
[null,null,null,null,null,null,null,{"$f":"VLOOKUP($G$2:$G$50000,'Location Type (FICM Codes)'!$A$7:$B$188,2,FALSE)","v":{"$error":"#N/A"}},null,null,null,null,null,{"$f":"VLOOKUP(G6676:G16674,'Location Type (FICM Codes)'!$A$7:$C$188,3,FALSE)","v":{"$error":"#N/A"}}]
[null,null,null,null,null,null,null,{"$f":"VLOOKUP($G$2:$G$50000,'Location Type (FICM Codes)'!$A$7:$B$188,2,FALSE)","v":{"$error":"#N/A"}},null,null,null,null,null,{"$f":"VLOOKUP(G6677:G16675,'Location Type (FICM Codes)'!$A$7:$C$188,3,FALSE)","v":{"$error":"#N/A"}}]
[null,null,null,null,null,null,null,{"$f":"VLOOKUP($G$2:$G$50000,'Location Type (FICM Codes)'!$A$7:$B$188,2,FALSE)","v":{"$error":"#N/A"}},null,null,null,null,null,{"$f":"VLOOKUP(G6681:G16679,'Location Type (FICM Codes)'!$A$7:$C$188,3,FALSE)","v":{"$error":"#N/A"}}]
[null,null,null,null,null,null,null,{"$f":"VLOOKUP($G$2:$G$50000,'Location Type (FICM Codes)'!$A$7:$B$188,2,FALSE)","v":{"$error":"#N/A"}},null,null,null,null,null,{"$f":"VLOOKUP(G6686:G16684,'Location Type (FICM Codes)'!$A$7:$C$188,3,FALSE)","v":{"$error":"#N/A"}}]
[null,null,null,null,null,null,null,{"$f":"VLOOKUP($G$2:$G$50000,'Location Type (FICM Codes)'!$A$7:$B$188,2,FALSE)","v":{"$error":"#N/A"}},null,null,null,null,null,{"$f":"VLOOKUP(G6691:G16689,'Location Type (FICM Codes)'!$A$7:$C$188,3,FALSE)","v":{"$error":"#N/A"}}]
[null,null,null,null,null,null,null,{"$f":"VLOOKUP($G$2:$G$50000,'Location Type (FICM Codes)'!$A$7:$B$188,2,FALSE)","v":{"$error":"#N/A"}},null,null,null,null,null,{"$f":"VLOOKUP(G6692:G16690,'Location Type (FICM Codes)'!$A$7:$C$188,3,FALSE)","v":{"$error":"#N/A"}}]
[null,null,null,null,null,null,null,{"$f":"VLOOKUP($G$2:$G$50000,'Location Type (FICM Codes)'!$A$7:$B$188,2,FALSE)","v":{"$error":"#N/A"}},null,null,null,null,null,{"$f":"VLOOKUP(G6698:G16696,'Location Type (FICM Codes)'!$A$7:$C$188,3,FALSE)","v":{"$error":"#N/A"}}]
[null,null,null,null,null,null,null,{"$f":"VLOOKUP($G$2:$G$50000,'Location Type (FICM Codes)'!$A$7:$B$188,2,FALSE)","v":{"$error":"#N/A"}},null,null,null,null,null,{"$f":"VLOOKUP(G6701:G16699,'Location Type (FICM Codes)'!$A$7:$C$188,3,FALSE)","v":{"$error":"#N/A"}}]
[null,null,null,null,null,null,null,{"$f":"VLOOKUP($G$2:$G$50000,'Location Type (FICM Codes)'!$A$7:$B$188,2,FALSE)","v":{"$error":"#N/A"}},null,null,null,null,null,{"$f":"VLOOKUP(G6706:G16704,'Location Type (FICM Codes)'!$A$7:$C$188,3,FALSE)","v":{"$error":"#N/A"}}]
[null,null,null,null,null,null,null,{"$f":"VLOOKUP($G$2:$G$50000,'Location Type (FICM Codes)'!$A$7:$B$188,2,FALSE)","v":{"$error":"#N/A"}},null,null,null,null,null,{"$f":"VLOOKUP(G6707:G16705,'Location Type (FICM Codes)'!$A$7:$C$188,3,FALSE)","v":{"$error":"#N/A"}}]
[null,null,null,null,null,null,null,{"$f":"VLOOKUP($G$2:$G$50000,'Location Type (FICM Codes)'!$A$7:$B$188,2,FALSE)","v":{"$error":"#N/A"}},null,null,null,null,null,{"$f":"VLOOKUP(G6711:G16709,'Location Type (FICM Codes)'!$A$7:$C$188,3,FALSE)","v":{"$error":"#N/A"}}]
[null,null,null,null,null,null,null,{"$f":"VLOOKUP($G$2:$G$50000,'Location Type (FICM Codes)'!$A$7:$B$188,2,FALSE)","v":{"$error":"#N/A"}},null,null,null,null,null,{"$f":"VLOOKUP(G6716:G16714,'Location Type (FICM Codes)'!$A$7:$C$188,3,FALSE)","v":{"$error":"#N/A"}}]
[null,null,null,null,null,null,null,{"$f":"VLOOKUP($G$2:$G$50000,'Location Type (FICM Codes)'!$A$7:$B$188,2,FALSE)","v":{"$error":"#N/A"}},null,null,null,null,null,{"$f":"VLOOKUP(G6721:G16719,'Location Type (FICM Codes)'!$A$7:$C$188,3,FALSE)","v":{"$error":"#N/A"}}]
[null,null,null,null,null,null,null,{"$f":"VLOOKUP($G$2:$G$50000,'Location Type (FICM Codes)'!$A$7:$B$188,2,FALSE)","v":{"$error":"#N/A"}},null,null,null,null,null,{"$f":"VLOOKUP(G6722:G16720,'Location Type (FICM Codes)'!$A$7:$C$188,3,FALSE)","v":{"$error":"#N/A"}}]
[null,null,null,null,null,null,null,{"$f":"VLOOKUP($G$2:$G$50000,'Location Type (FICM Codes)'!$A$7:$B$188,2,FALSE)","v":{"$error":"#N/A"}},null,null,null,null,null,{"$f":"VLOOKUP(G6728:G16726,'Location Type (FICM Codes)'!$A$7:$C$188,3,FALSE)","v":{"$error":"#N/A"}}]
[null,null,null,null,null,null,null,{"$f":"VLOOKUP($G$2:$G$50000,'Location Type (FICM Codes)'!$A$7:$B$188,2,FALSE)","v":{"$error":"#N/A"}},null,null,null,null,null,{"$f":"VLOOKUP(G6731:G16729,'Location Type (FICM Codes)'!$A$7:$C$188,3,FALSE)","v":{"$error":"#N/A"}}]
[null,null,null,null,null,null,null,{"$f":"VLOOKUP($G$2:$G$50000,'Location Type (FICM Codes)'!$A$7:$B$188,2,FALSE)","v":{"$error":"#N/A"}},null,null,null,null,null,{"$f":"VLOOKUP(G6736:G16734,'Location Type (FICM Codes)'!$A$7:$C$188,3,FALSE)","v":{"$error":"#N/A"}}]
[null,null,null,null,null,null,null,{"$f":"VLOOKUP($G$2:$G$50000,'Location Type (FICM Codes)'!$A$7:$B$188,2,FALSE)","v":{"$error":"#N/A"}},null,null,null,null,null,{"$f":"VLOOKUP(G6737:G16735,'Location Type (FICM Codes)'!$A$7:$C$188,3,FALSE)","v":{"$error":"#N/A"}}]
[null,null,null,null,null,null,null,{"$f":"VLOOKUP($G$2:$G$50000,'Location Type (FICM Codes)'!$A$7:$B$188,2,FALSE)","v":{"$error":"#N/A"}},null,null,null,null,null,{"$f":"VLOOKUP(G6741:G16739,'Location Type (FICM Codes)'!$A$7:$C$188,3,FALSE)","v":{"$error":"#N/A"}}]
[null,null,null,null,null,null,null,{"$f":"VLOOKUP($G$2:$G$50000,'Location Type (FICM Codes)'!$A$7:$B$188,2,FALSE)","v":{"$error":"#N/A"}},null,null,null,null,null,{"$f":"VLOOKUP(G6746:G16744,'Location Type (FICM Codes)'!$A$7:$C$188,3,FALSE)","v":{"$error":"#N/A"}}]
[null,null,null,null,null,null,null,{"$f":"VLOOKUP($G$2:$G$50000,'Location Type (FICM Codes)'!$A$7:$B$188,2,FALSE)","v":{"$error":"#N/A"}},null,null,null,null,null,{"$f":"VLOOKUP(G6751:G16749,'Location Type (FICM Codes)'!$A$7:$C$188,3,FALSE)","v":{"$error":"#N/A"}}]
[null,null,null,null,null,null,null,{"$f":"VLOOKUP($G$2:$G$50000,'Location Type (FICM Codes)'!$A$7:$B$188,2,FALSE)","v":{"$error":"#N/A"}},null,null,null,null,null,{"$f":"VLOOKUP(G6752:G16750,'Location Type (FICM Codes)'!$A$7:$C$188,3,FALSE)","v":{"$error":"#N/A"}}]
[null,null,null,null,null,null,null,{"$f":"VLOOKUP($G$2:$G$50000,'Location Type (FICM Codes)'!$A$7:$B$188,2,FALSE)","v":{"$error":"#N/A"}},null,null,null,null,null,{"$f":"VLOOKUP(G6758:G16756,'Location Type (FICM Codes)'!$A$7:$C$188,3,FALSE)","v":{"$error":"#N/A"}}]
[null,null,null,null,null,null,null,{"$f":"VLOOKUP($G$2:$G$50000,'Location Type (FICM Codes)'!$A$7:$B$188,2,FALSE)","v":{"$error":"#N/A"}},null,null,null,null,null,{"$f":"VLOOKUP(G6761:G16759,'Location Type (FICM Codes)'!$A$7:$C$188,3,FALSE)","v":{"$error":"#N/A"}}]
[null,null,null,null,null,null,null,{"$f":"VLOOKUP($G$2:$G$50000,'Location Type (FICM Codes)'!$A$7:$B$188,2,FALSE)","v":{"$error":"#N/A"}},null,null,null,null,null,{"$f":"VLOOKUP(G6766:G16764,'Location Type (FICM Codes)'!$A$7:$C$188,3,FALSE)","v":{"$error":"#N/A"}}]
[null,null,null,null,null,null,null,{"$f":"VLOOKUP($G$2:$G$50000,'Location Type (FICM Codes)'!$A$7:$B$188,2,FALSE)","v":{"$error":"#N/A"}},null,null,null,null,null,{"$f":"VLOOKUP(G6767:G16765,'Location Type (FICM Codes)'!$A$7:$C$188,3,FALSE)","v":{"$error":"#N/A"}}]
[null,null,null,null,null,null,null,{"$f":"VLOOKUP($G$2:$G$50000,'Location Type (FICM Codes)'!$A$7:$B$188,2,FALSE)","v":{"$error":"#N/A"}},null,null,null,null,null,{"$f":"VLOOKUP(G6771:G16769,'Location Type (FICM Codes)'!$A$7:$C$188,3,FALSE)","v":{"$error":"#N/A"}}]
[null,null,null,null,null,null,null,{"$f":"VLOOKUP($G$2:$G$50000,'Location Type (FICM Codes)'!$A$7:$B$188,2,FALSE)","v":{"$error":"#N/A"}},null,null,null,null,null,{"$f":"VLOOKUP(G6776:G16774,'Location Type (FICM Codes)'!$A$7:$C$188,3,FALSE)","v":{"$error":"#N/A"}}]
[null,null,null,null,null,null,null,{"$f":"VLOOKUP($G$2:$G$50000,'Location Type (FICM Codes)'!$A$7:$B$188,2,FALSE)","v":{"$error":"#N/A"}},null,null,null,null,null,{"$f":"VLOOKUP(G6781:G16779,'Location Type (FICM Codes)'!$A$7:$C$188,3,FALSE)","v":{"$error":"#N/A"}}]
[null,null,null,null,null,null,null,{"$f":"VLOOKUP($G$2:$G$50000,'Location Type (FICM Codes)'!$A$7:$B$188,2,FALSE)","v":{"$error":"#N/A"}},null,null,null,null,null,{"$f":"VLOOKUP(G6782:G16780,'Location Type (FICM Codes)'!$A$7:$C$188,3,FALSE)","v":{"$error":"#N/A"}}]
[null,null,null,null,null,null,null,{"$f":"VLOOKUP($G$2:$G$50000,'Location Type (FICM Codes)'!$A$7:$B$188,2,FALSE)","v":{"$error":"#N/A"}},null,null,null,null,null,{"$f":"VLOOKUP(G6788:G16786,'Location Type (FICM Codes)'!$A$7:$C$188,3,FALSE)","v":{"$error":"#N/A"}}]
[null,null,null,null,null,null,null,{"$f":"VLOOKUP($G$2:$G$50000,'Location Type (FICM Codes)'!$A$7:$B$188,2,FALSE)","v":{"$error":"#N/A"}},null,null,null,null,null,{"$f":"VLOOKUP(G6791:G16789,'Location Type (FICM Codes)'!$A$7:$C$188,3,FALSE)","v":{"$error":"#N/A"}}]
[null,null,null,null,null,null,null,{"$f":"VLOOKUP($G$2:$G$50000,'Location Type (FICM Codes)'!$A$7:$B$188,2,FALSE)","v":{"$error":"#N/A"}},null,null,null,null,null,{"$f":"VLOOKUP(G6796:G16794,'Location Type (FICM Codes)'!$A$7:$C$188,3,FALSE)","v":{"$error":"#N/A"}}]
[null,null,null,null,null,null,null,{"$f":"VLOOKUP($G$2:$G$50000,'Location Type (FICM Codes)'!$A$7:$B$188,2,FALSE)","v":{"$error":"#N/A"}},null,null,null,null,null,{"$f":"VLOOKUP(G6797:G16795,'Location Type (FICM Codes)'!$A$7:$C$188,3,FALSE)","v":{"$error":"#N/A"}}]
[null,null,null,null,null,null,null,{"$f":"VLOOKUP($G$2:$G$50000,'Location Type (FICM Codes)'!$A$7:$B$188,2,FALSE)","v":{"$error":"#N/A"}},null,null,null,null,null,{"$f":"VLOOKUP(G6801:G16799,'Location Type (FICM Codes)'!$A$7:$C$188,3,FALSE)","v":{"$error":"#N/A"}}]
[null,null,null,null,null,null,null,{"$f":"VLOOKUP($G$2:$G$50000,'Location Type (FICM Codes)'!$A$7:$B$188,2,FALSE)","v":{"$error":"#N/A"}},null,null,null,null,null,{"$f":"VLOOKUP(G6806:G16804,'Location Type (FICM Codes)'!$A$7:$C$188,3,FALSE)","v":{"$error":"#N/A"}}]
[null,null,null,null,null,null,null,{"$f":"VLOOKUP($G$2:$G$50000,'Location Type (FICM Codes)'!$A$7:$B$188,2,FALSE)","v":{"$error":"#N/A"}},null,null,null,null,null,{"$f":"VLOOKUP(G6811:G16809,'Location Type (FICM Codes)'!$A$7:$C$188,3,FALSE)","v":{"$error":"#N/A"}}]
[null,null,null,null,null,null,null,{"$f":"VLOOKUP($G$2:$G$50000,'Location Type (FICM Codes)'!$A$7:$B$188,2,FALSE)","v":{"$error":"#N/A"}},null,null,null,null,null,{"$f":"VLOOKUP(G6812:G16810,'Location Type (FICM Codes)'!$A$7:$C$188,3,FALSE)","v":{"$error":"#N/A"}}]
[null,null,null,null,null,null,null,{"$f":"VLOOKUP($G$2:$G$50000,'Location Type (FICM Codes)'!$A$7:$B$188,2,FALSE)","v":{"$error":"#N/A"}},null,null,null,null,null,{"$f":"VLOOKUP(G6818:G16816,'Location Type (FICM Codes)'!$A$7:$C$188,3,FALSE)","v":{"$error":"#N/A"}}]
[null,null,null,null,null,null,null,{"$f":"VLOOKUP($G$2:$G$50000,'Location Type (FICM Codes)'!$A$7:$B$188,2,FALSE)","v":{"$error":"#N/A"}},null,null,null,null,null,{"$f":"VLOOKUP(G6821:G16819,'Location Type (FICM Codes)'!$A$7:$C$188,3,FALSE)","v":{"$error":"#N/A"}}]
[null,null,null,null,null,null,null,{"$f":"VLOOKUP($G$2:$G$50000,'Location Type (FICM Codes)'!$A$7:$B$188,2,FALSE)","v":{"$error":"#N/A"}},null,null,null,null,null,{"$f":"VLOOKUP(G6826:G16824,'Location Type (FICM Codes)'!$A$7:$C$188,3,FALSE)","v":{"$error":"#N/A"}}]
[null,null,null,null,null,null,null,{"$f":"VLOOKUP($G$2:$G$50000,'Location Type (FICM Codes)'!$A$7:$B$188,2,FALSE)","v":{"$error":"#N/A"}},null,null,null,null,null,{"$f":"VLOOKUP(G6827:G16825,'Location Type (FICM Codes)'!$A$7:$C$188,3,FALSE)","v":{"$error":"#N/A"}}]
[null,null,null,null,null,null,null,{"$f":"VLOOKUP($G$2:$G$50000,'Location Type (FICM Codes)'!$A$7:$B$188,2,FALSE)","v":{"$error":"#N/A"}},null,null,null,null,null,{"$f":"VLOOKUP(G6831:G16829,'Location Type (FICM Codes)'!$A$7:$C$188,3,FALSE)","v":{"$error":"#N/A"}}]
[null,null,null,null,null,null,null,{"$f":"VLOOKUP($G$2:$G$50000,'Location Type (FICM Codes)'!$A$7:$B$188,2,FALSE)","v":{"$error":"#N/A"}},null,null,null,null,null,{"$f":"VLOOKUP(G6836:G16834,'Location Type (FICM Codes)'!$A$7:$C$188,3,FALSE)","v":{"$error":"#N/A"}}]
[null,null,null,null,null,null,null,{"$f":"VLOOKUP($G$2:$G$50000,'Location Type (FICM Codes)'!$A$7:$B$188,2,FALSE)","v":{"$error":"#N/A"}},null,null,null,null,null,{"$f":"VLOOKUP(G6841:G16839,'Location Type (FICM Codes)'!$A$7:$C$188,3,FALSE)","v":{"$error":"#N/A"}}]
[null,null,null,null,null,null,null,{"$f":"VLOOKUP($G$2:$G$50000,'Location Type (FICM Codes)'!$A$7:$B$188,2,FALSE)","v":{"$error":"#N/A"}},null,null,null,null,null,{"$f":"VLOOKUP(G6842:G16840,'Location Type (FICM Codes)'!$A$7:$C$188,3,FALSE)","v":{"$error":"#N/A"}}]
[null,null,null,null,null,null,null,{"$f":"VLOOKUP($G$2:$G$50000,'Location Type (FICM Codes)'!$A$7:$B$188,2,FALSE)","v":{"$error":"#N/A"}},null,null,null,null,null,{"$f":"VLOOKUP(G6848:G16846,'Location Type (FICM Codes)'!$A$7:$C$188,3,FALSE)","v":{"$error":"#N/A"}}]
[null,null,null,null,null,null,null,{"$f":"VLOOKUP($G$2:$G$50000,'Location Type (FICM Codes)'!$A$7:$B$188,2,FALSE)","v":{"$error":"#N/A"}},null,null,null,null,null,{"$f":"VLOOKUP(G6851:G16849,'Location Type (FICM Codes)'!$A$7:$C$188,3,FALSE)","v":{"$error":"#N/A"}}]
[null,null,null,null,null,null,null,{"$f":"VLOOKUP($G$2:$G$50000,'Location Type (FICM Codes)'!$A$7:$B$188,2,FALSE)","v":{"$error":"#N/A"}},null,null,null,null,null,{"$f":"VLOOKUP(G6856:G16854,'Location Type (FICM Codes)'!$A$7:$C$188,3,FALSE)","v":{"$error":"#N/A"}}]
[null,null,null,null,null,null,null,{"$f":"VLOOKUP($G$2:$G$50000,'Location Type (FICM Codes)'!$A$7:$B$188,2,FALSE)","v":{"$error":"#N/A"}},null,null,null,null,null,{"$f":"VLOOKUP(G6857:G16855,'Location Type (FICM Codes)'!$A$7:$C$188,3,FALSE)","v":{"$error":"#N/A"}}]
[null,null,null,null,null,null,null,{"$f":"VLOOKUP($G$2:$G$50000,'Location Type (FICM Codes)'!$A$7:$B$188,2,FALSE)","v":{"$error":"#N/A"}},null,null,null,null,null,{"$f":"VLOOKUP(G6862:G16860,'Location Type (FICM Codes)'!$A$7:$C$188,3,FALSE)","v":{"$error":"#N/A"}}]
[null,null,null,null,null,null,null,{"$f":"VLOOKUP($G$2:$G$50000,'Location Type (FICM Codes)'!$A$7:$B$188,2,FALSE)","v":{"$error":"#N/A"}},null,null,null,null,null,{"$f":"VLOOKUP(G6866:G16864,'Location Type (FICM Codes)'!$A$7:$C$188,3,FALSE)","v":{"$error":"#N/A"}}]
[null,null,null,null,null,null,null,{"$f":"VLOOKUP($G$2:$G$50000,'Location Type (FICM Codes)'!$A$7:$B$188,2,FALSE)","v":{"$error":"#N/A"}},null,null,null,null,null,{"$f":"VLOOKUP(G6871:G16869,'Location Type (FICM Codes)'!$A$7:$C$188,3,FALSE)","v":{"$error":"#N/A"}}]
[null,null,null,null,null,null,null,{"$f":"VLOOKUP($G$2:$G$50000,'Location Type (FICM Codes)'!$A$7:$B$188,2,FALSE)","v":{"$error":"#N/A"}},null,null,null,null,null,{"$f":"VLOOKUP(G6872:G16870,'Location Type (FICM Codes)'!$A$7:$C$188,3,FALSE)","v":{"$error":"#N/A"}}]
[null,null,null,null,null,null,null,{"$f":"VLOOKUP($G$2:$G$50000,'Location Type (FICM Codes)'!$A$7:$B$188,2,FALSE)","v":{"$error":"#N/A"}},null,null,null,null,null,{"$f":"VLOOKUP(G6878:G16876,'Location Type (FICM Codes)'!$A$7:$C$188,3,FALSE)","v":{"$error":"#N/A"}}]
[null,null,null,null,null,null,null,{"$f":"VLOOKUP($G$2:$G$50000,'Location Type (FICM Codes)'!$A$7:$B$188,2,FALSE)","v":{"$error":"#N/A"}},null,null,null,null,null,{"$f":"VLOOKUP(G6881:G16879,'Location Type (FICM Codes)'!$A$7:$C$188,3,FALSE)","v":{"$error":"#N/A"}}]
[null,null,null,null,null,null,null,{"$f":"VLOOKUP($G$2:$G$50000,'Location Type (FICM Codes)'!$A$7:$B$188,2,FALSE)","v":{"$error":"#N/A"}},null,null,null,null,null,{"$f":"VLOOKUP(G6886:G16884,'Location Type (FICM Codes)'!$A$7:$C$188,3,FALSE)","v":{"$error":"#N/A"}}]
[null,null,null,null,null,null,null,{"$f":"VLOOKUP($G$2:$G$50000,'Location Type (FICM Codes)'!$A$7:$B$188,2,FALSE)","v":{"$error":"#N/A"}},null,null,null,null,null,{"$f":"VLOOKUP(G6887:G16885,'Location Type (FICM Codes)'!$A$7:$C$188,3,FALSE)","v":{"$error":"#N/A"}}]
[null,null,null,null,null,null,null,{"$f":"VLOOKUP($G$2:$G$50000,'Location Type (FICM Codes)'!$A$7:$B$188,2,FALSE)","v":{"$error":"#N/A"}},null,null,null,null,null,{"$f":"VLOOKUP(G6892:G16890,'Location Type (FICM Codes)'!$A$7:$C$188,3,FALSE)","v":{"$error":"#N/A"}}]
[null,null,null,null,null,null,null,{"$f":"VLOOKUP($G$2:$G$50000,'Location Type (FICM Codes)'!$A$7:$B$188,2,FALSE)","v":{"$error":"#N/A"}},null,null,null,null,null,{"$f":"VLOOKUP(G6896:G16894,'Location Type (FICM Codes)'!$A$7:$C$188,3,FALSE)","v":{"$error":"#N/A"}}]
[null,null,null,null,null,null,null,{"$f":"VLOOKUP($G$2:$G$50000,'Location Type (FICM Codes)'!$A$7:$B$188,2,FALSE)","v":{"$error":"#N/A"}},null,null,null,null,null,{"$f":"VLOOKUP(G6901:G16899,'Location Type (FICM Codes)'!$A$7:$C$188,3,FALSE)","v":{"$error":"#N/A"}}]
[null,null,null,null,null,null,null,{"$f":"VLOOKUP($G$2:$G$50000,'Location Type (FICM Codes)'!$A$7:$B$188,2,FALSE)","v":{"$error":"#N/A"}},null,null,null,null,null,{"$f":"VLOOKUP(G6902:G16900,'Location Type (FICM Codes)'!$A$7:$C$188,3,FALSE)","v":{"$error":"#N/A"}}]
[null,null,null,null,null,null,null,{"$f":"VLOOKUP($G$2:$G$50000,'Location Type (FICM Codes)'!$A$7:$B$188,2,FALSE)","v":{"$error":"#N/A"}},null,null,null,null,null,{"$f":"VLOOKUP(G6908:G16906,'Location Type (FICM Codes)'!$A$7:$C$188,3,FALSE)","v":{"$error":"#N/A"}}]
[null,null,null,null,null,null,null,{"$f":"VLOOKUP($G$2:$G$50000,'Location Type (FICM Codes)'!$A$7:$B$188,2,FALSE)","v":{"$error":"#N/A"}},null,null,null,null,null,{"$f":"VLOOKUP(G6911:G16909,'Location Type (FICM Codes)'!$A$7:$C$188,3,FALSE)","v":{"$error":"#N/A"}}]
[null,null,null,null,null,null,null,{"$f":"VLOOKUP($G$2:$G$50000,'Location Type (FICM Codes)'!$A$7:$B$188,2,FALSE)","v":{"$error":"#N/A"}},null,null,null,null,null,{"$f":"VLOOKUP(G6916:G16914,'Location Type (FICM Codes)'!$A$7:$C$188,3,FALSE)","v":{"$error":"#N/A"}}]
[null,null,null,null,null,null,null,{"$f":"VLOOKUP($G$2:$G$50000,'Location Type (FICM Codes)'!$A$7:$B$188,2,FALSE)","v":{"$error":"#N/A"}},null,null,null,null,null,{"$f":"VLOOKUP(G6917:G16915,'Location Type (FICM Codes)'!$A$7:$C$188,3,FALSE)","v":{"$error":"#N/A"}}]
[null,null,null,null,null,null,null,{"$f":"VLOOKUP($G$2:$G$50000,'Location Type (FICM Codes)'!$A$7:$B$188,2,FALSE)","v":{"$error":"#N/A"}},null,null,null,null,null,{"$f":"VLOOKUP(G6922:G16920,'Location Type (FICM Codes)'!$A$7:$C$188,3,FALSE)","v":{"$error":"#N/A"}}]
[null,null,null,null,null,null,null,{"$f":"VLOOKUP($G$2:$G$50000,'Location Type (FICM Codes)'!$A$7:$B$188,2,FALSE)","v":{"$error":"#N/A"}},null,null,null,null,null,{"$f":"VLOOKUP(G6926:G16924,'Location Type (FICM Codes)'!$A$7:$C$188,3,FALSE)","v":{"$error":"#N/A"}}]
[null,null,null,null,null,null,null,{"$f":"VLOOKUP($G$2:$G$50000,'Location Type (FICM Codes)'!$A$7:$B$188,2,FALSE)","v":{"$error":"#N/A"}},null,null,null,null,null,{"$f":"VLOOKUP(G6931:G16929,'Location Type (FICM Codes)'!$A$7:$C$188,3,FALSE)","v":{"$error":"#N/A"}}]
[null,null,null,null,null,null,null,{"$f":"VLOOKUP($G$2:$G$50000,'Location Type (FICM Codes)'!$A$7:$B$188,2,FALSE)","v":{"$error":"#N/A"}},null,null,null,null,null,{"$f":"VLOOKUP(G6932:G16930,'Location Type (FICM Codes)'!$A$7:$C$188,3,FALSE)","v":{"$error":"#N/A"}}]
[null,null,null,null,null,null,null,{"$f":"VLOOKUP($G$2:$G$50000,'Location Type (FICM Codes)'!$A$7:$B$188,2,FALSE)","v":{"$error":"#N/A"}},null,null,null,null,null,{"$f":"VLOOKUP(G6938:G16936,'Location Type (FICM Codes)'!$A$7:$C$188,3,FALSE)","v":{"$error":"#N/A"}}]
[null,null,null,null,null,null,null,{"$f":"VLOOKUP($G$2:$G$50000,'Location Type (FICM Codes)'!$A$7:$B$188,2,FALSE)","v":{"$error":"#N/A"}},null,null,null,null,null,{"$f":"VLOOKUP(G6941:G16939,'Location Type (FICM Codes)'!$A$7:$C$188,3,FALSE)","v":{"$error":"#N/A"}}]
[null,null,null,null,null,null,null,{"$f":"VLOOKUP($G$2:$G$50000,'Location Type (FICM Codes)'!$A$7:$B$188,2,FALSE)","v":{"$error":"#N/A"}},null,null,null,null,null,{"$f":"VLOOKUP(G6946:G16944,'Location Type (FICM Codes)'!$A$7:$C$188,3,FALSE)","v":{"$error":"#N/A"}}]
[null,null,null,null,null,null,null,{"$f":"VLOOKUP($G$2:$G$50000,'Location Type (FICM Codes)'!$A$7:$B$188,2,FALSE)","v":{"$error":"#N/A"}},null,null,null,null,null,{"$f":"VLOOKUP(G6947:G16945,'Location Type (FICM Codes)'!$A$7:$C$188,3,FALSE)","v":{"$error":"#N/A"}}]
[null,null,null,null,null,null,null,{"$f":"VLOOKUP($G$2:$G$50000,'Location Type (FICM Codes)'!$A$7:$B$188,2,FALSE)","v":{"$error":"#N/A"}},null,null,null,null,null,{"$f":"VLOOKUP(G6952:G16950,'Location Type (FICM Codes)'!$A$7:$C$188,3,FALSE)","v":{"$error":"#N/A"}}]
[null,null,null,null,null,null,null,{"$f":"VLOOKUP($G$2:$G$50000,'Location Type (FICM Codes)'!$A$7:$B$188,2,FALSE)","v":{"$error":"#N/A"}},null,null,null,null,null,{"$f":"VLOOKUP(G6956:G16954,'Location Type (FICM Codes)'!$A$7:$C$188,3,FALSE)","v":{"$error":"#N/A"}}]
[null,null,null,null,null,null,null,{"$f":"VLOOKUP($G$2:$G$50000,'Location Type (FICM Codes)'!$A$7:$B$188,2,FALSE)","v":{"$error":"#N/A"}},null,null,null,null,null,{"$f":"VLOOKUP(G6961:G16959,'Location Type (FICM Codes)'!$A$7:$C$188,3,FALSE)","v":{"$error":"#N/A"}}]
[null,null,null,null,null,null,null,{"$f":"VLOOKUP($G$2:$G$50000,'Location Type (FICM Codes)'!$A$7:$B$188,2,FALSE)","v":{"$error":"#N/A"}},null,null,null,null,null,{"$f":"VLOOKUP(G6962:G16960,'Location Type (FICM Codes)'!$A$7:$C$188,3,FALSE)","v":{"$error":"#N/A"}}]
[null,null,null,null,null,null,null,{"$f":"VLOOKUP($G$2:$G$50000,'Location Type (FICM Codes)'!$A$7:$B$188,2,FALSE)","v":{"$error":"#N/A"}},null,null,null,null,null,{"$f":"VLOOKUP(G6968:G16966,'Location Type (FICM Codes)'!$A$7:$C$188,3,FALSE)","v":{"$error":"#N/A"}}]
[null,null,null,null,null,null,null,{"$f":"VLOOKUP($G$2:$G$50000,'Location Type (FICM Codes)'!$A$7:$B$188,2,FALSE)","v":{"$error":"#N/A"}},null,null,null,null,null,{"$f":"VLOOKUP(G6971:G16969,'Location Type (FICM Codes)'!$A$7:$C$188,3,FALSE)","v":{"$error":"#N/A"}}]
[null,null,null,null,null,null,null,{"$f":"VLOOKUP($G$2:$G$50000,'Location Type (FICM Codes)'!$A$7:$B$188,2,FALSE)","v":{"$error":"#N/A"}},null,null,null,null,null,{"$f":"VLOOKUP(G6976:G16974,'Location Type (FICM Codes)'!$A$7:$C$188,3,FALSE)","v":{"$error":"#N/A"}}]
[null,null,null,null,null,null,null,{"$f":"VLOOKUP($G$2:$G$50000,'Location Type (FICM Codes)'!$A$7:$B$188,2,FALSE)","v":{"$error":"#N/A"}},null,null,null,null,null,{"$f":"VLOOKUP(G6977:G16975,'Location Type (FICM Codes)'!$A$7:$C$188,3,FALSE)","v":{"$error":"#N/A"}}]
[null,null,null,null,null,null,null,{"$f":"VLOOKUP($G$2:$G$50000,'Location Type (FICM Codes)'!$A$7:$B$188,2,FALSE)","v":{"$error":"#N/A"}},null,null,null,null,null,{"$f":"VLOOKUP(G6982:G16980,'Location Type (FICM Codes)'!$A$7:$C$188,3,FALSE)","v":{"$error":"#N/A"}}]
[null,null,null,null,null,null,null,{"$f":"VLOOKUP($G$2:$G$50000,'Location Type (FICM Codes)'!$A$7:$B$188,2,FALSE)","v":{"$error":"#N/A"}},null,null,null,null,null,{"$f":"VLOOKUP(G6986:G16984,'Location Type (FICM Codes)'!$A$7:$C$188,3,FALSE)","v":{"$error":"#N/A"}}]
[null,null,null,null,null,null,null,{"$f":"VLOOKUP($G$2:$G$50000,'Location Type (FICM Codes)'!$A$7:$B$188,2,FALSE)","v":{"$error":"#N/A"}},null,null,null,null,null,{"$f":"VLOOKUP(G6991:G16989,'Location Type (FICM Codes)'!$A$7:$C$188,3,FALSE)","v":{"$error":"#N/A"}}]
[null,null,null,null,null,null,null,{"$f":"VLOOKUP($G$2:$G$50000,'Location Type (FICM Codes)'!$A$7:$B$188,2,FALSE)","v":{"$error":"#N/A"}},null,null,null,null,null,{"$f":"VLOOKUP(G6992:G16990,'Location Type (FICM Codes)'!$A$7:$C$188,3,FALSE)","v":{"$error":"#N/A"}}]
[null,null,null,null,null,null,null,{"$f":"VLOOKUP($G$2:$G$50000,'Location Type (FICM Codes)'!$A$7:$B$188,2,FALSE)","v":{"$error":"#N/A"}},null,null,null,null,null,{"$f":"VLOOKUP(G6998:G16996,'Location Type (FICM Codes)'!$A$7:$C$188,3,FALSE)","v":{"$error":"#N/A"}}]
[null,null,null,null,null,null,null,{"$f":"VLOOKUP($G$2:$G$50000,'Location Type (FICM Codes)'!$A$7:$B$188,2,FALSE)","v":{"$error":"#N/A"}},null,null,null,null,null,{"$f":"VLOOKUP(G7001:G16999,'Location Type (FICM Codes)'!$A$7:$C$188,3,FALSE)","v":{"$error":"#N/A"}}]
[null,null,null,null,null,null,null,{"$f":"VLOOKUP($G$2:$G$50000,'Location Type (FICM Codes)'!$A$7:$B$188,2,FALSE)","v":{"$error":"#N/A"}},null,null,null,null,null,{"$f":"VLOOKUP(G7006:G17004,'Location Type (FICM Codes)'!$A$7:$C$188,3,FALSE)","v":{"$error":"#N/A"}}]
[null,null,null,null,null,null,null,{"$f":"VLOOKUP($G$2:$G$50000,'Location Type (FICM Codes)'!$A$7:$B$188,2,FALSE)","v":{"$error":"#N/A"}},null,null,null,null,null,{"$f":"VLOOKUP(G7007:G17005,'Location Type (FICM Codes)'!$A$7:$C$188,3,FALSE)","v":{"$error":"#N/A"}}]
[null,null,null,null,null,null,null,{"$f":"VLOOKUP($G$2:$G$50000,'Location Type (FICM Codes)'!$A$7:$B$188,2,FALSE)","v":{"$error":"#N/A"}},null,null,null,null,null,{"$f":"VLOOKUP(G7012:G17010,'Location Type (FICM Codes)'!$A$7:$C$188,3,FALSE)","v":{"$error":"#N/A"}}]
[null,null,null,null,null,null,null,{"$f":"VLOOKUP($G$2:$G$50000,'Location Type (FICM Codes)'!$A$7:$B$188,2,FALSE)","v":{"$error":"#N/A"}},null,null,null,null,null,{"$f":"VLOOKUP(G7016:G17014,'Location Type (FICM Codes)'!$A$7:$C$188,3,FALSE)","v":{"$error":"#N/A"}}]
[null,null,null,null,null,null,null,{"$f":"VLOOKUP($G$2:$G$50000,'Location Type (FICM Codes)'!$A$7:$B$188,2,FALSE)","v":{"$error":"#N/A"}},null,null,null,null,null,{"$f":"VLOOKUP(G7021:G17019,'Location Type (FICM Codes)'!$A$7:$C$188,3,FALSE)","v":{"$error":"#N/A"}}]
[null,null,null,null,null,null,null,{"$f":"VLOOKUP($G$2:$G$50000,'Location Type (FICM Codes)'!$A$7:$B$188,2,FALSE)","v":{"$error":"#N/A"}},null,null,null,null,null,{"$f":"VLOOKUP(G7022:G17020,'Location Type (FICM Codes)'!$A$7:$C$188,3,FALSE)","v":{"$error":"#N/A"}}]
[null,null,null,null,null,null,null,{"$f":"VLOOKUP($G$2:$G$50000,'Location Type (FICM Codes)'!$A$7:$B$188,2,FALSE)","v":{"$error":"#N/A"}},null,null,null,null,null,{"$f":"VLOOKUP(G7028:G17026,'Location Type (FICM Codes)'!$A$7:$C$188,3,FALSE)","v":{"$error":"#N/A"}}]
[null,null,null,null,null,null,null,{"$f":"VLOOKUP($G$2:$G$50000,'Location Type (FICM Codes)'!$A$7:$B$188,2,FALSE)","v":{"$error":"#N/A"}},null,null,null,null,null,{"$f":"VLOOKUP(G7031:G17029,'Location Type (FICM Codes)'!$A$7:$C$188,3,FALSE)","v":{"$error":"#N/A"}}]
[null,null,null,null,null,null,null,{"$f":"VLOOKUP($G$2:$G$50000,'Location Type (FICM Codes)'!$A$7:$B$188,2,FALSE)","v":{"$error":"#N/A"}},null,null,null,null,null,{"$f":"VLOOKUP(G7036:G17034,'Location Type (FICM Codes)'!$A$7:$C$188,3,FALSE)","v":{"$error":"#N/A"}}]
[null,null,null,null,null,null,null,{"$f":"VLOOKUP($G$2:$G$50000,'Location Type (FICM Codes)'!$A$7:$B$188,2,FALSE)","v":{"$error":"#N/A"}},null,null,null,null,null,{"$f":"VLOOKUP(G7037:G17035,'Location Type (FICM Codes)'!$A$7:$C$188,3,FALSE)","v":{"$error":"#N/A"}}]
[null,null,null,null,null,null,null,{"$f":"VLOOKUP($G$2:$G$50000,'Location Type (FICM Codes)'!$A$7:$B$188,2,FALSE)","v":{"$error":"#N/A"}},null,null,null,null,null,{"$f":"VLOOKUP(G7042:G17040,'Location Type (FICM Codes)'!$A$7:$C$188,3,FALSE)","v":{"$error":"#N/A"}}]
[null,null,null,null,null,null,null,{"$f":"VLOOKUP($G$2:$G$50000,'Location Type (FICM Codes)'!$A$7:$B$188,2,FALSE)","v":{"$error":"#N/A"}},null,null,null,null,null,{"$f":"VLOOKUP(G7046:G17044,'Location Type (FICM Codes)'!$A$7:$C$188,3,FALSE)","v":{"$error":"#N/A"}}]
[null,null,null,null,null,null,null,{"$f":"VLOOKUP($G$2:$G$50000,'Location Type (FICM Codes)'!$A$7:$B$188,2,FALSE)","v":{"$error":"#N/A"}},null,null,null,null,null,{"$f":"VLOOKUP(G7051:G17049,'Location Type (FICM Codes)'!$A$7:$C$188,3,FALSE)","v":{"$error":"#N/A"}}]
[null,null,null,null,null,null,null,{"$f":"VLOOKUP($G$2:$G$50000,'Location Type (FICM Codes)'!$A$7:$B$188,2,FALSE)","v":{"$error":"#N/A"}},null,null,null,null,null,{"$f":"VLOOKUP(G7052:G17050,'Location Type (FICM Codes)'!$A$7:$C$188,3,FALSE)","v":{"$error":"#N/A"}}]
[null,null,null,null,null,null,null,{"$f":"VLOOKUP($G$2:$G$50000,'Location Type (FICM Codes)'!$A$7:$B$188,2,FALSE)","v":{"$error":"#N/A"}},null,null,null,null,null,{"$f":"VLOOKUP(G7058:G17056,'Location Type (FICM Codes)'!$A$7:$C$188,3,FALSE)","v":{"$error":"#N/A"}}]
[null,null,null,null,null,null,null,{"$f":"VLOOKUP($G$2:$G$50000,'Location Type (FICM Codes)'!$A$7:$B$188,2,FALSE)","v":{"$error":"#N/A"}},null,null,null,null,null,{"$f":"VLOOKUP(G7061:G17059,'Location Type (FICM Codes)'!$A$7:$C$188,3,FALSE)","v":{"$error":"#N/A"}}]
[null,null,null,null,null,null,null,{"$f":"VLOOKUP($G$2:$G$50000,'Location Type (FICM Codes)'!$A$7:$B$188,2,FALSE)","v":{"$error":"#N/A"}},null,null,null,null,null,{"$f":"VLOOKUP(G7066:G17064,'Location Type (FICM Codes)'!$A$7:$C$188,3,FALSE)","v":{"$error":"#N/A"}}]
[null,null,null,null,null,null,null,{"$f":"VLOOKUP($G$2:$G$50000,'Location Type (FICM Codes)'!$A$7:$B$188,2,FALSE)","v":{"$error":"#N/A"}},null,null,null,null,null,{"$f":"VLOOKUP(G7067:G17065,'Location Type (FICM Codes)'!$A$7:$C$188,3,FALSE)","v":{"$error":"#N/A"}}]
[null,null,null,null,null,null,null,{"$f":"VLOOKUP($G$2:$G$50000,'Location Type (FICM Codes)'!$A$7:$B$188,2,FALSE)","v":{"$error":"#N/A"}},null,null,null,null,null,{"$f":"VLOOKUP(G7072:G17070,'Location Type (FICM Codes)'!$A$7:$C$188,3,FALSE)","v":{"$error":"#N/A"}}]
[null,null,null,null,null,null,null,{"$f":"VLOOKUP($G$2:$G$50000,'Location Type (FICM Codes)'!$A$7:$B$188,2,FALSE)","v":{"$error":"#N/A"}},null,null,null,null,null,{"$f":"VLOOKUP(G7076:G17074,'Location Type (FICM Codes)'!$A$7:$C$188,3,FALSE)","v":{"$error":"#N/A"}}]
[null,null,null,null,null,null,null,{"$f":"VLOOKUP($G$2:$G$50000,'Location Type (FICM Codes)'!$A$7:$B$188,2,FALSE)","v":{"$error":"#N/A"}},null,null,null,null,null,{"$f":"VLOOKUP(G7081:G17079,'Location Type (FICM Codes)'!$A$7:$C$188,3,FALSE)","v":{"$error":"#N/A"}}]
[null,null,null,null,null,null,null,{"$f":"VLOOKUP($G$2:$G$50000,'Location Type (FICM Codes)'!$A$7:$B$188,2,FALSE)","v":{"$error":"#N/A"}},null,null,null,null,null,{"$f":"VLOOKUP(G7082:G17080,'Location Type (FICM Codes)'!$A$7:$C$188,3,FALSE)","v":{"$error":"#N/A"}}]
[null,null,null,null,null,null,null,{"$f":"VLOOKUP($G$2:$G$50000,'Location Type (FICM Codes)'!$A$7:$B$188,2,FALSE)","v":{"$error":"#N/A"}},null,null,null,null,null,{"$f":"VLOOKUP(G7088:G17086,'Location Type (FICM Codes)'!$A$7:$C$188,3,FALSE)","v":{"$error":"#N/A"}}]
[null,null,null,null,null,null,null,{"$f":"VLOOKUP($G$2:$G$50000,'Location Type (FICM Codes)'!$A$7:$B$188,2,FALSE)","v":{"$error":"#N/A"}},null,null,null,null,null,{"$f":"VLOOKUP(G7091:G17089,'Location Type (FICM Codes)'!$A$7:$C$188,3,FALSE)","v":{"$error":"#N/A"}}]
[null,null,null,null,null,null,null,{"$f":"VLOOKUP($G$2:$G$50000,'Location Type (FICM Codes)'!$A$7:$B$188,2,FALSE)","v":{"$error":"#N/A"}},null,null,null,null,null,{"$f":"VLOOKUP(G7096:G17094,'Location Type (FICM Codes)'!$A$7:$C$188,3,FALSE)","v":{"$error":"#N/A"}}]
[null,null,null,null,null,null,null,{"$f":"VLOOKUP($G$2:$G$50000,'Location Type (FICM Codes)'!$A$7:$B$188,2,FALSE)","v":{"$error":"#N/A"}},null,null,null,null,null,{"$f":"VLOOKUP(G7097:G17095,'Location Type (FICM Codes)'!$A$7:$C$188,3,FALSE)","v":{"$error":"#N/A"}}]
[null,null,null,null,null,null,null,{"$f":"VLOOKUP($G$2:$G$50000,'Location Type (FICM Codes)'!$A$7:$B$188,2,FALSE)","v":{"$error":"#N/A"}},null,null,null,null,null,{"$f":"VLOOKUP(G7102:G17100,'Location Type (FICM Codes)'!$A$7:$C$188,3,FALSE)","v":{"$error":"#N/A"}}]
[null,null,null,null,null,null,null,{"$f":"VLOOKUP($G$2:$G$50000,'Location Type (FICM Codes)'!$A$7:$B$188,2,FALSE)","v":{"$error":"#N/A"}},null,null,null,null,null,{"$f":"VLOOKUP(G7106:G17104,'Location Type (FICM Codes)'!$A$7:$C$188,3,FALSE)","v":{"$error":"#N/A"}}]
[null,null,null,null,null,null,null,{"$f":"VLOOKUP($G$2:$G$50000,'Location Type (FICM Codes)'!$A$7:$B$188,2,FALSE)","v":{"$error":"#N/A"}},null,null,null,null,null,{"$f":"VLOOKUP(G7111:G17109,'Location Type (FICM Codes)'!$A$7:$C$188,3,FALSE)","v":{"$error":"#N/A"}}]
[null,null,null,null,null,null,null,{"$f":"VLOOKUP($G$2:$G$50000,'Location Type (FICM Codes)'!$A$7:$B$188,2,FALSE)","v":{"$error":"#N/A"}},null,null,null,null,null,{"$f":"VLOOKUP(G7112:G17110,'Location Type (FICM Codes)'!$A$7:$C$188,3,FALSE)","v":{"$error":"#N/A"}}]
[null,null,null,null,null,null,null,{"$f":"VLOOKUP($G$2:$G$50000,'Location Type (FICM Codes)'!$A$7:$B$188,2,FALSE)","v":{"$error":"#N/A"}},null,null,null,null,null,{"$f":"VLOOKUP(G7116:G17114,'Location Type (FICM Codes)'!$A$7:$C$188,3,FALSE)","v":{"$error":"#N/A"}}]
[null,null,null,null,null,null,null,{"$f":"VLOOKUP($G$2:$G$50000,'Location Type (FICM Codes)'!$A$7:$B$188,2,FALSE)","v":{"$error":"#N/A"}},null,null,null,null,null,{"$f":"VLOOKUP(G7121:G17119,'Location Type (FICM Codes)'!$A$7:$C$188,3,FALSE)","v":{"$error":"#N/A"}}]
[null,null,null,null,null,null,null,{"$f":"VLOOKUP($G$2:$G$50000,'Location Type (FICM Codes)'!$A$7:$B$188,2,FALSE)","v":{"$error":"#N/A"}},null,null,null,null,null,{"$f":"VLOOKUP(G7126:G17124,'Location Type (FICM Codes)'!$A$7:$C$188,3,FALSE)","v":{"$error":"#N/A"}}]
[null,null,null,null,null,null,null,{"$f":"VLOOKUP($G$2:$G$50000,'Location Type (FICM Codes)'!$A$7:$B$188,2,FALSE)","v":{"$error":"#N/A"}},null,null,null,null,null,{"$f":"VLOOKUP(G7127:G17125,'Location Type (FICM Codes)'!$A$7:$C$188,3,FALSE)","v":{"$error":"#N/A"}}]
[null,null,null,null,null,null,null,{"$f":"VLOOKUP($G$2:$G$50000,'Location Type (FICM Codes)'!$A$7:$B$188,2,FALSE)","v":{"$error":"#N/A"}},null,null,null,null,null,{"$f":"VLOOKUP(G7132:G17130,'Location Type (FICM Codes)'!$A$7:$C$188,3,FALSE)","v":{"$error":"#N/A"}}]
[null,null,null,null,null,null,null,{"$f":"VLOOKUP($G$2:$G$50000,'Location Type (FICM Codes)'!$A$7:$B$188,2,FALSE)","v":{"$error":"#N/A"}},null,null,null,null,null,{"$f":"VLOOKUP(G7136:G17134,'Location Type (FICM Codes)'!$A$7:$C$188,3,FALSE)","v":{"$error":"#N/A"}}]
[null,null,null,null,null,null,null,{"$f":"VLOOKUP($G$2:$G$50000,'Location Type (FICM Codes)'!$A$7:$B$188,2,FALSE)","v":{"$error":"#N/A"}},null,null,null,null,null,{"$f":"VLOOKUP(G7141:G17139,'Location Type (FICM Codes)'!$A$7:$C$188,3,FALSE)","v":{"$error":"#N/A"}}]
[null,null,null,null,null,null,null,{"$f":"VLOOKUP($G$2:$G$50000,'Location Type (FICM Codes)'!$A$7:$B$188,2,FALSE)","v":{"$error":"#N/A"}},null,null,null,null,null,{"$f":"VLOOKUP(G7142:G17140,'Location Type (FICM Codes)'!$A$7:$C$188,3,FALSE)","v":{"$error":"#N/A"}}]
[null,null,null,null,null,null,null,{"$f":"VLOOKUP($G$2:$G$50000,'Location Type (FICM Codes)'!$A$7:$B$188,2,FALSE)","v":{"$error":"#N/A"}},null,null,null,null,null,{"$f":"VLOOKUP(G7146:G17144,'Location Type (FICM Codes)'!$A$7:$C$188,3,FALSE)","v":{"$error":"#N/A"}}]
[null,null,null,null,null,null,null,{"$f":"VLOOKUP($G$2:$G$50000,'Location Type (FICM Codes)'!$A$7:$B$188,2,FALSE)","v":{"$error":"#N/A"}},null,null,null,null,null,{"$f":"VLOOKUP(G7151:G17149,'Location Type (FICM Codes)'!$A$7:$C$188,3,FALSE)","v":{"$error":"#N/A"}}]
[null,null,null,null,null,null,null,{"$f":"VLOOKUP($G$2:$G$50000,'Location Type (FICM Codes)'!$A$7:$B$188,2,FALSE)","v":{"$error":"#N/A"}},null,null,null,null,null,{"$f":"VLOOKUP(G7156:G17154,'Location Type (FICM Codes)'!$A$7:$C$188,3,FALSE)","v":{"$error":"#N/A"}}]
[null,null,null,null,null,null,null,{"$f":"VLOOKUP($G$2:$G$50000,'Location Type (FICM Codes)'!$A$7:$B$188,2,FALSE)","v":{"$error":"#N/A"}},null,null,null,null,null,{"$f":"VLOOKUP(G7157:G17155,'Location Type (FICM Codes)'!$A$7:$C$188,3,FALSE)","v":{"$error":"#N/A"}}]
[null,null,null,null,null,null,null,{"$f":"VLOOKUP($G$2:$G$50000,'Location Type (FICM Codes)'!$A$7:$B$188,2,FALSE)","v":{"$error":"#N/A"}},null,null,null,null,null,{"$f":"VLOOKUP(G7162:G17160,'Location Type (FICM Codes)'!$A$7:$C$188,3,FALSE)","v":{"$error":"#N/A"}}]
[null,null,null,null,null,null,null,{"$f":"VLOOKUP($G$2:$G$50000,'Location Type (FICM Codes)'!$A$7:$B$188,2,FALSE)","v":{"$error":"#N/A"}},null,null,null,null,null,{"$f":"VLOOKUP(G7166:G17164,'Location Type (FICM Codes)'!$A$7:$C$188,3,FALSE)","v":{"$error":"#N/A"}}]
[null,null,null,null,null,null,null,{"$f":"VLOOKUP($G$2:$G$50000,'Location Type (FICM Codes)'!$A$7:$B$188,2,FALSE)","v":{"$error":"#N/A"}},null,null,null,null,null,{"$f":"VLOOKUP(G7171:G17169,'Location Type (FICM Codes)'!$A$7:$C$188,3,FALSE)","v":{"$error":"#N/A"}}]
[null,null,null,null,null,null,null,{"$f":"VLOOKUP($G$2:$G$50000,'Location Type (FICM Codes)'!$A$7:$B$188,2,FALSE)","v":{"$error":"#N/A"}},null,null,null,null,null,{"$f":"VLOOKUP(G7172:G17170,'Location Type (FICM Codes)'!$A$7:$C$188,3,FALSE)","v":{"$error":"#N/A"}}]
[null,null,null,null,null,null,null,{"$f":"VLOOKUP($G$2:$G$50000,'Location Type (FICM Codes)'!$A$7:$B$188,2,FALSE)","v":{"$error":"#N/A"}},null,null,null,null,null,{"$f":"VLOOKUP(G7176:G17174,'Location Type (FICM Codes)'!$A$7:$C$188,3,FALSE)","v":{"$error":"#N/A"}}]
[null,null,null,null,null,null,null,{"$f":"VLOOKUP($G$2:$G$50000,'Location Type (FICM Codes)'!$A$7:$B$188,2,FALSE)","v":{"$error":"#N/A"}},null,null,null,null,null,{"$f":"VLOOKUP(G7181:G17179,'Location Type (FICM Codes)'!$A$7:$C$188,3,FALSE)","v":{"$error":"#N/A"}}]
[null,null,null,null,null,null,null,{"$f":"VLOOKUP($G$2:$G$50000,'Location Type (FICM Codes)'!$A$7:$B$188,2,FALSE)","v":{"$error":"#N/A"}},null,null,null,null,null,{"$f":"VLOOKUP(G7186:G17184,'Location Type (FICM Codes)'!$A$7:$C$188,3,FALSE)","v":{"$error":"#N/A"}}]
[null,null,null,null,null,null,null,{"$f":"VLOOKUP($G$2:$G$50000,'Location Type (FICM Codes)'!$A$7:$B$188,2,FALSE)","v":{"$error":"#N/A"}},null,null,null,null,null,{"$f":"VLOOKUP(G7187:G17185,'Location Type (FICM Codes)'!$A$7:$C$188,3,FALSE)","v":{"$error":"#N/A"}}]
[null,null,null,null,null,null,null,{"$f":"VLOOKUP($G$2:$G$50000,'Location Type (FICM Codes)'!$A$7:$B$188,2,FALSE)","v":{"$error":"#N/A"}},null,null,null,null,null,{"$f":"VLOOKUP(G7192:G17190,'Location Type (FICM Codes)'!$A$7:$C$188,3,FALSE)","v":{"$error":"#N/A"}}]
[null,null,null,null,null,null,null,{"$f":"VLOOKUP($G$2:$G$50000,'Location Type (FICM Codes)'!$A$7:$B$188,2,FALSE)","v":{"$error":"#N/A"}},null,null,null,null,null,{"$f":"VLOOKUP(G7196:G17194,'Location Type (FICM Codes)'!$A$7:$C$188,3,FALSE)","v":{"$error":"#N/A"}}]
[null,null,null,null,null,null,null,{"$f":"VLOOKUP($G$2:$G$50000,'Location Type (FICM Codes)'!$A$7:$B$188,2,FALSE)","v":{"$error":"#N/A"}},null,null,null,null,null,{"$f":"VLOOKUP(G7201:G17199,'Location Type (FICM Codes)'!$A$7:$C$188,3,FALSE)","v":{"$error":"#N/A"}}]
[null,null,null,null,null,null,null,{"$f":"VLOOKUP($G$2:$G$50000,'Location Type (FICM Codes)'!$A$7:$B$188,2,FALSE)","v":{"$error":"#N/A"}},null,null,null,null,null,{"$f":"VLOOKUP(G7202:G17200,'Location Type (FICM Codes)'!$A$7:$C$188,3,FALSE)","v":{"$error":"#N/A"}}]
[null,null,null,null,null,null,null,{"$f":"VLOOKUP($G$2:$G$50000,'Location Type (FICM Codes)'!$A$7:$B$188,2,FALSE)","v":{"$error":"#N/A"}},null,null,null,null,null,{"$f":"VLOOKUP(G7206:G17204,'Location Type (FICM Codes)'!$A$7:$C$188,3,FALSE)","v":{"$error":"#N/A"}}]
[null,null,null,null,null,null,null,{"$f":"VLOOKUP($G$2:$G$50000,'Location Type (FICM Codes)'!$A$7:$B$188,2,FALSE)","v":{"$error":"#N/A"}},null,null,null,null,null,{"$f":"VLOOKUP(G7211:G17209,'Location Type (FICM Codes)'!$A$7:$C$188,3,FALSE)","v":{"$error":"#N/A"}}]
[null,null,null,null,null,null,null,{"$f":"VLOOKUP($G$2:$G$50000,'Location Type (FICM Codes)'!$A$7:$B$188,2,FALSE)","v":{"$error":"#N/A"}},null,null,null,null,null,{"$f":"VLOOKUP(G7216:G17214,'Location Type (FICM Codes)'!$A$7:$C$188,3,FALSE)","v":{"$error":"#N/A"}}]
[null,null,null,null,null,null,null,{"$f":"VLOOKUP($G$2:$G$50000,'Location Type (FICM Codes)'!$A$7:$B$188,2,FALSE)","v":{"$error":"#N/A"}},null,null,null,null,null,{"$f":"VLOOKUP(G7217:G17215,'Location Type (FICM Codes)'!$A$7:$C$188,3,FALSE)","v":{"$error":"#N/A"}}]
[null,null,null,null,null,null,null,{"$f":"VLOOKUP($G$2:$G$50000,'Location Type (FICM Codes)'!$A$7:$B$188,2,FALSE)","v":{"$error":"#N/A"}},null,null,null,null,null,{"$f":"VLOOKUP(G7222:G17220,'Location Type (FICM Codes)'!$A$7:$C$188,3,FALSE)","v":{"$error":"#N/A"}}]
[null,null,null,null,null,null,null,{"$f":"VLOOKUP($G$2:$G$50000,'Location Type (FICM Codes)'!$A$7:$B$188,2,FALSE)","v":{"$error":"#N/A"}},null,null,null,null,null,{"$f":"VLOOKUP(G7226:G17224,'Location Type (FICM Codes)'!$A$7:$C$188,3,FALSE)","v":{"$error":"#N/A"}}]
[null,null,null,null,null,null,null,{"$f":"VLOOKUP($G$2:$G$50000,'Location Type (FICM Codes)'!$A$7:$B$188,2,FALSE)","v":{"$error":"#N/A"}},null,null,null,null,null,{"$f":"VLOOKUP(G7231:G17229,'Location Type (FICM Codes)'!$A$7:$C$188,3,FALSE)","v":{"$error":"#N/A"}}]
[null,null,null,null,null,null,null,{"$f":"VLOOKUP($G$2:$G$50000,'Location Type (FICM Codes)'!$A$7:$B$188,2,FALSE)","v":{"$error":"#N/A"}},null,null,null,null,null,{"$f":"VLOOKUP(G7232:G17230,'Location Type (FICM Codes)'!$A$7:$C$188,3,FALSE)","v":{"$error":"#N/A"}}]
[null,null,null,null,null,null,null,{"$f":"VLOOKUP($G$2:$G$50000,'Location Type (FICM Codes)'!$A$7:$B$188,2,FALSE)","v":{"$error":"#N/A"}},null,null,null,null,null,{"$f":"VLOOKUP(G7236:G17234,'Location Type (FICM Codes)'!$A$7:$C$188,3,FALSE)","v":{"$error":"#N/A"}}]
[null,null,null,null,null,null,null,{"$f":"VLOOKUP($G$2:$G$50000,'Location Type (FICM Codes)'!$A$7:$B$188,2,FALSE)","v":{"$error":"#N/A"}},null,null,null,null,null,{"$f":"VLOOKUP(G7241:G17239,'Location Type (FICM Codes)'!$A$7:$C$188,3,FALSE)","v":{"$error":"#N/A"}}]
[null,null,null,null,null,null,null,{"$f":"VLOOKUP($G$2:$G$50000,'Location Type (FICM Codes)'!$A$7:$B$188,2,FALSE)","v":{"$error":"#N/A"}},null,null,null,null,null,{"$f":"VLOOKUP(G7246:G17244,'Location Type (FICM Codes)'!$A$7:$C$188,3,FALSE)","v":{"$error":"#N/A"}}]
[null,null,null,null,null,null,null,{"$f":"VLOOKUP($G$2:$G$50000,'Location Type (FICM Codes)'!$A$7:$B$188,2,FALSE)","v":{"$error":"#N/A"}},null,null,null,null,null,{"$f":"VLOOKUP(G7247:G17245,'Location Type (FICM Codes)'!$A$7:$C$188,3,FALSE)","v":{"$error":"#N/A"}}]
[null,null,null,null,null,null,null,{"$f":"VLOOKUP($G$2:$G$50000,'Location Type (FICM Codes)'!$A$7:$B$188,2,FALSE)","v":{"$error":"#N/A"}},null,null,null,null,null,{"$f":"VLOOKUP(G7252:G17250,'Location Type (FICM Codes)'!$A$7:$C$188,3,FALSE)","v":{"$error":"#N/A"}}]
[null,null,null,null,null,null,null,{"$f":"VLOOKUP($G$2:$G$50000,'Location Type (FICM Codes)'!$A$7:$B$188,2,FALSE)","v":{"$error":"#N/A"}},null,null,null,null,null,{"$f":"VLOOKUP(G7256:G17254,'Location Type (FICM Codes)'!$A$7:$C$188,3,FALSE)","v":{"$error":"#N/A"}}]
[null,null,null,null,null,null,null,{"$f":"VLOOKUP($G$2:$G$50000,'Location Type (FICM Codes)'!$A$7:$B$188,2,FALSE)","v":{"$error":"#N/A"}},null,null,null,null,null,{"$f":"VLOOKUP(G7261:G17259,'Location Type (FICM Codes)'!$A$7:$C$188,3,FALSE)","v":{"$error":"#N/A"}}]
[null,null,null,null,null,null,null,{"$f":"VLOOKUP($G$2:$G$50000,'Location Type (FICM Codes)'!$A$7:$B$188,2,FALSE)","v":{"$error":"#N/A"}},null,null,null,null,null,{"$f":"VLOOKUP(G7262:G17260,'Location Type (FICM Codes)'!$A$7:$C$188,3,FALSE)","v":{"$error":"#N/A"}}]
[null,null,null,null,null,null,null,{"$f":"VLOOKUP($G$2:$G$50000,'Location Type (FICM Codes)'!$A$7:$B$188,2,FALSE)","v":{"$error":"#N/A"}},null,null,null,null,null,{"$f":"VLOOKUP(G7266:G17264,'Location Type (FICM Codes)'!$A$7:$C$188,3,FALSE)","v":{"$error":"#N/A"}}]
[null,null,null,null,null,null,null,{"$f":"VLOOKUP($G$2:$G$50000,'Location Type (FICM Codes)'!$A$7:$B$188,2,FALSE)","v":{"$error":"#N/A"}},null,null,null,null,null,{"$f":"VLOOKUP(G7271:G17269,'Location Type (FICM Codes)'!$A$7:$C$188,3,FALSE)","v":{"$error":"#N/A"}}]
[null,null,null,null,null,null,null,{"$f":"VLOOKUP($G$2:$G$50000,'Location Type (FICM Codes)'!$A$7:$B$188,2,FALSE)","v":{"$error":"#N/A"}},null,null,null,null,null,{"$f":"VLOOKUP(G7276:G17274,'Location Type (FICM Codes)'!$A$7:$C$188,3,FALSE)","v":{"$error":"#N/A"}}]
[null,null,null,null,null,null,null,{"$f":"VLOOKUP($G$2:$G$50000,'Location Type (FICM Codes)'!$A$7:$B$188,2,FALSE)","v":{"$error":"#N/A"}},null,null,null,null,null,{"$f":"VLOOKUP(G7277:G17275,'Location Type (FICM Codes)'!$A$7:$C$188,3,FALSE)","v":{"$error":"#N/A"}}]
[null,null,null,null,null,null,null,{"$f":"VLOOKUP($G$2:$G$50000,'Location Type (FICM Codes)'!$A$7:$B$188,2,FALSE)","v":{"$error":"#N/A"}},null,null,null,null,null,{"$f":"VLOOKUP(G7282:G17280,'Location Type (FICM Codes)'!$A$7:$C$188,3,FALSE)","v":{"$error":"#N/A"}}]
[null,null,null,null,null,null,null,{"$f":"VLOOKUP($G$2:$G$50000,'Location Type (FICM Codes)'!$A$7:$B$188,2,FALSE)","v":{"$error":"#N/A"}},null,null,null,null,null,{"$f":"VLOOKUP(G7286:G17284,'Location Type (FICM Codes)'!$A$7:$C$188,3,FALSE)","v":{"$error":"#N/A"}}]
[null,null,null,null,null,null,null,{"$f":"VLOOKUP($G$2:$G$50000,'Location Type (FICM Codes)'!$A$7:$B$188,2,FALSE)","v":{"$error":"#N/A"}},null,null,null,null,null,{"$f":"VLOOKUP(G7291:G17289,'Location Type (FICM Codes)'!$A$7:$C$188,3,FALSE)","v":{"$error":"#N/A"}}]
[null,null,null,null,null,null,null,{"$f":"VLOOKUP($G$2:$G$50000,'Location Type (FICM Codes)'!$A$7:$B$188,2,FALSE)","v":{"$error":"#N/A"}},null,null,null,null,null,{"$f":"VLOOKUP(G7292:G17290,'Location Type (FICM Codes)'!$A$7:$C$188,3,FALSE)","v":{"$error":"#N/A"}}]
[null,null,null,null,null,null,null,{"$f":"VLOOKUP($G$2:$G$50000,'Location Type (FICM Codes)'!$A$7:$B$188,2,FALSE)","v":{"$error":"#N/A"}},null,null,null,null,null,{"$f":"VLOOKUP(G7296:G17294,'Location Type (FICM Codes)'!$A$7:$C$188,3,FALSE)","v":{"$error":"#N/A"}}]
[null,null,null,null,null,null,null,{"$f":"VLOOKUP($G$2:$G$50000,'Location Type (FICM Codes)'!$A$7:$B$188,2,FALSE)","v":{"$error":"#N/A"}},null,null,null,null,null,{"$f":"VLOOKUP(G7301:G17299,'Location Type (FICM Codes)'!$A$7:$C$188,3,FALSE)","v":{"$error":"#N/A"}}]
[null,null,null,null,null,null,null,{"$f":"VLOOKUP($G$2:$G$50000,'Location Type (FICM Codes)'!$A$7:$B$188,2,FALSE)","v":{"$error":"#N/A"}},null,null,null,null,null,{"$f":"VLOOKUP(G7306:G17304,'Location Type (FICM Codes)'!$A$7:$C$188,3,FALSE)","v":{"$error":"#N/A"}}]
[null,null,null,null,null,null,null,{"$f":"VLOOKUP($G$2:$G$50000,'Location Type (FICM Codes)'!$A$7:$B$188,2,FALSE)","v":{"$error":"#N/A"}},null,null,null,null,null,{"$f":"VLOOKUP(G7307:G17305,'Location Type (FICM Codes)'!$A$7:$C$188,3,FALSE)","v":{"$error":"#N/A"}}]
[null,null,null,null,null,null,null,{"$f":"VLOOKUP($G$2:$G$50000,'Location Type (FICM Codes)'!$A$7:$B$188,2,FALSE)","v":{"$error":"#N/A"}},null,null,null,null,null,{"$f":"VLOOKUP(G7312:G17310,'Location Type (FICM Codes)'!$A$7:$C$188,3,FALSE)","v":{"$error":"#N/A"}}]
[null,null,null,null,null,null,null,{"$f":"VLOOKUP($G$2:$G$50000,'Location Type (FICM Codes)'!$A$7:$B$188,2,FALSE)","v":{"$error":"#N/A"}},null,null,null,null,null,{"$f":"VLOOKUP(G7316:G17314,'Location Type (FICM Codes)'!$A$7:$C$188,3,FALSE)","v":{"$error":"#N/A"}}]
[null,null,null,null,null,null,null,{"$f":"VLOOKUP($G$2:$G$50000,'Location Type (FICM Codes)'!$A$7:$B$188,2,FALSE)","v":{"$error":"#N/A"}},null,null,null,null,null,{"$f":"VLOOKUP(G7321:G17319,'Location Type (FICM Codes)'!$A$7:$C$188,3,FALSE)","v":{"$error":"#N/A"}}]
[null,null,null,null,null,null,null,{"$f":"VLOOKUP($G$2:$G$50000,'Location Type (FICM Codes)'!$A$7:$B$188,2,FALSE)","v":{"$error":"#N/A"}},null,null,null,null,null,{"$f":"VLOOKUP(G7322:G17320,'Location Type (FICM Codes)'!$A$7:$C$188,3,FALSE)","v":{"$error":"#N/A"}}]
[null,null,null,null,null,null,null,{"$f":"VLOOKUP($G$2:$G$50000,'Location Type (FICM Codes)'!$A$7:$B$188,2,FALSE)","v":{"$error":"#N/A"}},null,null,null,null,null,{"$f":"VLOOKUP(G7326:G17324,'Location Type (FICM Codes)'!$A$7:$C$188,3,FALSE)","v":{"$error":"#N/A"}}]
[null,null,null,null,null,null,null,{"$f":"VLOOKUP($G$2:$G$50000,'Location Type (FICM Codes)'!$A$7:$B$188,2,FALSE)","v":{"$error":"#N/A"}},null,null,null,null,null,{"$f":"VLOOKUP(G7331:G17329,'Location Type (FICM Codes)'!$A$7:$C$188,3,FALSE)","v":{"$error":"#N/A"}}]
[null,null,null,null,null,null,null,{"$f":"VLOOKUP($G$2:$G$50000,'Location Type (FICM Codes)'!$A$7:$B$188,2,FALSE)","v":{"$error":"#N/A"}},null,null,null,null,null,{"$f":"VLOOKUP(G7336:G17334,'Location Type (FICM Codes)'!$A$7:$C$188,3,FALSE)","v":{"$error":"#N/A"}}]
[null,null,null,null,null,null,null,{"$f":"VLOOKUP($G$2:$G$50000,'Location Type (FICM Codes)'!$A$7:$B$188,2,FALSE)","v":{"$error":"#N/A"}},null,null,null,null,null,{"$f":"VLOOKUP(G7337:G17335,'Location Type (FICM Codes)'!$A$7:$C$188,3,FALSE)","v":{"$error":"#N/A"}}]
[null,null,null,null,null,null,null,{"$f":"VLOOKUP($G$2:$G$50000,'Location Type (FICM Codes)'!$A$7:$B$188,2,FALSE)","v":{"$error":"#N/A"}},null,null,null,null,null,{"$f":"VLOOKUP(G7342:G17340,'Location Type (FICM Codes)'!$A$7:$C$188,3,FALSE)","v":{"$error":"#N/A"}}]
[null,null,null,null,null,null,null,{"$f":"VLOOKUP($G$2:$G$50000,'Location Type (FICM Codes)'!$A$7:$B$188,2,FALSE)","v":{"$error":"#N/A"}},null,null,null,null,null,{"$f":"VLOOKUP(G7346:G17344,'Location Type (FICM Codes)'!$A$7:$C$188,3,FALSE)","v":{"$error":"#N/A"}}]
[null,null,null,null,null,null,null,{"$f":"VLOOKUP($G$2:$G$50000,'Location Type (FICM Codes)'!$A$7:$B$188,2,FALSE)","v":{"$error":"#N/A"}},null,null,null,null,null,{"$f":"VLOOKUP(G7351:G17349,'Location Type (FICM Codes)'!$A$7:$C$188,3,FALSE)","v":{"$error":"#N/A"}}]
[null,null,null,null,null,null,null,{"$f":"VLOOKUP($G$2:$G$50000,'Location Type (FICM Codes)'!$A$7:$B$188,2,FALSE)","v":{"$error":"#N/A"}},null,null,null,null,null,{"$f":"VLOOKUP(G7352:G17350,'Location Type (FICM Codes)'!$A$7:$C$188,3,FALSE)","v":{"$error":"#N/A"}}]
[null,null,null,null,null,null,null,{"$f":"VLOOKUP($G$2:$G$50000,'Location Type (FICM Codes)'!$A$7:$B$188,2,FALSE)","v":{"$error":"#N/A"}},null,null,null,null,null,{"$f":"VLOOKUP(G7356:G17354,'Location Type (FICM Codes)'!$A$7:$C$188,3,FALSE)","v":{"$error":"#N/A"}}]
[null,null,null,null,null,null,null,{"$f":"VLOOKUP($G$2:$G$50000,'Location Type (FICM Codes)'!$A$7:$B$188,2,FALSE)","v":{"$error":"#N/A"}},null,null,null,null,null,{"$f":"VLOOKUP(G7361:G17359,'Location Type (FICM Codes)'!$A$7:$C$188,3,FALSE)","v":{"$error":"#N/A"}}]
[null,null,null,null,null,null,null,{"$f":"VLOOKUP($G$2:$G$50000,'Location Type (FICM Codes)'!$A$7:$B$188,2,FALSE)","v":{"$error":"#N/A"}},null,null,null,null,null,{"$f":"VLOOKUP(G7366:G17364,'Location Type (FICM Codes)'!$A$7:$C$188,3,FALSE)","v":{"$error":"#N/A"}}]
[null,null,null,null,null,null,null,{"$f":"VLOOKUP($G$2:$G$50000,'Location Type (FICM Codes)'!$A$7:$B$188,2,FALSE)","v":{"$error":"#N/A"}},null,null,null,null,null,{"$f":"VLOOKUP(G7367:G17365,'Location Type (FICM Codes)'!$A$7:$C$188,3,FALSE)","v":{"$error":"#N/A"}}]
[null,null,null,null,null,null,null,{"$f":"VLOOKUP($G$2:$G$50000,'Location Type (FICM Codes)'!$A$7:$B$188,2,FALSE)","v":{"$error":"#N/A"}},null,null,null,null,null,{"$f":"VLOOKUP(G7372:G17370,'Location Type (FICM Codes)'!$A$7:$C$188,3,FALSE)","v":{"$error":"#N/A"}}]
[null,null,null,null,null,null,null,{"$f":"VLOOKUP($G$2:$G$50000,'Location Type (FICM Codes)'!$A$7:$B$188,2,FALSE)","v":{"$error":"#N/A"}},null,null,null,null,null,{"$f":"VLOOKUP(G7376:G17374,'Location Type (FICM Codes)'!$A$7:$C$188,3,FALSE)","v":{"$error":"#N/A"}}]
[null,null,null,null,null,null,null,{"$f":"VLOOKUP($G$2:$G$50000,'Location Type (FICM Codes)'!$A$7:$B$188,2,FALSE)","v":{"$error":"#N/A"}},null,null,null,null,null,{"$f":"VLOOKUP(G7381:G17379,'Location Type (FICM Codes)'!$A$7:$C$188,3,FALSE)","v":{"$error":"#N/A"}}]
[null,null,null,null,null,null,null,{"$f":"VLOOKUP($G$2:$G$50000,'Location Type (FICM Codes)'!$A$7:$B$188,2,FALSE)","v":{"$error":"#N/A"}},null,null,null,null,null,{"$f":"VLOOKUP(G7382:G17380,'Location Type (FICM Codes)'!$A$7:$C$188,3,FALSE)","v":{"$error":"#N/A"}}]
[null,null,null,null,null,null,null,{"$f":"VLOOKUP($G$2:$G$50000,'Location Type (FICM Codes)'!$A$7:$B$188,2,FALSE)","v":{"$error":"#N/A"}},null,null,null,null,null,{"$f":"VLOOKUP(G7386:G17384,'Location Type (FICM Codes)'!$A$7:$C$188,3,FALSE)","v":{"$error":"#N/A"}}]
[null,null,null,null,null,null,null,{"$f":"VLOOKUP($G$2:$G$50000,'Location Type (FICM Codes)'!$A$7:$B$188,2,FALSE)","v":{"$error":"#N/A"}},null,null,null,null,null,{"$f":"VLOOKUP(G7391:G17389,'Location Type (FICM Codes)'!$A$7:$C$188,3,FALSE)","v":{"$error":"#N/A"}}]
[null,null,null,null,null,null,null,{"$f":"VLOOKUP($G$2:$G$50000,'Location Type (FICM Codes)'!$A$7:$B$188,2,FALSE)","v":{"$error":"#N/A"}},null,null,null,null,null,{"$f":"VLOOKUP(G7396:G17394,'Location Type (FICM Codes)'!$A$7:$C$188,3,FALSE)","v":{"$error":"#N/A"}}]
[null,null,null,null,null,null,null,{"$f":"VLOOKUP($G$2:$G$50000,'Location Type (FICM Codes)'!$A$7:$B$188,2,FALSE)","v":{"$error":"#N/A"}},null,null,null,null,null,{"$f":"VLOOKUP(G7397:G17395,'Location Type (FICM Codes)'!$A$7:$C$188,3,FALSE)","v":{"$error":"#N/A"}}]
[null,null,null,null,null,null,null,{"$f":"VLOOKUP($G$2:$G$50000,'Location Type (FICM Codes)'!$A$7:$B$188,2,FALSE)","v":{"$error":"#N/A"}},null,null,null,null,null,{"$f":"VLOOKUP(G7403:G17401,'Location Type (FICM Codes)'!$A$7:$C$188,3,FALSE)","v":{"$error":"#N/A"}}]
[null,null,null,null,null,null,null,{"$f":"VLOOKUP($G$2:$G$50000,'Location Type (FICM Codes)'!$A$7:$B$188,2,FALSE)","v":{"$error":"#N/A"}},null,null,null,null,null,{"$f":"VLOOKUP(G7406:G17404,'Location Type (FICM Codes)'!$A$7:$C$188,3,FALSE)","v":{"$error":"#N/A"}}]
[null,null,null,null,null,null,null,{"$f":"VLOOKUP($G$2:$G$50000,'Location Type (FICM Codes)'!$A$7:$B$188,2,FALSE)","v":{"$error":"#N/A"}},null,null,null,null,null,{"$f":"VLOOKUP(G7411:G17409,'Location Type (FICM Codes)'!$A$7:$C$188,3,FALSE)","v":{"$error":"#N/A"}}]
[null,null,null,null,null,null,null,{"$f":"VLOOKUP($G$2:$G$50000,'Location Type (FICM Codes)'!$A$7:$B$188,2,FALSE)","v":{"$error":"#N/A"}},null,null,null,null,null,{"$f":"VLOOKUP(G7412:G17410,'Location Type (FICM Codes)'!$A$7:$C$188,3,FALSE)","v":{"$error":"#N/A"}}]
[null,null,null,null,null,null,null,{"$f":"VLOOKUP($G$2:$G$50000,'Location Type (FICM Codes)'!$A$7:$B$188,2,FALSE)","v":{"$error":"#N/A"}},null,null,null,null,null,{"$f":"VLOOKUP(G7416:G17414,'Location Type (FICM Codes)'!$A$7:$C$188,3,FALSE)","v":{"$error":"#N/A"}}]
[null,null,null,null,null,null,null,{"$f":"VLOOKUP($G$2:$G$50000,'Location Type (FICM Codes)'!$A$7:$B$188,2,FALSE)","v":{"$error":"#N/A"}},null,null,null,null,null,{"$f":"VLOOKUP(G7421:G17419,'Location Type (FICM Codes)'!$A$7:$C$188,3,FALSE)","v":{"$error":"#N/A"}}]
[null,null,null,null,null,null,null,{"$f":"VLOOKUP($G$2:$G$50000,'Location Type (FICM Codes)'!$A$7:$B$188,2,FALSE)","v":{"$error":"#N/A"}},null,null,null,null,null,{"$f":"VLOOKUP(G7426:G17424,'Location Type (FICM Codes)'!$A$7:$C$188,3,FALSE)","v":{"$error":"#N/A"}}]
[null,null,null,null,null,null,null,{"$f":"VLOOKUP($G$2:$G$50000,'Location Type (FICM Codes)'!$A$7:$B$188,2,FALSE)","v":{"$error":"#N/A"}},null,null,null,null,null,{"$f":"VLOOKUP(G7427:G17425,'Location Type (FICM Codes)'!$A$7:$C$188,3,FALSE)","v":{"$error":"#N/A"}}]
[null,null,null,null,null,null,null,{"$f":"VLOOKUP($G$2:$G$50000,'Location Type (FICM Codes)'!$A$7:$B$188,2,FALSE)","v":{"$error":"#N/A"}},null,null,null,null,null,{"$f":"VLOOKUP(G7433:G17431,'Location Type (FICM Codes)'!$A$7:$C$188,3,FALSE)","v":{"$error":"#N/A"}}]
[null,null,null,null,null,null,null,{"$f":"VLOOKUP($G$2:$G$50000,'Location Type (FICM Codes)'!$A$7:$B$188,2,FALSE)","v":{"$error":"#N/A"}},null,null,null,null,null,{"$f":"VLOOKUP(G7436:G17434,'Location Type (FICM Codes)'!$A$7:$C$188,3,FALSE)","v":{"$error":"#N/A"}}]
[null,null,null,null,null,null,null,{"$f":"VLOOKUP($G$2:$G$50000,'Location Type (FICM Codes)'!$A$7:$B$188,2,FALSE)","v":{"$error":"#N/A"}},null,null,null,null,null,{"$f":"VLOOKUP(G7441:G17439,'Location Type (FICM Codes)'!$A$7:$C$188,3,FALSE)","v":{"$error":"#N/A"}}]
[null,null,null,null,null,null,null,{"$f":"VLOOKUP($G$2:$G$50000,'Location Type (FICM Codes)'!$A$7:$B$188,2,FALSE)","v":{"$error":"#N/A"}},null,null,null,null,null,{"$f":"VLOOKUP(G7442:G17440,'Location Type (FICM Codes)'!$A$7:$C$188,3,FALSE)","v":{"$error":"#N/A"}}]
[null,null,null,null,null,null,null,{"$f":"VLOOKUP($G$2:$G$50000,'Location Type (FICM Codes)'!$A$7:$B$188,2,FALSE)","v":{"$error":"#N/A"}},null,null,null,null,null,{"$f":"VLOOKUP(G7446:G17444,'Location Type (FICM Codes)'!$A$7:$C$188,3,FALSE)","v":{"$error":"#N/A"}}]
[null,null,null,null,null,null,null,{"$f":"VLOOKUP($G$2:$G$50000,'Location Type (FICM Codes)'!$A$7:$B$188,2,FALSE)","v":{"$error":"#N/A"}},null,null,null,null,null,{"$f":"VLOOKUP(G7451:G17449,'Location Type (FICM Codes)'!$A$7:$C$188,3,FALSE)","v":{"$error":"#N/A"}}]
[null,null,null,null,null,null,null,{"$f":"VLOOKUP($G$2:$G$50000,'Location Type (FICM Codes)'!$A$7:$B$188,2,FALSE)","v":{"$error":"#N/A"}},null,null,null,null,null,{"$f":"VLOOKUP(G7456:G17454,'Location Type (FICM Codes)'!$A$7:$C$188,3,FALSE)","v":{"$error":"#N/A"}}]
[null,null,null,null,null,null,null,{"$f":"VLOOKUP($G$2:$G$50000,'Location Type (FICM Codes)'!$A$7:$B$188,2,FALSE)","v":{"$error":"#N/A"}},null,null,null,null,null,{"$f":"VLOOKUP(G7457:G17455,'Location Type (FICM Codes)'!$A$7:$C$188,3,FALSE)","v":{"$error":"#N/A"}}]
[null,null,null,null,null,null,null,{"$f":"VLOOKUP($G$2:$G$50000,'Location Type (FICM Codes)'!$A$7:$B$188,2,FALSE)","v":{"$error":"#N/A"}},null,null,null,null,null,{"$f":"VLOOKUP(G7463:G17461,'Location Type (FICM Codes)'!$A$7:$C$188,3,FALSE)","v":{"$error":"#N/A"}}]
[null,null,null,null,null,null,null,{"$f":"VLOOKUP($G$2:$G$50000,'Location Type (FICM Codes)'!$A$7:$B$188,2,FALSE)","v":{"$error":"#N/A"}},null,null,null,null,null,{"$f":"VLOOKUP(G7466:G17464,'Location Type (FICM Codes)'!$A$7:$C$188,3,FALSE)","v":{"$error":"#N/A"}}]
[null,null,null,null,null,null,null,{"$f":"VLOOKUP($G$2:$G$50000,'Location Type (FICM Codes)'!$A$7:$B$188,2,FALSE)","v":{"$error":"#N/A"}},null,null,null,null,null,{"$f":"VLOOKUP(G7471:G17469,'Location Type (FICM Codes)'!$A$7:$C$188,3,FALSE)","v":{"$error":"#N/A"}}]
[null,null,null,null,null,null,null,{"$f":"VLOOKUP($G$2:$G$50000,'Location Type (FICM Codes)'!$A$7:$B$188,2,FALSE)","v":{"$error":"#N/A"}},null,null,null,null,null,{"$f":"VLOOKUP(G7472:G17470,'Location Type (FICM Codes)'!$A$7:$C$188,3,FALSE)","v":{"$error":"#N/A"}}]
[null,null,null,null,null,null,null,{"$f":"VLOOKUP($G$2:$G$50000,'Location Type (FICM Codes)'!$A$7:$B$188,2,FALSE)","v":{"$error":"#N/A"}},null,null,null,null,null,{"$f":"VLOOKUP(G7476:G17474,'Location Type (FICM Codes)'!$A$7:$C$188,3,FALSE)","v":{"$error":"#N/A"}}]
[null,null,null,null,null,null,null,{"$f":"VLOOKUP($G$2:$G$50000,'Location Type (FICM Codes)'!$A$7:$B$188,2,FALSE)","v":{"$error":"#N/A"}},null,null,null,null,null,{"$f":"VLOOKUP(G7481:G17479,'Location Type (FICM Codes)'!$A$7:$C$188,3,FALSE)","v":{"$error":"#N/A"}}]
[null,null,null,null,null,null,null,{"$f":"VLOOKUP($G$2:$G$50000,'Location Type (FICM Codes)'!$A$7:$B$188,2,FALSE)","v":{"$error":"#N/A"}},null,null,null,null,null,{"$f":"VLOOKUP(G7486:G17484,'Location Type (FICM Codes)'!$A$7:$C$188,3,FALSE)","v":{"$error":"#N/A"}}]
[null,null,null,null,null,null,null,{"$f":"VLOOKUP($G$2:$G$50000,'Location Type (FICM Codes)'!$A$7:$B$188,2,FALSE)","v":{"$error":"#N/A"}},null,null,null,null,null,{"$f":"VLOOKUP(G7487:G17485,'Location Type (FICM Codes)'!$A$7:$C$188,3,FALSE)","v":{"$error":"#N/A"}}]
[null,null,null,null,null,null,null,{"$f":"VLOOKUP($G$2:$G$50000,'Location Type (FICM Codes)'!$A$7:$B$188,2,FALSE)","v":{"$error":"#N/A"}},null,null,null,null,null,{"$f":"VLOOKUP(G7493:G17491,'Location Type (FICM Codes)'!$A$7:$C$188,3,FALSE)","v":{"$error":"#N/A"}}]
[null,null,null,null,null,null,null,{"$f":"VLOOKUP($G$2:$G$50000,'Location Type (FICM Codes)'!$A$7:$B$188,2,FALSE)","v":{"$error":"#N/A"}},null,null,null,null,null,{"$f":"VLOOKUP(G7496:G17494,'Location Type (FICM Codes)'!$A$7:$C$188,3,FALSE)","v":{"$error":"#N/A"}}]
[null,null,null,null,null,null,null,{"$f":"VLOOKUP($G$2:$G$50000,'Location Type (FICM Codes)'!$A$7:$B$188,2,FALSE)","v":{"$error":"#N/A"}},null,null,null,null,null,{"$f":"VLOOKUP(G7501:G17499,'Location Type (FICM Codes)'!$A$7:$C$188,3,FALSE)","v":{"$error":"#N/A"}}]
[null,null,null,null,null,null,null,{"$f":"VLOOKUP($G$2:$G$50000,'Location Type (FICM Codes)'!$A$7:$B$188,2,FALSE)","v":{"$error":"#N/A"}},null,null,null,null,null,{"$f":"VLOOKUP(G7502:G17500,'Location Type (FICM Codes)'!$A$7:$C$188,3,FALSE)","v":{"$error":"#N/A"}}]
[null,null,null,null,null,null,null,{"$f":"VLOOKUP($G$2:$G$50000,'Location Type (FICM Codes)'!$A$7:$B$188,2,FALSE)","v":{"$error":"#N/A"}},null,null,null,null,null,{"$f":"VLOOKUP(G7506:G17504,'Location Type (FICM Codes)'!$A$7:$C$188,3,FALSE)","v":{"$error":"#N/A"}}]
[null,null,null,null,null,null,null,{"$f":"VLOOKUP($G$2:$G$50000,'Location Type (FICM Codes)'!$A$7:$B$188,2,FALSE)","v":{"$error":"#N/A"}},null,null,null,null,null,{"$f":"VLOOKUP(G7511:G17509,'Location Type (FICM Codes)'!$A$7:$C$188,3,FALSE)","v":{"$error":"#N/A"}}]
[null,null,null,null,null,null,null,{"$f":"VLOOKUP($G$2:$G$50000,'Location Type (FICM Codes)'!$A$7:$B$188,2,FALSE)","v":{"$error":"#N/A"}},null,null,null,null,null,{"$f":"VLOOKUP(G7516:G17514,'Location Type (FICM Codes)'!$A$7:$C$188,3,FALSE)","v":{"$error":"#N/A"}}]
[null,null,null,null,null,null,null,{"$f":"VLOOKUP($G$2:$G$50000,'Location Type (FICM Codes)'!$A$7:$B$188,2,FALSE)","v":{"$error":"#N/A"}},null,null,null,null,null,{"$f":"VLOOKUP(G7517:G17515,'Location Type (FICM Codes)'!$A$7:$C$188,3,FALSE)","v":{"$error":"#N/A"}}]
[null,null,null,null,null,null,null,{"$f":"VLOOKUP($G$2:$G$50000,'Location Type (FICM Codes)'!$A$7:$B$188,2,FALSE)","v":{"$error":"#N/A"}},null,null,null,null,null,{"$f":"VLOOKUP(G7523:G17521,'Location Type (FICM Codes)'!$A$7:$C$188,3,FALSE)","v":{"$error":"#N/A"}}]
[null,null,null,null,null,null,null,{"$f":"VLOOKUP($G$2:$G$50000,'Location Type (FICM Codes)'!$A$7:$B$188,2,FALSE)","v":{"$error":"#N/A"}},null,null,null,null,null,{"$f":"VLOOKUP(G7526:G17524,'Location Type (FICM Codes)'!$A$7:$C$188,3,FALSE)","v":{"$error":"#N/A"}}]
[null,null,null,null,null,null,null,{"$f":"VLOOKUP($G$2:$G$50000,'Location Type (FICM Codes)'!$A$7:$B$188,2,FALSE)","v":{"$error":"#N/A"}},null,null,null,null,null,{"$f":"VLOOKUP(G7531:G17529,'Location Type (FICM Codes)'!$A$7:$C$188,3,FALSE)","v":{"$error":"#N/A"}}]
[null,null,null,null,null,null,null,{"$f":"VLOOKUP($G$2:$G$50000,'Location Type (FICM Codes)'!$A$7:$B$188,2,FALSE)","v":{"$error":"#N/A"}},null,null,null,null,null,{"$f":"VLOOKUP(G7532:G17530,'Location Type (FICM Codes)'!$A$7:$C$188,3,FALSE)","v":{"$error":"#N/A"}}]
[null,null,null,null,null,null,null,{"$f":"VLOOKUP($G$2:$G$50000,'Location Type (FICM Codes)'!$A$7:$B$188,2,FALSE)","v":{"$error":"#N/A"}},null,null,null,null,null,{"$f":"VLOOKUP(G7536:G17534,'Location Type (FICM Codes)'!$A$7:$C$188,3,FALSE)","v":{"$error":"#N/A"}}]
[null,null,null,null,null,null,null,{"$f":"VLOOKUP($G$2:$G$50000,'Location Type (FICM Codes)'!$A$7:$B$188,2,FALSE)","v":{"$error":"#N/A"}},null,null,null,null,null,{"$f":"VLOOKUP(G7541:G17539,'Location Type (FICM Codes)'!$A$7:$C$188,3,FALSE)","v":{"$error":"#N/A"}}]
[null,null,null,null,null,null,null,{"$f":"VLOOKUP($G$2:$G$50000,'Location Type (FICM Codes)'!$A$7:$B$188,2,FALSE)","v":{"$error":"#N/A"}},null,null,null,null,null,{"$f":"VLOOKUP(G7546:G17544,'Location Type (FICM Codes)'!$A$7:$C$188,3,FALSE)","v":{"$error":"#N/A"}}]
[null,null,null,null,null,null,null,{"$f":"VLOOKUP($G$2:$G$50000,'Location Type (FICM Codes)'!$A$7:$B$188,2,FALSE)","v":{"$error":"#N/A"}},null,null,null,null,null,{"$f":"VLOOKUP(G7547:G17545,'Location Type (FICM Codes)'!$A$7:$C$188,3,FALSE)","v":{"$error":"#N/A"}}]
[null,null,null,null,null,null,null,{"$f":"VLOOKUP($G$2:$G$50000,'Location Type (FICM Codes)'!$A$7:$B$188,2,FALSE)","v":{"$error":"#N/A"}},null,null,null,null,null,{"$f":"VLOOKUP(G7553:G17551,'Location Type (FICM Codes)'!$A$7:$C$188,3,FALSE)","v":{"$error":"#N/A"}}]
[null,null,null,null,null,null,null,{"$f":"VLOOKUP($G$2:$G$50000,'Location Type (FICM Codes)'!$A$7:$B$188,2,FALSE)","v":{"$error":"#N/A"}},null,null,null,null,null,{"$f":"VLOOKUP(G7556:G17554,'Location Type (FICM Codes)'!$A$7:$C$188,3,FALSE)","v":{"$error":"#N/A"}}]
[null,null,null,null,null,null,null,{"$f":"VLOOKUP($G$2:$G$50000,'Location Type (FICM Codes)'!$A$7:$B$188,2,FALSE)","v":{"$error":"#N/A"}},null,null,null,null,null,{"$f":"VLOOKUP(G7561:G17559,'Location Type (FICM Codes)'!$A$7:$C$188,3,FALSE)","v":{"$error":"#N/A"}}]
[null,null,null,null,null,null,null,{"$f":"VLOOKUP($G$2:$G$50000,'Location Type (FICM Codes)'!$A$7:$B$188,2,FALSE)","v":{"$error":"#N/A"}},null,null,null,null,null,{"$f":"VLOOKUP(G7562:G17560,'Location Type (FICM Codes)'!$A$7:$C$188,3,FALSE)","v":{"$error":"#N/A"}}]
[null,null,null,null,null,null,null,{"$f":"VLOOKUP($G$2:$G$50000,'Location Type (FICM Codes)'!$A$7:$B$188,2,FALSE)","v":{"$error":"#N/A"}},null,null,null,null,null,{"$f":"VLOOKUP(G7566:G17564,'Location Type (FICM Codes)'!$A$7:$C$188,3,FALSE)","v":{"$error":"#N/A"}}]
[null,null,null,null,null,null,null,{"$f":"VLOOKUP($G$2:$G$50000,'Location Type (FICM Codes)'!$A$7:$B$188,2,FALSE)","v":{"$error":"#N/A"}},null,null,null,null,null,{"$f":"VLOOKUP(G7571:G17569,'Location Type (FICM Codes)'!$A$7:$C$188,3,FALSE)","v":{"$error":"#N/A"}}]
[null,null,null,null,null,null,null,{"$f":"VLOOKUP($G$2:$G$50000,'Location Type (FICM Codes)'!$A$7:$B$188,2,FALSE)","v":{"$error":"#N/A"}},null,null,null,null,null,{"$f":"VLOOKUP(G7576:G17574,'Location Type (FICM Codes)'!$A$7:$C$188,3,FALSE)","v":{"$error":"#N/A"}}]
[null,null,null,null,null,null,null,{"$f":"VLOOKUP($G$2:$G$50000,'Location Type (FICM Codes)'!$A$7:$B$188,2,FALSE)","v":{"$error":"#N/A"}},null,null,null,null,null,{"$f":"VLOOKUP(G7577:G17575,'Location Type (FICM Codes)'!$A$7:$C$188,3,FALSE)","v":{"$error":"#N/A"}}]
[null,null,null,null,null,null,null,{"$f":"VLOOKUP($G$2:$G$50000,'Location Type (FICM Codes)'!$A$7:$B$188,2,FALSE)","v":{"$error":"#N/A"}},null,null,null,null,null,{"$f":"VLOOKUP(G7583:G17581,'Location Type (FICM Codes)'!$A$7:$C$188,3,FALSE)","v":{"$error":"#N/A"}}]
[null,null,null,null,null,null,null,{"$f":"VLOOKUP($G$2:$G$50000,'Location Type (FICM Codes)'!$A$7:$B$188,2,FALSE)","v":{"$error":"#N/A"}},null,null,null,null,null,{"$f":"VLOOKUP(G7586:G17584,'Location Type (FICM Codes)'!$A$7:$C$188,3,FALSE)","v":{"$error":"#N/A"}}]
[null,null,null,null,null,null,null,{"$f":"VLOOKUP($G$2:$G$50000,'Location Type (FICM Codes)'!$A$7:$B$188,2,FALSE)","v":{"$error":"#N/A"}},null,null,null,null,null,{"$f":"VLOOKUP(G7591:G17589,'Location Type (FICM Codes)'!$A$7:$C$188,3,FALSE)","v":{"$error":"#N/A"}}]
[null,null,null,null,null,null,null,{"$f":"VLOOKUP($G$2:$G$50000,'Location Type (FICM Codes)'!$A$7:$B$188,2,FALSE)","v":{"$error":"#N/A"}},null,null,null,null,null,{"$f":"VLOOKUP(G7592:G17590,'Location Type (FICM Codes)'!$A$7:$C$188,3,FALSE)","v":{"$error":"#N/A"}}]
[null,null,null,null,null,null,null,{"$f":"VLOOKUP($G$2:$G$50000,'Location Type (FICM Codes)'!$A$7:$B$188,2,FALSE)","v":{"$error":"#N/A"}},null,null,null,null,null,{"$f":"VLOOKUP(G7596:G17594,'Location Type (FICM Codes)'!$A$7:$C$188,3,FALSE)","v":{"$error":"#N/A"}}]
[null,null,null,null,null,null,null,{"$f":"VLOOKUP($G$2:$G$50000,'Location Type (FICM Codes)'!$A$7:$B$188,2,FALSE)","v":{"$error":"#N/A"}},null,null,null,null,null,{"$f":"VLOOKUP(G7601:G17599,'Location Type (FICM Codes)'!$A$7:$C$188,3,FALSE)","v":{"$error":"#N/A"}}]
[null,null,null,null,null,null,null,{"$f":"VLOOKUP($G$2:$G$50000,'Location Type (FICM Codes)'!$A$7:$B$188,2,FALSE)","v":{"$error":"#N/A"}},null,null,null,null,null,{"$f":"VLOOKUP(G7606:G17604,'Location Type (FICM Codes)'!$A$7:$C$188,3,FALSE)","v":{"$error":"#N/A"}}]
[null,null,null,null,null,null,null,{"$f":"VLOOKUP($G$2:$G$50000,'Location Type (FICM Codes)'!$A$7:$B$188,2,FALSE)","v":{"$error":"#N/A"}},null,null,null,null,null,{"$f":"VLOOKUP(G7607:G17605,'Location Type (FICM Codes)'!$A$7:$C$188,3,FALSE)","v":{"$error":"#N/A"}}]
[null,null,null,null,null,null,null,{"$f":"VLOOKUP($G$2:$G$50000,'Location Type (FICM Codes)'!$A$7:$B$188,2,FALSE)","v":{"$error":"#N/A"}},null,null,null,null,null,{"$f":"VLOOKUP(G7613:G17611,'Location Type (FICM Codes)'!$A$7:$C$188,3,FALSE)","v":{"$error":"#N/A"}}]
[null,null,null,null,null,null,null,{"$f":"VLOOKUP($G$2:$G$50000,'Location Type (FICM Codes)'!$A$7:$B$188,2,FALSE)","v":{"$error":"#N/A"}},null,null,null,null,null,{"$f":"VLOOKUP(G7616:G17614,'Location Type (FICM Codes)'!$A$7:$C$188,3,FALSE)","v":{"$error":"#N/A"}}]
[null,null,null,null,null,null,null,{"$f":"VLOOKUP($G$2:$G$50000,'Location Type (FICM Codes)'!$A$7:$B$188,2,FALSE)","v":{"$error":"#N/A"}},null,null,null,null,null,{"$f":"VLOOKUP(G7621:G17619,'Location Type (FICM Codes)'!$A$7:$C$188,3,FALSE)","v":{"$error":"#N/A"}}]
[null,null,null,null,null,null,null,{"$f":"VLOOKUP($G$2:$G$50000,'Location Type (FICM Codes)'!$A$7:$B$188,2,FALSE)","v":{"$error":"#N/A"}},null,null,null,null,null,{"$f":"VLOOKUP(G7622:G17620,'Location Type (FICM Codes)'!$A$7:$C$188,3,FALSE)","v":{"$error":"#N/A"}}]
[null,null,null,null,null,null,null,{"$f":"VLOOKUP($G$2:$G$50000,'Location Type (FICM Codes)'!$A$7:$B$188,2,FALSE)","v":{"$error":"#N/A"}},null,null,null,null,null,{"$f":"VLOOKUP(G7626:G17624,'Location Type (FICM Codes)'!$A$7:$C$188,3,FALSE)","v":{"$error":"#N/A"}}]
[null,null,null,null,null,null,null,{"$f":"VLOOKUP($G$2:$G$50000,'Location Type (FICM Codes)'!$A$7:$B$188,2,FALSE)","v":{"$error":"#N/A"}},null,null,null,null,null,{"$f":"VLOOKUP(G7631:G17629,'Location Type (FICM Codes)'!$A$7:$C$188,3,FALSE)","v":{"$error":"#N/A"}}]
[null,null,null,null,null,null,null,{"$f":"VLOOKUP($G$2:$G$50000,'Location Type (FICM Codes)'!$A$7:$B$188,2,FALSE)","v":{"$error":"#N/A"}},null,null,null,null,null,{"$f":"VLOOKUP(G7636:G17634,'Location Type (FICM Codes)'!$A$7:$C$188,3,FALSE)","v":{"$error":"#N/A"}}]
[null,null,null,null,null,null,null,{"$f":"VLOOKUP($G$2:$G$50000,'Location Type (FICM Codes)'!$A$7:$B$188,2,FALSE)","v":{"$error":"#N/A"}},null,null,null,null,null,{"$f":"VLOOKUP(G7637:G17635,'Location Type (FICM Codes)'!$A$7:$C$188,3,FALSE)","v":{"$error":"#N/A"}}]
[null,null,null,null,null,null,null,{"$f":"VLOOKUP($G$2:$G$50000,'Location Type (FICM Codes)'!$A$7:$B$188,2,FALSE)","v":{"$error":"#N/A"}},null,null,null,null,null,{"$f":"VLOOKUP(G7643:G17641,'Location Type (FICM Codes)'!$A$7:$C$188,3,FALSE)","v":{"$error":"#N/A"}}]
[null,null,null,null,null,null,null,{"$f":"VLOOKUP($G$2:$G$50000,'Location Type (FICM Codes)'!$A$7:$B$188,2,FALSE)","v":{"$error":"#N/A"}},null,null,null,null,null,{"$f":"VLOOKUP(G7646:G17644,'Location Type (FICM Codes)'!$A$7:$C$188,3,FALSE)","v":{"$error":"#N/A"}}]
[null,null,null,null,null,null,null,{"$f":"VLOOKUP($G$2:$G$50000,'Location Type (FICM Codes)'!$A$7:$B$188,2,FALSE)","v":{"$error":"#N/A"}},null,null,null,null,null,{"$f":"VLOOKUP(G7651:G17649,'Location Type (FICM Codes)'!$A$7:$C$188,3,FALSE)","v":{"$error":"#N/A"}}]
[null,null,null,null,null,null,null,{"$f":"VLOOKUP($G$2:$G$50000,'Location Type (FICM Codes)'!$A$7:$B$188,2,FALSE)","v":{"$error":"#N/A"}},null,null,null,null,null,{"$f":"VLOOKUP(G7652:G17650,'Location Type (FICM Codes)'!$A$7:$C$188,3,FALSE)","v":{"$error":"#N/A"}}]
[null,null,null,null,null,null,null,{"$f":"VLOOKUP($G$2:$G$50000,'Location Type (FICM Codes)'!$A$7:$B$188,2,FALSE)","v":{"$error":"#N/A"}},null,null,null,null,null,{"$f":"VLOOKUP(G7657:G17655,'Location Type (FICM Codes)'!$A$7:$C$188,3,FALSE)","v":{"$error":"#N/A"}}]
[null,null,null,null,null,null,null,{"$f":"VLOOKUP($G$2:$G$50000,'Location Type (FICM Codes)'!$A$7:$B$188,2,FALSE)","v":{"$error":"#N/A"}},null,null,null,null,null,{"$f":"VLOOKUP(G7661:G17659,'Location Type (FICM Codes)'!$A$7:$C$188,3,FALSE)","v":{"$error":"#N/A"}}]
[null,null,null,null,null,null,null,{"$f":"VLOOKUP($G$2:$G$50000,'Location Type (FICM Codes)'!$A$7:$B$188,2,FALSE)","v":{"$error":"#N/A"}},null,null,null,null,null,{"$f":"VLOOKUP(G7666:G17664,'Location Type (FICM Codes)'!$A$7:$C$188,3,FALSE)","v":{"$error":"#N/A"}}]
[null,null,null,null,null,null,null,{"$f":"VLOOKUP($G$2:$G$50000,'Location Type (FICM Codes)'!$A$7:$B$188,2,FALSE)","v":{"$error":"#N/A"}},null,null,null,null,null,{"$f":"VLOOKUP(G7667:G17665,'Location Type (FICM Codes)'!$A$7:$C$188,3,FALSE)","v":{"$error":"#N/A"}}]
[null,null,null,null,null,null,null,{"$f":"VLOOKUP($G$2:$G$50000,'Location Type (FICM Codes)'!$A$7:$B$188,2,FALSE)","v":{"$error":"#N/A"}},null,null,null,null,null,{"$f":"VLOOKUP(G7673:G17671,'Location Type (FICM Codes)'!$A$7:$C$188,3,FALSE)","v":{"$error":"#N/A"}}]
[null,null,null,null,null,null,null,{"$f":"VLOOKUP($G$2:$G$50000,'Location Type (FICM Codes)'!$A$7:$B$188,2,FALSE)","v":{"$error":"#N/A"}},null,null,null,null,null,{"$f":"VLOOKUP(G7676:G17674,'Location Type (FICM Codes)'!$A$7:$C$188,3,FALSE)","v":{"$error":"#N/A"}}]
[null,null,null,null,null,null,null,{"$f":"VLOOKUP($G$2:$G$50000,'Location Type (FICM Codes)'!$A$7:$B$188,2,FALSE)","v":{"$error":"#N/A"}},null,null,null,null,null,{"$f":"VLOOKUP(G7681:G17679,'Location Type (FICM Codes)'!$A$7:$C$188,3,FALSE)","v":{"$error":"#N/A"}}]
[null,null,null,null,null,null,null,{"$f":"VLOOKUP($G$2:$G$50000,'Location Type (FICM Codes)'!$A$7:$B$188,2,FALSE)","v":{"$error":"#N/A"}},null,null,null,null,null,{"$f":"VLOOKUP(G7682:G17680,'Location Type (FICM Codes)'!$A$7:$C$188,3,FALSE)","v":{"$error":"#N/A"}}]
[null,null,null,null,null,null,null,{"$f":"VLOOKUP($G$2:$G$50000,'Location Type (FICM Codes)'!$A$7:$B$188,2,FALSE)","v":{"$error":"#N/A"}},null,null,null,null,null,{"$f":"VLOOKUP(G7687:G17685,'Location Type (FICM Codes)'!$A$7:$C$188,3,FALSE)","v":{"$error":"#N/A"}}]
[null,null,null,null,null,null,null,{"$f":"VLOOKUP($G$2:$G$50000,'Location Type (FICM Codes)'!$A$7:$B$188,2,FALSE)","v":{"$error":"#N/A"}},null,null,null,null,null,{"$f":"VLOOKUP(G7691:G17689,'Location Type (FICM Codes)'!$A$7:$C$188,3,FALSE)","v":{"$error":"#N/A"}}]
[null,null,null,null,null,null,null,{"$f":"VLOOKUP($G$2:$G$50000,'Location Type (FICM Codes)'!$A$7:$B$188,2,FALSE)","v":{"$error":"#N/A"}},null,null,null,null,null,{"$f":"VLOOKUP(G7696:G17694,'Location Type (FICM Codes)'!$A$7:$C$188,3,FALSE)","v":{"$error":"#N/A"}}]
[null,null,null,null,null,null,null,{"$f":"VLOOKUP($G$2:$G$50000,'Location Type (FICM Codes)'!$A$7:$B$188,2,FALSE)","v":{"$error":"#N/A"}},null,null,null,null,null,{"$f":"VLOOKUP(G7697:G17695,'Location Type (FICM Codes)'!$A$7:$C$188,3,FALSE)","v":{"$error":"#N/A"}}]
[null,null,null,null,null,null,null,{"$f":"VLOOKUP($G$2:$G$50000,'Location Type (FICM Codes)'!$A$7:$B$188,2,FALSE)","v":{"$error":"#N/A"}},null,null,null,null,null,{"$f":"VLOOKUP(G7703:G17701,'Location Type (FICM Codes)'!$A$7:$C$188,3,FALSE)","v":{"$error":"#N/A"}}]
[null,null,null,null,null,null,null,{"$f":"VLOOKUP($G$2:$G$50000,'Location Type (FICM Codes)'!$A$7:$B$188,2,FALSE)","v":{"$error":"#N/A"}},null,null,null,null,null,{"$f":"VLOOKUP(G7706:G17704,'Location Type (FICM Codes)'!$A$7:$C$188,3,FALSE)","v":{"$error":"#N/A"}}]
[null,null,null,null,null,null,null,{"$f":"VLOOKUP($G$2:$G$50000,'Location Type (FICM Codes)'!$A$7:$B$188,2,FALSE)","v":{"$error":"#N/A"}},null,null,null,null,null,{"$f":"VLOOKUP(G7711:G17709,'Location Type (FICM Codes)'!$A$7:$C$188,3,FALSE)","v":{"$error":"#N/A"}}]
[null,null,null,null,null,null,null,{"$f":"VLOOKUP($G$2:$G$50000,'Location Type (FICM Codes)'!$A$7:$B$188,2,FALSE)","v":{"$error":"#N/A"}},null,null,null,null,null,{"$f":"VLOOKUP(G7712:G17710,'Location Type (FICM Codes)'!$A$7:$C$188,3,FALSE)","v":{"$error":"#N/A"}}]
[null,null,null,null,null,null,null,{"$f":"VLOOKUP($G$2:$G$50000,'Location Type (FICM Codes)'!$A$7:$B$188,2,FALSE)","v":{"$error":"#N/A"}},null,null,null,null,null,{"$f":"VLOOKUP(G7717:G17715,'Location Type (FICM Codes)'!$A$7:$C$188,3,FALSE)","v":{"$error":"#N/A"}}]
[null,null,null,null,null,null,null,{"$f":"VLOOKUP($G$2:$G$50000,'Location Type (FICM Codes)'!$A$7:$B$188,2,FALSE)","v":{"$error":"#N/A"}},null,null,null,null,null,{"$f":"VLOOKUP(G7721:G17719,'Location Type (FICM Codes)'!$A$7:$C$188,3,FALSE)","v":{"$error":"#N/A"}}]
[null,null,null,null,null,null,null,{"$f":"VLOOKUP($G$2:$G$50000,'Location Type (FICM Codes)'!$A$7:$B$188,2,FALSE)","v":{"$error":"#N/A"}},null,null,null,null,null,{"$f":"VLOOKUP(G7726:G17724,'Location Type (FICM Codes)'!$A$7:$C$188,3,FALSE)","v":{"$error":"#N/A"}}]
[null,null,null,null,null,null,null,{"$f":"VLOOKUP($G$2:$G$50000,'Location Type (FICM Codes)'!$A$7:$B$188,2,FALSE)","v":{"$error":"#N/A"}},null,null,null,null,null,{"$f":"VLOOKUP(G7727:G17725,'Location Type (FICM Codes)'!$A$7:$C$188,3,FALSE)","v":{"$error":"#N/A"}}]
[null,null,null,null,null,null,null,{"$f":"VLOOKUP($G$2:$G$50000,'Location Type (FICM Codes)'!$A$7:$B$188,2,FALSE)","v":{"$error":"#N/A"}},null,null,null,null,null,{"$f":"VLOOKUP(G7733:G17731,'Location Type (FICM Codes)'!$A$7:$C$188,3,FALSE)","v":{"$error":"#N/A"}}]
[null,null,null,null,null,null,null,{"$f":"VLOOKUP($G$2:$G$50000,'Location Type (FICM Codes)'!$A$7:$B$188,2,FALSE)","v":{"$error":"#N/A"}},null,null,null,null,null,{"$f":"VLOOKUP(G7736:G17734,'Location Type (FICM Codes)'!$A$7:$C$188,3,FALSE)","v":{"$error":"#N/A"}}]
[null,null,null,null,null,null,null,{"$f":"VLOOKUP($G$2:$G$50000,'Location Type (FICM Codes)'!$A$7:$B$188,2,FALSE)","v":{"$error":"#N/A"}},null,null,null,null,null,{"$f":"VLOOKUP(G7741:G17739,'Location Type (FICM Codes)'!$A$7:$C$188,3,FALSE)","v":{"$error":"#N/A"}}]
[null,null,null,null,null,null,null,{"$f":"VLOOKUP($G$2:$G$50000,'Location Type (FICM Codes)'!$A$7:$B$188,2,FALSE)","v":{"$error":"#N/A"}},null,null,null,null,null,{"$f":"VLOOKUP(G7742:G17740,'Location Type (FICM Codes)'!$A$7:$C$188,3,FALSE)","v":{"$error":"#N/A"}}]
[null,null,null,null,null,null,null,{"$f":"VLOOKUP($G$2:$G$50000,'Location Type (FICM Codes)'!$A$7:$B$188,2,FALSE)","v":{"$error":"#N/A"}},null,null,null,null,null,{"$f":"VLOOKUP(G7747:G17745,'Location Type (FICM Codes)'!$A$7:$C$188,3,FALSE)","v":{"$error":"#N/A"}}]
[null,null,null,null,null,null,null,{"$f":"VLOOKUP($G$2:$G$50000,'Location Type (FICM Codes)'!$A$7:$B$188,2,FALSE)","v":{"$error":"#N/A"}},null,null,null,null,null,{"$f":"VLOOKUP(G7751:G17749,'Location Type (FICM Codes)'!$A$7:$C$188,3,FALSE)","v":{"$error":"#N/A"}}]
[null,null,null,null,null,null,null,{"$f":"VLOOKUP($G$2:$G$50000,'Location Type (FICM Codes)'!$A$7:$B$188,2,FALSE)","v":{"$error":"#N/A"}},null,null,null,null,null,{"$f":"VLOOKUP(G7756:G17754,'Location Type (FICM Codes)'!$A$7:$C$188,3,FALSE)","v":{"$error":"#N/A"}}]
[null,null,null,null,null,null,null,{"$f":"VLOOKUP($G$2:$G$50000,'Location Type (FICM Codes)'!$A$7:$B$188,2,FALSE)","v":{"$error":"#N/A"}},null,null,null,null,null,{"$f":"VLOOKUP(G7757:G17755,'Location Type (FICM Codes)'!$A$7:$C$188,3,FALSE)","v":{"$error":"#N/A"}}]
[null,null,null,null,null,null,null,{"$f":"VLOOKUP($G$2:$G$50000,'Location Type (FICM Codes)'!$A$7:$B$188,2,FALSE)","v":{"$error":"#N/A"}},null,null,null,null,null,{"$f":"VLOOKUP(G7763:G17761,'Location Type (FICM Codes)'!$A$7:$C$188,3,FALSE)","v":{"$error":"#N/A"}}]
[null,null,null,null,null,null,null,{"$f":"VLOOKUP($G$2:$G$50000,'Location Type (FICM Codes)'!$A$7:$B$188,2,FALSE)","v":{"$error":"#N/A"}},null,null,null,null,null,{"$f":"VLOOKUP(G7766:G17764,'Location Type (FICM Codes)'!$A$7:$C$188,3,FALSE)","v":{"$error":"#N/A"}}]
[null,null,null,null,null,null,null,{"$f":"VLOOKUP($G$2:$G$50000,'Location Type (FICM Codes)'!$A$7:$B$188,2,FALSE)","v":{"$error":"#N/A"}},null,null,null,null,null,{"$f":"VLOOKUP(G7771:G17769,'Location Type (FICM Codes)'!$A$7:$C$188,3,FALSE)","v":{"$error":"#N/A"}}]
[null,null,null,null,null,null,null,{"$f":"VLOOKUP($G$2:$G$50000,'Location Type (FICM Codes)'!$A$7:$B$188,2,FALSE)","v":{"$error":"#N/A"}},null,null,null,null,null,{"$f":"VLOOKUP(G7772:G17770,'Location Type (FICM Codes)'!$A$7:$C$188,3,FALSE)","v":{"$error":"#N/A"}}]
[null,null,null,null,null,null,null,{"$f":"VLOOKUP($G$2:$G$50000,'Location Type (FICM Codes)'!$A$7:$B$188,2,FALSE)","v":{"$error":"#N/A"}},null,null,null,null,null,{"$f":"VLOOKUP(G7777:G17775,'Location Type (FICM Codes)'!$A$7:$C$188,3,FALSE)","v":{"$error":"#N/A"}}]
[null,null,null,null,null,null,null,{"$f":"VLOOKUP($G$2:$G$50000,'Location Type (FICM Codes)'!$A$7:$B$188,2,FALSE)","v":{"$error":"#N/A"}},null,null,null,null,null,{"$f":"VLOOKUP(G7781:G17779,'Location Type (FICM Codes)'!$A$7:$C$188,3,FALSE)","v":{"$error":"#N/A"}}]
[null,null,null,null,null,null,null,{"$f":"VLOOKUP($G$2:$G$50000,'Location Type (FICM Codes)'!$A$7:$B$188,2,FALSE)","v":{"$error":"#N/A"}},null,null,null,null,null,{"$f":"VLOOKUP(G7786:G17784,'Location Type (FICM Codes)'!$A$7:$C$188,3,FALSE)","v":{"$error":"#N/A"}}]
[null,null,null,null,null,null,null,{"$f":"VLOOKUP($G$2:$G$50000,'Location Type (FICM Codes)'!$A$7:$B$188,2,FALSE)","v":{"$error":"#N/A"}},null,null,null,null,null,{"$f":"VLOOKUP(G7787:G17785,'Location Type (FICM Codes)'!$A$7:$C$188,3,FALSE)","v":{"$error":"#N/A"}}]
[null,null,null,null,null,null,null,{"$f":"VLOOKUP($G$2:$G$50000,'Location Type (FICM Codes)'!$A$7:$B$188,2,FALSE)","v":{"$error":"#N/A"}},null,null,null,null,null,{"$f":"VLOOKUP(G7793:G17791,'Location Type (FICM Codes)'!$A$7:$C$188,3,FALSE)","v":{"$error":"#N/A"}}]
[null,null,null,null,null,null,null,{"$f":"VLOOKUP($G$2:$G$50000,'Location Type (FICM Codes)'!$A$7:$B$188,2,FALSE)","v":{"$error":"#N/A"}},null,null,null,null,null,{"$f":"VLOOKUP(G7796:G17794,'Location Type (FICM Codes)'!$A$7:$C$188,3,FALSE)","v":{"$error":"#N/A"}}]
[null,null,null,null,null,null,null,{"$f":"VLOOKUP($G$2:$G$50000,'Location Type (FICM Codes)'!$A$7:$B$188,2,FALSE)","v":{"$error":"#N/A"}},null,null,null,null,null,{"$f":"VLOOKUP(G7801:G17799,'Location Type (FICM Codes)'!$A$7:$C$188,3,FALSE)","v":{"$error":"#N/A"}}]
[null,null,null,null,null,null,null,{"$f":"VLOOKUP($G$2:$G$50000,'Location Type (FICM Codes)'!$A$7:$B$188,2,FALSE)","v":{"$error":"#N/A"}},null,null,null,null,null,{"$f":"VLOOKUP(G7802:G17800,'Location Type (FICM Codes)'!$A$7:$C$188,3,FALSE)","v":{"$error":"#N/A"}}]
[null,null,null,null,null,null,null,{"$f":"VLOOKUP($G$2:$G$50000,'Location Type (FICM Codes)'!$A$7:$B$188,2,FALSE)","v":{"$error":"#N/A"}},null,null,null,null,null,{"$f":"VLOOKUP(G7807:G17805,'Location Type (FICM Codes)'!$A$7:$C$188,3,FALSE)","v":{"$error":"#N/A"}}]
[null,null,null,null,null,null,null,{"$f":"VLOOKUP($G$2:$G$50000,'Location Type (FICM Codes)'!$A$7:$B$188,2,FALSE)","v":{"$error":"#N/A"}},null,null,null,null,null,{"$f":"VLOOKUP(G7811:G17809,'Location Type (FICM Codes)'!$A$7:$C$188,3,FALSE)","v":{"$error":"#N/A"}}]
[null,null,null,null,null,null,null,{"$f":"VLOOKUP($G$2:$G$50000,'Location Type (FICM Codes)'!$A$7:$B$188,2,FALSE)","v":{"$error":"#N/A"}},null,null,null,null,null,{"$f":"VLOOKUP(G7816:G17814,'Location Type (FICM Codes)'!$A$7:$C$188,3,FALSE)","v":{"$error":"#N/A"}}]
[null,null,null,null,null,null,null,{"$f":"VLOOKUP($G$2:$G$50000,'Location Type (FICM Codes)'!$A$7:$B$188,2,FALSE)","v":{"$error":"#N/A"}},null,null,null,null,null,{"$f":"VLOOKUP(G7817:G17815,'Location Type (FICM Codes)'!$A$7:$C$188,3,FALSE)","v":{"$error":"#N/A"}}]
[null,null,null,null,null,null,null,{"$f":"VLOOKUP($G$2:$G$50000,'Location Type (FICM Codes)'!$A$7:$B$188,2,FALSE)","v":{"$error":"#N/A"}},null,null,null,null,null,{"$f":"VLOOKUP(G7823:G17821,'Location Type (FICM Codes)'!$A$7:$C$188,3,FALSE)","v":{"$error":"#N/A"}}]
[null,null,null,null,null,null,null,{"$f":"VLOOKUP($G$2:$G$50000,'Location Type (FICM Codes)'!$A$7:$B$188,2,FALSE)","v":{"$error":"#N/A"}},null,null,null,null,null,{"$f":"VLOOKUP(G7826:G17824,'Location Type (FICM Codes)'!$A$7:$C$188,3,FALSE)","v":{"$error":"#N/A"}}]
[null,null,null,null,null,null,null,{"$f":"VLOOKUP($G$2:$G$50000,'Location Type (FICM Codes)'!$A$7:$B$188,2,FALSE)","v":{"$error":"#N/A"}},null,null,null,null,null,{"$f":"VLOOKUP(G7831:G17829,'Location Type (FICM Codes)'!$A$7:$C$188,3,FALSE)","v":{"$error":"#N/A"}}]
[null,null,null,null,null,null,null,{"$f":"VLOOKUP($G$2:$G$50000,'Location Type (FICM Codes)'!$A$7:$B$188,2,FALSE)","v":{"$error":"#N/A"}},null,null,null,null,null,{"$f":"VLOOKUP(G7832:G17830,'Location Type (FICM Codes)'!$A$7:$C$188,3,FALSE)","v":{"$error":"#N/A"}}]
[null,null,null,null,null,null,null,{"$f":"VLOOKUP($G$2:$G$50000,'Location Type (FICM Codes)'!$A$7:$B$188,2,FALSE)","v":{"$error":"#N/A"}},null,null,null,null,null,{"$f":"VLOOKUP(G7837:G17835,'Location Type (FICM Codes)'!$A$7:$C$188,3,FALSE)","v":{"$error":"#N/A"}}]
[null,null,null,null,null,null,null,{"$f":"VLOOKUP($G$2:$G$50000,'Location Type (FICM Codes)'!$A$7:$B$188,2,FALSE)","v":{"$error":"#N/A"}},null,null,null,null,null,{"$f":"VLOOKUP(G7841:G17839,'Location Type (FICM Codes)'!$A$7:$C$188,3,FALSE)","v":{"$error":"#N/A"}}]
[null,null,null,null,null,null,null,{"$f":"VLOOKUP($G$2:$G$50000,'Location Type (FICM Codes)'!$A$7:$B$188,2,FALSE)","v":{"$error":"#N/A"}},null,null,null,null,null,{"$f":"VLOOKUP(G7846:G17844,'Location Type (FICM Codes)'!$A$7:$C$188,3,FALSE)","v":{"$error":"#N/A"}}]
[null,null,null,null,null,null,null,{"$f":"VLOOKUP($G$2:$G$50000,'Location Type (FICM Codes)'!$A$7:$B$188,2,FALSE)","v":{"$error":"#N/A"}},null,null,null,null,null,{"$f":"VLOOKUP(G7847:G17845,'Location Type (FICM Codes)'!$A$7:$C$188,3,FALSE)","v":{"$error":"#N/A"}}]
[null,null,null,null,null,null,null,{"$f":"VLOOKUP($G$2:$G$50000,'Location Type (FICM Codes)'!$A$7:$B$188,2,FALSE)","v":{"$error":"#N/A"}},null,null,null,null,null,{"$f":"VLOOKUP(G7853:G17851,'Location Type (FICM Codes)'!$A$7:$C$188,3,FALSE)","v":{"$error":"#N/A"}}]
[null,null,null,null,null,null,null,{"$f":"VLOOKUP($G$2:$G$50000,'Location Type (FICM Codes)'!$A$7:$B$188,2,FALSE)","v":{"$error":"#N/A"}},null,null,null,null,null,{"$f":"VLOOKUP(G7856:G17854,'Location Type (FICM Codes)'!$A$7:$C$188,3,FALSE)","v":{"$error":"#N/A"}}]
[null,null,null,null,null,null,null,{"$f":"VLOOKUP($G$2:$G$50000,'Location Type (FICM Codes)'!$A$7:$B$188,2,FALSE)","v":{"$error":"#N/A"}},null,null,null,null,null,{"$f":"VLOOKUP(G7861:G17859,'Location Type (FICM Codes)'!$A$7:$C$188,3,FALSE)","v":{"$error":"#N/A"}}]
[null,null,null,null,null,null,null,{"$f":"VLOOKUP($G$2:$G$50000,'Location Type (FICM Codes)'!$A$7:$B$188,2,FALSE)","v":{"$error":"#N/A"}},null,null,null,null,null,{"$f":"VLOOKUP(G7862:G17860,'Location Type (FICM Codes)'!$A$7:$C$188,3,FALSE)","v":{"$error":"#N/A"}}]
[null,null,null,null,null,null,null,{"$f":"VLOOKUP($G$2:$G$50000,'Location Type (FICM Codes)'!$A$7:$B$188,2,FALSE)","v":{"$error":"#N/A"}},null,null,null,null,null,{"$f":"VLOOKUP(G7867:G17865,'Location Type (FICM Codes)'!$A$7:$C$188,3,FALSE)","v":{"$error":"#N/A"}}]
[null,null,null,null,null,null,null,{"$f":"VLOOKUP($G$2:$G$50000,'Location Type (FICM Codes)'!$A$7:$B$188,2,FALSE)","v":{"$error":"#N/A"}},null,null,null,null,null,{"$f":"VLOOKUP(G7871:G17869,'Location Type (FICM Codes)'!$A$7:$C$188,3,FALSE)","v":{"$error":"#N/A"}}]
[null,null,null,null,null,null,null,{"$f":"VLOOKUP($G$2:$G$50000,'Location Type (FICM Codes)'!$A$7:$B$188,2,FALSE)","v":{"$error":"#N/A"}},null,null,null,null,null,{"$f":"VLOOKUP(G7876:G17874,'Location Type (FICM Codes)'!$A$7:$C$188,3,FALSE)","v":{"$error":"#N/A"}}]
[null,null,null,null,null,null,null,{"$f":"VLOOKUP($G$2:$G$50000,'Location Type (FICM Codes)'!$A$7:$B$188,2,FALSE)","v":{"$error":"#N/A"}},null,null,null,null,null,{"$f":"VLOOKUP(G7877:G17875,'Location Type (FICM Codes)'!$A$7:$C$188,3,FALSE)","v":{"$error":"#N/A"}}]
[null,null,null,null,null,null,null,{"$f":"VLOOKUP($G$2:$G$50000,'Location Type (FICM Codes)'!$A$7:$B$188,2,FALSE)","v":{"$error":"#N/A"}},null,null,null,null,null,{"$f":"VLOOKUP(G7883:G17881,'Location Type (FICM Codes)'!$A$7:$C$188,3,FALSE)","v":{"$error":"#N/A"}}]
[null,null,null,null,null,null,null,{"$f":"VLOOKUP($G$2:$G$50000,'Location Type (FICM Codes)'!$A$7:$B$188,2,FALSE)","v":{"$error":"#N/A"}},null,null,null,null,null,{"$f":"VLOOKUP(G7886:G17884,'Location Type (FICM Codes)'!$A$7:$C$188,3,FALSE)","v":{"$error":"#N/A"}}]
[null,null,null,null,null,null,null,{"$f":"VLOOKUP($G$2:$G$50000,'Location Type (FICM Codes)'!$A$7:$B$188,2,FALSE)","v":{"$error":"#N/A"}},null,null,null,null,null,{"$f":"VLOOKUP(G7891:G17889,'Location Type (FICM Codes)'!$A$7:$C$188,3,FALSE)","v":{"$error":"#N/A"}}]
[null,null,null,null,null,null,null,{"$f":"VLOOKUP($G$2:$G$50000,'Location Type (FICM Codes)'!$A$7:$B$188,2,FALSE)","v":{"$error":"#N/A"}},null,null,null,null,null,{"$f":"VLOOKUP(G7892:G17890,'Location Type (FICM Codes)'!$A$7:$C$188,3,FALSE)","v":{"$error":"#N/A"}}]
[null,null,null,null,null,null,null,{"$f":"VLOOKUP($G$2:$G$50000,'Location Type (FICM Codes)'!$A$7:$B$188,2,FALSE)","v":{"$error":"#N/A"}},null,null,null,null,null,{"$f":"VLOOKUP(G7897:G17895,'Location Type (FICM Codes)'!$A$7:$C$188,3,FALSE)","v":{"$error":"#N/A"}}]
[null,null,null,null,null,null,null,{"$f":"VLOOKUP($G$2:$G$50000,'Location Type (FICM Codes)'!$A$7:$B$188,2,FALSE)","v":{"$error":"#N/A"}},null,null,null,null,null,{"$f":"VLOOKUP(G7901:G17899,'Location Type (FICM Codes)'!$A$7:$C$188,3,FALSE)","v":{"$error":"#N/A"}}]
[null,null,null,null,null,null,null,{"$f":"VLOOKUP($G$2:$G$50000,'Location Type (FICM Codes)'!$A$7:$B$188,2,FALSE)","v":{"$error":"#N/A"}},null,null,null,null,null,{"$f":"VLOOKUP(G7906:G17904,'Location Type (FICM Codes)'!$A$7:$C$188,3,FALSE)","v":{"$error":"#N/A"}}]
[null,null,null,null,null,null,null,{"$f":"VLOOKUP($G$2:$G$50000,'Location Type (FICM Codes)'!$A$7:$B$188,2,FALSE)","v":{"$error":"#N/A"}},null,null,null,null,null,{"$f":"VLOOKUP(G7907:G17905,'Location Type (FICM Codes)'!$A$7:$C$188,3,FALSE)","v":{"$error":"#N/A"}}]
[null,null,null,null,null,null,null,{"$f":"VLOOKUP($G$2:$G$50000,'Location Type (FICM Codes)'!$A$7:$B$188,2,FALSE)","v":{"$error":"#N/A"}},null,null,null,null,null,{"$f":"VLOOKUP(G7913:G17911,'Location Type (FICM Codes)'!$A$7:$C$188,3,FALSE)","v":{"$error":"#N/A"}}]
[null,null,null,null,null,null,null,{"$f":"VLOOKUP($G$2:$G$50000,'Location Type (FICM Codes)'!$A$7:$B$188,2,FALSE)","v":{"$error":"#N/A"}},null,null,null,null,null,{"$f":"VLOOKUP(G7916:G17914,'Location Type (FICM Codes)'!$A$7:$C$188,3,FALSE)","v":{"$error":"#N/A"}}]
[null,null,null,null,null,null,null,{"$f":"VLOOKUP($G$2:$G$50000,'Location Type (FICM Codes)'!$A$7:$B$188,2,FALSE)","v":{"$error":"#N/A"}},null,null,null,null,null,{"$f":"VLOOKUP(G7921:G17919,'Location Type (FICM Codes)'!$A$7:$C$188,3,FALSE)","v":{"$error":"#N/A"}}]
[null,null,null,null,null,null,null,{"$f":"VLOOKUP($G$2:$G$50000,'Location Type (FICM Codes)'!$A$7:$B$188,2,FALSE)","v":{"$error":"#N/A"}},null,null,null,null,null,{"$f":"VLOOKUP(G7922:G17920,'Location Type (FICM Codes)'!$A$7:$C$188,3,FALSE)","v":{"$error":"#N/A"}}]
[null,null,null,null,null,null,null,{"$f":"VLOOKUP($G$2:$G$50000,'Location Type (FICM Codes)'!$A$7:$B$188,2,FALSE)","v":{"$error":"#N/A"}},null,null,null,null,null,{"$f":"VLOOKUP(G7927:G17925,'Location Type (FICM Codes)'!$A$7:$C$188,3,FALSE)","v":{"$error":"#N/A"}}]
[null,null,null,null,null,null,null,{"$f":"VLOOKUP($G$2:$G$50000,'Location Type (FICM Codes)'!$A$7:$B$188,2,FALSE)","v":{"$error":"#N/A"}},null,null,null,null,null,{"$f":"VLOOKUP(G7931:G17929,'Location Type (FICM Codes)'!$A$7:$C$188,3,FALSE)","v":{"$error":"#N/A"}}]
[null,null,null,null,null,null,null,{"$f":"VLOOKUP($G$2:$G$50000,'Location Type (FICM Codes)'!$A$7:$B$188,2,FALSE)","v":{"$error":"#N/A"}},null,null,null,null,null,{"$f":"VLOOKUP(G7936:G17934,'Location Type (FICM Codes)'!$A$7:$C$188,3,FALSE)","v":{"$error":"#N/A"}}]
[null,null,null,null,null,null,null,{"$f":"VLOOKUP($G$2:$G$50000,'Location Type (FICM Codes)'!$A$7:$B$188,2,FALSE)","v":{"$error":"#N/A"}},null,null,null,null,null,{"$f":"VLOOKUP(G7937:G17935,'Location Type (FICM Codes)'!$A$7:$C$188,3,FALSE)","v":{"$error":"#N/A"}}]
[null,null,null,null,null,null,null,{"$f":"VLOOKUP($G$2:$G$50000,'Location Type (FICM Codes)'!$A$7:$B$188,2,FALSE)","v":{"$error":"#N/A"}},null,null,null,null,null,{"$f":"VLOOKUP(G7941:G17939,'Location Type (FICM Codes)'!$A$7:$C$188,3,FALSE)","v":{"$error":"#N/A"}}]
[null,null,null,null,null,null,null,{"$f":"VLOOKUP($G$2:$G$50000,'Location Type (FICM Codes)'!$A$7:$B$188,2,FALSE)","v":{"$error":"#N/A"}},null,null,null,null,null,{"$f":"VLOOKUP(G7946:G17944,'Location Type (FICM Codes)'!$A$7:$C$188,3,FALSE)","v":{"$error":"#N/A"}}]
[null,null,null,null,null,null,null,{"$f":"VLOOKUP($G$2:$G$50000,'Location Type (FICM Codes)'!$A$7:$B$188,2,FALSE)","v":{"$error":"#N/A"}},null,null,null,null,null,{"$f":"VLOOKUP(G7951:G17949,'Location Type (FICM Codes)'!$A$7:$C$188,3,FALSE)","v":{"$error":"#N/A"}}]
[null,null,null,null,null,null,null,{"$f":"VLOOKUP($G$2:$G$50000,'Location Type (FICM Codes)'!$A$7:$B$188,2,FALSE)","v":{"$error":"#N/A"}},null,null,null,null,null,{"$f":"VLOOKUP(G7952:G17950,'Location Type (FICM Codes)'!$A$7:$C$188,3,FALSE)","v":{"$error":"#N/A"}}]
[null,null,null,null,null,null,null,{"$f":"VLOOKUP($G$2:$G$50000,'Location Type (FICM Codes)'!$A$7:$B$188,2,FALSE)","v":{"$error":"#N/A"}},null,null,null,null,null,{"$f":"VLOOKUP(G7957:G17955,'Location Type (FICM Codes)'!$A$7:$C$188,3,FALSE)","v":{"$error":"#N/A"}}]
[null,null,null,null,null,null,null,{"$f":"VLOOKUP($G$2:$G$50000,'Location Type (FICM Codes)'!$A$7:$B$188,2,FALSE)","v":{"$error":"#N/A"}},null,null,null,null,null,{"$f":"VLOOKUP(G7961:G17959,'Location Type (FICM Codes)'!$A$7:$C$188,3,FALSE)","v":{"$error":"#N/A"}}]
[null,null,null,null,null,null,null,{"$f":"VLOOKUP($G$2:$G$50000,'Location Type (FICM Codes)'!$A$7:$B$188,2,FALSE)","v":{"$error":"#N/A"}},null,null,null,null,null,{"$f":"VLOOKUP(G7966:G17964,'Location Type (FICM Codes)'!$A$7:$C$188,3,FALSE)","v":{"$error":"#N/A"}}]
[null,null,null,null,null,null,null,{"$f":"VLOOKUP($G$2:$G$50000,'Location Type (FICM Codes)'!$A$7:$B$188,2,FALSE)","v":{"$error":"#N/A"}},null,null,null,null,null,{"$f":"VLOOKUP(G7967:G17965,'Location Type (FICM Codes)'!$A$7:$C$188,3,FALSE)","v":{"$error":"#N/A"}}]
[null,null,null,null,null,null,null,{"$f":"VLOOKUP($G$2:$G$50000,'Location Type (FICM Codes)'!$A$7:$B$188,2,FALSE)","v":{"$error":"#N/A"}},null,null,null,null,null,{"$f":"VLOOKUP(G7971:G17969,'Location Type (FICM Codes)'!$A$7:$C$188,3,FALSE)","v":{"$error":"#N/A"}}]
[null,null,null,null,null,null,null,{"$f":"VLOOKUP($G$2:$G$50000,'Location Type (FICM Codes)'!$A$7:$B$188,2,FALSE)","v":{"$error":"#N/A"}},null,null,null,null,null,{"$f":"VLOOKUP(G7976:G17974,'Location Type (FICM Codes)'!$A$7:$C$188,3,FALSE)","v":{"$error":"#N/A"}}]
[null,null,null,null,null,null,null,{"$f":"VLOOKUP($G$2:$G$50000,'Location Type (FICM Codes)'!$A$7:$B$188,2,FALSE)","v":{"$error":"#N/A"}},null,null,null,null,null,{"$f":"VLOOKUP(G7981:G17979,'Location Type (FICM Codes)'!$A$7:$C$188,3,FALSE)","v":{"$error":"#N/A"}}]
[null,null,null,null,null,null,null,{"$f":"VLOOKUP($G$2:$G$50000,'Location Type (FICM Codes)'!$A$7:$B$188,2,FALSE)","v":{"$error":"#N/A"}},null,null,null,null,null,{"$f":"VLOOKUP(G7982:G17980,'Location Type (FICM Codes)'!$A$7:$C$188,3,FALSE)","v":{"$error":"#N/A"}}]
[null,null,null,null,null,null,null,{"$f":"VLOOKUP($G$2:$G$50000,'Location Type (FICM Codes)'!$A$7:$B$188,2,FALSE)","v":{"$error":"#N/A"}},null,null,null,null,null,{"$f":"VLOOKUP(G7987:G17985,'Location Type (FICM Codes)'!$A$7:$C$188,3,FALSE)","v":{"$error":"#N/A"}}]
[null,null,null,null,null,null,null,{"$f":"VLOOKUP($G$2:$G$50000,'Location Type (FICM Codes)'!$A$7:$B$188,2,FALSE)","v":{"$error":"#N/A"}},null,null,null,null,null,{"$f":"VLOOKUP(G7991:G17989,'Location Type (FICM Codes)'!$A$7:$C$188,3,FALSE)","v":{"$error":"#N/A"}}]
[null,null,null,null,null,null,null,{"$f":"VLOOKUP($G$2:$G$50000,'Location Type (FICM Codes)'!$A$7:$B$188,2,FALSE)","v":{"$error":"#N/A"}},null,null,null,null,null,{"$f":"VLOOKUP(G7996:G17994,'Location Type (FICM Codes)'!$A$7:$C$188,3,FALSE)","v":{"$error":"#N/A"}}]
[null,null,null,null,null,null,null,{"$f":"VLOOKUP($G$2:$G$50000,'Location Type (FICM Codes)'!$A$7:$B$188,2,FALSE)","v":{"$error":"#N/A"}},null,null,null,null,null,{"$f":"VLOOKUP(G7997:G17995,'Location Type (FICM Codes)'!$A$7:$C$188,3,FALSE)","v":{"$error":"#N/A"}}]
[null,null,null,null,null,null,null,{"$f":"VLOOKUP($G$2:$G$50000,'Location Type (FICM Codes)'!$A$7:$B$188,2,FALSE)","v":{"$error":"#N/A"}},null,null,null,null,null,{"$f":"VLOOKUP(G8001:G17999,'Location Type (FICM Codes)'!$A$7:$C$188,3,FALSE)","v":{"$error":"#N/A"}}]
[null,null,null,null,null,null,null,{"$f":"VLOOKUP($G$2:$G$50000,'Location Type (FICM Codes)'!$A$7:$B$188,2,FALSE)","v":{"$error":"#N/A"}},null,null,null,null,null,{"$f":"VLOOKUP(G8006:G18004,'Location Type (FICM Codes)'!$A$7:$C$188,3,FALSE)","v":{"$error":"#N/A"}}]
[null,null,null,null,null,null,null,{"$f":"VLOOKUP($G$2:$G$50000,'Location Type (FICM Codes)'!$A$7:$B$188,2,FALSE)","v":{"$error":"#N/A"}},null,null,null,null,null,{"$f":"VLOOKUP(G8011:G18009,'Location Type (FICM Codes)'!$A$7:$C$188,3,FALSE)","v":{"$error":"#N/A"}}]
[null,null,null,null,null,null,null,{"$f":"VLOOKUP($G$2:$G$50000,'Location Type (FICM Codes)'!$A$7:$B$188,2,FALSE)","v":{"$error":"#N/A"}},null,null,null,null,null,{"$f":"VLOOKUP(G8012:G18010,'Location Type (FICM Codes)'!$A$7:$C$188,3,FALSE)","v":{"$error":"#N/A"}}]
[null,null,null,null,null,null,null,{"$f":"VLOOKUP($G$2:$G$50000,'Location Type (FICM Codes)'!$A$7:$B$188,2,FALSE)","v":{"$error":"#N/A"}},null,null,null,null,null,{"$f":"VLOOKUP(G8017:G18015,'Location Type (FICM Codes)'!$A$7:$C$188,3,FALSE)","v":{"$error":"#N/A"}}]
[null,null,null,null,null,null,null,{"$f":"VLOOKUP($G$2:$G$50000,'Location Type (FICM Codes)'!$A$7:$B$188,2,FALSE)","v":{"$error":"#N/A"}},null,null,null,null,null,{"$f":"VLOOKUP(G8021:G18019,'Location Type (FICM Codes)'!$A$7:$C$188,3,FALSE)","v":{"$error":"#N/A"}}]
[null,null,null,null,null,null,null,{"$f":"VLOOKUP($G$2:$G$50000,'Location Type (FICM Codes)'!$A$7:$B$188,2,FALSE)","v":{"$error":"#N/A"}},null,null,null,null,null,{"$f":"VLOOKUP(G8026:G18024,'Location Type (FICM Codes)'!$A$7:$C$188,3,FALSE)","v":{"$error":"#N/A"}}]
[null,null,null,null,null,null,null,{"$f":"VLOOKUP($G$2:$G$50000,'Location Type (FICM Codes)'!$A$7:$B$188,2,FALSE)","v":{"$error":"#N/A"}},null,null,null,null,null,{"$f":"VLOOKUP(G8027:G18025,'Location Type (FICM Codes)'!$A$7:$C$188,3,FALSE)","v":{"$error":"#N/A"}}]
[null,null,null,null,null,null,null,{"$f":"VLOOKUP($G$2:$G$50000,'Location Type (FICM Codes)'!$A$7:$B$188,2,FALSE)","v":{"$error":"#N/A"}},null,null,null,null,null,{"$f":"VLOOKUP(G8031:G18029,'Location Type (FICM Codes)'!$A$7:$C$188,3,FALSE)","v":{"$error":"#N/A"}}]
[null,null,null,null,null,null,null,{"$f":"VLOOKUP($G$2:$G$50000,'Location Type (FICM Codes)'!$A$7:$B$188,2,FALSE)","v":{"$error":"#N/A"}},null,null,null,null,null,{"$f":"VLOOKUP(G8036:G18034,'Location Type (FICM Codes)'!$A$7:$C$188,3,FALSE)","v":{"$error":"#N/A"}}]
[null,null,null,null,null,null,null,{"$f":"VLOOKUP($G$2:$G$50000,'Location Type (FICM Codes)'!$A$7:$B$188,2,FALSE)","v":{"$error":"#N/A"}},null,null,null,null,null,{"$f":"VLOOKUP(G8041:G18039,'Location Type (FICM Codes)'!$A$7:$C$188,3,FALSE)","v":{"$error":"#N/A"}}]
[null,null,null,null,null,null,null,{"$f":"VLOOKUP($G$2:$G$50000,'Location Type (FICM Codes)'!$A$7:$B$188,2,FALSE)","v":{"$error":"#N/A"}},null,null,null,null,null,{"$f":"VLOOKUP(G8042:G18040,'Location Type (FICM Codes)'!$A$7:$C$188,3,FALSE)","v":{"$error":"#N/A"}}]
[null,null,null,null,null,null,null,{"$f":"VLOOKUP($G$2:$G$50000,'Location Type (FICM Codes)'!$A$7:$B$188,2,FALSE)","v":{"$error":"#N/A"}},null,null,null,null,null,{"$f":"VLOOKUP(G8047:G18045,'Location Type (FICM Codes)'!$A$7:$C$188,3,FALSE)","v":{"$error":"#N/A"}}]
[null,null,null,null,null,null,null,{"$f":"VLOOKUP($G$2:$G$50000,'Location Type (FICM Codes)'!$A$7:$B$188,2,FALSE)","v":{"$error":"#N/A"}},null,null,null,null,null,{"$f":"VLOOKUP(G8051:G18049,'Location Type (FICM Codes)'!$A$7:$C$188,3,FALSE)","v":{"$error":"#N/A"}}]
[null,null,null,null,null,null,null,{"$f":"VLOOKUP($G$2:$G$50000,'Location Type (FICM Codes)'!$A$7:$B$188,2,FALSE)","v":{"$error":"#N/A"}},null,null,null,null,null,{"$f":"VLOOKUP(G8056:G18054,'Location Type (FICM Codes)'!$A$7:$C$188,3,FALSE)","v":{"$error":"#N/A"}}]
[null,null,null,null,null,null,null,{"$f":"VLOOKUP($G$2:$G$50000,'Location Type (FICM Codes)'!$A$7:$B$188,2,FALSE)","v":{"$error":"#N/A"}},null,null,null,null,null,{"$f":"VLOOKUP(G8057:G18055,'Location Type (FICM Codes)'!$A$7:$C$188,3,FALSE)","v":{"$error":"#N/A"}}]
[null,null,null,null,null,null,null,{"$f":"VLOOKUP($G$2:$G$50000,'Location Type (FICM Codes)'!$A$7:$B$188,2,FALSE)","v":{"$error":"#N/A"}},null,null,null,null,null,{"$f":"VLOOKUP(G8061:G18059,'Location Type (FICM Codes)'!$A$7:$C$188,3,FALSE)","v":{"$error":"#N/A"}}]
[null,null,null,null,null,null,null,{"$f":"VLOOKUP($G$2:$G$50000,'Location Type (FICM Codes)'!$A$7:$B$188,2,FALSE)","v":{"$error":"#N/A"}},null,null,null,null,null,{"$f":"VLOOKUP(G8066:G18064,'Location Type (FICM Codes)'!$A$7:$C$188,3,FALSE)","v":{"$error":"#N/A"}}]
[null,null,null,null,null,null,null,{"$f":"VLOOKUP($G$2:$G$50000,'Location Type (FICM Codes)'!$A$7:$B$188,2,FALSE)","v":{"$error":"#N/A"}},null,null,null,null,null,{"$f":"VLOOKUP(G8071:G18069,'Location Type (FICM Codes)'!$A$7:$C$188,3,FALSE)","v":{"$error":"#N/A"}}]
[null,null,null,null,null,null,null,{"$f":"VLOOKUP($G$2:$G$50000,'Location Type (FICM Codes)'!$A$7:$B$188,2,FALSE)","v":{"$error":"#N/A"}},null,null,null,null,null,{"$f":"VLOOKUP(G8072:G18070,'Location Type (FICM Codes)'!$A$7:$C$188,3,FALSE)","v":{"$error":"#N/A"}}]
[null,null,null,null,null,null,null,{"$f":"VLOOKUP($G$2:$G$50000,'Location Type (FICM Codes)'!$A$7:$B$188,2,FALSE)","v":{"$error":"#N/A"}},null,null,null,null,null,{"$f":"VLOOKUP(G8077:G18075,'Location Type (FICM Codes)'!$A$7:$C$188,3,FALSE)","v":{"$error":"#N/A"}}]
[null,null,null,null,null,null,null,{"$f":"VLOOKUP($G$2:$G$50000,'Location Type (FICM Codes)'!$A$7:$B$188,2,FALSE)","v":{"$error":"#N/A"}},null,null,null,null,null,{"$f":"VLOOKUP(G8081:G18079,'Location Type (FICM Codes)'!$A$7:$C$188,3,FALSE)","v":{"$error":"#N/A"}}]
[null,null,null,null,null,null,null,{"$f":"VLOOKUP($G$2:$G$50000,'Location Type (FICM Codes)'!$A$7:$B$188,2,FALSE)","v":{"$error":"#N/A"}},null,null,null,null,null,{"$f":"VLOOKUP(G8086:G18084,'Location Type (FICM Codes)'!$A$7:$C$188,3,FALSE)","v":{"$error":"#N/A"}}]
[null,null,null,null,null,null,null,{"$f":"VLOOKUP($G$2:$G$50000,'Location Type (FICM Codes)'!$A$7:$B$188,2,FALSE)","v":{"$error":"#N/A"}},null,null,null,null,null,{"$f":"VLOOKUP(G8087:G18085,'Location Type (FICM Codes)'!$A$7:$C$188,3,FALSE)","v":{"$error":"#N/A"}}]
[null,null,null,null,null,null,null,{"$f":"VLOOKUP($G$2:$G$50000,'Location Type (FICM Codes)'!$A$7:$B$188,2,FALSE)","v":{"$error":"#N/A"}},null,null,null,null,null,{"$f":"VLOOKUP(G8091:G18089,'Location Type (FICM Codes)'!$A$7:$C$188,3,FALSE)","v":{"$error":"#N/A"}}]
[null,null,null,null,null,null,null,{"$f":"VLOOKUP($G$2:$G$50000,'Location Type (FICM Codes)'!$A$7:$B$188,2,FALSE)","v":{"$error":"#N/A"}},null,null,null,null,null,{"$f":"VLOOKUP(G8096:G18094,'Location Type (FICM Codes)'!$A$7:$C$188,3,FALSE)","v":{"$error":"#N/A"}}]
[null,null,null,null,null,null,null,{"$f":"VLOOKUP($G$2:$G$50000,'Location Type (FICM Codes)'!$A$7:$B$188,2,FALSE)","v":{"$error":"#N/A"}},null,null,null,null,null,{"$f":"VLOOKUP(G8101:G18099,'Location Type (FICM Codes)'!$A$7:$C$188,3,FALSE)","v":{"$error":"#N/A"}}]
[null,null,null,null,null,null,null,{"$f":"VLOOKUP($G$2:$G$50000,'Location Type (FICM Codes)'!$A$7:$B$188,2,FALSE)","v":{"$error":"#N/A"}},null,null,null,null,null,{"$f":"VLOOKUP(G8102:G18100,'Location Type (FICM Codes)'!$A$7:$C$188,3,FALSE)","v":{"$error":"#N/A"}}]
[null,null,null,null,null,null,null,{"$f":"VLOOKUP($G$2:$G$50000,'Location Type (FICM Codes)'!$A$7:$B$188,2,FALSE)","v":{"$error":"#N/A"}},null,null,null,null,null,{"$f":"VLOOKUP(G8107:G18105,'Location Type (FICM Codes)'!$A$7:$C$188,3,FALSE)","v":{"$error":"#N/A"}}]
[null,null,null,null,null,null,null,{"$f":"VLOOKUP($G$2:$G$50000,'Location Type (FICM Codes)'!$A$7:$B$188,2,FALSE)","v":{"$error":"#N/A"}},null,null,null,null,null,{"$f":"VLOOKUP(G8111:G18109,'Location Type (FICM Codes)'!$A$7:$C$188,3,FALSE)","v":{"$error":"#N/A"}}]
[null,null,null,null,null,null,null,{"$f":"VLOOKUP($G$2:$G$50000,'Location Type (FICM Codes)'!$A$7:$B$188,2,FALSE)","v":{"$error":"#N/A"}},null,null,null,null,null,{"$f":"VLOOKUP(G8116:G18114,'Location Type (FICM Codes)'!$A$7:$C$188,3,FALSE)","v":{"$error":"#N/A"}}]
[null,null,null,null,null,null,null,{"$f":"VLOOKUP($G$2:$G$50000,'Location Type (FICM Codes)'!$A$7:$B$188,2,FALSE)","v":{"$error":"#N/A"}},null,null,null,null,null,{"$f":"VLOOKUP(G8117:G18115,'Location Type (FICM Codes)'!$A$7:$C$188,3,FALSE)","v":{"$error":"#N/A"}}]
[null,null,null,null,null,null,null,{"$f":"VLOOKUP($G$2:$G$50000,'Location Type (FICM Codes)'!$A$7:$B$188,2,FALSE)","v":{"$error":"#N/A"}},null,null,null,null,null,{"$f":"VLOOKUP(G8121:G18119,'Location Type (FICM Codes)'!$A$7:$C$188,3,FALSE)","v":{"$error":"#N/A"}}]
[null,null,null,null,null,null,null,{"$f":"VLOOKUP($G$2:$G$50000,'Location Type (FICM Codes)'!$A$7:$B$188,2,FALSE)","v":{"$error":"#N/A"}},null,null,null,null,null,{"$f":"VLOOKUP(G8126:G18124,'Location Type (FICM Codes)'!$A$7:$C$188,3,FALSE)","v":{"$error":"#N/A"}}]
[null,null,null,null,null,null,null,{"$f":"VLOOKUP($G$2:$G$50000,'Location Type (FICM Codes)'!$A$7:$B$188,2,FALSE)","v":{"$error":"#N/A"}},null,null,null,null,null,{"$f":"VLOOKUP(G8131:G18129,'Location Type (FICM Codes)'!$A$7:$C$188,3,FALSE)","v":{"$error":"#N/A"}}]
[null,null,null,null,null,null,null,{"$f":"VLOOKUP($G$2:$G$50000,'Location Type (FICM Codes)'!$A$7:$B$188,2,FALSE)","v":{"$error":"#N/A"}},null,null,null,null,null,{"$f":"VLOOKUP(G8132:G18130,'Location Type (FICM Codes)'!$A$7:$C$188,3,FALSE)","v":{"$error":"#N/A"}}]
[null,null,null,null,null,null,null,{"$f":"VLOOKUP($G$2:$G$50000,'Location Type (FICM Codes)'!$A$7:$B$188,2,FALSE)","v":{"$error":"#N/A"}},null,null,null,null,null,{"$f":"VLOOKUP(G8137:G18135,'Location Type (FICM Codes)'!$A$7:$C$188,3,FALSE)","v":{"$error":"#N/A"}}]
[null,null,null,null,null,null,null,{"$f":"VLOOKUP($G$2:$G$50000,'Location Type (FICM Codes)'!$A$7:$B$188,2,FALSE)","v":{"$error":"#N/A"}},null,null,null,null,null,{"$f":"VLOOKUP(G8141:G18139,'Location Type (FICM Codes)'!$A$7:$C$188,3,FALSE)","v":{"$error":"#N/A"}}]
[null,null,null,null,null,null,null,{"$f":"VLOOKUP($G$2:$G$50000,'Location Type (FICM Codes)'!$A$7:$B$188,2,FALSE)","v":{"$error":"#N/A"}},null,null,null,null,null,{"$f":"VLOOKUP(G8146:G18144,'Location Type (FICM Codes)'!$A$7:$C$188,3,FALSE)","v":{"$error":"#N/A"}}]
[null,null,null,null,null,null,null,{"$f":"VLOOKUP($G$2:$G$50000,'Location Type (FICM Codes)'!$A$7:$B$188,2,FALSE)","v":{"$error":"#N/A"}},null,null,null,null,null,{"$f":"VLOOKUP(G8147:G18145,'Location Type (FICM Codes)'!$A$7:$C$188,3,FALSE)","v":{"$error":"#N/A"}}]
[null,null,null,null,null,null,null,{"$f":"VLOOKUP($G$2:$G$50000,'Location Type (FICM Codes)'!$A$7:$B$188,2,FALSE)","v":{"$error":"#N/A"}},null,null,null,null,null,{"$f":"VLOOKUP(G8151:G18149,'Location Type (FICM Codes)'!$A$7:$C$188,3,FALSE)","v":{"$error":"#N/A"}}]
[null,null,null,null,null,null,null,{"$f":"VLOOKUP($G$2:$G$50000,'Location Type (FICM Codes)'!$A$7:$B$188,2,FALSE)","v":{"$error":"#N/A"}},null,null,null,null,null,{"$f":"VLOOKUP(G8156:G18154,'Location Type (FICM Codes)'!$A$7:$C$188,3,FALSE)","v":{"$error":"#N/A"}}]
[null,null,null,null,null,null,null,{"$f":"VLOOKUP($G$2:$G$50000,'Location Type (FICM Codes)'!$A$7:$B$188,2,FALSE)","v":{"$error":"#N/A"}},null,null,null,null,null,{"$f":"VLOOKUP(G8161:G18159,'Location Type (FICM Codes)'!$A$7:$C$188,3,FALSE)","v":{"$error":"#N/A"}}]
[null,null,null,null,null,null,null,{"$f":"VLOOKUP($G$2:$G$50000,'Location Type (FICM Codes)'!$A$7:$B$188,2,FALSE)","v":{"$error":"#N/A"}},null,null,null,null,null,{"$f":"VLOOKUP(G8162:G18160,'Location Type (FICM Codes)'!$A$7:$C$188,3,FALSE)","v":{"$error":"#N/A"}}]
[null,null,null,null,null,null,null,{"$f":"VLOOKUP($G$2:$G$50000,'Location Type (FICM Codes)'!$A$7:$B$188,2,FALSE)","v":{"$error":"#N/A"}},null,null,null,null,null,{"$f":"VLOOKUP(G8167:G18165,'Location Type (FICM Codes)'!$A$7:$C$188,3,FALSE)","v":{"$error":"#N/A"}}]
[null,null,null,null,null,null,null,{"$f":"VLOOKUP($G$2:$G$50000,'Location Type (FICM Codes)'!$A$7:$B$188,2,FALSE)","v":{"$error":"#N/A"}},null,null,null,null,null,{"$f":"VLOOKUP(G8171:G18169,'Location Type (FICM Codes)'!$A$7:$C$188,3,FALSE)","v":{"$error":"#N/A"}}]
[null,null,null,null,null,null,null,{"$f":"VLOOKUP($G$2:$G$50000,'Location Type (FICM Codes)'!$A$7:$B$188,2,FALSE)","v":{"$error":"#N/A"}},null,null,null,null,null,{"$f":"VLOOKUP(G8176:G18174,'Location Type (FICM Codes)'!$A$7:$C$188,3,FALSE)","v":{"$error":"#N/A"}}]
[null,null,null,null,null,null,null,{"$f":"VLOOKUP($G$2:$G$50000,'Location Type (FICM Codes)'!$A$7:$B$188,2,FALSE)","v":{"$error":"#N/A"}},null,null,null,null,null,{"$f":"VLOOKUP(G8177:G18175,'Location Type (FICM Codes)'!$A$7:$C$188,3,FALSE)","v":{"$error":"#N/A"}}]
[null,null,null,null,null,null,null,{"$f":"VLOOKUP($G$2:$G$50000,'Location Type (FICM Codes)'!$A$7:$B$188,2,FALSE)","v":{"$error":"#N/A"}},null,null,null,null,null,{"$f":"VLOOKUP(G8181:G18179,'Location Type (FICM Codes)'!$A$7:$C$188,3,FALSE)","v":{"$error":"#N/A"}}]
[null,null,null,null,null,null,null,{"$f":"VLOOKUP($G$2:$G$50000,'Location Type (FICM Codes)'!$A$7:$B$188,2,FALSE)","v":{"$error":"#N/A"}},null,null,null,null,null,{"$f":"VLOOKUP(G8186:G18184,'Location Type (FICM Codes)'!$A$7:$C$188,3,FALSE)","v":{"$error":"#N/A"}}]
[null,null,null,null,null,null,null,{"$f":"VLOOKUP($G$2:$G$50000,'Location Type (FICM Codes)'!$A$7:$B$188,2,FALSE)","v":{"$error":"#N/A"}},null,null,null,null,null,{"$f":"VLOOKUP(G8191:G18189,'Location Type (FICM Codes)'!$A$7:$C$188,3,FALSE)","v":{"$error":"#N/A"}}]
[null,null,null,null,null,null,null,{"$f":"VLOOKUP($G$2:$G$50000,'Location Type (FICM Codes)'!$A$7:$B$188,2,FALSE)","v":{"$error":"#N/A"}},null,null,null,null,null,{"$f":"VLOOKUP(G8192:G18190,'Location Type (FICM Codes)'!$A$7:$C$188,3,FALSE)","v":{"$error":"#N/A"}}]
[null,null,null,null,null,null,null,{"$f":"VLOOKUP($G$2:$G$50000,'Location Type (FICM Codes)'!$A$7:$B$188,2,FALSE)","v":{"$error":"#N/A"}},null,null,null,null,null,{"$f":"VLOOKUP(G8198:G18196,'Location Type (FICM Codes)'!$A$7:$C$188,3,FALSE)","v":{"$error":"#N/A"}}]
[null,null,null,null,null,null,null,{"$f":"VLOOKUP($G$2:$G$50000,'Location Type (FICM Codes)'!$A$7:$B$188,2,FALSE)","v":{"$error":"#N/A"}},null,null,null,null,null,{"$f":"VLOOKUP(G8201:G18199,'Location Type (FICM Codes)'!$A$7:$C$188,3,FALSE)","v":{"$error":"#N/A"}}]
[null,null,null,null,null,null,null,{"$f":"VLOOKUP($G$2:$G$50000,'Location Type (FICM Codes)'!$A$7:$B$188,2,FALSE)","v":{"$error":"#N/A"}},null,null,null,null,null,{"$f":"VLOOKUP(G8206:G18204,'Location Type (FICM Codes)'!$A$7:$C$188,3,FALSE)","v":{"$error":"#N/A"}}]
[null,null,null,null,null,null,null,{"$f":"VLOOKUP($G$2:$G$50000,'Location Type (FICM Codes)'!$A$7:$B$188,2,FALSE)","v":{"$error":"#N/A"}},null,null,null,null,null,{"$f":"VLOOKUP(G8207:G18205,'Location Type (FICM Codes)'!$A$7:$C$188,3,FALSE)","v":{"$error":"#N/A"}}]
[null,null,null,null,null,null,null,{"$f":"VLOOKUP($G$2:$G$50000,'Location Type (FICM Codes)'!$A$7:$B$188,2,FALSE)","v":{"$error":"#N/A"}},null,null,null,null,null,{"$f":"VLOOKUP(G8211:G18209,'Location Type (FICM Codes)'!$A$7:$C$188,3,FALSE)","v":{"$error":"#N/A"}}]
[null,null,null,null,null,null,null,{"$f":"VLOOKUP($G$2:$G$50000,'Location Type (FICM Codes)'!$A$7:$B$188,2,FALSE)","v":{"$error":"#N/A"}},null,null,null,null,null,{"$f":"VLOOKUP(G8216:G18214,'Location Type (FICM Codes)'!$A$7:$C$188,3,FALSE)","v":{"$error":"#N/A"}}]
[null,null,null,null,null,null,null,{"$f":"VLOOKUP($G$2:$G$50000,'Location Type (FICM Codes)'!$A$7:$B$188,2,FALSE)","v":{"$error":"#N/A"}},null,null,null,null,null,{"$f":"VLOOKUP(G8221:G18219,'Location Type (FICM Codes)'!$A$7:$C$188,3,FALSE)","v":{"$error":"#N/A"}}]
[null,null,null,null,null,null,null,{"$f":"VLOOKUP($G$2:$G$50000,'Location Type (FICM Codes)'!$A$7:$B$188,2,FALSE)","v":{"$error":"#N/A"}},null,null,null,null,null,{"$f":"VLOOKUP(G8222:G18220,'Location Type (FICM Codes)'!$A$7:$C$188,3,FALSE)","v":{"$error":"#N/A"}}]
[null,null,null,null,null,null,null,{"$f":"VLOOKUP($G$2:$G$50000,'Location Type (FICM Codes)'!$A$7:$B$188,2,FALSE)","v":{"$error":"#N/A"}},null,null,null,null,null,{"$f":"VLOOKUP(G8228:G18226,'Location Type (FICM Codes)'!$A$7:$C$188,3,FALSE)","v":{"$error":"#N/A"}}]
[null,null,null,null,null,null,null,{"$f":"VLOOKUP($G$2:$G$50000,'Location Type (FICM Codes)'!$A$7:$B$188,2,FALSE)","v":{"$error":"#N/A"}},null,null,null,null,null,{"$f":"VLOOKUP(G8231:G18229,'Location Type (FICM Codes)'!$A$7:$C$188,3,FALSE)","v":{"$error":"#N/A"}}]
[null,null,null,null,null,null,null,{"$f":"VLOOKUP($G$2:$G$50000,'Location Type (FICM Codes)'!$A$7:$B$188,2,FALSE)","v":{"$error":"#N/A"}},null,null,null,null,null,{"$f":"VLOOKUP(G8236:G18234,'Location Type (FICM Codes)'!$A$7:$C$188,3,FALSE)","v":{"$error":"#N/A"}}]
[null,null,null,null,null,null,null,{"$f":"VLOOKUP($G$2:$G$50000,'Location Type (FICM Codes)'!$A$7:$B$188,2,FALSE)","v":{"$error":"#N/A"}},null,null,null,null,null,{"$f":"VLOOKUP(G8237:G18235,'Location Type (FICM Codes)'!$A$7:$C$188,3,FALSE)","v":{"$error":"#N/A"}}]
[null,null,null,null,null,null,null,{"$f":"VLOOKUP($G$2:$G$50000,'Location Type (FICM Codes)'!$A$7:$B$188,2,FALSE)","v":{"$error":"#N/A"}},null,null,null,null,null,{"$f":"VLOOKUP(G8241:G18239,'Location Type (FICM Codes)'!$A$7:$C$188,3,FALSE)","v":{"$error":"#N/A"}}]
[null,null,null,null,null,null,null,{"$f":"VLOOKUP($G$2:$G$50000,'Location Type (FICM Codes)'!$A$7:$B$188,2,FALSE)","v":{"$error":"#N/A"}},null,null,null,null,null,{"$f":"VLOOKUP(G8246:G18244,'Location Type (FICM Codes)'!$A$7:$C$188,3,FALSE)","v":{"$error":"#N/A"}}]
[null,null,null,null,null,null,null,{"$f":"VLOOKUP($G$2:$G$50000,'Location Type (FICM Codes)'!$A$7:$B$188,2,FALSE)","v":{"$error":"#N/A"}},null,null,null,null,null,{"$f":"VLOOKUP(G8251:G18249,'Location Type (FICM Codes)'!$A$7:$C$188,3,FALSE)","v":{"$error":"#N/A"}}]
[null,null,null,null,null,null,null,{"$f":"VLOOKUP($G$2:$G$50000,'Location Type (FICM Codes)'!$A$7:$B$188,2,FALSE)","v":{"$error":"#N/A"}},null,null,null,null,null,{"$f":"VLOOKUP(G8252:G18250,'Location Type (FICM Codes)'!$A$7:$C$188,3,FALSE)","v":{"$error":"#N/A"}}]
[null,null,null,null,null,null,null,{"$f":"VLOOKUP($G$2:$G$50000,'Location Type (FICM Codes)'!$A$7:$B$188,2,FALSE)","v":{"$error":"#N/A"}},null,null,null,null,null,{"$f":"VLOOKUP(G8258:G18256,'Location Type (FICM Codes)'!$A$7:$C$188,3,FALSE)","v":{"$error":"#N/A"}}]
[null,null,null,null,null,null,null,{"$f":"VLOOKUP($G$2:$G$50000,'Location Type (FICM Codes)'!$A$7:$B$188,2,FALSE)","v":{"$error":"#N/A"}},null,null,null,null,null,{"$f":"VLOOKUP(G8261:G18259,'Location Type (FICM Codes)'!$A$7:$C$188,3,FALSE)","v":{"$error":"#N/A"}}]
[null,null,null,null,null,null,null,{"$f":"VLOOKUP($G$2:$G$50000,'Location Type (FICM Codes)'!$A$7:$B$188,2,FALSE)","v":{"$error":"#N/A"}},null,null,null,null,null,{"$f":"VLOOKUP(G8266:G18264,'Location Type (FICM Codes)'!$A$7:$C$188,3,FALSE)","v":{"$error":"#N/A"}}]
[null,null,null,null,null,null,null,{"$f":"VLOOKUP($G$2:$G$50000,'Location Type (FICM Codes)'!$A$7:$B$188,2,FALSE)","v":{"$error":"#N/A"}},null,null,null,null,null,{"$f":"VLOOKUP(G8267:G18265,'Location Type (FICM Codes)'!$A$7:$C$188,3,FALSE)","v":{"$error":"#N/A"}}]
[null,null,null,null,null,null,null,{"$f":"VLOOKUP($G$2:$G$50000,'Location Type (FICM Codes)'!$A$7:$B$188,2,FALSE)","v":{"$error":"#N/A"}},null,null,null,null,null,{"$f":"VLOOKUP(G8271:G18269,'Location Type (FICM Codes)'!$A$7:$C$188,3,FALSE)","v":{"$error":"#N/A"}}]
[null,null,null,null,null,null,null,{"$f":"VLOOKUP($G$2:$G$50000,'Location Type (FICM Codes)'!$A$7:$B$188,2,FALSE)","v":{"$error":"#N/A"}},null,null,null,null,null,{"$f":"VLOOKUP(G8276:G18274,'Location Type (FICM Codes)'!$A$7:$C$188,3,FALSE)","v":{"$error":"#N/A"}}]
[null,null,null,null,null,null,null,{"$f":"VLOOKUP($G$2:$G$50000,'Location Type (FICM Codes)'!$A$7:$B$188,2,FALSE)","v":{"$error":"#N/A"}},null,null,null,null,null,{"$f":"VLOOKUP(G8281:G18279,'Location Type (FICM Codes)'!$A$7:$C$188,3,FALSE)","v":{"$error":"#N/A"}}]
[null,null,null,null,null,null,null,{"$f":"VLOOKUP($G$2:$G$50000,'Location Type (FICM Codes)'!$A$7:$B$188,2,FALSE)","v":{"$error":"#N/A"}},null,null,null,null,null,{"$f":"VLOOKUP(G8282:G18280,'Location Type (FICM Codes)'!$A$7:$C$188,3,FALSE)","v":{"$error":"#N/A"}}]
[null,null,null,null,null,null,null,{"$f":"VLOOKUP($G$2:$G$50000,'Location Type (FICM Codes)'!$A$7:$B$188,2,FALSE)","v":{"$error":"#N/A"}},null,null,null,null,null,{"$f":"VLOOKUP(G8288:G18286,'Location Type (FICM Codes)'!$A$7:$C$188,3,FALSE)","v":{"$error":"#N/A"}}]
[null,null,null,null,null,null,null,{"$f":"VLOOKUP($G$2:$G$50000,'Location Type (FICM Codes)'!$A$7:$B$188,2,FALSE)","v":{"$error":"#N/A"}},null,null,null,null,null,{"$f":"VLOOKUP(G8291:G18289,'Location Type (FICM Codes)'!$A$7:$C$188,3,FALSE)","v":{"$error":"#N/A"}}]
[null,null,null,null,null,null,null,{"$f":"VLOOKUP($G$2:$G$50000,'Location Type (FICM Codes)'!$A$7:$B$188,2,FALSE)","v":{"$error":"#N/A"}},null,null,null,null,null,{"$f":"VLOOKUP(G8296:G18294,'Location Type (FICM Codes)'!$A$7:$C$188,3,FALSE)","v":{"$error":"#N/A"}}]
[null,null,null,null,null,null,null,{"$f":"VLOOKUP($G$2:$G$50000,'Location Type (FICM Codes)'!$A$7:$B$188,2,FALSE)","v":{"$error":"#N/A"}},null,null,null,null,null,{"$f":"VLOOKUP(G8297:G18295,'Location Type (FICM Codes)'!$A$7:$C$188,3,FALSE)","v":{"$error":"#N/A"}}]
[null,null,null,null,null,null,null,{"$f":"VLOOKUP($G$2:$G$50000,'Location Type (FICM Codes)'!$A$7:$B$188,2,FALSE)","v":{"$error":"#N/A"}},null,null,null,null,null,{"$f":"VLOOKUP(G8301:G18299,'Location Type (FICM Codes)'!$A$7:$C$188,3,FALSE)","v":{"$error":"#N/A"}}]
[null,null,null,null,null,null,null,{"$f":"VLOOKUP($G$2:$G$50000,'Location Type (FICM Codes)'!$A$7:$B$188,2,FALSE)","v":{"$error":"#N/A"}},null,null,null,null,null,{"$f":"VLOOKUP(G8306:G18304,'Location Type (FICM Codes)'!$A$7:$C$188,3,FALSE)","v":{"$error":"#N/A"}}]
[null,null,null,null,null,null,null,{"$f":"VLOOKUP($G$2:$G$50000,'Location Type (FICM Codes)'!$A$7:$B$188,2,FALSE)","v":{"$error":"#N/A"}},null,null,null,null,null,{"$f":"VLOOKUP(G8311:G18309,'Location Type (FICM Codes)'!$A$7:$C$188,3,FALSE)","v":{"$error":"#N/A"}}]
[null,null,null,null,null,null,null,{"$f":"VLOOKUP($G$2:$G$50000,'Location Type (FICM Codes)'!$A$7:$B$188,2,FALSE)","v":{"$error":"#N/A"}},null,null,null,null,null,{"$f":"VLOOKUP(G8312:G18310,'Location Type (FICM Codes)'!$A$7:$C$188,3,FALSE)","v":{"$error":"#N/A"}}]
[null,null,null,null,null,null,null,{"$f":"VLOOKUP($G$2:$G$50000,'Location Type (FICM Codes)'!$A$7:$B$188,2,FALSE)","v":{"$error":"#N/A"}},null,null,null,null,null,{"$f":"VLOOKUP(G8318:G18316,'Location Type (FICM Codes)'!$A$7:$C$188,3,FALSE)","v":{"$error":"#N/A"}}]
[null,null,null,null,null,null,null,{"$f":"VLOOKUP($G$2:$G$50000,'Location Type (FICM Codes)'!$A$7:$B$188,2,FALSE)","v":{"$error":"#N/A"}},null,null,null,null,null,{"$f":"VLOOKUP(G8321:G18319,'Location Type (FICM Codes)'!$A$7:$C$188,3,FALSE)","v":{"$error":"#N/A"}}]
[null,null,null,null,null,null,null,{"$f":"VLOOKUP($G$2:$G$50000,'Location Type (FICM Codes)'!$A$7:$B$188,2,FALSE)","v":{"$error":"#N/A"}},null,null,null,null,null,{"$f":"VLOOKUP(G8326:G18324,'Location Type (FICM Codes)'!$A$7:$C$188,3,FALSE)","v":{"$error":"#N/A"}}]
[null,null,null,null,null,null,null,{"$f":"VLOOKUP($G$2:$G$50000,'Location Type (FICM Codes)'!$A$7:$B$188,2,FALSE)","v":{"$error":"#N/A"}},null,null,null,null,null,{"$f":"VLOOKUP(G8327:G18325,'Location Type (FICM Codes)'!$A$7:$C$188,3,FALSE)","v":{"$error":"#N/A"}}]
[null,null,null,null,null,null,null,{"$f":"VLOOKUP($G$2:$G$50000,'Location Type (FICM Codes)'!$A$7:$B$188,2,FALSE)","v":{"$error":"#N/A"}},null,null,null,null,null,{"$f":"VLOOKUP(G8331:G18329,'Location Type (FICM Codes)'!$A$7:$C$188,3,FALSE)","v":{"$error":"#N/A"}}]
[null,null,null,null,null,null,null,{"$f":"VLOOKUP($G$2:$G$50000,'Location Type (FICM Codes)'!$A$7:$B$188,2,FALSE)","v":{"$error":"#N/A"}},null,null,null,null,null,{"$f":"VLOOKUP(G8336:G18334,'Location Type (FICM Codes)'!$A$7:$C$188,3,FALSE)","v":{"$error":"#N/A"}}]
[null,null,null,null,null,null,null,{"$f":"VLOOKUP($G$2:$G$50000,'Location Type (FICM Codes)'!$A$7:$B$188,2,FALSE)","v":{"$error":"#N/A"}},null,null,null,null,null,{"$f":"VLOOKUP(G8341:G18339,'Location Type (FICM Codes)'!$A$7:$C$188,3,FALSE)","v":{"$error":"#N/A"}}]
[null,null,null,null,null,null,null,{"$f":"VLOOKUP($G$2:$G$50000,'Location Type (FICM Codes)'!$A$7:$B$188,2,FALSE)","v":{"$error":"#N/A"}},null,null,null,null,null,{"$f":"VLOOKUP(G8342:G18340,'Location Type (FICM Codes)'!$A$7:$C$188,3,FALSE)","v":{"$error":"#N/A"}}]
[null,null,null,null,null,null,null,{"$f":"VLOOKUP($G$2:$G$50000,'Location Type (FICM Codes)'!$A$7:$B$188,2,FALSE)","v":{"$error":"#N/A"}},null,null,null,null,null,{"$f":"VLOOKUP(G8348:G18346,'Location Type (FICM Codes)'!$A$7:$C$188,3,FALSE)","v":{"$error":"#N/A"}}]
[null,null,null,null,null,null,null,{"$f":"VLOOKUP($G$2:$G$50000,'Location Type (FICM Codes)'!$A$7:$B$188,2,FALSE)","v":{"$error":"#N/A"}},null,null,null,null,null,{"$f":"VLOOKUP(G8351:G18349,'Location Type (FICM Codes)'!$A$7:$C$188,3,FALSE)","v":{"$error":"#N/A"}}]
[null,null,null,null,null,null,null,{"$f":"VLOOKUP($G$2:$G$50000,'Location Type (FICM Codes)'!$A$7:$B$188,2,FALSE)","v":{"$error":"#N/A"}},null,null,null,null,null,{"$f":"VLOOKUP(G8356:G18354,'Location Type (FICM Codes)'!$A$7:$C$188,3,FALSE)","v":{"$error":"#N/A"}}]
[null,null,null,null,null,null,null,{"$f":"VLOOKUP($G$2:$G$50000,'Location Type (FICM Codes)'!$A$7:$B$188,2,FALSE)","v":{"$error":"#N/A"}},null,null,null,null,null,{"$f":"VLOOKUP(G8357:G18355,'Location Type (FICM Codes)'!$A$7:$C$188,3,FALSE)","v":{"$error":"#N/A"}}]
[null,null,null,null,null,null,null,{"$f":"VLOOKUP($G$2:$G$50000,'Location Type (FICM Codes)'!$A$7:$B$188,2,FALSE)","v":{"$error":"#N/A"}},null,null,null,null,null,{"$f":"VLOOKUP(G8361:G18359,'Location Type (FICM Codes)'!$A$7:$C$188,3,FALSE)","v":{"$error":"#N/A"}}]
[null,null,null,null,null,null,null,{"$f":"VLOOKUP($G$2:$G$50000,'Location Type (FICM Codes)'!$A$7:$B$188,2,FALSE)","v":{"$error":"#N/A"}},null,null,null,null,null,{"$f":"VLOOKUP(G8366:G18364,'Location Type (FICM Codes)'!$A$7:$C$188,3,FALSE)","v":{"$error":"#N/A"}}]
[null,null,null,null,null,null,null,{"$f":"VLOOKUP($G$2:$G$50000,'Location Type (FICM Codes)'!$A$7:$B$188,2,FALSE)","v":{"$error":"#N/A"}},null,null,null,null,null,{"$f":"VLOOKUP(G8371:G18369,'Location Type (FICM Codes)'!$A$7:$C$188,3,FALSE)","v":{"$error":"#N/A"}}]
[null,null,null,null,null,null,null,{"$f":"VLOOKUP($G$2:$G$50000,'Location Type (FICM Codes)'!$A$7:$B$188,2,FALSE)","v":{"$error":"#N/A"}},null,null,null,null,null,{"$f":"VLOOKUP(G8372:G18370,'Location Type (FICM Codes)'!$A$7:$C$188,3,FALSE)","v":{"$error":"#N/A"}}]
[null,null,null,null,null,null,null,{"$f":"VLOOKUP($G$2:$G$50000,'Location Type (FICM Codes)'!$A$7:$B$188,2,FALSE)","v":{"$error":"#N/A"}},null,null,null,null,null,{"$f":"VLOOKUP(G8378:G18376,'Location Type (FICM Codes)'!$A$7:$C$188,3,FALSE)","v":{"$error":"#N/A"}}]
[null,null,null,null,null,null,null,{"$f":"VLOOKUP($G$2:$G$50000,'Location Type (FICM Codes)'!$A$7:$B$188,2,FALSE)","v":{"$error":"#N/A"}},null,null,null,null,null,{"$f":"VLOOKUP(G8381:G18379,'Location Type (FICM Codes)'!$A$7:$C$188,3,FALSE)","v":{"$error":"#N/A"}}]
[null,null,null,null,null,null,null,{"$f":"VLOOKUP($G$2:$G$50000,'Location Type (FICM Codes)'!$A$7:$B$188,2,FALSE)","v":{"$error":"#N/A"}},null,null,null,null,null,{"$f":"VLOOKUP(G8386:G18384,'Location Type (FICM Codes)'!$A$7:$C$188,3,FALSE)","v":{"$error":"#N/A"}}]
[null,null,null,null,null,null,null,{"$f":"VLOOKUP($G$2:$G$50000,'Location Type (FICM Codes)'!$A$7:$B$188,2,FALSE)","v":{"$error":"#N/A"}},null,null,null,null,null,{"$f":"VLOOKUP(G8387:G18385,'Location Type (FICM Codes)'!$A$7:$C$188,3,FALSE)","v":{"$error":"#N/A"}}]
[null,null,null,null,null,null,null,{"$f":"VLOOKUP($G$2:$G$50000,'Location Type (FICM Codes)'!$A$7:$B$188,2,FALSE)","v":{"$error":"#N/A"}},null,null,null,null,null,{"$f":"VLOOKUP(G8391:G18389,'Location Type (FICM Codes)'!$A$7:$C$188,3,FALSE)","v":{"$error":"#N/A"}}]
[null,null,null,null,null,null,null,{"$f":"VLOOKUP($G$2:$G$50000,'Location Type (FICM Codes)'!$A$7:$B$188,2,FALSE)","v":{"$error":"#N/A"}},null,null,null,null,null,{"$f":"VLOOKUP(G8396:G18394,'Location Type (FICM Codes)'!$A$7:$C$188,3,FALSE)","v":{"$error":"#N/A"}}]
[null,null,null,null,null,null,null,{"$f":"VLOOKUP($G$2:$G$50000,'Location Type (FICM Codes)'!$A$7:$B$188,2,FALSE)","v":{"$error":"#N/A"}},null,null,null,null,null,{"$f":"VLOOKUP(G8401:G18399,'Location Type (FICM Codes)'!$A$7:$C$188,3,FALSE)","v":{"$error":"#N/A"}}]
[null,null,null,null,null,null,null,{"$f":"VLOOKUP($G$2:$G$50000,'Location Type (FICM Codes)'!$A$7:$B$188,2,FALSE)","v":{"$error":"#N/A"}},null,null,null,null,null,{"$f":"VLOOKUP(G8402:G18400,'Location Type (FICM Codes)'!$A$7:$C$188,3,FALSE)","v":{"$error":"#N/A"}}]
[null,null,null,null,null,null,null,{"$f":"VLOOKUP($G$2:$G$50000,'Location Type (FICM Codes)'!$A$7:$B$188,2,FALSE)","v":{"$error":"#N/A"}},null,null,null,null,null,{"$f":"VLOOKUP(G8408:G18406,'Location Type (FICM Codes)'!$A$7:$C$188,3,FALSE)","v":{"$error":"#N/A"}}]
[null,null,null,null,null,null,null,{"$f":"VLOOKUP($G$2:$G$50000,'Location Type (FICM Codes)'!$A$7:$B$188,2,FALSE)","v":{"$error":"#N/A"}},null,null,null,null,null,{"$f":"VLOOKUP(G8411:G18409,'Location Type (FICM Codes)'!$A$7:$C$188,3,FALSE)","v":{"$error":"#N/A"}}]
[null,null,null,null,null,null,null,{"$f":"VLOOKUP($G$2:$G$50000,'Location Type (FICM Codes)'!$A$7:$B$188,2,FALSE)","v":{"$error":"#N/A"}},null,null,null,null,null,{"$f":"VLOOKUP(G8416:G18414,'Location Type (FICM Codes)'!$A$7:$C$188,3,FALSE)","v":{"$error":"#N/A"}}]
[null,null,null,null,null,null,null,{"$f":"VLOOKUP($G$2:$G$50000,'Location Type (FICM Codes)'!$A$7:$B$188,2,FALSE)","v":{"$error":"#N/A"}},null,null,null,null,null,{"$f":"VLOOKUP(G8417:G18415,'Location Type (FICM Codes)'!$A$7:$C$188,3,FALSE)","v":{"$error":"#N/A"}}]
[null,null,null,null,null,null,null,{"$f":"VLOOKUP($G$2:$G$50000,'Location Type (FICM Codes)'!$A$7:$B$188,2,FALSE)","v":{"$error":"#N/A"}},null,null,null,null,null,{"$f":"VLOOKUP(G8421:G18419,'Location Type (FICM Codes)'!$A$7:$C$188,3,FALSE)","v":{"$error":"#N/A"}}]
[null,null,null,null,null,null,null,{"$f":"VLOOKUP($G$2:$G$50000,'Location Type (FICM Codes)'!$A$7:$B$188,2,FALSE)","v":{"$error":"#N/A"}},null,null,null,null,null,{"$f":"VLOOKUP(G8426:G18424,'Location Type (FICM Codes)'!$A$7:$C$188,3,FALSE)","v":{"$error":"#N/A"}}]
[null,null,null,null,null,null,null,{"$f":"VLOOKUP($G$2:$G$50000,'Location Type (FICM Codes)'!$A$7:$B$188,2,FALSE)","v":{"$error":"#N/A"}},null,null,null,null,null,{"$f":"VLOOKUP(G8431:G18429,'Location Type (FICM Codes)'!$A$7:$C$188,3,FALSE)","v":{"$error":"#N/A"}}]
[null,null,null,null,null,null,null,{"$f":"VLOOKUP($G$2:$G$50000,'Location Type (FICM Codes)'!$A$7:$B$188,2,FALSE)","v":{"$error":"#N/A"}},null,null,null,null,null,{"$f":"VLOOKUP(G8432:G18430,'Location Type (FICM Codes)'!$A$7:$C$188,3,FALSE)","v":{"$error":"#N/A"}}]
[null,null,null,null,null,null,null,{"$f":"VLOOKUP($G$2:$G$50000,'Location Type (FICM Codes)'!$A$7:$B$188,2,FALSE)","v":{"$error":"#N/A"}},null,null,null,null,null,{"$f":"VLOOKUP(G8438:G18436,'Location Type (FICM Codes)'!$A$7:$C$188,3,FALSE)","v":{"$error":"#N/A"}}]
[null,null,null,null,null,null,null,{"$f":"VLOOKUP($G$2:$G$50000,'Location Type (FICM Codes)'!$A$7:$B$188,2,FALSE)","v":{"$error":"#N/A"}},null,null,null,null,null,{"$f":"VLOOKUP(G8441:G18439,'Location Type (FICM Codes)'!$A$7:$C$188,3,FALSE)","v":{"$error":"#N/A"}}]
[null,null,null,null,null,null,null,{"$f":"VLOOKUP($G$2:$G$50000,'Location Type (FICM Codes)'!$A$7:$B$188,2,FALSE)","v":{"$error":"#N/A"}},null,null,null,null,null,{"$f":"VLOOKUP(G8446:G18444,'Location Type (FICM Codes)'!$A$7:$C$188,3,FALSE)","v":{"$error":"#N/A"}}]
[null,null,null,null,null,null,null,{"$f":"VLOOKUP($G$2:$G$50000,'Location Type (FICM Codes)'!$A$7:$B$188,2,FALSE)","v":{"$error":"#N/A"}},null,null,null,null,null,{"$f":"VLOOKUP(G8447:G18445,'Location Type (FICM Codes)'!$A$7:$C$188,3,FALSE)","v":{"$error":"#N/A"}}]
[null,null,null,null,null,null,null,{"$f":"VLOOKUP($G$2:$G$50000,'Location Type (FICM Codes)'!$A$7:$B$188,2,FALSE)","v":{"$error":"#N/A"}},null,null,null,null,null,{"$f":"VLOOKUP(G8451:G18449,'Location Type (FICM Codes)'!$A$7:$C$188,3,FALSE)","v":{"$error":"#N/A"}}]
[null,null,null,null,null,null,null,{"$f":"VLOOKUP($G$2:$G$50000,'Location Type (FICM Codes)'!$A$7:$B$188,2,FALSE)","v":{"$error":"#N/A"}},null,null,null,null,null,{"$f":"VLOOKUP(G8456:G18454,'Location Type (FICM Codes)'!$A$7:$C$188,3,FALSE)","v":{"$error":"#N/A"}}]
[null,null,null,null,null,null,null,{"$f":"VLOOKUP($G$2:$G$50000,'Location Type (FICM Codes)'!$A$7:$B$188,2,FALSE)","v":{"$error":"#N/A"}},null,null,null,null,null,{"$f":"VLOOKUP(G8461:G18459,'Location Type (FICM Codes)'!$A$7:$C$188,3,FALSE)","v":{"$error":"#N/A"}}]
[null,null,null,null,null,null,null,{"$f":"VLOOKUP($G$2:$G$50000,'Location Type (FICM Codes)'!$A$7:$B$188,2,FALSE)","v":{"$error":"#N/A"}},null,null,null,null,null,{"$f":"VLOOKUP(G8462:G18460,'Location Type (FICM Codes)'!$A$7:$C$188,3,FALSE)","v":{"$error":"#N/A"}}]
[null,null,null,null,null,null,null,{"$f":"VLOOKUP($G$2:$G$50000,'Location Type (FICM Codes)'!$A$7:$B$188,2,FALSE)","v":{"$error":"#N/A"}},null,null,null,null,null,{"$f":"VLOOKUP(G8468:G18466,'Location Type (FICM Codes)'!$A$7:$C$188,3,FALSE)","v":{"$error":"#N/A"}}]
[null,null,null,null,null,null,null,{"$f":"VLOOKUP($G$2:$G$50000,'Location Type (FICM Codes)'!$A$7:$B$188,2,FALSE)","v":{"$error":"#N/A"}},null,null,null,null,null,{"$f":"VLOOKUP(G8471:G18469,'Location Type (FICM Codes)'!$A$7:$C$188,3,FALSE)","v":{"$error":"#N/A"}}]
[null,null,null,null,null,null,null,{"$f":"VLOOKUP($G$2:$G$50000,'Location Type (FICM Codes)'!$A$7:$B$188,2,FALSE)","v":{"$error":"#N/A"}},null,null,null,null,null,{"$f":"VLOOKUP(G8476:G18474,'Location Type (FICM Codes)'!$A$7:$C$188,3,FALSE)","v":{"$error":"#N/A"}}]
[null,null,null,null,null,null,null,{"$f":"VLOOKUP($G$2:$G$50000,'Location Type (FICM Codes)'!$A$7:$B$188,2,FALSE)","v":{"$error":"#N/A"}},null,null,null,null,null,{"$f":"VLOOKUP(G8477:G18475,'Location Type (FICM Codes)'!$A$7:$C$188,3,FALSE)","v":{"$error":"#N/A"}}]
[null,null,null,null,null,null,null,{"$f":"VLOOKUP($G$2:$G$50000,'Location Type (FICM Codes)'!$A$7:$B$188,2,FALSE)","v":{"$error":"#N/A"}},null,null,null,null,null,{"$f":"VLOOKUP(G8482:G18480,'Location Type (FICM Codes)'!$A$7:$C$188,3,FALSE)","v":{"$error":"#N/A"}}]
[null,null,null,null,null,null,null,{"$f":"VLOOKUP($G$2:$G$50000,'Location Type (FICM Codes)'!$A$7:$B$188,2,FALSE)","v":{"$error":"#N/A"}},null,null,null,null,null,{"$f":"VLOOKUP(G8486:G18484,'Location Type (FICM Codes)'!$A$7:$C$188,3,FALSE)","v":{"$error":"#N/A"}}]
[null,null,null,null,null,null,null,{"$f":"VLOOKUP($G$2:$G$50000,'Location Type (FICM Codes)'!$A$7:$B$188,2,FALSE)","v":{"$error":"#N/A"}},null,null,null,null,null,{"$f":"VLOOKUP(G8491:G18489,'Location Type (FICM Codes)'!$A$7:$C$188,3,FALSE)","v":{"$error":"#N/A"}}]
[null,null,null,null,null,null,null,{"$f":"VLOOKUP($G$2:$G$50000,'Location Type (FICM Codes)'!$A$7:$B$188,2,FALSE)","v":{"$error":"#N/A"}},null,null,null,null,null,{"$f":"VLOOKUP(G8492:G18490,'Location Type (FICM Codes)'!$A$7:$C$188,3,FALSE)","v":{"$error":"#N/A"}}]
[null,null,null,null,null,null,null,{"$f":"VLOOKUP($G$2:$G$50000,'Location Type (FICM Codes)'!$A$7:$B$188,2,FALSE)","v":{"$error":"#N/A"}},null,null,null,null,null,{"$f":"VLOOKUP(G8498:G18496,'Location Type (FICM Codes)'!$A$7:$C$188,3,FALSE)","v":{"$error":"#N/A"}}]
[null,null,null,null,null,null,null,{"$f":"VLOOKUP($G$2:$G$50000,'Location Type (FICM Codes)'!$A$7:$B$188,2,FALSE)","v":{"$error":"#N/A"}},null,null,null,null,null,{"$f":"VLOOKUP(G8501:G18499,'Location Type (FICM Codes)'!$A$7:$C$188,3,FALSE)","v":{"$error":"#N/A"}}]
[null,null,null,null,null,null,null,{"$f":"VLOOKUP($G$2:$G$50000,'Location Type (FICM Codes)'!$A$7:$B$188,2,FALSE)","v":{"$error":"#N/A"}},null,null,null,null,null,{"$f":"VLOOKUP(G8506:G18504,'Location Type (FICM Codes)'!$A$7:$C$188,3,FALSE)","v":{"$error":"#N/A"}}]
[null,null,null,null,null,null,null,{"$f":"VLOOKUP($G$2:$G$50000,'Location Type (FICM Codes)'!$A$7:$B$188,2,FALSE)","v":{"$error":"#N/A"}},null,null,null,null,null,{"$f":"VLOOKUP(G8507:G18505,'Location Type (FICM Codes)'!$A$7:$C$188,3,FALSE)","v":{"$error":"#N/A"}}]
[null,null,null,null,null,null,null,{"$f":"VLOOKUP($G$2:$G$50000,'Location Type (FICM Codes)'!$A$7:$B$188,2,FALSE)","v":{"$error":"#N/A"}},null,null,null,null,null,{"$f":"VLOOKUP(G8512:G18510,'Location Type (FICM Codes)'!$A$7:$C$188,3,FALSE)","v":{"$error":"#N/A"}}]
[null,null,null,null,null,null,null,{"$f":"VLOOKUP($G$2:$G$50000,'Location Type (FICM Codes)'!$A$7:$B$188,2,FALSE)","v":{"$error":"#N/A"}},null,null,null,null,null,{"$f":"VLOOKUP(G8516:G18514,'Location Type (FICM Codes)'!$A$7:$C$188,3,FALSE)","v":{"$error":"#N/A"}}]
[null,null,null,null,null,null,null,{"$f":"VLOOKUP($G$2:$G$50000,'Location Type (FICM Codes)'!$A$7:$B$188,2,FALSE)","v":{"$error":"#N/A"}},null,null,null,null,null,{"$f":"VLOOKUP(G8521:G18519,'Location Type (FICM Codes)'!$A$7:$C$188,3,FALSE)","v":{"$error":"#N/A"}}]
[null,null,null,null,null,null,null,{"$f":"VLOOKUP($G$2:$G$50000,'Location Type (FICM Codes)'!$A$7:$B$188,2,FALSE)","v":{"$error":"#N/A"}},null,null,null,null,null,{"$f":"VLOOKUP(G8522:G18520,'Location Type (FICM Codes)'!$A$7:$C$188,3,FALSE)","v":{"$error":"#N/A"}}]
[null,null,null,null,null,null,null,{"$f":"VLOOKUP($G$2:$G$50000,'Location Type (FICM Codes)'!$A$7:$B$188,2,FALSE)","v":{"$error":"#N/A"}},null,null,null,null,null,{"$f":"VLOOKUP(G8528:G18526,'Location Type (FICM Codes)'!$A$7:$C$188,3,FALSE)","v":{"$error":"#N/A"}}]
[null,null,null,null,null,null,null,{"$f":"VLOOKUP($G$2:$G$50000,'Location Type (FICM Codes)'!$A$7:$B$188,2,FALSE)","v":{"$error":"#N/A"}},null,null,null,null,null,{"$f":"VLOOKUP(G8531:G18529,'Location Type (FICM Codes)'!$A$7:$C$188,3,FALSE)","v":{"$error":"#N/A"}}]
[null,null,null,null,null,null,null,{"$f":"VLOOKUP($G$2:$G$50000,'Location Type (FICM Codes)'!$A$7:$B$188,2,FALSE)","v":{"$error":"#N/A"}},null,null,null,null,null,{"$f":"VLOOKUP(G8536:G18534,'Location Type (FICM Codes)'!$A$7:$C$188,3,FALSE)","v":{"$error":"#N/A"}}]
[null,null,null,null,null,null,null,{"$f":"VLOOKUP($G$2:$G$50000,'Location Type (FICM Codes)'!$A$7:$B$188,2,FALSE)","v":{"$error":"#N/A"}},null,null,null,null,null,{"$f":"VLOOKUP(G8537:G18535,'Location Type (FICM Codes)'!$A$7:$C$188,3,FALSE)","v":{"$error":"#N/A"}}]
[null,null,null,null,null,null,null,{"$f":"VLOOKUP($G$2:$G$50000,'Location Type (FICM Codes)'!$A$7:$B$188,2,FALSE)","v":{"$error":"#N/A"}},null,null,null,null,null,{"$f":"VLOOKUP(G8542:G18540,'Location Type (FICM Codes)'!$A$7:$C$188,3,FALSE)","v":{"$error":"#N/A"}}]
[null,null,null,null,null,null,null,{"$f":"VLOOKUP($G$2:$G$50000,'Location Type (FICM Codes)'!$A$7:$B$188,2,FALSE)","v":{"$error":"#N/A"}},null,null,null,null,null,{"$f":"VLOOKUP(G8546:G18544,'Location Type (FICM Codes)'!$A$7:$C$188,3,FALSE)","v":{"$error":"#N/A"}}]
[null,null,null,null,null,null,null,{"$f":"VLOOKUP($G$2:$G$50000,'Location Type (FICM Codes)'!$A$7:$B$188,2,FALSE)","v":{"$error":"#N/A"}},null,null,null,null,null,{"$f":"VLOOKUP(G8551:G18549,'Location Type (FICM Codes)'!$A$7:$C$188,3,FALSE)","v":{"$error":"#N/A"}}]
[null,null,null,null,null,null,null,{"$f":"VLOOKUP($G$2:$G$50000,'Location Type (FICM Codes)'!$A$7:$B$188,2,FALSE)","v":{"$error":"#N/A"}},null,null,null,null,null,{"$f":"VLOOKUP(G8552:G18550,'Location Type (FICM Codes)'!$A$7:$C$188,3,FALSE)","v":{"$error":"#N/A"}}]
[null,null,null,null,null,null,null,{"$f":"VLOOKUP($G$2:$G$50000,'Location Type (FICM Codes)'!$A$7:$B$188,2,FALSE)","v":{"$error":"#N/A"}},null,null,null,null,null,{"$f":"VLOOKUP(G8558:G18556,'Location Type (FICM Codes)'!$A$7:$C$188,3,FALSE)","v":{"$error":"#N/A"}}]
[null,null,null,null,null,null,null,{"$f":"VLOOKUP($G$2:$G$50000,'Location Type (FICM Codes)'!$A$7:$B$188,2,FALSE)","v":{"$error":"#N/A"}},null,null,null,null,null,{"$f":"VLOOKUP(G8561:G18559,'Location Type (FICM Codes)'!$A$7:$C$188,3,FALSE)","v":{"$error":"#N/A"}}]
[null,null,null,null,null,null,null,{"$f":"VLOOKUP($G$2:$G$50000,'Location Type (FICM Codes)'!$A$7:$B$188,2,FALSE)","v":{"$error":"#N/A"}},null,null,null,null,null,{"$f":"VLOOKUP(G8566:G18564,'Location Type (FICM Codes)'!$A$7:$C$188,3,FALSE)","v":{"$error":"#N/A"}}]
[null,null,null,null,null,null,null,{"$f":"VLOOKUP($G$2:$G$50000,'Location Type (FICM Codes)'!$A$7:$B$188,2,FALSE)","v":{"$error":"#N/A"}},null,null,null,null,null,{"$f":"VLOOKUP(G8567:G18565,'Location Type (FICM Codes)'!$A$7:$C$188,3,FALSE)","v":{"$error":"#N/A"}}]
[null,null,null,null,null,null,null,{"$f":"VLOOKUP($G$2:$G$50000,'Location Type (FICM Codes)'!$A$7:$B$188,2,FALSE)","v":{"$error":"#N/A"}},null,null,null,null,null,{"$f":"VLOOKUP(G8572:G18570,'Location Type (FICM Codes)'!$A$7:$C$188,3,FALSE)","v":{"$error":"#N/A"}}]
[null,null,null,null,null,null,null,{"$f":"VLOOKUP($G$2:$G$50000,'Location Type (FICM Codes)'!$A$7:$B$188,2,FALSE)","v":{"$error":"#N/A"}},null,null,null,null,null,{"$f":"VLOOKUP(G8576:G18574,'Location Type (FICM Codes)'!$A$7:$C$188,3,FALSE)","v":{"$error":"#N/A"}}]
[null,null,null,null,null,null,null,{"$f":"VLOOKUP($G$2:$G$50000,'Location Type (FICM Codes)'!$A$7:$B$188,2,FALSE)","v":{"$error":"#N/A"}},null,null,null,null,null,{"$f":"VLOOKUP(G8581:G18579,'Location Type (FICM Codes)'!$A$7:$C$188,3,FALSE)","v":{"$error":"#N/A"}}]
[null,null,null,null,null,null,null,{"$f":"VLOOKUP($G$2:$G$50000,'Location Type (FICM Codes)'!$A$7:$B$188,2,FALSE)","v":{"$error":"#N/A"}},null,null,null,null,null,{"$f":"VLOOKUP(G8582:G18580,'Location Type (FICM Codes)'!$A$7:$C$188,3,FALSE)","v":{"$error":"#N/A"}}]
[null,null,null,null,null,null,null,{"$f":"VLOOKUP($G$2:$G$50000,'Location Type (FICM Codes)'!$A$7:$B$188,2,FALSE)","v":{"$error":"#N/A"}},null,null,null,null,null,{"$f":"VLOOKUP(G8588:G18586,'Location Type (FICM Codes)'!$A$7:$C$188,3,FALSE)","v":{"$error":"#N/A"}}]
[null,null,null,null,null,null,null,{"$f":"VLOOKUP($G$2:$G$50000,'Location Type (FICM Codes)'!$A$7:$B$188,2,FALSE)","v":{"$error":"#N/A"}},null,null,null,null,null,{"$f":"VLOOKUP(G8591:G18589,'Location Type (FICM Codes)'!$A$7:$C$188,3,FALSE)","v":{"$error":"#N/A"}}]
[null,null,null,null,null,null,null,{"$f":"VLOOKUP($G$2:$G$50000,'Location Type (FICM Codes)'!$A$7:$B$188,2,FALSE)","v":{"$error":"#N/A"}},null,null,null,null,null,{"$f":"VLOOKUP(G8596:G18594,'Location Type (FICM Codes)'!$A$7:$C$188,3,FALSE)","v":{"$error":"#N/A"}}]
[null,null,null,null,null,null,null,{"$f":"VLOOKUP($G$2:$G$50000,'Location Type (FICM Codes)'!$A$7:$B$188,2,FALSE)","v":{"$error":"#N/A"}},null,null,null,null,null,{"$f":"VLOOKUP(G8597:G18595,'Location Type (FICM Codes)'!$A$7:$C$188,3,FALSE)","v":{"$error":"#N/A"}}]
[null,null,null,null,null,null,null,{"$f":"VLOOKUP($G$2:$G$50000,'Location Type (FICM Codes)'!$A$7:$B$188,2,FALSE)","v":{"$error":"#N/A"}},null,null,null,null,null,{"$f":"VLOOKUP(G8602:G18600,'Location Type (FICM Codes)'!$A$7:$C$188,3,FALSE)","v":{"$error":"#N/A"}}]
[null,null,null,null,null,null,null,{"$f":"VLOOKUP($G$2:$G$50000,'Location Type (FICM Codes)'!$A$7:$B$188,2,FALSE)","v":{"$error":"#N/A"}},null,null,null,null,null,{"$f":"VLOOKUP(G8606:G18604,'Location Type (FICM Codes)'!$A$7:$C$188,3,FALSE)","v":{"$error":"#N/A"}}]
[null,null,null,null,null,null,null,{"$f":"VLOOKUP($G$2:$G$50000,'Location Type (FICM Codes)'!$A$7:$B$188,2,FALSE)","v":{"$error":"#N/A"}},null,null,null,null,null,{"$f":"VLOOKUP(G8611:G18609,'Location Type (FICM Codes)'!$A$7:$C$188,3,FALSE)","v":{"$error":"#N/A"}}]
[null,null,null,null,null,null,null,{"$f":"VLOOKUP($G$2:$G$50000,'Location Type (FICM Codes)'!$A$7:$B$188,2,FALSE)","v":{"$error":"#N/A"}},null,null,null,null,null,{"$f":"VLOOKUP(G8612:G18610,'Location Type (FICM Codes)'!$A$7:$C$188,3,FALSE)","v":{"$error":"#N/A"}}]
[null,null,null,null,null,null,null,{"$f":"VLOOKUP($G$2:$G$50000,'Location Type (FICM Codes)'!$A$7:$B$188,2,FALSE)","v":{"$error":"#N/A"}},null,null,null,null,null,{"$f":"VLOOKUP(G8618:G18616,'Location Type (FICM Codes)'!$A$7:$C$188,3,FALSE)","v":{"$error":"#N/A"}}]
[null,null,null,null,null,null,null,{"$f":"VLOOKUP($G$2:$G$50000,'Location Type (FICM Codes)'!$A$7:$B$188,2,FALSE)","v":{"$error":"#N/A"}},null,null,null,null,null,{"$f":"VLOOKUP(G8621:G18619,'Location Type (FICM Codes)'!$A$7:$C$188,3,FALSE)","v":{"$error":"#N/A"}}]
[null,null,null,null,null,null,null,{"$f":"VLOOKUP($G$2:$G$50000,'Location Type (FICM Codes)'!$A$7:$B$188,2,FALSE)","v":{"$error":"#N/A"}},null,null,null,null,null,{"$f":"VLOOKUP(G8626:G18624,'Location Type (FICM Codes)'!$A$7:$C$188,3,FALSE)","v":{"$error":"#N/A"}}]
[null,null,null,null,null,null,null,{"$f":"VLOOKUP($G$2:$G$50000,'Location Type (FICM Codes)'!$A$7:$B$188,2,FALSE)","v":{"$error":"#N/A"}},null,null,null,null,null,{"$f":"VLOOKUP(G8627:G18625,'Location Type (FICM Codes)'!$A$7:$C$188,3,FALSE)","v":{"$error":"#N/A"}}]
[null,null,null,null,null,null,null,{"$f":"VLOOKUP($G$2:$G$50000,'Location Type (FICM Codes)'!$A$7:$B$188,2,FALSE)","v":{"$error":"#N/A"}},null,null,null,null,null,{"$f":"VLOOKUP(G8632:G18630,'Location Type (FICM Codes)'!$A$7:$C$188,3,FALSE)","v":{"$error":"#N/A"}}]
[null,null,null,null,null,null,null,{"$f":"VLOOKUP($G$2:$G$50000,'Location Type (FICM Codes)'!$A$7:$B$188,2,FALSE)","v":{"$error":"#N/A"}},null,null,null,null,null,{"$f":"VLOOKUP(G8636:G18634,'Location Type (FICM Codes)'!$A$7:$C$188,3,FALSE)","v":{"$error":"#N/A"}}]
[null,null,null,null,null,null,null,{"$f":"VLOOKUP($G$2:$G$50000,'Location Type (FICM Codes)'!$A$7:$B$188,2,FALSE)","v":{"$error":"#N/A"}},null,null,null,null,null,{"$f":"VLOOKUP(G8641:G18639,'Location Type (FICM Codes)'!$A$7:$C$188,3,FALSE)","v":{"$error":"#N/A"}}]
[null,null,null,null,null,null,null,{"$f":"VLOOKUP($G$2:$G$50000,'Location Type (FICM Codes)'!$A$7:$B$188,2,FALSE)","v":{"$error":"#N/A"}},null,null,null,null,null,{"$f":"VLOOKUP(G8642:G18640,'Location Type (FICM Codes)'!$A$7:$C$188,3,FALSE)","v":{"$error":"#N/A"}}]
[null,null,null,null,null,null,null,{"$f":"VLOOKUP($G$2:$G$50000,'Location Type (FICM Codes)'!$A$7:$B$188,2,FALSE)","v":{"$error":"#N/A"}},null,null,null,null,null,{"$f":"VLOOKUP(G8648:G18646,'Location Type (FICM Codes)'!$A$7:$C$188,3,FALSE)","v":{"$error":"#N/A"}}]
[null,null,null,null,null,null,null,{"$f":"VLOOKUP($G$2:$G$50000,'Location Type (FICM Codes)'!$A$7:$B$188,2,FALSE)","v":{"$error":"#N/A"}},null,null,null,null,null,{"$f":"VLOOKUP(G8651:G18649,'Location Type (FICM Codes)'!$A$7:$C$188,3,FALSE)","v":{"$error":"#N/A"}}]
[null,null,null,null,null,null,null,{"$f":"VLOOKUP($G$2:$G$50000,'Location Type (FICM Codes)'!$A$7:$B$188,2,FALSE)","v":{"$error":"#N/A"}},null,null,null,null,null,{"$f":"VLOOKUP(G8656:G18654,'Location Type (FICM Codes)'!$A$7:$C$188,3,FALSE)","v":{"$error":"#N/A"}}]
[null,null,null,null,null,null,null,{"$f":"VLOOKUP($G$2:$G$50000,'Location Type (FICM Codes)'!$A$7:$B$188,2,FALSE)","v":{"$error":"#N/A"}},null,null,null,null,null,{"$f":"VLOOKUP(G8657:G18655,'Location Type (FICM Codes)'!$A$7:$C$188,3,FALSE)","v":{"$error":"#N/A"}}]
[null,null,null,null,null,null,null,{"$f":"VLOOKUP($G$2:$G$50000,'Location Type (FICM Codes)'!$A$7:$B$188,2,FALSE)","v":{"$error":"#N/A"}},null,null,null,null,null,{"$f":"VLOOKUP(G8662:G18660,'Location Type (FICM Codes)'!$A$7:$C$188,3,FALSE)","v":{"$error":"#N/A"}}]
[null,null,null,null,null,null,null,{"$f":"VLOOKUP($G$2:$G$50000,'Location Type (FICM Codes)'!$A$7:$B$188,2,FALSE)","v":{"$error":"#N/A"}},null,null,null,null,null,{"$f":"VLOOKUP(G8666:G18664,'Location Type (FICM Codes)'!$A$7:$C$188,3,FALSE)","v":{"$error":"#N/A"}}]
[null,null,null,null,null,null,null,{"$f":"VLOOKUP($G$2:$G$50000,'Location Type (FICM Codes)'!$A$7:$B$188,2,FALSE)","v":{"$error":"#N/A"}},null,null,null,null,null,{"$f":"VLOOKUP(G8671:G18669,'Location Type (FICM Codes)'!$A$7:$C$188,3,FALSE)","v":{"$error":"#N/A"}}]
[null,null,null,null,null,null,null,{"$f":"VLOOKUP($G$2:$G$50000,'Location Type (FICM Codes)'!$A$7:$B$188,2,FALSE)","v":{"$error":"#N/A"}},null,null,null,null,null,{"$f":"VLOOKUP(G8672:G18670,'Location Type (FICM Codes)'!$A$7:$C$188,3,FALSE)","v":{"$error":"#N/A"}}]
[null,null,null,null,null,null,null,{"$f":"VLOOKUP($G$2:$G$50000,'Location Type (FICM Codes)'!$A$7:$B$188,2,FALSE)","v":{"$error":"#N/A"}},null,null,null,null,null,{"$f":"VLOOKUP(G8678:G18676,'Location Type (FICM Codes)'!$A$7:$C$188,3,FALSE)","v":{"$error":"#N/A"}}]
[null,null,null,null,null,null,null,{"$f":"VLOOKUP($G$2:$G$50000,'Location Type (FICM Codes)'!$A$7:$B$188,2,FALSE)","v":{"$error":"#N/A"}},null,null,null,null,null,{"$f":"VLOOKUP(G8681:G18679,'Location Type (FICM Codes)'!$A$7:$C$188,3,FALSE)","v":{"$error":"#N/A"}}]
[null,null,null,null,null,null,null,{"$f":"VLOOKUP($G$2:$G$50000,'Location Type (FICM Codes)'!$A$7:$B$188,2,FALSE)","v":{"$error":"#N/A"}},null,null,null,null,null,{"$f":"VLOOKUP(G8686:G18684,'Location Type (FICM Codes)'!$A$7:$C$188,3,FALSE)","v":{"$error":"#N/A"}}]
[null,null,null,null,null,null,null,{"$f":"VLOOKUP($G$2:$G$50000,'Location Type (FICM Codes)'!$A$7:$B$188,2,FALSE)","v":{"$error":"#N/A"}},null,null,null,null,null,{"$f":"VLOOKUP(G8687:G18685,'Location Type (FICM Codes)'!$A$7:$C$188,3,FALSE)","v":{"$error":"#N/A"}}]
[null,null,null,null,null,null,null,{"$f":"VLOOKUP($G$2:$G$50000,'Location Type (FICM Codes)'!$A$7:$B$188,2,FALSE)","v":{"$error":"#N/A"}},null,null,null,null,null,{"$f":"VLOOKUP(G8692:G18690,'Location Type (FICM Codes)'!$A$7:$C$188,3,FALSE)","v":{"$error":"#N/A"}}]
[null,null,null,null,null,null,null,{"$f":"VLOOKUP($G$2:$G$50000,'Location Type (FICM Codes)'!$A$7:$B$188,2,FALSE)","v":{"$error":"#N/A"}},null,null,null,null,null,{"$f":"VLOOKUP(G8696:G18694,'Location Type (FICM Codes)'!$A$7:$C$188,3,FALSE)","v":{"$error":"#N/A"}}]
[null,null,null,null,null,null,null,{"$f":"VLOOKUP($G$2:$G$50000,'Location Type (FICM Codes)'!$A$7:$B$188,2,FALSE)","v":{"$error":"#N/A"}},null,null,null,null,null,{"$f":"VLOOKUP(G8701:G18699,'Location Type (FICM Codes)'!$A$7:$C$188,3,FALSE)","v":{"$error":"#N/A"}}]
[null,null,null,null,null,null,null,{"$f":"VLOOKUP($G$2:$G$50000,'Location Type (FICM Codes)'!$A$7:$B$188,2,FALSE)","v":{"$error":"#N/A"}},null,null,null,null,null,{"$f":"VLOOKUP(G8702:G18700,'Location Type (FICM Codes)'!$A$7:$C$188,3,FALSE)","v":{"$error":"#N/A"}}]
[null,null,null,null,null,null,null,{"$f":"VLOOKUP($G$2:$G$50000,'Location Type (FICM Codes)'!$A$7:$B$188,2,FALSE)","v":{"$error":"#N/A"}},null,null,null,null,null,{"$f":"VLOOKUP(G8708:G18706,'Location Type (FICM Codes)'!$A$7:$C$188,3,FALSE)","v":{"$error":"#N/A"}}]
[null,null,null,null,null,null,null,{"$f":"VLOOKUP($G$2:$G$50000,'Location Type (FICM Codes)'!$A$7:$B$188,2,FALSE)","v":{"$error":"#N/A"}},null,null,null,null,null,{"$f":"VLOOKUP(G8711:G18709,'Location Type (FICM Codes)'!$A$7:$C$188,3,FALSE)","v":{"$error":"#N/A"}}]
[null,null,null,null,null,null,null,{"$f":"VLOOKUP($G$2:$G$50000,'Location Type (FICM Codes)'!$A$7:$B$188,2,FALSE)","v":{"$error":"#N/A"}},null,null,null,null,null,{"$f":"VLOOKUP(G8716:G18714,'Location Type (FICM Codes)'!$A$7:$C$188,3,FALSE)","v":{"$error":"#N/A"}}]
[null,null,null,null,null,null,null,{"$f":"VLOOKUP($G$2:$G$50000,'Location Type (FICM Codes)'!$A$7:$B$188,2,FALSE)","v":{"$error":"#N/A"}},null,null,null,null,null,{"$f":"VLOOKUP(G8717:G18715,'Location Type (FICM Codes)'!$A$7:$C$188,3,FALSE)","v":{"$error":"#N/A"}}]
[null,null,null,null,null,null,null,{"$f":"VLOOKUP($G$2:$G$50000,'Location Type (FICM Codes)'!$A$7:$B$188,2,FALSE)","v":{"$error":"#N/A"}},null,null,null,null,null,{"$f":"VLOOKUP(G8722:G18720,'Location Type (FICM Codes)'!$A$7:$C$188,3,FALSE)","v":{"$error":"#N/A"}}]
[null,null,null,null,null,null,null,{"$f":"VLOOKUP($G$2:$G$50000,'Location Type (FICM Codes)'!$A$7:$B$188,2,FALSE)","v":{"$error":"#N/A"}},null,null,null,null,null,{"$f":"VLOOKUP(G8726:G18724,'Location Type (FICM Codes)'!$A$7:$C$188,3,FALSE)","v":{"$error":"#N/A"}}]
[null,null,null,null,null,null,null,{"$f":"VLOOKUP($G$2:$G$50000,'Location Type (FICM Codes)'!$A$7:$B$188,2,FALSE)","v":{"$error":"#N/A"}},null,null,null,null,null,{"$f":"VLOOKUP(G8731:G18729,'Location Type (FICM Codes)'!$A$7:$C$188,3,FALSE)","v":{"$error":"#N/A"}}]
[null,null,null,null,null,null,null,{"$f":"VLOOKUP($G$2:$G$50000,'Location Type (FICM Codes)'!$A$7:$B$188,2,FALSE)","v":{"$error":"#N/A"}},null,null,null,null,null,{"$f":"VLOOKUP(G8732:G18730,'Location Type (FICM Codes)'!$A$7:$C$188,3,FALSE)","v":{"$error":"#N/A"}}]
[null,null,null,null,null,null,null,{"$f":"VLOOKUP($G$2:$G$50000,'Location Type (FICM Codes)'!$A$7:$B$188,2,FALSE)","v":{"$error":"#N/A"}},null,null,null,null,null,{"$f":"VLOOKUP(G8736:G18734,'Location Type (FICM Codes)'!$A$7:$C$188,3,FALSE)","v":{"$error":"#N/A"}}]
[null,null,null,null,null,null,null,{"$f":"VLOOKUP($G$2:$G$50000,'Location Type (FICM Codes)'!$A$7:$B$188,2,FALSE)","v":{"$error":"#N/A"}},null,null,null,null,null,{"$f":"VLOOKUP(G8741:G18739,'Location Type (FICM Codes)'!$A$7:$C$188,3,FALSE)","v":{"$error":"#N/A"}}]
[null,null,null,null,null,null,null,{"$f":"VLOOKUP($G$2:$G$50000,'Location Type (FICM Codes)'!$A$7:$B$188,2,FALSE)","v":{"$error":"#N/A"}},null,null,null,null,null,{"$f":"VLOOKUP(G8746:G18744,'Location Type (FICM Codes)'!$A$7:$C$188,3,FALSE)","v":{"$error":"#N/A"}}]
[null,null,null,null,null,null,null,{"$f":"VLOOKUP($G$2:$G$50000,'Location Type (FICM Codes)'!$A$7:$B$188,2,FALSE)","v":{"$error":"#N/A"}},null,null,null,null,null,{"$f":"VLOOKUP(G8747:G18745,'Location Type (FICM Codes)'!$A$7:$C$188,3,FALSE)","v":{"$error":"#N/A"}}]
[null,null,null,null,null,null,null,{"$f":"VLOOKUP($G$2:$G$50000,'Location Type (FICM Codes)'!$A$7:$B$188,2,FALSE)","v":{"$error":"#N/A"}},null,null,null,null,null,{"$f":"VLOOKUP(G8752:G18750,'Location Type (FICM Codes)'!$A$7:$C$188,3,FALSE)","v":{"$error":"#N/A"}}]
[null,null,null,null,null,null,null,{"$f":"VLOOKUP($G$2:$G$50000,'Location Type (FICM Codes)'!$A$7:$B$188,2,FALSE)","v":{"$error":"#N/A"}},null,null,null,null,null,{"$f":"VLOOKUP(G8756:G18754,'Location Type (FICM Codes)'!$A$7:$C$188,3,FALSE)","v":{"$error":"#N/A"}}]
[null,null,null,null,null,null,null,{"$f":"VLOOKUP($G$2:$G$50000,'Location Type (FICM Codes)'!$A$7:$B$188,2,FALSE)","v":{"$error":"#N/A"}},null,null,null,null,null,{"$f":"VLOOKUP(G8761:G18759,'Location Type (FICM Codes)'!$A$7:$C$188,3,FALSE)","v":{"$error":"#N/A"}}]
[null,null,null,null,null,null,null,{"$f":"VLOOKUP($G$2:$G$50000,'Location Type (FICM Codes)'!$A$7:$B$188,2,FALSE)","v":{"$error":"#N/A"}},null,null,null,null,null,{"$f":"VLOOKUP(G8762:G18760,'Location Type (FICM Codes)'!$A$7:$C$188,3,FALSE)","v":{"$error":"#N/A"}}]
[null,null,null,null,null,null,null,{"$f":"VLOOKUP($G$2:$G$50000,'Location Type (FICM Codes)'!$A$7:$B$188,2,FALSE)","v":{"$error":"#N/A"}},null,null,null,null,null,{"$f":"VLOOKUP(G8766:G18764,'Location Type (FICM Codes)'!$A$7:$C$188,3,FALSE)","v":{"$error":"#N/A"}}]
[null,null,null,null,null,null,null,{"$f":"VLOOKUP($G$2:$G$50000,'Location Type (FICM Codes)'!$A$7:$B$188,2,FALSE)","v":{"$error":"#N/A"}},null,null,null,null,null,{"$f":"VLOOKUP(G8771:G18769,'Location Type (FICM Codes)'!$A$7:$C$188,3,FALSE)","v":{"$error":"#N/A"}}]
[null,null,null,null,null,null,null,{"$f":"VLOOKUP($G$2:$G$50000,'Location Type (FICM Codes)'!$A$7:$B$188,2,FALSE)","v":{"$error":"#N/A"}},null,null,null,null,null,{"$f":"VLOOKUP(G8776:G18774,'Location Type (FICM Codes)'!$A$7:$C$188,3,FALSE)","v":{"$error":"#N/A"}}]
[null,null,null,null,null,null,null,{"$f":"VLOOKUP($G$2:$G$50000,'Location Type (FICM Codes)'!$A$7:$B$188,2,FALSE)","v":{"$error":"#N/A"}},null,null,null,null,null,{"$f":"VLOOKUP(G8777:G18775,'Location Type (FICM Codes)'!$A$7:$C$188,3,FALSE)","v":{"$error":"#N/A"}}]
[null,null,null,null,null,null,null,{"$f":"VLOOKUP($G$2:$G$50000,'Location Type (FICM Codes)'!$A$7:$B$188,2,FALSE)","v":{"$error":"#N/A"}},null,null,null,null,null,{"$f":"VLOOKUP(G8782:G18780,'Location Type (FICM Codes)'!$A$7:$C$188,3,FALSE)","v":{"$error":"#N/A"}}]
[null,null,null,null,null,null,null,{"$f":"VLOOKUP($G$2:$G$50000,'Location Type (FICM Codes)'!$A$7:$B$188,2,FALSE)","v":{"$error":"#N/A"}},null,null,null,null,null,{"$f":"VLOOKUP(G8786:G18784,'Location Type (FICM Codes)'!$A$7:$C$188,3,FALSE)","v":{"$error":"#N/A"}}]
[null,null,null,null,null,null,null,{"$f":"VLOOKUP($G$2:$G$50000,'Location Type (FICM Codes)'!$A$7:$B$188,2,FALSE)","v":{"$error":"#N/A"}},null,null,null,null,null,{"$f":"VLOOKUP(G8791:G18789,'Location Type (FICM Codes)'!$A$7:$C$188,3,FALSE)","v":{"$error":"#N/A"}}]
[null,null,null,null,null,null,null,{"$f":"VLOOKUP($G$2:$G$50000,'Location Type (FICM Codes)'!$A$7:$B$188,2,FALSE)","v":{"$error":"#N/A"}},null,null,null,null,null,{"$f":"VLOOKUP(G8792:G18790,'Location Type (FICM Codes)'!$A$7:$C$188,3,FALSE)","v":{"$error":"#N/A"}}]
[null,null,null,null,null,null,null,{"$f":"VLOOKUP($G$2:$G$50000,'Location Type (FICM Codes)'!$A$7:$B$188,2,FALSE)","v":{"$error":"#N/A"}},null,null,null,null,null,{"$f":"VLOOKUP(G8796:G18794,'Location Type (FICM Codes)'!$A$7:$C$188,3,FALSE)","v":{"$error":"#N/A"}}]
[null,null,null,null,null,null,null,{"$f":"VLOOKUP($G$2:$G$50000,'Location Type (FICM Codes)'!$A$7:$B$188,2,FALSE)","v":{"$error":"#N/A"}},null,null,null,null,null,{"$f":"VLOOKUP(G8801:G18799,'Location Type (FICM Codes)'!$A$7:$C$188,3,FALSE)","v":{"$error":"#N/A"}}]
[null,null,null,null,null,null,null,{"$f":"VLOOKUP($G$2:$G$50000,'Location Type (FICM Codes)'!$A$7:$B$188,2,FALSE)","v":{"$error":"#N/A"}},null,null,null,null,null,{"$f":"VLOOKUP(G8806:G18804,'Location Type (FICM Codes)'!$A$7:$C$188,3,FALSE)","v":{"$error":"#N/A"}}]
[null,null,null,null,null,null,null,{"$f":"VLOOKUP($G$2:$G$50000,'Location Type (FICM Codes)'!$A$7:$B$188,2,FALSE)","v":{"$error":"#N/A"}},null,null,null,null,null,{"$f":"VLOOKUP(G8807:G18805,'Location Type (FICM Codes)'!$A$7:$C$188,3,FALSE)","v":{"$error":"#N/A"}}]
[null,null,null,null,null,null,null,{"$f":"VLOOKUP($G$2:$G$50000,'Location Type (FICM Codes)'!$A$7:$B$188,2,FALSE)","v":{"$error":"#N/A"}},null,null,null,null,null,{"$f":"VLOOKUP(G8812:G18810,'Location Type (FICM Codes)'!$A$7:$C$188,3,FALSE)","v":{"$error":"#N/A"}}]
[null,null,null,null,null,null,null,{"$f":"VLOOKUP($G$2:$G$50000,'Location Type (FICM Codes)'!$A$7:$B$188,2,FALSE)","v":{"$error":"#N/A"}},null,null,null,null,null,{"$f":"VLOOKUP(G8816:G18814,'Location Type (FICM Codes)'!$A$7:$C$188,3,FALSE)","v":{"$error":"#N/A"}}]
[null,null,null,null,null,null,null,{"$f":"VLOOKUP($G$2:$G$50000,'Location Type (FICM Codes)'!$A$7:$B$188,2,FALSE)","v":{"$error":"#N/A"}},null,null,null,null,null,{"$f":"VLOOKUP(G8821:G18819,'Location Type (FICM Codes)'!$A$7:$C$188,3,FALSE)","v":{"$error":"#N/A"}}]
[null,null,null,null,null,null,null,{"$f":"VLOOKUP($G$2:$G$50000,'Location Type (FICM Codes)'!$A$7:$B$188,2,FALSE)","v":{"$error":"#N/A"}},null,null,null,null,null,{"$f":"VLOOKUP(G8822:G18820,'Location Type (FICM Codes)'!$A$7:$C$188,3,FALSE)","v":{"$error":"#N/A"}}]
[null,null,null,null,null,null,null,{"$f":"VLOOKUP($G$2:$G$50000,'Location Type (FICM Codes)'!$A$7:$B$188,2,FALSE)","v":{"$error":"#N/A"}},null,null,null,null,null,{"$f":"VLOOKUP(G8826:G18824,'Location Type (FICM Codes)'!$A$7:$C$188,3,FALSE)","v":{"$error":"#N/A"}}]
[null,null,null,null,null,null,null,{"$f":"VLOOKUP($G$2:$G$50000,'Location Type (FICM Codes)'!$A$7:$B$188,2,FALSE)","v":{"$error":"#N/A"}},null,null,null,null,null,{"$f":"VLOOKUP(G8831:G18829,'Location Type (FICM Codes)'!$A$7:$C$188,3,FALSE)","v":{"$error":"#N/A"}}]
[null,null,null,null,null,null,null,{"$f":"VLOOKUP($G$2:$G$50000,'Location Type (FICM Codes)'!$A$7:$B$188,2,FALSE)","v":{"$error":"#N/A"}},null,null,null,null,null,{"$f":"VLOOKUP(G8836:G18834,'Location Type (FICM Codes)'!$A$7:$C$188,3,FALSE)","v":{"$error":"#N/A"}}]
[null,null,null,null,null,null,null,{"$f":"VLOOKUP($G$2:$G$50000,'Location Type (FICM Codes)'!$A$7:$B$188,2,FALSE)","v":{"$error":"#N/A"}},null,null,null,null,null,{"$f":"VLOOKUP(G8837:G18835,'Location Type (FICM Codes)'!$A$7:$C$188,3,FALSE)","v":{"$error":"#N/A"}}]
[null,null,null,null,null,null,null,{"$f":"VLOOKUP($G$2:$G$50000,'Location Type (FICM Codes)'!$A$7:$B$188,2,FALSE)","v":{"$error":"#N/A"}},null,null,null,null,null,{"$f":"VLOOKUP(G8842:G18840,'Location Type (FICM Codes)'!$A$7:$C$188,3,FALSE)","v":{"$error":"#N/A"}}]
[null,null,null,null,null,null,null,{"$f":"VLOOKUP($G$2:$G$50000,'Location Type (FICM Codes)'!$A$7:$B$188,2,FALSE)","v":{"$error":"#N/A"}},null,null,null,null,null,{"$f":"VLOOKUP(G8846:G18844,'Location Type (FICM Codes)'!$A$7:$C$188,3,FALSE)","v":{"$error":"#N/A"}}]
[null,null,null,null,null,null,null,{"$f":"VLOOKUP($G$2:$G$50000,'Location Type (FICM Codes)'!$A$7:$B$188,2,FALSE)","v":{"$error":"#N/A"}},null,null,null,null,null,{"$f":"VLOOKUP(G8851:G18849,'Location Type (FICM Codes)'!$A$7:$C$188,3,FALSE)","v":{"$error":"#N/A"}}]
[null,null,null,null,null,null,null,{"$f":"VLOOKUP($G$2:$G$50000,'Location Type (FICM Codes)'!$A$7:$B$188,2,FALSE)","v":{"$error":"#N/A"}},null,null,null,null,null,{"$f":"VLOOKUP(G8852:G18850,'Location Type (FICM Codes)'!$A$7:$C$188,3,FALSE)","v":{"$error":"#N/A"}}]
[null,null,null,null,null,null,null,{"$f":"VLOOKUP($G$2:$G$50000,'Location Type (FICM Codes)'!$A$7:$B$188,2,FALSE)","v":{"$error":"#N/A"}},null,null,null,null,null,{"$f":"VLOOKUP(G8856:G18854,'Location Type (FICM Codes)'!$A$7:$C$188,3,FALSE)","v":{"$error":"#N/A"}}]
[null,null,null,null,null,null,null,{"$f":"VLOOKUP($G$2:$G$50000,'Location Type (FICM Codes)'!$A$7:$B$188,2,FALSE)","v":{"$error":"#N/A"}},null,null,null,null,null,{"$f":"VLOOKUP(G8861:G18859,'Location Type (FICM Codes)'!$A$7:$C$188,3,FALSE)","v":{"$error":"#N/A"}}]
[null,null,null,null,null,null,null,{"$f":"VLOOKUP($G$2:$G$50000,'Location Type (FICM Codes)'!$A$7:$B$188,2,FALSE)","v":{"$error":"#N/A"}},null,null,null,null,null,{"$f":"VLOOKUP(G8866:G18864,'Location Type (FICM Codes)'!$A$7:$C$188,3,FALSE)","v":{"$error":"#N/A"}}]
[null,null,null,null,null,null,null,{"$f":"VLOOKUP($G$2:$G$50000,'Location Type (FICM Codes)'!$A$7:$B$188,2,FALSE)","v":{"$error":"#N/A"}},null,null,null,null,null,{"$f":"VLOOKUP(G8867:G18865,'Location Type (FICM Codes)'!$A$7:$C$188,3,FALSE)","v":{"$error":"#N/A"}}]
[null,null,null,null,null,null,null,{"$f":"VLOOKUP($G$2:$G$50000,'Location Type (FICM Codes)'!$A$7:$B$188,2,FALSE)","v":{"$error":"#N/A"}},null,null,null,null,null,{"$f":"VLOOKUP(G8872:G18870,'Location Type (FICM Codes)'!$A$7:$C$188,3,FALSE)","v":{"$error":"#N/A"}}]
[null,null,null,null,null,null,null,{"$f":"VLOOKUP($G$2:$G$50000,'Location Type (FICM Codes)'!$A$7:$B$188,2,FALSE)","v":{"$error":"#N/A"}},null,null,null,null,null,{"$f":"VLOOKUP(G8876:G18874,'Location Type (FICM Codes)'!$A$7:$C$188,3,FALSE)","v":{"$error":"#N/A"}}]
[null,null,null,null,null,null,null,{"$f":"VLOOKUP($G$2:$G$50000,'Location Type (FICM Codes)'!$A$7:$B$188,2,FALSE)","v":{"$error":"#N/A"}},null,null,null,null,null,{"$f":"VLOOKUP(G8881:G18879,'Location Type (FICM Codes)'!$A$7:$C$188,3,FALSE)","v":{"$error":"#N/A"}}]
[null,null,null,null,null,null,null,{"$f":"VLOOKUP($G$2:$G$50000,'Location Type (FICM Codes)'!$A$7:$B$188,2,FALSE)","v":{"$error":"#N/A"}},null,null,null,null,null,{"$f":"VLOOKUP(G8882:G18880,'Location Type (FICM Codes)'!$A$7:$C$188,3,FALSE)","v":{"$error":"#N/A"}}]
[null,null,null,null,null,null,null,{"$f":"VLOOKUP($G$2:$G$50000,'Location Type (FICM Codes)'!$A$7:$B$188,2,FALSE)","v":{"$error":"#N/A"}},null,null,null,null,null,{"$f":"VLOOKUP(G8886:G18884,'Location Type (FICM Codes)'!$A$7:$C$188,3,FALSE)","v":{"$error":"#N/A"}}]
[null,null,null,null,null,null,null,{"$f":"VLOOKUP($G$2:$G$50000,'Location Type (FICM Codes)'!$A$7:$B$188,2,FALSE)","v":{"$error":"#N/A"}},null,null,null,null,null,{"$f":"VLOOKUP(G8891:G18889,'Location Type (FICM Codes)'!$A$7:$C$188,3,FALSE)","v":{"$error":"#N/A"}}]
[null,null,null,null,null,null,null,{"$f":"VLOOKUP($G$2:$G$50000,'Location Type (FICM Codes)'!$A$7:$B$188,2,FALSE)","v":{"$error":"#N/A"}},null,null,null,null,null,{"$f":"VLOOKUP(G8896:G18894,'Location Type (FICM Codes)'!$A$7:$C$188,3,FALSE)","v":{"$error":"#N/A"}}]
[null,null,null,null,null,null,null,{"$f":"VLOOKUP($G$2:$G$50000,'Location Type (FICM Codes)'!$A$7:$B$188,2,FALSE)","v":{"$error":"#N/A"}},null,null,null,null,null,{"$f":"VLOOKUP(G8897:G18895,'Location Type (FICM Codes)'!$A$7:$C$188,3,FALSE)","v":{"$error":"#N/A"}}]
[null,null,null,null,null,null,null,{"$f":"VLOOKUP($G$2:$G$50000,'Location Type (FICM Codes)'!$A$7:$B$188,2,FALSE)","v":{"$error":"#N/A"}},null,null,null,null,null,{"$f":"VLOOKUP(G8902:G18900,'Location Type (FICM Codes)'!$A$7:$C$188,3,FALSE)","v":{"$error":"#N/A"}}]
[null,null,null,null,null,null,null,{"$f":"VLOOKUP($G$2:$G$50000,'Location Type (FICM Codes)'!$A$7:$B$188,2,FALSE)","v":{"$error":"#N/A"}},null,null,null,null,null,{"$f":"VLOOKUP(G8906:G18904,'Location Type (FICM Codes)'!$A$7:$C$188,3,FALSE)","v":{"$error":"#N/A"}}]
[null,null,null,null,null,null,null,{"$f":"VLOOKUP($G$2:$G$50000,'Location Type (FICM Codes)'!$A$7:$B$188,2,FALSE)","v":{"$error":"#N/A"}},null,null,null,null,null,{"$f":"VLOOKUP(G8911:G18909,'Location Type (FICM Codes)'!$A$7:$C$188,3,FALSE)","v":{"$error":"#N/A"}}]
[null,null,null,null,null,null,null,{"$f":"VLOOKUP($G$2:$G$50000,'Location Type (FICM Codes)'!$A$7:$B$188,2,FALSE)","v":{"$error":"#N/A"}},null,null,null,null,null,{"$f":"VLOOKUP(G8912:G18910,'Location Type (FICM Codes)'!$A$7:$C$188,3,FALSE)","v":{"$error":"#N/A"}}]
[null,null,null,null,null,null,null,{"$f":"VLOOKUP($G$2:$G$50000,'Location Type (FICM Codes)'!$A$7:$B$188,2,FALSE)","v":{"$error":"#N/A"}},null,null,null,null,null,{"$f":"VLOOKUP(G8916:G18914,'Location Type (FICM Codes)'!$A$7:$C$188,3,FALSE)","v":{"$error":"#N/A"}}]
[null,null,null,null,null,null,null,{"$f":"VLOOKUP($G$2:$G$50000,'Location Type (FICM Codes)'!$A$7:$B$188,2,FALSE)","v":{"$error":"#N/A"}},null,null,null,null,null,{"$f":"VLOOKUP(G8921:G18919,'Location Type (FICM Codes)'!$A$7:$C$188,3,FALSE)","v":{"$error":"#N/A"}}]
[null,null,null,null,null,null,null,{"$f":"VLOOKUP($G$2:$G$50000,'Location Type (FICM Codes)'!$A$7:$B$188,2,FALSE)","v":{"$error":"#N/A"}},null,null,null,null,null,{"$f":"VLOOKUP(G8926:G18924,'Location Type (FICM Codes)'!$A$7:$C$188,3,FALSE)","v":{"$error":"#N/A"}}]
[null,null,null,null,null,null,null,{"$f":"VLOOKUP($G$2:$G$50000,'Location Type (FICM Codes)'!$A$7:$B$188,2,FALSE)","v":{"$error":"#N/A"}},null,null,null,null,null,{"$f":"VLOOKUP(G8927:G18925,'Location Type (FICM Codes)'!$A$7:$C$188,3,FALSE)","v":{"$error":"#N/A"}}]
[null,null,null,null,null,null,null,{"$f":"VLOOKUP($G$2:$G$50000,'Location Type (FICM Codes)'!$A$7:$B$188,2,FALSE)","v":{"$error":"#N/A"}},null,null,null,null,null,{"$f":"VLOOKUP(G8932:G18930,'Location Type (FICM Codes)'!$A$7:$C$188,3,FALSE)","v":{"$error":"#N/A"}}]
[null,null,null,null,null,null,null,{"$f":"VLOOKUP($G$2:$G$50000,'Location Type (FICM Codes)'!$A$7:$B$188,2,FALSE)","v":{"$error":"#N/A"}},null,null,null,null,null,{"$f":"VLOOKUP(G8936:G18934,'Location Type (FICM Codes)'!$A$7:$C$188,3,FALSE)","v":{"$error":"#N/A"}}]
[null,null,null,null,null,null,null,{"$f":"VLOOKUP($G$2:$G$50000,'Location Type (FICM Codes)'!$A$7:$B$188,2,FALSE)","v":{"$error":"#N/A"}},null,null,null,null,null,{"$f":"VLOOKUP(G8941:G18939,'Location Type (FICM Codes)'!$A$7:$C$188,3,FALSE)","v":{"$error":"#N/A"}}]
[null,null,null,null,null,null,null,{"$f":"VLOOKUP($G$2:$G$50000,'Location Type (FICM Codes)'!$A$7:$B$188,2,FALSE)","v":{"$error":"#N/A"}},null,null,null,null,null,{"$f":"VLOOKUP(G8942:G18940,'Location Type (FICM Codes)'!$A$7:$C$188,3,FALSE)","v":{"$error":"#N/A"}}]
[null,null,null,null,null,null,null,{"$f":"VLOOKUP($G$2:$G$50000,'Location Type (FICM Codes)'!$A$7:$B$188,2,FALSE)","v":{"$error":"#N/A"}},null,null,null,null,null,{"$f":"VLOOKUP(G8946:G18944,'Location Type (FICM Codes)'!$A$7:$C$188,3,FALSE)","v":{"$error":"#N/A"}}]
[null,null,null,null,null,null,null,{"$f":"VLOOKUP($G$2:$G$50000,'Location Type (FICM Codes)'!$A$7:$B$188,2,FALSE)","v":{"$error":"#N/A"}},null,null,null,null,null,{"$f":"VLOOKUP(G8951:G18949,'Location Type (FICM Codes)'!$A$7:$C$188,3,FALSE)","v":{"$error":"#N/A"}}]
[null,null,null,null,null,null,null,{"$f":"VLOOKUP($G$2:$G$50000,'Location Type (FICM Codes)'!$A$7:$B$188,2,FALSE)","v":{"$error":"#N/A"}},null,null,null,null,null,{"$f":"VLOOKUP(G8956:G18954,'Location Type (FICM Codes)'!$A$7:$C$188,3,FALSE)","v":{"$error":"#N/A"}}]
[null,null,null,null,null,null,null,{"$f":"VLOOKUP($G$2:$G$50000,'Location Type (FICM Codes)'!$A$7:$B$188,2,FALSE)","v":{"$error":"#N/A"}},null,null,null,null,null,{"$f":"VLOOKUP(G8957:G18955,'Location Type (FICM Codes)'!$A$7:$C$188,3,FALSE)","v":{"$error":"#N/A"}}]
[null,null,null,null,null,null,null,{"$f":"VLOOKUP($G$2:$G$50000,'Location Type (FICM Codes)'!$A$7:$B$188,2,FALSE)","v":{"$error":"#N/A"}},null,null,null,null,null,{"$f":"VLOOKUP(G8962:G18960,'Location Type (FICM Codes)'!$A$7:$C$188,3,FALSE)","v":{"$error":"#N/A"}}]
[null,null,null,null,null,null,null,{"$f":"VLOOKUP($G$2:$G$50000,'Location Type (FICM Codes)'!$A$7:$B$188,2,FALSE)","v":{"$error":"#N/A"}},null,null,null,null,null,{"$f":"VLOOKUP(G8966:G18964,'Location Type (FICM Codes)'!$A$7:$C$188,3,FALSE)","v":{"$error":"#N/A"}}]
[null,null,null,null,null,null,null,{"$f":"VLOOKUP($G$2:$G$50000,'Location Type (FICM Codes)'!$A$7:$B$188,2,FALSE)","v":{"$error":"#N/A"}},null,null,null,null,null,{"$f":"VLOOKUP(G8971:G18969,'Location Type (FICM Codes)'!$A$7:$C$188,3,FALSE)","v":{"$error":"#N/A"}}]
[null,null,null,null,null,null,null,{"$f":"VLOOKUP($G$2:$G$50000,'Location Type (FICM Codes)'!$A$7:$B$188,2,FALSE)","v":{"$error":"#N/A"}},null,null,null,null,null,{"$f":"VLOOKUP(G8972:G18970,'Location Type (FICM Codes)'!$A$7:$C$188,3,FALSE)","v":{"$error":"#N/A"}}]
[null,null,null,null,null,null,null,{"$f":"VLOOKUP($G$2:$G$50000,'Location Type (FICM Codes)'!$A$7:$B$188,2,FALSE)","v":{"$error":"#N/A"}},null,null,null,null,null,{"$f":"VLOOKUP(G8976:G18974,'Location Type (FICM Codes)'!$A$7:$C$188,3,FALSE)","v":{"$error":"#N/A"}}]
[null,null,null,null,null,null,null,{"$f":"VLOOKUP($G$2:$G$50000,'Location Type (FICM Codes)'!$A$7:$B$188,2,FALSE)","v":{"$error":"#N/A"}},null,null,null,null,null,{"$f":"VLOOKUP(G8981:G18979,'Location Type (FICM Codes)'!$A$7:$C$188,3,FALSE)","v":{"$error":"#N/A"}}]
[null,null,null,null,null,null,null,{"$f":"VLOOKUP($G$2:$G$50000,'Location Type (FICM Codes)'!$A$7:$B$188,2,FALSE)","v":{"$error":"#N/A"}},null,null,null,null,null,{"$f":"VLOOKUP(G8986:G18984,'Location Type (FICM Codes)'!$A$7:$C$188,3,FALSE)","v":{"$error":"#N/A"}}]
[null,null,null,null,null,null,null,{"$f":"VLOOKUP($G$2:$G$50000,'Location Type (FICM Codes)'!$A$7:$B$188,2,FALSE)","v":{"$error":"#N/A"}},null,null,null,null,null,{"$f":"VLOOKUP(G8987:G18985,'Location Type (FICM Codes)'!$A$7:$C$188,3,FALSE)","v":{"$error":"#N/A"}}]
[null,null,null,null,null,null,null,{"$f":"VLOOKUP($G$2:$G$50000,'Location Type (FICM Codes)'!$A$7:$B$188,2,FALSE)","v":{"$error":"#N/A"}},null,null,null,null,null,{"$f":"VLOOKUP(G8992:G18990,'Location Type (FICM Codes)'!$A$7:$C$188,3,FALSE)","v":{"$error":"#N/A"}}]
[null,null,null,null,null,null,null,{"$f":"VLOOKUP($G$2:$G$50000,'Location Type (FICM Codes)'!$A$7:$B$188,2,FALSE)","v":{"$error":"#N/A"}},null,null,null,null,null,{"$f":"VLOOKUP(G8996:G18994,'Location Type (FICM Codes)'!$A$7:$C$188,3,FALSE)","v":{"$error":"#N/A"}}]
[null,null,null,null,null,null,null,{"$f":"VLOOKUP($G$2:$G$50000,'Location Type (FICM Codes)'!$A$7:$B$188,2,FALSE)","v":{"$error":"#N/A"}},null,null,null,null,null,{"$f":"VLOOKUP(G9001:G18999,'Location Type (FICM Codes)'!$A$7:$C$188,3,FALSE)","v":{"$error":"#N/A"}}]
[null,null,null,null,null,null,null,{"$f":"VLOOKUP($G$2:$G$50000,'Location Type (FICM Codes)'!$A$7:$B$188,2,FALSE)","v":{"$error":"#N/A"}},null,null,null,null,null,{"$f":"VLOOKUP(G9002:G19000,'Location Type (FICM Codes)'!$A$7:$C$188,3,FALSE)","v":{"$error":"#N/A"}}]
[null,null,null,null,null,null,null,{"$f":"VLOOKUP($G$2:$G$50000,'Location Type (FICM Codes)'!$A$7:$B$188,2,FALSE)","v":{"$error":"#N/A"}},null,null,null,null,null,{"$f":"VLOOKUP(G9006:G19004,'Location Type (FICM Codes)'!$A$7:$C$188,3,FALSE)","v":{"$error":"#N/A"}}]
[null,null,null,null,null,null,null,{"$f":"VLOOKUP($G$2:$G$50000,'Location Type (FICM Codes)'!$A$7:$B$188,2,FALSE)","v":{"$error":"#N/A"}},null,null,null,null,null,{"$f":"VLOOKUP(G9011:G19009,'Location Type (FICM Codes)'!$A$7:$C$188,3,FALSE)","v":{"$error":"#N/A"}}]
[null,null,null,null,null,null,null,{"$f":"VLOOKUP($G$2:$G$50000,'Location Type (FICM Codes)'!$A$7:$B$188,2,FALSE)","v":{"$error":"#N/A"}},null,null,null,null,null,{"$f":"VLOOKUP(G9016:G19014,'Location Type (FICM Codes)'!$A$7:$C$188,3,FALSE)","v":{"$error":"#N/A"}}]
[null,null,null,null,null,null,null,{"$f":"VLOOKUP($G$2:$G$50000,'Location Type (FICM Codes)'!$A$7:$B$188,2,FALSE)","v":{"$error":"#N/A"}},null,null,null,null,null,{"$f":"VLOOKUP(G9017:G19015,'Location Type (FICM Codes)'!$A$7:$C$188,3,FALSE)","v":{"$error":"#N/A"}}]
[null,null,null,null,null,null,null,{"$f":"VLOOKUP($G$2:$G$50000,'Location Type (FICM Codes)'!$A$7:$B$188,2,FALSE)","v":{"$error":"#N/A"}},null,null,null,null,null,{"$f":"VLOOKUP(G9023:G19021,'Location Type (FICM Codes)'!$A$7:$C$188,3,FALSE)","v":{"$error":"#N/A"}}]
[null,null,null,null,null,null,null,{"$f":"VLOOKUP($G$2:$G$50000,'Location Type (FICM Codes)'!$A$7:$B$188,2,FALSE)","v":{"$error":"#N/A"}},null,null,null,null,null,{"$f":"VLOOKUP(G9026:G19024,'Location Type (FICM Codes)'!$A$7:$C$188,3,FALSE)","v":{"$error":"#N/A"}}]
[null,null,null,null,null,null,null,{"$f":"VLOOKUP($G$2:$G$50000,'Location Type (FICM Codes)'!$A$7:$B$188,2,FALSE)","v":{"$error":"#N/A"}},null,null,null,null,null,{"$f":"VLOOKUP(G9031:G19029,'Location Type (FICM Codes)'!$A$7:$C$188,3,FALSE)","v":{"$error":"#N/A"}}]
[null,null,null,null,null,null,null,{"$f":"VLOOKUP($G$2:$G$50000,'Location Type (FICM Codes)'!$A$7:$B$188,2,FALSE)","v":{"$error":"#N/A"}},null,null,null,null,null,{"$f":"VLOOKUP(G9032:G19030,'Location Type (FICM Codes)'!$A$7:$C$188,3,FALSE)","v":{"$error":"#N/A"}}]
[null,null,null,null,null,null,null,{"$f":"VLOOKUP($G$2:$G$50000,'Location Type (FICM Codes)'!$A$7:$B$188,2,FALSE)","v":{"$error":"#N/A"}},null,null,null,null,null,{"$f":"VLOOKUP(G9036:G19034,'Location Type (FICM Codes)'!$A$7:$C$188,3,FALSE)","v":{"$error":"#N/A"}}]
[null,null,null,null,null,null,null,{"$f":"VLOOKUP($G$2:$G$50000,'Location Type (FICM Codes)'!$A$7:$B$188,2,FALSE)","v":{"$error":"#N/A"}},null,null,null,null,null,{"$f":"VLOOKUP(G9041:G19039,'Location Type (FICM Codes)'!$A$7:$C$188,3,FALSE)","v":{"$error":"#N/A"}}]
[null,null,null,null,null,null,null,{"$f":"VLOOKUP($G$2:$G$50000,'Location Type (FICM Codes)'!$A$7:$B$188,2,FALSE)","v":{"$error":"#N/A"}},null,null,null,null,null,{"$f":"VLOOKUP(G9046:G19044,'Location Type (FICM Codes)'!$A$7:$C$188,3,FALSE)","v":{"$error":"#N/A"}}]
[null,null,null,null,null,null,null,{"$f":"VLOOKUP($G$2:$G$50000,'Location Type (FICM Codes)'!$A$7:$B$188,2,FALSE)","v":{"$error":"#N/A"}},null,null,null,null,null,{"$f":"VLOOKUP(G9047:G19045,'Location Type (FICM Codes)'!$A$7:$C$188,3,FALSE)","v":{"$error":"#N/A"}}]
[null,null,null,null,null,null,null,{"$f":"VLOOKUP($G$2:$G$50000,'Location Type (FICM Codes)'!$A$7:$B$188,2,FALSE)","v":{"$error":"#N/A"}},null,null,null,null,null,{"$f":"VLOOKUP(G9053:G19051,'Location Type (FICM Codes)'!$A$7:$C$188,3,FALSE)","v":{"$error":"#N/A"}}]
[null,null,null,null,null,null,null,{"$f":"VLOOKUP($G$2:$G$50000,'Location Type (FICM Codes)'!$A$7:$B$188,2,FALSE)","v":{"$error":"#N/A"}},null,null,null,null,null,{"$f":"VLOOKUP(G9056:G19054,'Location Type (FICM Codes)'!$A$7:$C$188,3,FALSE)","v":{"$error":"#N/A"}}]
[null,null,null,null,null,null,null,{"$f":"VLOOKUP($G$2:$G$50000,'Location Type (FICM Codes)'!$A$7:$B$188,2,FALSE)","v":{"$error":"#N/A"}},null,null,null,null,null,{"$f":"VLOOKUP(G9061:G19059,'Location Type (FICM Codes)'!$A$7:$C$188,3,FALSE)","v":{"$error":"#N/A"}}]
[null,null,null,null,null,null,null,{"$f":"VLOOKUP($G$2:$G$50000,'Location Type (FICM Codes)'!$A$7:$B$188,2,FALSE)","v":{"$error":"#N/A"}},null,null,null,null,null,{"$f":"VLOOKUP(G9062:G19060,'Location Type (FICM Codes)'!$A$7:$C$188,3,FALSE)","v":{"$error":"#N/A"}}]
[null,null,null,null,null,null,null,{"$f":"VLOOKUP($G$2:$G$50000,'Location Type (FICM Codes)'!$A$7:$B$188,2,FALSE)","v":{"$error":"#N/A"}},null,null,null,null,null,{"$f":"VLOOKUP(G9066:G19064,'Location Type (FICM Codes)'!$A$7:$C$188,3,FALSE)","v":{"$error":"#N/A"}}]
[null,null,null,null,null,null,null,{"$f":"VLOOKUP($G$2:$G$50000,'Location Type (FICM Codes)'!$A$7:$B$188,2,FALSE)","v":{"$error":"#N/A"}},null,null,null,null,null,{"$f":"VLOOKUP(G9071:G19069,'Location Type (FICM Codes)'!$A$7:$C$188,3,FALSE)","v":{"$error":"#N/A"}}]
[null,null,null,null,null,null,null,{"$f":"VLOOKUP($G$2:$G$50000,'Location Type (FICM Codes)'!$A$7:$B$188,2,FALSE)","v":{"$error":"#N/A"}},null,null,null,null,null,{"$f":"VLOOKUP(G9076:G19074,'Location Type (FICM Codes)'!$A$7:$C$188,3,FALSE)","v":{"$error":"#N/A"}}]
[null,null,null,null,null,null,null,{"$f":"VLOOKUP($G$2:$G$50000,'Location Type (FICM Codes)'!$A$7:$B$188,2,FALSE)","v":{"$error":"#N/A"}},null,null,null,null,null,{"$f":"VLOOKUP(G9077:G19075,'Location Type (FICM Codes)'!$A$7:$C$188,3,FALSE)","v":{"$error":"#N/A"}}]
[null,null,null,null,null,null,null,{"$f":"VLOOKUP($G$2:$G$50000,'Location Type (FICM Codes)'!$A$7:$B$188,2,FALSE)","v":{"$error":"#N/A"}},null,null,null,null,null,{"$f":"VLOOKUP(G9083:G19081,'Location Type (FICM Codes)'!$A$7:$C$188,3,FALSE)","v":{"$error":"#N/A"}}]
[null,null,null,null,null,null,null,{"$f":"VLOOKUP($G$2:$G$50000,'Location Type (FICM Codes)'!$A$7:$B$188,2,FALSE)","v":{"$error":"#N/A"}},null,null,null,null,null,{"$f":"VLOOKUP(G9086:G19084,'Location Type (FICM Codes)'!$A$7:$C$188,3,FALSE)","v":{"$error":"#N/A"}}]
[null,null,null,null,null,null,null,{"$f":"VLOOKUP($G$2:$G$50000,'Location Type (FICM Codes)'!$A$7:$B$188,2,FALSE)","v":{"$error":"#N/A"}},null,null,null,null,null,{"$f":"VLOOKUP(G9091:G19089,'Location Type (FICM Codes)'!$A$7:$C$188,3,FALSE)","v":{"$error":"#N/A"}}]
[null,null,null,null,null,null,null,{"$f":"VLOOKUP($G$2:$G$50000,'Location Type (FICM Codes)'!$A$7:$B$188,2,FALSE)","v":{"$error":"#N/A"}},null,null,null,null,null,{"$f":"VLOOKUP(G9092:G19090,'Location Type (FICM Codes)'!$A$7:$C$188,3,FALSE)","v":{"$error":"#N/A"}}]
[null,null,null,null,null,null,null,{"$f":"VLOOKUP($G$2:$G$50000,'Location Type (FICM Codes)'!$A$7:$B$188,2,FALSE)","v":{"$error":"#N/A"}},null,null,null,null,null,{"$f":"VLOOKUP(G9096:G19094,'Location Type (FICM Codes)'!$A$7:$C$188,3,FALSE)","v":{"$error":"#N/A"}}]
[null,null,null,null,null,null,null,{"$f":"VLOOKUP($G$2:$G$50000,'Location Type (FICM Codes)'!$A$7:$B$188,2,FALSE)","v":{"$error":"#N/A"}},null,null,null,null,null,{"$f":"VLOOKUP(G9101:G19099,'Location Type (FICM Codes)'!$A$7:$C$188,3,FALSE)","v":{"$error":"#N/A"}}]
[null,null,null,null,null,null,null,{"$f":"VLOOKUP($G$2:$G$50000,'Location Type (FICM Codes)'!$A$7:$B$188,2,FALSE)","v":{"$error":"#N/A"}},null,null,null,null,null,{"$f":"VLOOKUP(G9106:G19104,'Location Type (FICM Codes)'!$A$7:$C$188,3,FALSE)","v":{"$error":"#N/A"}}]
[null,null,null,null,null,null,null,{"$f":"VLOOKUP($G$2:$G$50000,'Location Type (FICM Codes)'!$A$7:$B$188,2,FALSE)","v":{"$error":"#N/A"}},null,null,null,null,null,{"$f":"VLOOKUP(G9107:G19105,'Location Type (FICM Codes)'!$A$7:$C$188,3,FALSE)","v":{"$error":"#N/A"}}]
[null,null,null,null,null,null,null,{"$f":"VLOOKUP($G$2:$G$50000,'Location Type (FICM Codes)'!$A$7:$B$188,2,FALSE)","v":{"$error":"#N/A"}},null,null,null,null,null,{"$f":"VLOOKUP(G9113:G19111,'Location Type (FICM Codes)'!$A$7:$C$188,3,FALSE)","v":{"$error":"#N/A"}}]
[null,null,null,null,null,null,null,{"$f":"VLOOKUP($G$2:$G$50000,'Location Type (FICM Codes)'!$A$7:$B$188,2,FALSE)","v":{"$error":"#N/A"}},null,null,null,null,null,{"$f":"VLOOKUP(G9116:G19114,'Location Type (FICM Codes)'!$A$7:$C$188,3,FALSE)","v":{"$error":"#N/A"}}]
[null,null,null,null,null,null,null,{"$f":"VLOOKUP($G$2:$G$50000,'Location Type (FICM Codes)'!$A$7:$B$188,2,FALSE)","v":{"$error":"#N/A"}},null,null,null,null,null,{"$f":"VLOOKUP(G9121:G19119,'Location Type (FICM Codes)'!$A$7:$C$188,3,FALSE)","v":{"$error":"#N/A"}}]
[null,null,null,null,null,null,null,{"$f":"VLOOKUP($G$2:$G$50000,'Location Type (FICM Codes)'!$A$7:$B$188,2,FALSE)","v":{"$error":"#N/A"}},null,null,null,null,null,{"$f":"VLOOKUP(G9122:G19120,'Location Type (FICM Codes)'!$A$7:$C$188,3,FALSE)","v":{"$error":"#N/A"}}]
[null,null,null,null,null,null,null,{"$f":"VLOOKUP($G$2:$G$50000,'Location Type (FICM Codes)'!$A$7:$B$188,2,FALSE)","v":{"$error":"#N/A"}},null,null,null,null,null,{"$f":"VLOOKUP(G9126:G19124,'Location Type (FICM Codes)'!$A$7:$C$188,3,FALSE)","v":{"$error":"#N/A"}}]
[null,null,null,null,null,null,null,{"$f":"VLOOKUP($G$2:$G$50000,'Location Type (FICM Codes)'!$A$7:$B$188,2,FALSE)","v":{"$error":"#N/A"}},null,null,null,null,null,{"$f":"VLOOKUP(G9131:G19129,'Location Type (FICM Codes)'!$A$7:$C$188,3,FALSE)","v":{"$error":"#N/A"}}]
[null,null,null,null,null,null,null,{"$f":"VLOOKUP($G$2:$G$50000,'Location Type (FICM Codes)'!$A$7:$B$188,2,FALSE)","v":{"$error":"#N/A"}},null,null,null,null,null,{"$f":"VLOOKUP(G9136:G19134,'Location Type (FICM Codes)'!$A$7:$C$188,3,FALSE)","v":{"$error":"#N/A"}}]
[null,null,null,null,null,null,null,{"$f":"VLOOKUP($G$2:$G$50000,'Location Type (FICM Codes)'!$A$7:$B$188,2,FALSE)","v":{"$error":"#N/A"}},null,null,null,null,null,{"$f":"VLOOKUP(G9137:G19135,'Location Type (FICM Codes)'!$A$7:$C$188,3,FALSE)","v":{"$error":"#N/A"}}]
[null,null,null,null,null,null,null,{"$f":"VLOOKUP($G$2:$G$50000,'Location Type (FICM Codes)'!$A$7:$B$188,2,FALSE)","v":{"$error":"#N/A"}},null,null,null,null,null,{"$f":"VLOOKUP(G9143:G19141,'Location Type (FICM Codes)'!$A$7:$C$188,3,FALSE)","v":{"$error":"#N/A"}}]
[null,null,null,null,null,null,null,{"$f":"VLOOKUP($G$2:$G$50000,'Location Type (FICM Codes)'!$A$7:$B$188,2,FALSE)","v":{"$error":"#N/A"}},null,null,null,null,null,{"$f":"VLOOKUP(G9146:G19144,'Location Type (FICM Codes)'!$A$7:$C$188,3,FALSE)","v":{"$error":"#N/A"}}]
[null,null,null,null,null,null,null,{"$f":"VLOOKUP($G$2:$G$50000,'Location Type (FICM Codes)'!$A$7:$B$188,2,FALSE)","v":{"$error":"#N/A"}},null,null,null,null,null,{"$f":"VLOOKUP(G9151:G19149,'Location Type (FICM Codes)'!$A$7:$C$188,3,FALSE)","v":{"$error":"#N/A"}}]
[null,null,null,null,null,null,null,{"$f":"VLOOKUP($G$2:$G$50000,'Location Type (FICM Codes)'!$A$7:$B$188,2,FALSE)","v":{"$error":"#N/A"}},null,null,null,null,null,{"$f":"VLOOKUP(G9152:G19150,'Location Type (FICM Codes)'!$A$7:$C$188,3,FALSE)","v":{"$error":"#N/A"}}]
[null,null,null,null,null,null,null,{"$f":"VLOOKUP($G$2:$G$50000,'Location Type (FICM Codes)'!$A$7:$B$188,2,FALSE)","v":{"$error":"#N/A"}},null,null,null,null,null,{"$f":"VLOOKUP(G9156:G19154,'Location Type (FICM Codes)'!$A$7:$C$188,3,FALSE)","v":{"$error":"#N/A"}}]
[null,null,null,null,null,null,null,{"$f":"VLOOKUP($G$2:$G$50000,'Location Type (FICM Codes)'!$A$7:$B$188,2,FALSE)","v":{"$error":"#N/A"}},null,null,null,null,null,{"$f":"VLOOKUP(G9161:G19159,'Location Type (FICM Codes)'!$A$7:$C$188,3,FALSE)","v":{"$error":"#N/A"}}]
[null,null,null,null,null,null,null,{"$f":"VLOOKUP($G$2:$G$50000,'Location Type (FICM Codes)'!$A$7:$B$188,2,FALSE)","v":{"$error":"#N/A"}},null,null,null,null,null,{"$f":"VLOOKUP(G9166:G19164,'Location Type (FICM Codes)'!$A$7:$C$188,3,FALSE)","v":{"$error":"#N/A"}}]
[null,null,null,null,null,null,null,{"$f":"VLOOKUP($G$2:$G$50000,'Location Type (FICM Codes)'!$A$7:$B$188,2,FALSE)","v":{"$error":"#N/A"}},null,null,null,null,null,{"$f":"VLOOKUP(G9167:G19165,'Location Type (FICM Codes)'!$A$7:$C$188,3,FALSE)","v":{"$error":"#N/A"}}]
[null,null,null,null,null,null,null,{"$f":"VLOOKUP($G$2:$G$50000,'Location Type (FICM Codes)'!$A$7:$B$188,2,FALSE)","v":{"$error":"#N/A"}},null,null,null,null,null,{"$f":"VLOOKUP(G9173:G19171,'Location Type (FICM Codes)'!$A$7:$C$188,3,FALSE)","v":{"$error":"#N/A"}}]
[null,null,null,null,null,null,null,{"$f":"VLOOKUP($G$2:$G$50000,'Location Type (FICM Codes)'!$A$7:$B$188,2,FALSE)","v":{"$error":"#N/A"}},null,null,null,null,null,{"$f":"VLOOKUP(G9176:G19174,'Location Type (FICM Codes)'!$A$7:$C$188,3,FALSE)","v":{"$error":"#N/A"}}]
[null,null,null,null,null,null,null,{"$f":"VLOOKUP($G$2:$G$50000,'Location Type (FICM Codes)'!$A$7:$B$188,2,FALSE)","v":{"$error":"#N/A"}},null,null,null,null,null,{"$f":"VLOOKUP(G9181:G19179,'Location Type (FICM Codes)'!$A$7:$C$188,3,FALSE)","v":{"$error":"#N/A"}}]
[null,null,null,null,null,null,null,{"$f":"VLOOKUP($G$2:$G$50000,'Location Type (FICM Codes)'!$A$7:$B$188,2,FALSE)","v":{"$error":"#N/A"}},null,null,null,null,null,{"$f":"VLOOKUP(G9182:G19180,'Location Type (FICM Codes)'!$A$7:$C$188,3,FALSE)","v":{"$error":"#N/A"}}]
[null,null,null,null,null,null,null,{"$f":"VLOOKUP($G$2:$G$50000,'Location Type (FICM Codes)'!$A$7:$B$188,2,FALSE)","v":{"$error":"#N/A"}},null,null,null,null,null,{"$f":"VLOOKUP(G9186:G19184,'Location Type (FICM Codes)'!$A$7:$C$188,3,FALSE)","v":{"$error":"#N/A"}}]
[null,null,null,null,null,null,null,{"$f":"VLOOKUP($G$2:$G$50000,'Location Type (FICM Codes)'!$A$7:$B$188,2,FALSE)","v":{"$error":"#N/A"}},null,null,null,null,null,{"$f":"VLOOKUP(G9191:G19189,'Location Type (FICM Codes)'!$A$7:$C$188,3,FALSE)","v":{"$error":"#N/A"}}]
[null,null,null,null,null,null,null,{"$f":"VLOOKUP($G$2:$G$50000,'Location Type (FICM Codes)'!$A$7:$B$188,2,FALSE)","v":{"$error":"#N/A"}},null,null,null,null,null,{"$f":"VLOOKUP(G9196:G19194,'Location Type (FICM Codes)'!$A$7:$C$188,3,FALSE)","v":{"$error":"#N/A"}}]
[null,null,null,null,null,null,null,{"$f":"VLOOKUP($G$2:$G$50000,'Location Type (FICM Codes)'!$A$7:$B$188,2,FALSE)","v":{"$error":"#N/A"}},null,null,null,null,null,{"$f":"VLOOKUP(G9197:G19195,'Location Type (FICM Codes)'!$A$7:$C$188,3,FALSE)","v":{"$error":"#N/A"}}]
[null,null,null,null,null,null,null,{"$f":"VLOOKUP($G$2:$G$50000,'Location Type (FICM Codes)'!$A$7:$B$188,2,FALSE)","v":{"$error":"#N/A"}},null,null,null,null,null,{"$f":"VLOOKUP(G9203:G19201,'Location Type (FICM Codes)'!$A$7:$C$188,3,FALSE)","v":{"$error":"#N/A"}}]
[null,null,null,null,null,null,null,{"$f":"VLOOKUP($G$2:$G$50000,'Location Type (FICM Codes)'!$A$7:$B$188,2,FALSE)","v":{"$error":"#N/A"}},null,null,null,null,null,{"$f":"VLOOKUP(G9206:G19204,'Location Type (FICM Codes)'!$A$7:$C$188,3,FALSE)","v":{"$error":"#N/A"}}]
[null,null,null,null,null,null,null,{"$f":"VLOOKUP($G$2:$G$50000,'Location Type (FICM Codes)'!$A$7:$B$188,2,FALSE)","v":{"$error":"#N/A"}},null,null,null,null,null,{"$f":"VLOOKUP(G9211:G19209,'Location Type (FICM Codes)'!$A$7:$C$188,3,FALSE)","v":{"$error":"#N/A"}}]
[null,null,null,null,null,null,null,{"$f":"VLOOKUP($G$2:$G$50000,'Location Type (FICM Codes)'!$A$7:$B$188,2,FALSE)","v":{"$error":"#N/A"}},null,null,null,null,null,{"$f":"VLOOKUP(G9212:G19210,'Location Type (FICM Codes)'!$A$7:$C$188,3,FALSE)","v":{"$error":"#N/A"}}]
[null,null,null,null,null,null,null,{"$f":"VLOOKUP($G$2:$G$50000,'Location Type (FICM Codes)'!$A$7:$B$188,2,FALSE)","v":{"$error":"#N/A"}},null,null,null,null,null,{"$f":"VLOOKUP(G9216:G19214,'Location Type (FICM Codes)'!$A$7:$C$188,3,FALSE)","v":{"$error":"#N/A"}}]
[null,null,null,null,null,null,null,{"$f":"VLOOKUP($G$2:$G$50000,'Location Type (FICM Codes)'!$A$7:$B$188,2,FALSE)","v":{"$error":"#N/A"}},null,null,null,null,null,{"$f":"VLOOKUP(G9221:G19219,'Location Type (FICM Codes)'!$A$7:$C$188,3,FALSE)","v":{"$error":"#N/A"}}]
[null,null,null,null,null,null,null,{"$f":"VLOOKUP($G$2:$G$50000,'Location Type (FICM Codes)'!$A$7:$B$188,2,FALSE)","v":{"$error":"#N/A"}},null,null,null,null,null,{"$f":"VLOOKUP(G9226:G19224,'Location Type (FICM Codes)'!$A$7:$C$188,3,FALSE)","v":{"$error":"#N/A"}}]
[null,null,null,null,null,null,null,{"$f":"VLOOKUP($G$2:$G$50000,'Location Type (FICM Codes)'!$A$7:$B$188,2,FALSE)","v":{"$error":"#N/A"}},null,null,null,null,null,{"$f":"VLOOKUP(G9227:G19225,'Location Type (FICM Codes)'!$A$7:$C$188,3,FALSE)","v":{"$error":"#N/A"}}]
[null,null,null,null,null,null,null,{"$f":"VLOOKUP($G$2:$G$50000,'Location Type (FICM Codes)'!$A$7:$B$188,2,FALSE)","v":{"$error":"#N/A"}},null,null,null,null,null,{"$f":"VLOOKUP(G9233:G19231,'Location Type (FICM Codes)'!$A$7:$C$188,3,FALSE)","v":{"$error":"#N/A"}}]
[null,null,null,null,null,null,null,{"$f":"VLOOKUP($G$2:$G$50000,'Location Type (FICM Codes)'!$A$7:$B$188,2,FALSE)","v":{"$error":"#N/A"}},null,null,null,null,null,{"$f":"VLOOKUP(G9236:G19234,'Location Type (FICM Codes)'!$A$7:$C$188,3,FALSE)","v":{"$error":"#N/A"}}]
[null,null,null,null,null,null,null,{"$f":"VLOOKUP($G$2:$G$50000,'Location Type (FICM Codes)'!$A$7:$B$188,2,FALSE)","v":{"$error":"#N/A"}},null,null,null,null,null,{"$f":"VLOOKUP(G9241:G19239,'Location Type (FICM Codes)'!$A$7:$C$188,3,FALSE)","v":{"$error":"#N/A"}}]
[null,null,null,null,null,null,null,{"$f":"VLOOKUP($G$2:$G$50000,'Location Type (FICM Codes)'!$A$7:$B$188,2,FALSE)","v":{"$error":"#N/A"}},null,null,null,null,null,{"$f":"VLOOKUP(G9242:G19240,'Location Type (FICM Codes)'!$A$7:$C$188,3,FALSE)","v":{"$error":"#N/A"}}]
[null,null,null,null,null,null,null,{"$f":"VLOOKUP($G$2:$G$50000,'Location Type (FICM Codes)'!$A$7:$B$188,2,FALSE)","v":{"$error":"#N/A"}},null,null,null,null,null,{"$f":"VLOOKUP(G9246:G19244,'Location Type (FICM Codes)'!$A$7:$C$188,3,FALSE)","v":{"$error":"#N/A"}}]
[null,null,null,null,null,null,null,{"$f":"VLOOKUP($G$2:$G$50000,'Location Type (FICM Codes)'!$A$7:$B$188,2,FALSE)","v":{"$error":"#N/A"}},null,null,null,null,null,{"$f":"VLOOKUP(G9251:G19249,'Location Type (FICM Codes)'!$A$7:$C$188,3,FALSE)","v":{"$error":"#N/A"}}]
[null,null,null,null,null,null,null,{"$f":"VLOOKUP($G$2:$G$50000,'Location Type (FICM Codes)'!$A$7:$B$188,2,FALSE)","v":{"$error":"#N/A"}},null,null,null,null,null,{"$f":"VLOOKUP(G9256:G19254,'Location Type (FICM Codes)'!$A$7:$C$188,3,FALSE)","v":{"$error":"#N/A"}}]
[null,null,null,null,null,null,null,{"$f":"VLOOKUP($G$2:$G$50000,'Location Type (FICM Codes)'!$A$7:$B$188,2,FALSE)","v":{"$error":"#N/A"}},null,null,null,null,null,{"$f":"VLOOKUP(G9257:G19255,'Location Type (FICM Codes)'!$A$7:$C$188,3,FALSE)","v":{"$error":"#N/A"}}]
[null,null,null,null,null,null,null,{"$f":"VLOOKUP($G$2:$G$50000,'Location Type (FICM Codes)'!$A$7:$B$188,2,FALSE)","v":{"$error":"#N/A"}},null,null,null,null,null,{"$f":"VLOOKUP(G9263:G19261,'Location Type (FICM Codes)'!$A$7:$C$188,3,FALSE)","v":{"$error":"#N/A"}}]
[null,null,null,null,null,null,null,{"$f":"VLOOKUP($G$2:$G$50000,'Location Type (FICM Codes)'!$A$7:$B$188,2,FALSE)","v":{"$error":"#N/A"}},null,null,null,null,null,{"$f":"VLOOKUP(G9266:G19264,'Location Type (FICM Codes)'!$A$7:$C$188,3,FALSE)","v":{"$error":"#N/A"}}]
[null,null,null,null,null,null,null,{"$f":"VLOOKUP($G$2:$G$50000,'Location Type (FICM Codes)'!$A$7:$B$188,2,FALSE)","v":{"$error":"#N/A"}},null,null,null,null,null,{"$f":"VLOOKUP(G9271:G19269,'Location Type (FICM Codes)'!$A$7:$C$188,3,FALSE)","v":{"$error":"#N/A"}}]
[null,null,null,null,null,null,null,{"$f":"VLOOKUP($G$2:$G$50000,'Location Type (FICM Codes)'!$A$7:$B$188,2,FALSE)","v":{"$error":"#N/A"}},null,null,null,null,null,{"$f":"VLOOKUP(G9272:G19270,'Location Type (FICM Codes)'!$A$7:$C$188,3,FALSE)","v":{"$error":"#N/A"}}]
[null,null,null,null,null,null,null,{"$f":"VLOOKUP($G$2:$G$50000,'Location Type (FICM Codes)'!$A$7:$B$188,2,FALSE)","v":{"$error":"#N/A"}},null,null,null,null,null,{"$f":"VLOOKUP(G9277:G19275,'Location Type (FICM Codes)'!$A$7:$C$188,3,FALSE)","v":{"$error":"#N/A"}}]
[null,null,null,null,null,null,null,{"$f":"VLOOKUP($G$2:$G$50000,'Location Type (FICM Codes)'!$A$7:$B$188,2,FALSE)","v":{"$error":"#N/A"}},null,null,null,null,null,{"$f":"VLOOKUP(G9281:G19279,'Location Type (FICM Codes)'!$A$7:$C$188,3,FALSE)","v":{"$error":"#N/A"}}]
[null,null,null,null,null,null,null,{"$f":"VLOOKUP($G$2:$G$50000,'Location Type (FICM Codes)'!$A$7:$B$188,2,FALSE)","v":{"$error":"#N/A"}},null,null,null,null,null,{"$f":"VLOOKUP(G9286:G19284,'Location Type (FICM Codes)'!$A$7:$C$188,3,FALSE)","v":{"$error":"#N/A"}}]
[null,null,null,null,null,null,null,{"$f":"VLOOKUP($G$2:$G$50000,'Location Type (FICM Codes)'!$A$7:$B$188,2,FALSE)","v":{"$error":"#N/A"}},null,null,null,null,null,{"$f":"VLOOKUP(G9287:G19285,'Location Type (FICM Codes)'!$A$7:$C$188,3,FALSE)","v":{"$error":"#N/A"}}]
[null,null,null,null,null,null,null,{"$f":"VLOOKUP($G$2:$G$50000,'Location Type (FICM Codes)'!$A$7:$B$188,2,FALSE)","v":{"$error":"#N/A"}},null,null,null,null,null,{"$f":"VLOOKUP(G9293:G19291,'Location Type (FICM Codes)'!$A$7:$C$188,3,FALSE)","v":{"$error":"#N/A"}}]
[null,null,null,null,null,null,null,{"$f":"VLOOKUP($G$2:$G$50000,'Location Type (FICM Codes)'!$A$7:$B$188,2,FALSE)","v":{"$error":"#N/A"}},null,null,null,null,null,{"$f":"VLOOKUP(G9296:G19294,'Location Type (FICM Codes)'!$A$7:$C$188,3,FALSE)","v":{"$error":"#N/A"}}]
[null,null,null,null,null,null,null,{"$f":"VLOOKUP($G$2:$G$50000,'Location Type (FICM Codes)'!$A$7:$B$188,2,FALSE)","v":{"$error":"#N/A"}},null,null,null,null,null,{"$f":"VLOOKUP(G9301:G19299,'Location Type (FICM Codes)'!$A$7:$C$188,3,FALSE)","v":{"$error":"#N/A"}}]
[null,null,null,null,null,null,null,{"$f":"VLOOKUP($G$2:$G$50000,'Location Type (FICM Codes)'!$A$7:$B$188,2,FALSE)","v":{"$error":"#N/A"}},null,null,null,null,null,{"$f":"VLOOKUP(G9302:G19300,'Location Type (FICM Codes)'!$A$7:$C$188,3,FALSE)","v":{"$error":"#N/A"}}]
[null,null,null,null,null,null,null,{"$f":"VLOOKUP($G$2:$G$50000,'Location Type (FICM Codes)'!$A$7:$B$188,2,FALSE)","v":{"$error":"#N/A"}},null,null,null,null,null,{"$f":"VLOOKUP(G9307:G19305,'Location Type (FICM Codes)'!$A$7:$C$188,3,FALSE)","v":{"$error":"#N/A"}}]
[null,null,null,null,null,null,null,{"$f":"VLOOKUP($G$2:$G$50000,'Location Type (FICM Codes)'!$A$7:$B$188,2,FALSE)","v":{"$error":"#N/A"}},null,null,null,null,null,{"$f":"VLOOKUP(G9311:G19309,'Location Type (FICM Codes)'!$A$7:$C$188,3,FALSE)","v":{"$error":"#N/A"}}]
[null,null,null,null,null,null,null,{"$f":"VLOOKUP($G$2:$G$50000,'Location Type (FICM Codes)'!$A$7:$B$188,2,FALSE)","v":{"$error":"#N/A"}},null,null,null,null,null,{"$f":"VLOOKUP(G9316:G19314,'Location Type (FICM Codes)'!$A$7:$C$188,3,FALSE)","v":{"$error":"#N/A"}}]
[null,null,null,null,null,null,null,{"$f":"VLOOKUP($G$2:$G$50000,'Location Type (FICM Codes)'!$A$7:$B$188,2,FALSE)","v":{"$error":"#N/A"}},null,null,null,null,null,{"$f":"VLOOKUP(G9317:G19315,'Location Type (FICM Codes)'!$A$7:$C$188,3,FALSE)","v":{"$error":"#N/A"}}]
[null,null,null,null,null,null,null,{"$f":"VLOOKUP($G$2:$G$50000,'Location Type (FICM Codes)'!$A$7:$B$188,2,FALSE)","v":{"$error":"#N/A"}},null,null,null,null,null,{"$f":"VLOOKUP(G9323:G19321,'Location Type (FICM Codes)'!$A$7:$C$188,3,FALSE)","v":{"$error":"#N/A"}}]
[null,null,null,null,null,null,null,{"$f":"VLOOKUP($G$2:$G$50000,'Location Type (FICM Codes)'!$A$7:$B$188,2,FALSE)","v":{"$error":"#N/A"}},null,null,null,null,null,{"$f":"VLOOKUP(G9326:G19324,'Location Type (FICM Codes)'!$A$7:$C$188,3,FALSE)","v":{"$error":"#N/A"}}]
[null,null,null,null,null,null,null,{"$f":"VLOOKUP($G$2:$G$50000,'Location Type (FICM Codes)'!$A$7:$B$188,2,FALSE)","v":{"$error":"#N/A"}},null,null,null,null,null,{"$f":"VLOOKUP(G9331:G19329,'Location Type (FICM Codes)'!$A$7:$C$188,3,FALSE)","v":{"$error":"#N/A"}}]
[null,null,null,null,null,null,null,{"$f":"VLOOKUP($G$2:$G$50000,'Location Type (FICM Codes)'!$A$7:$B$188,2,FALSE)","v":{"$error":"#N/A"}},null,null,null,null,null,{"$f":"VLOOKUP(G9332:G19330,'Location Type (FICM Codes)'!$A$7:$C$188,3,FALSE)","v":{"$error":"#N/A"}}]
[null,null,null,null,null,null,null,{"$f":"VLOOKUP($G$2:$G$50000,'Location Type (FICM Codes)'!$A$7:$B$188,2,FALSE)","v":{"$error":"#N/A"}},null,null,null,null,null,{"$f":"VLOOKUP(G9337:G19335,'Location Type (FICM Codes)'!$A$7:$C$188,3,FALSE)","v":{"$error":"#N/A"}}]
[null,null,null,null,null,null,null,{"$f":"VLOOKUP($G$2:$G$50000,'Location Type (FICM Codes)'!$A$7:$B$188,2,FALSE)","v":{"$error":"#N/A"}},null,null,null,null,null,{"$f":"VLOOKUP(G9341:G19339,'Location Type (FICM Codes)'!$A$7:$C$188,3,FALSE)","v":{"$error":"#N/A"}}]
[null,null,null,null,null,null,null,{"$f":"VLOOKUP($G$2:$G$50000,'Location Type (FICM Codes)'!$A$7:$B$188,2,FALSE)","v":{"$error":"#N/A"}},null,null,null,null,null,{"$f":"VLOOKUP(G9346:G19344,'Location Type (FICM Codes)'!$A$7:$C$188,3,FALSE)","v":{"$error":"#N/A"}}]
[null,null,null,null,null,null,null,{"$f":"VLOOKUP($G$2:$G$50000,'Location Type (FICM Codes)'!$A$7:$B$188,2,FALSE)","v":{"$error":"#N/A"}},null,null,null,null,null,{"$f":"VLOOKUP(G9347:G19345,'Location Type (FICM Codes)'!$A$7:$C$188,3,FALSE)","v":{"$error":"#N/A"}}]
[null,null,null,null,null,null,null,{"$f":"VLOOKUP($G$2:$G$50000,'Location Type (FICM Codes)'!$A$7:$B$188,2,FALSE)","v":{"$error":"#N/A"}},null,null,null,null,null,{"$f":"VLOOKUP(G9353:G19351,'Location Type (FICM Codes)'!$A$7:$C$188,3,FALSE)","v":{"$error":"#N/A"}}]
[null,null,null,null,null,null,null,{"$f":"VLOOKUP($G$2:$G$50000,'Location Type (FICM Codes)'!$A$7:$B$188,2,FALSE)","v":{"$error":"#N/A"}},null,null,null,null,null,{"$f":"VLOOKUP(G9356:G19354,'Location Type (FICM Codes)'!$A$7:$C$188,3,FALSE)","v":{"$error":"#N/A"}}]
[null,null,null,null,null,null,null,{"$f":"VLOOKUP($G$2:$G$50000,'Location Type (FICM Codes)'!$A$7:$B$188,2,FALSE)","v":{"$error":"#N/A"}},null,null,null,null,null,{"$f":"VLOOKUP(G9361:G19359,'Location Type (FICM Codes)'!$A$7:$C$188,3,FALSE)","v":{"$error":"#N/A"}}]
[null,null,null,null,null,null,null,{"$f":"VLOOKUP($G$2:$G$50000,'Location Type (FICM Codes)'!$A$7:$B$188,2,FALSE)","v":{"$error":"#N/A"}},null,null,null,null,null,{"$f":"VLOOKUP(G9362:G19360,'Location Type (FICM Codes)'!$A$7:$C$188,3,FALSE)","v":{"$error":"#N/A"}}]
[null,null,null,null,null,null,null,{"$f":"VLOOKUP($G$2:$G$50000,'Location Type (FICM Codes)'!$A$7:$B$188,2,FALSE)","v":{"$error":"#N/A"}},null,null,null,null,null,{"$f":"VLOOKUP(G9367:G19365,'Location Type (FICM Codes)'!$A$7:$C$188,3,FALSE)","v":{"$error":"#N/A"}}]
[null,null,null,null,null,null,null,{"$f":"VLOOKUP($G$2:$G$50000,'Location Type (FICM Codes)'!$A$7:$B$188,2,FALSE)","v":{"$error":"#N/A"}},null,null,null,null,null,{"$f":"VLOOKUP(G9371:G19369,'Location Type (FICM Codes)'!$A$7:$C$188,3,FALSE)","v":{"$error":"#N/A"}}]
[null,null,null,null,null,null,null,{"$f":"VLOOKUP($G$2:$G$50000,'Location Type (FICM Codes)'!$A$7:$B$188,2,FALSE)","v":{"$error":"#N/A"}},null,null,null,null,null,{"$f":"VLOOKUP(G9376:G19374,'Location Type (FICM Codes)'!$A$7:$C$188,3,FALSE)","v":{"$error":"#N/A"}}]
[null,null,null,null,null,null,null,{"$f":"VLOOKUP($G$2:$G$50000,'Location Type (FICM Codes)'!$A$7:$B$188,2,FALSE)","v":{"$error":"#N/A"}},null,null,null,null,null,{"$f":"VLOOKUP(G9377:G19375,'Location Type (FICM Codes)'!$A$7:$C$188,3,FALSE)","v":{"$error":"#N/A"}}]
[null,null,null,null,null,null,null,{"$f":"VLOOKUP($G$2:$G$50000,'Location Type (FICM Codes)'!$A$7:$B$188,2,FALSE)","v":{"$error":"#N/A"}},null,null,null,null,null,{"$f":"VLOOKUP(G9383:G19381,'Location Type (FICM Codes)'!$A$7:$C$188,3,FALSE)","v":{"$error":"#N/A"}}]
[null,null,null,null,null,null,null,{"$f":"VLOOKUP($G$2:$G$50000,'Location Type (FICM Codes)'!$A$7:$B$188,2,FALSE)","v":{"$error":"#N/A"}},null,null,null,null,null,{"$f":"VLOOKUP(G9386:G19384,'Location Type (FICM Codes)'!$A$7:$C$188,3,FALSE)","v":{"$error":"#N/A"}}]
[null,null,null,null,null,null,null,{"$f":"VLOOKUP($G$2:$G$50000,'Location Type (FICM Codes)'!$A$7:$B$188,2,FALSE)","v":{"$error":"#N/A"}},null,null,null,null,null,{"$f":"VLOOKUP(G9391:G19389,'Location Type (FICM Codes)'!$A$7:$C$188,3,FALSE)","v":{"$error":"#N/A"}}]
[null,null,null,null,null,null,null,{"$f":"VLOOKUP($G$2:$G$50000,'Location Type (FICM Codes)'!$A$7:$B$188,2,FALSE)","v":{"$error":"#N/A"}},null,null,null,null,null,{"$f":"VLOOKUP(G9392:G19390,'Location Type (FICM Codes)'!$A$7:$C$188,3,FALSE)","v":{"$error":"#N/A"}}]
[null,null,null,null,null,null,null,{"$f":"VLOOKUP($G$2:$G$50000,'Location Type (FICM Codes)'!$A$7:$B$188,2,FALSE)","v":{"$error":"#N/A"}},null,null,null,null,null,{"$f":"VLOOKUP(G9397:G19395,'Location Type (FICM Codes)'!$A$7:$C$188,3,FALSE)","v":{"$error":"#N/A"}}]
[null,null,null,null,null,null,null,{"$f":"VLOOKUP($G$2:$G$50000,'Location Type (FICM Codes)'!$A$7:$B$188,2,FALSE)","v":{"$error":"#N/A"}},null,null,null,null,null,{"$f":"VLOOKUP(G9401:G19399,'Location Type (FICM Codes)'!$A$7:$C$188,3,FALSE)","v":{"$error":"#N/A"}}]
[null,null,null,null,null,null,null,{"$f":"VLOOKUP($G$2:$G$50000,'Location Type (FICM Codes)'!$A$7:$B$188,2,FALSE)","v":{"$error":"#N/A"}},null,null,null,null,null,{"$f":"VLOOKUP(G9406:G19404,'Location Type (FICM Codes)'!$A$7:$C$188,3,FALSE)","v":{"$error":"#N/A"}}]
[null,null,null,null,null,null,null,{"$f":"VLOOKUP($G$2:$G$50000,'Location Type (FICM Codes)'!$A$7:$B$188,2,FALSE)","v":{"$error":"#N/A"}},null,null,null,null,null,{"$f":"VLOOKUP(G9407:G19405,'Location Type (FICM Codes)'!$A$7:$C$188,3,FALSE)","v":{"$error":"#N/A"}}]
[null,null,null,null,null,null,null,{"$f":"VLOOKUP($G$2:$G$50000,'Location Type (FICM Codes)'!$A$7:$B$188,2,FALSE)","v":{"$error":"#N/A"}},null,null,null,null,null,{"$f":"VLOOKUP(G9413:G19411,'Location Type (FICM Codes)'!$A$7:$C$188,3,FALSE)","v":{"$error":"#N/A"}}]
[null,null,null,null,null,null,null,{"$f":"VLOOKUP($G$2:$G$50000,'Location Type (FICM Codes)'!$A$7:$B$188,2,FALSE)","v":{"$error":"#N/A"}},null,null,null,null,null,{"$f":"VLOOKUP(G9416:G19414,'Location Type (FICM Codes)'!$A$7:$C$188,3,FALSE)","v":{"$error":"#N/A"}}]
[null,null,null,null,null,null,null,{"$f":"VLOOKUP($G$2:$G$50000,'Location Type (FICM Codes)'!$A$7:$B$188,2,FALSE)","v":{"$error":"#N/A"}},null,null,null,null,null,{"$f":"VLOOKUP(G9421:G19419,'Location Type (FICM Codes)'!$A$7:$C$188,3,FALSE)","v":{"$error":"#N/A"}}]
[null,null,null,null,null,null,null,{"$f":"VLOOKUP($G$2:$G$50000,'Location Type (FICM Codes)'!$A$7:$B$188,2,FALSE)","v":{"$error":"#N/A"}},null,null,null,null,null,{"$f":"VLOOKUP(G9422:G19420,'Location Type (FICM Codes)'!$A$7:$C$188,3,FALSE)","v":{"$error":"#N/A"}}]
[null,null,null,null,null,null,null,{"$f":"VLOOKUP($G$2:$G$50000,'Location Type (FICM Codes)'!$A$7:$B$188,2,FALSE)","v":{"$error":"#N/A"}},null,null,null,null,null,{"$f":"VLOOKUP(G9427:G19425,'Location Type (FICM Codes)'!$A$7:$C$188,3,FALSE)","v":{"$error":"#N/A"}}]
[null,null,null,null,null,null,null,{"$f":"VLOOKUP($G$2:$G$50000,'Location Type (FICM Codes)'!$A$7:$B$188,2,FALSE)","v":{"$error":"#N/A"}},null,null,null,null,null,{"$f":"VLOOKUP(G9431:G19429,'Location Type (FICM Codes)'!$A$7:$C$188,3,FALSE)","v":{"$error":"#N/A"}}]
[null,null,null,null,null,null,null,{"$f":"VLOOKUP($G$2:$G$50000,'Location Type (FICM Codes)'!$A$7:$B$188,2,FALSE)","v":{"$error":"#N/A"}},null,null,null,null,null,{"$f":"VLOOKUP(G9436:G19434,'Location Type (FICM Codes)'!$A$7:$C$188,3,FALSE)","v":{"$error":"#N/A"}}]
[null,null,null,null,null,null,null,{"$f":"VLOOKUP($G$2:$G$50000,'Location Type (FICM Codes)'!$A$7:$B$188,2,FALSE)","v":{"$error":"#N/A"}},null,null,null,null,null,{"$f":"VLOOKUP(G9437:G19435,'Location Type (FICM Codes)'!$A$7:$C$188,3,FALSE)","v":{"$error":"#N/A"}}]
[null,null,null,null,null,null,null,{"$f":"VLOOKUP($G$2:$G$50000,'Location Type (FICM Codes)'!$A$7:$B$188,2,FALSE)","v":{"$error":"#N/A"}},null,null,null,null,null,{"$f":"VLOOKUP(G9443:G19441,'Location Type (FICM Codes)'!$A$7:$C$188,3,FALSE)","v":{"$error":"#N/A"}}]
[null,null,null,null,null,null,null,{"$f":"VLOOKUP($G$2:$G$50000,'Location Type (FICM Codes)'!$A$7:$B$188,2,FALSE)","v":{"$error":"#N/A"}},null,null,null,null,null,{"$f":"VLOOKUP(G9446:G19444,'Location Type (FICM Codes)'!$A$7:$C$188,3,FALSE)","v":{"$error":"#N/A"}}]
[null,null,null,null,null,null,null,{"$f":"VLOOKUP($G$2:$G$50000,'Location Type (FICM Codes)'!$A$7:$B$188,2,FALSE)","v":{"$error":"#N/A"}},null,null,null,null,null,{"$f":"VLOOKUP(G9451:G19449,'Location Type (FICM Codes)'!$A$7:$C$188,3,FALSE)","v":{"$error":"#N/A"}}]
[null,null,null,null,null,null,null,{"$f":"VLOOKUP($G$2:$G$50000,'Location Type (FICM Codes)'!$A$7:$B$188,2,FALSE)","v":{"$error":"#N/A"}},null,null,null,null,null,{"$f":"VLOOKUP(G9452:G19450,'Location Type (FICM Codes)'!$A$7:$C$188,3,FALSE)","v":{"$error":"#N/A"}}]
[null,null,null,null,null,null,null,{"$f":"VLOOKUP($G$2:$G$50000,'Location Type (FICM Codes)'!$A$7:$B$188,2,FALSE)","v":{"$error":"#N/A"}},null,null,null,null,null,{"$f":"VLOOKUP(G9457:G19455,'Location Type (FICM Codes)'!$A$7:$C$188,3,FALSE)","v":{"$error":"#N/A"}}]
[null,null,null,null,null,null,null,{"$f":"VLOOKUP($G$2:$G$50000,'Location Type (FICM Codes)'!$A$7:$B$188,2,FALSE)","v":{"$error":"#N/A"}},null,null,null,null,null,{"$f":"VLOOKUP(G9461:G19459,'Location Type (FICM Codes)'!$A$7:$C$188,3,FALSE)","v":{"$error":"#N/A"}}]
[null,null,null,null,null,null,null,{"$f":"VLOOKUP($G$2:$G$50000,'Location Type (FICM Codes)'!$A$7:$B$188,2,FALSE)","v":{"$error":"#N/A"}},null,null,null,null,null,{"$f":"VLOOKUP(G9466:G19464,'Location Type (FICM Codes)'!$A$7:$C$188,3,FALSE)","v":{"$error":"#N/A"}}]
[null,null,null,null,null,null,null,{"$f":"VLOOKUP($G$2:$G$50000,'Location Type (FICM Codes)'!$A$7:$B$188,2,FALSE)","v":{"$error":"#N/A"}},null,null,null,null,null,{"$f":"VLOOKUP(G9467:G19465,'Location Type (FICM Codes)'!$A$7:$C$188,3,FALSE)","v":{"$error":"#N/A"}}]
[null,null,null,null,null,null,null,{"$f":"VLOOKUP($G$2:$G$50000,'Location Type (FICM Codes)'!$A$7:$B$188,2,FALSE)","v":{"$error":"#N/A"}},null,null,null,null,null,{"$f":"VLOOKUP(G9473:G19471,'Location Type (FICM Codes)'!$A$7:$C$188,3,FALSE)","v":{"$error":"#N/A"}}]
[null,null,null,null,null,null,null,{"$f":"VLOOKUP($G$2:$G$50000,'Location Type (FICM Codes)'!$A$7:$B$188,2,FALSE)","v":{"$error":"#N/A"}},null,null,null,null,null,{"$f":"VLOOKUP(G9476:G19474,'Location Type (FICM Codes)'!$A$7:$C$188,3,FALSE)","v":{"$error":"#N/A"}}]
[null,null,null,null,null,null,null,{"$f":"VLOOKUP($G$2:$G$50000,'Location Type (FICM Codes)'!$A$7:$B$188,2,FALSE)","v":{"$error":"#N/A"}},null,null,null,null,null,{"$f":"VLOOKUP(G9481:G19479,'Location Type (FICM Codes)'!$A$7:$C$188,3,FALSE)","v":{"$error":"#N/A"}}]
[null,null,null,null,null,null,null,{"$f":"VLOOKUP($G$2:$G$50000,'Location Type (FICM Codes)'!$A$7:$B$188,2,FALSE)","v":{"$error":"#N/A"}},null,null,null,null,null,{"$f":"VLOOKUP(G9482:G19480,'Location Type (FICM Codes)'!$A$7:$C$188,3,FALSE)","v":{"$error":"#N/A"}}]
[null,null,null,null,null,null,null,{"$f":"VLOOKUP($G$2:$G$50000,'Location Type (FICM Codes)'!$A$7:$B$188,2,FALSE)","v":{"$error":"#N/A"}},null,null,null,null,null,{"$f":"VLOOKUP(G9487:G19485,'Location Type (FICM Codes)'!$A$7:$C$188,3,FALSE)","v":{"$error":"#N/A"}}]
[null,null,null,null,null,null,null,{"$f":"VLOOKUP($G$2:$G$50000,'Location Type (FICM Codes)'!$A$7:$B$188,2,FALSE)","v":{"$error":"#N/A"}},null,null,null,null,null,{"$f":"VLOOKUP(G9491:G19489,'Location Type (FICM Codes)'!$A$7:$C$188,3,FALSE)","v":{"$error":"#N/A"}}]
[null,null,null,null,null,null,null,{"$f":"VLOOKUP($G$2:$G$50000,'Location Type (FICM Codes)'!$A$7:$B$188,2,FALSE)","v":{"$error":"#N/A"}},null,null,null,null,null,{"$f":"VLOOKUP(G9496:G19494,'Location Type (FICM Codes)'!$A$7:$C$188,3,FALSE)","v":{"$error":"#N/A"}}]
[null,null,null,null,null,null,null,{"$f":"VLOOKUP($G$2:$G$50000,'Location Type (FICM Codes)'!$A$7:$B$188,2,FALSE)","v":{"$error":"#N/A"}},null,null,null,null,null,{"$f":"VLOOKUP(G9497:G19495,'Location Type (FICM Codes)'!$A$7:$C$188,3,FALSE)","v":{"$error":"#N/A"}}]
[null,null,null,null,null,null,null,{"$f":"VLOOKUP($G$2:$G$50000,'Location Type (FICM Codes)'!$A$7:$B$188,2,FALSE)","v":{"$error":"#N/A"}},null,null,null,null,null,{"$f":"VLOOKUP(G9501:G19499,'Location Type (FICM Codes)'!$A$7:$C$188,3,FALSE)","v":{"$error":"#N/A"}}]
[null,null,null,null,null,null,null,{"$f":"VLOOKUP($G$2:$G$50000,'Location Type (FICM Codes)'!$A$7:$B$188,2,FALSE)","v":{"$error":"#N/A"}},null,null,null,null,null,{"$f":"VLOOKUP(G9502:G19500,'Location Type (FICM Codes)'!$A$7:$C$188,3,FALSE)","v":{"$error":"#N/A"}}]
[null,null,null,null,null,null,null,{"$f":"VLOOKUP($G$2:$G$50000,'Location Type (FICM Codes)'!$A$7:$B$188,2,FALSE)","v":{"$error":"#N/A"}},null,null,null,null,null,{"$f":"VLOOKUP(G9503:G19501,'Location Type (FICM Codes)'!$A$7:$C$188,3,FALSE)","v":{"$error":"#N/A"}}]
[null,null,null,null,null,null,null,{"$f":"VLOOKUP($G$2:$G$50000,'Location Type (FICM Codes)'!$A$7:$B$188,2,FALSE)","v":{"$error":"#N/A"}},null,null,null,null,null,{"$f":"VLOOKUP(G9504:G19502,'Location Type (FICM Codes)'!$A$7:$C$188,3,FALSE)","v":{"$error":"#N/A"}}]
[null,null,null,null,null,null,null,{"$f":"VLOOKUP($G$2:$G$50000,'Location Type (FICM Codes)'!$A$7:$B$188,2,FALSE)","v":{"$error":"#N/A"}},null,null,null,null,null,{"$f":"VLOOKUP(G9505:G19503,'Location Type (FICM Codes)'!$A$7:$C$188,3,FALSE)","v":{"$error":"#N/A"}}]
[null,null,null,null,null,null,null,{"$f":"VLOOKUP($G$2:$G$50000,'Location Type (FICM Codes)'!$A$7:$B$188,2,FALSE)","v":{"$error":"#N/A"}},null,null,null,null,null,{"$f":"VLOOKUP(G9506:G19504,'Location Type (FICM Codes)'!$A$7:$C$188,3,FALSE)","v":{"$error":"#N/A"}}]
[null,null,null,null,null,null,null,{"$f":"VLOOKUP($G$2:$G$50000,'Location Type (FICM Codes)'!$A$7:$B$188,2,FALSE)","v":{"$error":"#N/A"}},null,null,null,null,null,{"$f":"VLOOKUP(G9507:G19505,'Location Type (FICM Codes)'!$A$7:$C$188,3,FALSE)","v":{"$error":"#N/A"}}]
[null,null,null,null,null,null,null,{"$f":"VLOOKUP($G$2:$G$50000,'Location Type (FICM Codes)'!$A$7:$B$188,2,FALSE)","v":{"$error":"#N/A"}},null,null,null,null,null,{"$f":"VLOOKUP(G9508:G19506,'Location Type (FICM Codes)'!$A$7:$C$188,3,FALSE)","v":{"$error":"#N/A"}}]
[null,null,null,null,null,null,null,{"$f":"VLOOKUP($G$2:$G$50000,'Location Type (FICM Codes)'!$A$7:$B$188,2,FALSE)","v":{"$error":"#N/A"}},null,null,null,null,null,{"$f":"VLOOKUP(G9509:G19507,'Location Type (FICM Codes)'!$A$7:$C$188,3,FALSE)","v":{"$error":"#N/A"}}]
[null,null,null,null,null,null,null,{"$f":"VLOOKUP($G$2:$G$50000,'Location Type (FICM Codes)'!$A$7:$B$188,2,FALSE)","v":{"$error":"#N/A"}},null,null,null,null,null,{"$f":"VLOOKUP(G9510:G19508,'Location Type (FICM Codes)'!$A$7:$C$188,3,FALSE)","v":{"$error":"#N/A"}}]
[null,null,null,null,null,null,null,{"$f":"VLOOKUP($G$2:$G$50000,'Location Type (FICM Codes)'!$A$7:$B$188,2,FALSE)","v":{"$error":"#N/A"}},null,null,null,null,null,{"$f":"VLOOKUP(G9511:G19509,'Location Type (FICM Codes)'!$A$7:$C$188,3,FALSE)","v":{"$error":"#N/A"}}]
[null,null,null,null,null,null,null,{"$f":"VLOOKUP($G$2:$G$50000,'Location Type (FICM Codes)'!$A$7:$B$188,2,FALSE)","v":{"$error":"#N/A"}},null,null,null,null,null,{"$f":"VLOOKUP(G9512:G19510,'Location Type (FICM Codes)'!$A$7:$C$188,3,FALSE)","v":{"$error":"#N/A"}}]
[null,null,null,null,null,null,null,{"$f":"VLOOKUP($G$2:$G$50000,'Location Type (FICM Codes)'!$A$7:$B$188,2,FALSE)","v":{"$error":"#N/A"}},null,null,null,null,null,{"$f":"VLOOKUP(G9513:G19511,'Location Type (FICM Codes)'!$A$7:$C$188,3,FALSE)","v":{"$error":"#N/A"}}]
[null,null,null,null,null,null,null,{"$f":"VLOOKUP($G$2:$G$50000,'Location Type (FICM Codes)'!$A$7:$B$188,2,FALSE)","v":{"$error":"#N/A"}},null,null,null,null,null,{"$f":"VLOOKUP(G9514:G19512,'Location Type (FICM Codes)'!$A$7:$C$188,3,FALSE)","v":{"$error":"#N/A"}}]
[null,null,null,null,null,null,null,{"$f":"VLOOKUP($G$2:$G$50000,'Location Type (FICM Codes)'!$A$7:$B$188,2,FALSE)","v":{"$error":"#N/A"}},null,null,null,null,null,{"$f":"VLOOKUP(G9515:G19513,'Location Type (FICM Codes)'!$A$7:$C$188,3,FALSE)","v":{"$error":"#N/A"}}]
[null,null,null,null,null,null,null,{"$f":"VLOOKUP($G$2:$G$50000,'Location Type (FICM Codes)'!$A$7:$B$188,2,FALSE)","v":{"$error":"#N/A"}},null,null,null,null,null,{"$f":"VLOOKUP(G9516:G19514,'Location Type (FICM Codes)'!$A$7:$C$188,3,FALSE)","v":{"$error":"#N/A"}}]
[null,null,null,null,null,null,null,{"$f":"VLOOKUP($G$2:$G$50000,'Location Type (FICM Codes)'!$A$7:$B$188,2,FALSE)","v":{"$error":"#N/A"}},null,null,null,null,null,{"$f":"VLOOKUP(G9517:G19515,'Location Type (FICM Codes)'!$A$7:$C$188,3,FALSE)","v":{"$error":"#N/A"}}]
[null,null,null,null,null,null,null,{"$f":"VLOOKUP($G$2:$G$50000,'Location Type (FICM Codes)'!$A$7:$B$188,2,FALSE)","v":{"$error":"#N/A"}},null,null,null,null,null,{"$f":"VLOOKUP(G9518:G19516,'Location Type (FICM Codes)'!$A$7:$C$188,3,FALSE)","v":{"$error":"#N/A"}}]
[null,null,null,null,null,null,null,{"$f":"VLOOKUP($G$2:$G$50000,'Location Type (FICM Codes)'!$A$7:$B$188,2,FALSE)","v":{"$error":"#N/A"}},null,null,null,null,null,{"$f":"VLOOKUP(G9519:G19517,'Location Type (FICM Codes)'!$A$7:$C$188,3,FALSE)","v":{"$error":"#N/A"}}]
[null,null,null,null,null,null,null,{"$f":"VLOOKUP($G$2:$G$50000,'Location Type (FICM Codes)'!$A$7:$B$188,2,FALSE)","v":{"$error":"#N/A"}},null,null,null,null,null,{"$f":"VLOOKUP(G9520:G19518,'Location Type (FICM Codes)'!$A$7:$C$188,3,FALSE)","v":{"$error":"#N/A"}}]
[null,null,null,null,null,null,null,{"$f":"VLOOKUP($G$2:$G$50000,'Location Type (FICM Codes)'!$A$7:$B$188,2,FALSE)","v":{"$error":"#N/A"}},null,null,null,null,null,{"$f":"VLOOKUP(G9521:G19519,'Location Type (FICM Codes)'!$A$7:$C$188,3,FALSE)","v":{"$error":"#N/A"}}]
[null,null,null,null,null,null,null,{"$f":"VLOOKUP($G$2:$G$50000,'Location Type (FICM Codes)'!$A$7:$B$188,2,FALSE)","v":{"$error":"#N/A"}},null,null,null,null,null,{"$f":"VLOOKUP(G9522:G19520,'Location Type (FICM Codes)'!$A$7:$C$188,3,FALSE)","v":{"$error":"#N/A"}}]
[null,null,null,null,null,null,null,{"$f":"VLOOKUP($G$2:$G$50000,'Location Type (FICM Codes)'!$A$7:$B$188,2,FALSE)","v":{"$error":"#N/A"}},null,null,null,null,null,{"$f":"VLOOKUP(G9523:G19521,'Location Type (FICM Codes)'!$A$7:$C$188,3,FALSE)","v":{"$error":"#N/A"}}]
[null,null,null,null,null,null,null,{"$f":"VLOOKUP($G$2:$G$50000,'Location Type (FICM Codes)'!$A$7:$B$188,2,FALSE)","v":{"$error":"#N/A"}},null,null,null,null,null,{"$f":"VLOOKUP(G9524:G19522,'Location Type (FICM Codes)'!$A$7:$C$188,3,FALSE)","v":{"$error":"#N/A"}}]
[null,null,null,null,null,null,null,{"$f":"VLOOKUP($G$2:$G$50000,'Location Type (FICM Codes)'!$A$7:$B$188,2,FALSE)","v":{"$error":"#N/A"}},null,null,null,null,null,{"$f":"VLOOKUP(G9525:G19523,'Location Type (FICM Codes)'!$A$7:$C$188,3,FALSE)","v":{"$error":"#N/A"}}]
[null,null,null,null,null,null,null,{"$f":"VLOOKUP($G$2:$G$50000,'Location Type (FICM Codes)'!$A$7:$B$188,2,FALSE)","v":{"$error":"#N/A"}},null,null,null,null,null,{"$f":"VLOOKUP(G9526:G19524,'Location Type (FICM Codes)'!$A$7:$C$188,3,FALSE)","v":{"$error":"#N/A"}}]
[null,null,null,null,null,null,null,{"$f":"VLOOKUP($G$2:$G$50000,'Location Type (FICM Codes)'!$A$7:$B$188,2,FALSE)","v":{"$error":"#N/A"}},null,null,null,null,null,{"$f":"VLOOKUP(G9527:G19525,'Location Type (FICM Codes)'!$A$7:$C$188,3,FALSE)","v":{"$error":"#N/A"}}]
[null,null,null,null,null,null,null,{"$f":"VLOOKUP($G$2:$G$50000,'Location Type (FICM Codes)'!$A$7:$B$188,2,FALSE)","v":{"$error":"#N/A"}},null,null,null,null,null,{"$f":"VLOOKUP(G9528:G19526,'Location Type (FICM Codes)'!$A$7:$C$188,3,FALSE)","v":{"$error":"#N/A"}}]
[null,null,null,null,null,null,null,{"$f":"VLOOKUP($G$2:$G$50000,'Location Type (FICM Codes)'!$A$7:$B$188,2,FALSE)","v":{"$error":"#N/A"}},null,null,null,null,null,{"$f":"VLOOKUP(G9529:G19527,'Location Type (FICM Codes)'!$A$7:$C$188,3,FALSE)","v":{"$error":"#N/A"}}]
[null,null,null,null,null,null,null,{"$f":"VLOOKUP($G$2:$G$50000,'Location Type (FICM Codes)'!$A$7:$B$188,2,FALSE)","v":{"$error":"#N/A"}},null,null,null,null,null,{"$f":"VLOOKUP(G9530:G19528,'Location Type (FICM Codes)'!$A$7:$C$188,3,FALSE)","v":{"$error":"#N/A"}}]
[null,null,null,null,null,null,null,{"$f":"VLOOKUP($G$2:$G$50000,'Location Type (FICM Codes)'!$A$7:$B$188,2,FALSE)","v":{"$error":"#N/A"}},null,null,null,null,null,{"$f":"VLOOKUP(G9531:G19529,'Location Type (FICM Codes)'!$A$7:$C$188,3,FALSE)","v":{"$error":"#N/A"}}]
[null,null,null,null,null,null,null,{"$f":"VLOOKUP($G$2:$G$50000,'Location Type (FICM Codes)'!$A$7:$B$188,2,FALSE)","v":{"$error":"#N/A"}},null,null,null,null,null,{"$f":"VLOOKUP(G9532:G19530,'Location Type (FICM Codes)'!$A$7:$C$188,3,FALSE)","v":{"$error":"#N/A"}}]
[null,null,null,null,null,null,null,{"$f":"VLOOKUP($G$2:$G$50000,'Location Type (FICM Codes)'!$A$7:$B$188,2,FALSE)","v":{"$error":"#N/A"}},null,null,null,null,null,{"$f":"VLOOKUP(G9533:G19531,'Location Type (FICM Codes)'!$A$7:$C$188,3,FALSE)","v":{"$error":"#N/A"}}]
[null,null,null,null,null,null,null,{"$f":"VLOOKUP($G$2:$G$50000,'Location Type (FICM Codes)'!$A$7:$B$188,2,FALSE)","v":{"$error":"#N/A"}},null,null,null,null,null,{"$f":"VLOOKUP(G9534:G19532,'Location Type (FICM Codes)'!$A$7:$C$188,3,FALSE)","v":{"$error":"#N/A"}}]
[null,null,null,null,null,null,null,{"$f":"VLOOKUP($G$2:$G$50000,'Location Type (FICM Codes)'!$A$7:$B$188,2,FALSE)","v":{"$error":"#N/A"}},null,null,null,null,null,{"$f":"VLOOKUP(G9535:G19533,'Location Type (FICM Codes)'!$A$7:$C$188,3,FALSE)","v":{"$error":"#N/A"}}]
[null,null,null,null,null,null,null,{"$f":"VLOOKUP($G$2:$G$50000,'Location Type (FICM Codes)'!$A$7:$B$188,2,FALSE)","v":{"$error":"#N/A"}},null,null,null,null,null,{"$f":"VLOOKUP(G9536:G19534,'Location Type (FICM Codes)'!$A$7:$C$188,3,FALSE)","v":{"$error":"#N/A"}}]
[null,null,null,null,null,null,null,{"$f":"VLOOKUP($G$2:$G$50000,'Location Type (FICM Codes)'!$A$7:$B$188,2,FALSE)","v":{"$error":"#N/A"}},null,null,null,null,null,{"$f":"VLOOKUP(G9537:G19535,'Location Type (FICM Codes)'!$A$7:$C$188,3,FALSE)","v":{"$error":"#N/A"}}]
[null,null,null,null,null,null,null,{"$f":"VLOOKUP($G$2:$G$50000,'Location Type (FICM Codes)'!$A$7:$B$188,2,FALSE)","v":{"$error":"#N/A"}},null,null,null,null,null,{"$f":"VLOOKUP(G9538:G19536,'Location Type (FICM Codes)'!$A$7:$C$188,3,FALSE)","v":{"$error":"#N/A"}}]
[null,null,null,null,null,null,null,{"$f":"VLOOKUP($G$2:$G$50000,'Location Type (FICM Codes)'!$A$7:$B$188,2,FALSE)","v":{"$error":"#N/A"}},null,null,null,null,null,{"$f":"VLOOKUP(G9539:G19537,'Location Type (FICM Codes)'!$A$7:$C$188,3,FALSE)","v":{"$error":"#N/A"}}]
[null,null,null,null,null,null,null,{"$f":"VLOOKUP($G$2:$G$50000,'Location Type (FICM Codes)'!$A$7:$B$188,2,FALSE)","v":{"$error":"#N/A"}},null,null,null,null,null,{"$f":"VLOOKUP(G9540:G19538,'Location Type (FICM Codes)'!$A$7:$C$188,3,FALSE)","v":{"$error":"#N/A"}}]
[null,null,null,null,null,null,null,{"$f":"VLOOKUP($G$2:$G$50000,'Location Type (FICM Codes)'!$A$7:$B$188,2,FALSE)","v":{"$error":"#N/A"}},null,null,null,null,null,{"$f":"VLOOKUP(G9541:G19539,'Location Type (FICM Codes)'!$A$7:$C$188,3,FALSE)","v":{"$error":"#N/A"}}]
[null,null,null,null,null,null,null,{"$f":"VLOOKUP($G$2:$G$50000,'Location Type (FICM Codes)'!$A$7:$B$188,2,FALSE)","v":{"$error":"#N/A"}},null,null,null,null,null,{"$f":"VLOOKUP(G9542:G19540,'Location Type (FICM Codes)'!$A$7:$C$188,3,FALSE)","v":{"$error":"#N/A"}}]
[null,null,null,null,null,null,null,{"$f":"VLOOKUP($G$2:$G$50000,'Location Type (FICM Codes)'!$A$7:$B$188,2,FALSE)","v":{"$error":"#N/A"}},null,null,null,null,null,{"$f":"VLOOKUP(G9543:G19541,'Location Type (FICM Codes)'!$A$7:$C$188,3,FALSE)","v":{"$error":"#N/A"}}]
[null,null,null,null,null,null,null,{"$f":"VLOOKUP($G$2:$G$50000,'Location Type (FICM Codes)'!$A$7:$B$188,2,FALSE)","v":{"$error":"#N/A"}},null,null,null,null,null,{"$f":"VLOOKUP(G9544:G19542,'Location Type (FICM Codes)'!$A$7:$C$188,3,FALSE)","v":{"$error":"#N/A"}}]
[null,null,null,null,null,null,null,{"$f":"VLOOKUP($G$2:$G$50000,'Location Type (FICM Codes)'!$A$7:$B$188,2,FALSE)","v":{"$error":"#N/A"}},null,null,null,null,null,{"$f":"VLOOKUP(G9545:G19543,'Location Type (FICM Codes)'!$A$7:$C$188,3,FALSE)","v":{"$error":"#N/A"}}]
[null,null,null,null,null,null,null,{"$f":"VLOOKUP($G$2:$G$50000,'Location Type (FICM Codes)'!$A$7:$B$188,2,FALSE)","v":{"$error":"#N/A"}},null,null,null,null,null,{"$f":"VLOOKUP(G9546:G19544,'Location Type (FICM Codes)'!$A$7:$C$188,3,FALSE)","v":{"$error":"#N/A"}}]
[null,null,null,null,null,null,null,{"$f":"VLOOKUP($G$2:$G$50000,'Location Type (FICM Codes)'!$A$7:$B$188,2,FALSE)","v":{"$error":"#N/A"}},null,null,null,null,null,{"$f":"VLOOKUP(G9547:G19545,'Location Type (FICM Codes)'!$A$7:$C$188,3,FALSE)","v":{"$error":"#N/A"}}]
[null,null,null,null,null,null,null,{"$f":"VLOOKUP($G$2:$G$50000,'Location Type (FICM Codes)'!$A$7:$B$188,2,FALSE)","v":{"$error":"#N/A"}},null,null,null,null,null,{"$f":"VLOOKUP(G9548:G19546,'Location Type (FICM Codes)'!$A$7:$C$188,3,FALSE)","v":{"$error":"#N/A"}}]
[null,null,null,null,null,null,null,{"$f":"VLOOKUP($G$2:$G$50000,'Location Type (FICM Codes)'!$A$7:$B$188,2,FALSE)","v":{"$error":"#N/A"}},null,null,null,null,null,{"$f":"VLOOKUP(G9549:G19547,'Location Type (FICM Codes)'!$A$7:$C$188,3,FALSE)","v":{"$error":"#N/A"}}]
[null,null,null,null,null,null,null,{"$f":"VLOOKUP($G$2:$G$50000,'Location Type (FICM Codes)'!$A$7:$B$188,2,FALSE)","v":{"$error":"#N/A"}},null,null,null,null,null,{"$f":"VLOOKUP(G9550:G19548,'Location Type (FICM Codes)'!$A$7:$C$188,3,FALSE)","v":{"$error":"#N/A"}}]
[null,null,null,null,null,null,null,{"$f":"VLOOKUP($G$2:$G$50000,'Location Type (FICM Codes)'!$A$7:$B$188,2,FALSE)","v":{"$error":"#N/A"}},null,null,null,null,null,{"$f":"VLOOKUP(G9551:G19549,'Location Type (FICM Codes)'!$A$7:$C$188,3,FALSE)","v":{"$error":"#N/A"}}]
[null,null,null,null,null,null,null,{"$f":"VLOOKUP($G$2:$G$50000,'Location Type (FICM Codes)'!$A$7:$B$188,2,FALSE)","v":{"$error":"#N/A"}},null,null,null,null,null,{"$f":"VLOOKUP(G9552:G19550,'Location Type (FICM Codes)'!$A$7:$C$188,3,FALSE)","v":{"$error":"#N/A"}}]
[null,null,null,null,null,null,null,{"$f":"VLOOKUP($G$2:$G$50000,'Location Type (FICM Codes)'!$A$7:$B$188,2,FALSE)","v":{"$error":"#N/A"}},null,null,null,null,null,{"$f":"VLOOKUP(G9553:G19551,'Location Type (FICM Codes)'!$A$7:$C$188,3,FALSE)","v":{"$error":"#N/A"}}]
[null,null,null,null,null,null,null,{"$f":"VLOOKUP($G$2:$G$50000,'Location Type (FICM Codes)'!$A$7:$B$188,2,FALSE)","v":{"$error":"#N/A"}},null,null,null,null,null,{"$f":"VLOOKUP(G9554:G19552,'Location Type (FICM Codes)'!$A$7:$C$188,3,FALSE)","v":{"$error":"#N/A"}}]
[null,null,null,null,null,null,null,{"$f":"VLOOKUP($G$2:$G$50000,'Location Type (FICM Codes)'!$A$7:$B$188,2,FALSE)","v":{"$error":"#N/A"}},null,null,null,null,null,{"$f":"VLOOKUP(G9555:G19553,'Location Type (FICM Codes)'!$A$7:$C$188,3,FALSE)","v":{"$error":"#N/A"}}]
[null,null,null,null,null,null,null,{"$f":"VLOOKUP($G$2:$G$50000,'Location Type (FICM Codes)'!$A$7:$B$188,2,FALSE)","v":{"$error":"#N/A"}},null,null,null,null,null,{"$f":"VLOOKUP(G9556:G19554,'Location Type (FICM Codes)'!$A$7:$C$188,3,FALSE)","v":{"$error":"#N/A"}}]
[null,null,null,null,null,null,null,{"$f":"VLOOKUP($G$2:$G$50000,'Location Type (FICM Codes)'!$A$7:$B$188,2,FALSE)","v":{"$error":"#N/A"}},null,null,null,null,null,{"$f":"VLOOKUP(G9557:G19555,'Location Type (FICM Codes)'!$A$7:$C$188,3,FALSE)","v":{"$error":"#N/A"}}]
[null,null,null,null,null,null,null,{"$f":"VLOOKUP($G$2:$G$50000,'Location Type (FICM Codes)'!$A$7:$B$188,2,FALSE)","v":{"$error":"#N/A"}},null,null,null,null,null,{"$f":"VLOOKUP(G9558:G19556,'Location Type (FICM Codes)'!$A$7:$C$188,3,FALSE)","v":{"$error":"#N/A"}}]
[null,null,null,null,null,null,null,{"$f":"VLOOKUP($G$2:$G$50000,'Location Type (FICM Codes)'!$A$7:$B$188,2,FALSE)","v":{"$error":"#N/A"}},null,null,null,null,null,{"$f":"VLOOKUP(G9559:G19557,'Location Type (FICM Codes)'!$A$7:$C$188,3,FALSE)","v":{"$error":"#N/A"}}]
[null,null,null,null,null,null,null,{"$f":"VLOOKUP($G$2:$G$50000,'Location Type (FICM Codes)'!$A$7:$B$188,2,FALSE)","v":{"$error":"#N/A"}},null,null,null,null,null,{"$f":"VLOOKUP(G9560:G19558,'Location Type (FICM Codes)'!$A$7:$C$188,3,FALSE)","v":{"$error":"#N/A"}}]
[null,null,null,null,null,null,null,{"$f":"VLOOKUP($G$2:$G$50000,'Location Type (FICM Codes)'!$A$7:$B$188,2,FALSE)","v":{"$error":"#N/A"}},null,null,null,null,null,{"$f":"VLOOKUP(G9561:G19559,'Location Type (FICM Codes)'!$A$7:$C$188,3,FALSE)","v":{"$error":"#N/A"}}]
[null,null,null,null,null,null,null,{"$f":"VLOOKUP($G$2:$G$50000,'Location Type (FICM Codes)'!$A$7:$B$188,2,FALSE)","v":{"$error":"#N/A"}},null,null,null,null,null,{"$f":"VLOOKUP(G9562:G19560,'Location Type (FICM Codes)'!$A$7:$C$188,3,FALSE)","v":{"$error":"#N/A"}}]
[null,null,null,null,null,null,null,{"$f":"VLOOKUP($G$2:$G$50000,'Location Type (FICM Codes)'!$A$7:$B$188,2,FALSE)","v":{"$error":"#N/A"}},null,null,null,null,null,{"$f":"VLOOKUP(G9563:G19561,'Location Type (FICM Codes)'!$A$7:$C$188,3,FALSE)","v":{"$error":"#N/A"}}]
[null,null,null,null,null,null,null,{"$f":"VLOOKUP($G$2:$G$50000,'Location Type (FICM Codes)'!$A$7:$B$188,2,FALSE)","v":{"$error":"#N/A"}},null,null,null,null,null,{"$f":"VLOOKUP(G9564:G19562,'Location Type (FICM Codes)'!$A$7:$C$188,3,FALSE)","v":{"$error":"#N/A"}}]
[null,null,null,null,null,null,null,{"$f":"VLOOKUP($G$2:$G$50000,'Location Type (FICM Codes)'!$A$7:$B$188,2,FALSE)","v":{"$error":"#N/A"}},null,null,null,null,null,{"$f":"VLOOKUP(G9565:G19563,'Location Type (FICM Codes)'!$A$7:$C$188,3,FALSE)","v":{"$error":"#N/A"}}]
[null,null,null,null,null,null,null,{"$f":"VLOOKUP($G$2:$G$50000,'Location Type (FICM Codes)'!$A$7:$B$188,2,FALSE)","v":{"$error":"#N/A"}},null,null,null,null,null,{"$f":"VLOOKUP(G9566:G19564,'Location Type (FICM Codes)'!$A$7:$C$188,3,FALSE)","v":{"$error":"#N/A"}}]
[null,null,null,null,null,null,null,{"$f":"VLOOKUP($G$2:$G$50000,'Location Type (FICM Codes)'!$A$7:$B$188,2,FALSE)","v":{"$error":"#N/A"}},null,null,null,null,null,{"$f":"VLOOKUP(G9567:G19565,'Location Type (FICM Codes)'!$A$7:$C$188,3,FALSE)","v":{"$error":"#N/A"}}]
[null,null,null,null,null,null,null,{"$f":"VLOOKUP($G$2:$G$50000,'Location Type (FICM Codes)'!$A$7:$B$188,2,FALSE)","v":{"$error":"#N/A"}},null,null,null,null,null,{"$f":"VLOOKUP(G9568:G19566,'Location Type (FICM Codes)'!$A$7:$C$188,3,FALSE)","v":{"$error":"#N/A"}}]
[null,null,null,null,null,null,null,{"$f":"VLOOKUP($G$2:$G$50000,'Location Type (FICM Codes)'!$A$7:$B$188,2,FALSE)","v":{"$error":"#N/A"}},null,null,null,null,null,{"$f":"VLOOKUP(G9569:G19567,'Location Type (FICM Codes)'!$A$7:$C$188,3,FALSE)","v":{"$error":"#N/A"}}]
[null,null,null,null,null,null,null,{"$f":"VLOOKUP($G$2:$G$50000,'Location Type (FICM Codes)'!$A$7:$B$188,2,FALSE)","v":{"$error":"#N/A"}},null,null,null,null,null,{"$f":"VLOOKUP(G9570:G19568,'Location Type (FICM Codes)'!$A$7:$C$188,3,FALSE)","v":{"$error":"#N/A"}}]
[null,null,null,null,null,null,null,{"$f":"VLOOKUP($G$2:$G$50000,'Location Type (FICM Codes)'!$A$7:$B$188,2,FALSE)","v":{"$error":"#N/A"}},null,null,null,null,null,{"$f":"VLOOKUP(G9571:G19569,'Location Type (FICM Codes)'!$A$7:$C$188,3,FALSE)","v":{"$error":"#N/A"}}]
[null,null,null,null,null,null,null,{"$f":"VLOOKUP($G$2:$G$50000,'Location Type (FICM Codes)'!$A$7:$B$188,2,FALSE)","v":{"$error":"#N/A"}},null,null,null,null,null,{"$f":"VLOOKUP(G9572:G19570,'Location Type (FICM Codes)'!$A$7:$C$188,3,FALSE)","v":{"$error":"#N/A"}}]
[null,null,null,null,null,null,null,{"$f":"VLOOKUP($G$2:$G$50000,'Location Type (FICM Codes)'!$A$7:$B$188,2,FALSE)","v":{"$error":"#N/A"}},null,null,null,null,null,{"$f":"VLOOKUP(G9573:G19571,'Location Type (FICM Codes)'!$A$7:$C$188,3,FALSE)","v":{"$error":"#N/A"}}]
[null,null,null,null,null,null,null,{"$f":"VLOOKUP($G$2:$G$50000,'Location Type (FICM Codes)'!$A$7:$B$188,2,FALSE)","v":{"$error":"#N/A"}},null,null,null,null,null,{"$f":"VLOOKUP(G9574:G19572,'Location Type (FICM Codes)'!$A$7:$C$188,3,FALSE)","v":{"$error":"#N/A"}}]
[null,null,null,null,null,null,null,{"$f":"VLOOKUP($G$2:$G$50000,'Location Type (FICM Codes)'!$A$7:$B$188,2,FALSE)","v":{"$error":"#N/A"}},null,null,null,null,null,{"$f":"VLOOKUP(G9575:G19573,'Location Type (FICM Codes)'!$A$7:$C$188,3,FALSE)","v":{"$error":"#N/A"}}]
[null,null,null,null,null,null,null,{"$f":"VLOOKUP($G$2:$G$50000,'Location Type (FICM Codes)'!$A$7:$B$188,2,FALSE)","v":{"$error":"#N/A"}},null,null,null,null,null,{"$f":"VLOOKUP(G9576:G19574,'Location Type (FICM Codes)'!$A$7:$C$188,3,FALSE)","v":{"$error":"#N/A"}}]
[null,null,null,null,null,null,null,{"$f":"VLOOKUP($G$2:$G$50000,'Location Type (FICM Codes)'!$A$7:$B$188,2,FALSE)","v":{"$error":"#N/A"}},null,null,null,null,null,{"$f":"VLOOKUP(G9577:G19575,'Location Type (FICM Codes)'!$A$7:$C$188,3,FALSE)","v":{"$error":"#N/A"}}]
[null,null,null,null,null,null,null,{"$f":"VLOOKUP($G$2:$G$50000,'Location Type (FICM Codes)'!$A$7:$B$188,2,FALSE)","v":{"$error":"#N/A"}},null,null,null,null,null,{"$f":"VLOOKUP(G9578:G19576,'Location Type (FICM Codes)'!$A$7:$C$188,3,FALSE)","v":{"$error":"#N/A"}}]
[null,null,null,null,null,null,null,{"$f":"VLOOKUP($G$2:$G$50000,'Location Type (FICM Codes)'!$A$7:$B$188,2,FALSE)","v":{"$error":"#N/A"}},null,null,null,null,null,{"$f":"VLOOKUP(G9579:G19577,'Location Type (FICM Codes)'!$A$7:$C$188,3,FALSE)","v":{"$error":"#N/A"}}]
[null,null,null,null,null,null,null,{"$f":"VLOOKUP($G$2:$G$50000,'Location Type (FICM Codes)'!$A$7:$B$188,2,FALSE)","v":{"$error":"#N/A"}},null,null,null,null,null,{"$f":"VLOOKUP(G9580:G19578,'Location Type (FICM Codes)'!$A$7:$C$188,3,FALSE)","v":{"$error":"#N/A"}}]
[null,null,null,null,null,null,null,{"$f":"VLOOKUP($G$2:$G$50000,'Location Type (FICM Codes)'!$A$7:$B$188,2,FALSE)","v":{"$error":"#N/A"}},null,null,null,null,null,{"$f":"VLOOKUP(G9581:G19579,'Location Type (FICM Codes)'!$A$7:$C$188,3,FALSE)","v":{"$error":"#N/A"}}]
[null,null,null,null,null,null,null,{"$f":"VLOOKUP($G$2:$G$50000,'Location Type (FICM Codes)'!$A$7:$B$188,2,FALSE)","v":{"$error":"#N/A"}},null,null,null,null,null,{"$f":"VLOOKUP(G9582:G19580,'Location Type (FICM Codes)'!$A$7:$C$188,3,FALSE)","v":{"$error":"#N/A"}}]
[null,null,null,null,null,null,null,{"$f":"VLOOKUP($G$2:$G$50000,'Location Type (FICM Codes)'!$A$7:$B$188,2,FALSE)","v":{"$error":"#N/A"}},null,null,null,null,null,{"$f":"VLOOKUP(G9583:G19581,'Location Type (FICM Codes)'!$A$7:$C$188,3,FALSE)","v":{"$error":"#N/A"}}]
[null,null,null,null,null,null,null,{"$f":"VLOOKUP($G$2:$G$50000,'Location Type (FICM Codes)'!$A$7:$B$188,2,FALSE)","v":{"$error":"#N/A"}},null,null,null,null,null,{"$f":"VLOOKUP(G9584:G19582,'Location Type (FICM Codes)'!$A$7:$C$188,3,FALSE)","v":{"$error":"#N/A"}}]
[null,null,null,null,null,null,null,{"$f":"VLOOKUP($G$2:$G$50000,'Location Type (FICM Codes)'!$A$7:$B$188,2,FALSE)","v":{"$error":"#N/A"}},null,null,null,null,null,{"$f":"VLOOKUP(G9585:G19583,'Location Type (FICM Codes)'!$A$7:$C$188,3,FALSE)","v":{"$error":"#N/A"}}]
[null,null,null,null,null,null,null,{"$f":"VLOOKUP($G$2:$G$50000,'Location Type (FICM Codes)'!$A$7:$B$188,2,FALSE)","v":{"$error":"#N/A"}},null,null,null,null,null,{"$f":"VLOOKUP(G9586:G19584,'Location Type (FICM Codes)'!$A$7:$C$188,3,FALSE)","v":{"$error":"#N/A"}}]
[null,null,null,null,null,null,null,{"$f":"VLOOKUP($G$2:$G$50000,'Location Type (FICM Codes)'!$A$7:$B$188,2,FALSE)","v":{"$error":"#N/A"}},null,null,null,null,null,{"$f":"VLOOKUP(G9587:G19585,'Location Type (FICM Codes)'!$A$7:$C$188,3,FALSE)","v":{"$error":"#N/A"}}]
[null,null,null,null,null,null,null,{"$f":"VLOOKUP($G$2:$G$50000,'Location Type (FICM Codes)'!$A$7:$B$188,2,FALSE)","v":{"$error":"#N/A"}},null,null,null,null,null,{"$f":"VLOOKUP(G9588:G19586,'Location Type (FICM Codes)'!$A$7:$C$188,3,FALSE)","v":{"$error":"#N/A"}}]
[null,null,null,null,null,null,null,{"$f":"VLOOKUP($G$2:$G$50000,'Location Type (FICM Codes)'!$A$7:$B$188,2,FALSE)","v":{"$error":"#N/A"}},null,null,null,null,null,{"$f":"VLOOKUP(G9589:G19587,'Location Type (FICM Codes)'!$A$7:$C$188,3,FALSE)","v":{"$error":"#N/A"}}]
[null,null,null,null,null,null,null,{"$f":"VLOOKUP($G$2:$G$50000,'Location Type (FICM Codes)'!$A$7:$B$188,2,FALSE)","v":{"$error":"#N/A"}},null,null,null,null,null,{"$f":"VLOOKUP(G9590:G19588,'Location Type (FICM Codes)'!$A$7:$C$188,3,FALSE)","v":{"$error":"#N/A"}}]
[null,null,null,null,null,null,null,{"$f":"VLOOKUP($G$2:$G$50000,'Location Type (FICM Codes)'!$A$7:$B$188,2,FALSE)","v":{"$error":"#N/A"}},null,null,null,null,null,{"$f":"VLOOKUP(G9591:G19589,'Location Type (FICM Codes)'!$A$7:$C$188,3,FALSE)","v":{"$error":"#N/A"}}]
[null,null,null,null,null,null,null,{"$f":"VLOOKUP($G$2:$G$50000,'Location Type (FICM Codes)'!$A$7:$B$188,2,FALSE)","v":{"$error":"#N/A"}},null,null,null,null,null,{"$f":"VLOOKUP(G9592:G19590,'Location Type (FICM Codes)'!$A$7:$C$188,3,FALSE)","v":{"$error":"#N/A"}}]
[null,null,null,null,null,null,null,{"$f":"VLOOKUP($G$2:$G$50000,'Location Type (FICM Codes)'!$A$7:$B$188,2,FALSE)","v":{"$error":"#N/A"}},null,null,null,null,null,{"$f":"VLOOKUP(G9593:G19591,'Location Type (FICM Codes)'!$A$7:$C$188,3,FALSE)","v":{"$error":"#N/A"}}]
[null,null,null,null,null,null,null,{"$f":"VLOOKUP($G$2:$G$50000,'Location Type (FICM Codes)'!$A$7:$B$188,2,FALSE)","v":{"$error":"#N/A"}},null,null,null,null,null,{"$f":"VLOOKUP(G9594:G19592,'Location Type (FICM Codes)'!$A$7:$C$188,3,FALSE)","v":{"$error":"#N/A"}}]
[null,null,null,null,null,null,null,{"$f":"VLOOKUP($G$2:$G$50000,'Location Type (FICM Codes)'!$A$7:$B$188,2,FALSE)","v":{"$error":"#N/A"}},null,null,null,null,null,{"$f":"VLOOKUP(G9595:G19593,'Location Type (FICM Codes)'!$A$7:$C$188,3,FALSE)","v":{"$error":"#N/A"}}]
[null,null,null,null,null,null,null,{"$f":"VLOOKUP($G$2:$G$50000,'Location Type (FICM Codes)'!$A$7:$B$188,2,FALSE)","v":{"$error":"#N/A"}},null,null,null,null,null,{"$f":"VLOOKUP(G9596:G19594,'Location Type (FICM Codes)'!$A$7:$C$188,3,FALSE)","v":{"$error":"#N/A"}}]
[null,null,null,null,null,null,null,{"$f":"VLOOKUP($G$2:$G$50000,'Location Type (FICM Codes)'!$A$7:$B$188,2,FALSE)","v":{"$error":"#N/A"}},null,null,null,null,null,{"$f":"VLOOKUP(G9597:G19595,'Location Type (FICM Codes)'!$A$7:$C$188,3,FALSE)","v":{"$error":"#N/A"}}]
[null,null,null,null,null,null,null,{"$f":"VLOOKUP($G$2:$G$50000,'Location Type (FICM Codes)'!$A$7:$B$188,2,FALSE)","v":{"$error":"#N/A"}},null,null,null,null,null,{"$f":"VLOOKUP(G9598:G19596,'Location Type (FICM Codes)'!$A$7:$C$188,3,FALSE)","v":{"$error":"#N/A"}}]
[null,null,null,null,null,null,null,{"$f":"VLOOKUP($G$2:$G$50000,'Location Type (FICM Codes)'!$A$7:$B$188,2,FALSE)","v":{"$error":"#N/A"}},null,null,null,null,null,{"$f":"VLOOKUP(G9599:G19597,'Location Type (FICM Codes)'!$A$7:$C$188,3,FALSE)","v":{"$error":"#N/A"}}]
[null,null,null,null,null,null,null,{"$f":"VLOOKUP($G$2:$G$50000,'Location Type (FICM Codes)'!$A$7:$B$188,2,FALSE)","v":{"$error":"#N/A"}},null,null,null,null,null,{"$f":"VLOOKUP(G9600:G19598,'Location Type (FICM Codes)'!$A$7:$C$188,3,FALSE)","v":{"$error":"#N/A"}}]
[null,null,null,null,null,null,null,{"$f":"VLOOKUP($G$2:$G$50000,'Location Type (FICM Codes)'!$A$7:$B$188,2,FALSE)","v":{"$error":"#N/A"}},null,null,null,null,null,{"$f":"VLOOKUP(G9601:G19599,'Location Type (FICM Codes)'!$A$7:$C$188,3,FALSE)","v":{"$error":"#N/A"}}]
[null,null,null,null,null,null,null,{"$f":"VLOOKUP($G$2:$G$50000,'Location Type (FICM Codes)'!$A$7:$B$188,2,FALSE)","v":{"$error":"#N/A"}},null,null,null,null,null,{"$f":"VLOOKUP(G9602:G19600,'Location Type (FICM Codes)'!$A$7:$C$188,3,FALSE)","v":{"$error":"#N/A"}}]
[null,null,null,null,null,null,null,{"$f":"VLOOKUP($G$2:$G$50000,'Location Type (FICM Codes)'!$A$7:$B$188,2,FALSE)","v":{"$error":"#N/A"}},null,null,null,null,null,{"$f":"VLOOKUP(G9603:G19601,'Location Type (FICM Codes)'!$A$7:$C$188,3,FALSE)","v":{"$error":"#N/A"}}]
[null,null,null,null,null,null,null,{"$f":"VLOOKUP($G$2:$G$50000,'Location Type (FICM Codes)'!$A$7:$B$188,2,FALSE)","v":{"$error":"#N/A"}},null,null,null,null,null,{"$f":"VLOOKUP(G9604:G19602,'Location Type (FICM Codes)'!$A$7:$C$188,3,FALSE)","v":{"$error":"#N/A"}}]
[null,null,null,null,null,null,null,{"$f":"VLOOKUP($G$2:$G$50000,'Location Type (FICM Codes)'!$A$7:$B$188,2,FALSE)","v":{"$error":"#N/A"}},null,null,null,null,null,{"$f":"VLOOKUP(G9605:G19603,'Location Type (FICM Codes)'!$A$7:$C$188,3,FALSE)","v":{"$error":"#N/A"}}]
[null,null,null,null,null,null,null,{"$f":"VLOOKUP($G$2:$G$50000,'Location Type (FICM Codes)'!$A$7:$B$188,2,FALSE)","v":{"$error":"#N/A"}},null,null,null,null,null,{"$f":"VLOOKUP(G9606:G19604,'Location Type (FICM Codes)'!$A$7:$C$188,3,FALSE)","v":{"$error":"#N/A"}}]
[null,null,null,null,null,null,null,{"$f":"VLOOKUP($G$2:$G$50000,'Location Type (FICM Codes)'!$A$7:$B$188,2,FALSE)","v":{"$error":"#N/A"}},null,null,null,null,null,{"$f":"VLOOKUP(G9607:G19605,'Location Type (FICM Codes)'!$A$7:$C$188,3,FALSE)","v":{"$error":"#N/A"}}]
[null,null,null,null,null,null,null,{"$f":"VLOOKUP($G$2:$G$50000,'Location Type (FICM Codes)'!$A$7:$B$188,2,FALSE)","v":{"$error":"#N/A"}},null,null,null,null,null,{"$f":"VLOOKUP(G9608:G19606,'Location Type (FICM Codes)'!$A$7:$C$188,3,FALSE)","v":{"$error":"#N/A"}}]
[null,null,null,null,null,null,null,{"$f":"VLOOKUP($G$2:$G$50000,'Location Type (FICM Codes)'!$A$7:$B$188,2,FALSE)","v":{"$error":"#N/A"}},null,null,null,null,null,{"$f":"VLOOKUP(G9609:G19607,'Location Type (FICM Codes)'!$A$7:$C$188,3,FALSE)","v":{"$error":"#N/A"}}]
[null,null,null,null,null,null,null,{"$f":"VLOOKUP($G$2:$G$50000,'Location Type (FICM Codes)'!$A$7:$B$188,2,FALSE)","v":{"$error":"#N/A"}},null,null,null,null,null,{"$f":"VLOOKUP(G9610:G19608,'Location Type (FICM Codes)'!$A$7:$C$188,3,FALSE)","v":{"$error":"#N/A"}}]
[null,null,null,null,null,null,null,{"$f":"VLOOKUP($G$2:$G$50000,'Location Type (FICM Codes)'!$A$7:$B$188,2,FALSE)","v":{"$error":"#N/A"}},null,null,null,null,null,{"$f":"VLOOKUP(G9611:G19609,'Location Type (FICM Codes)'!$A$7:$C$188,3,FALSE)","v":{"$error":"#N/A"}}]
[null,null,null,null,null,null,null,{"$f":"VLOOKUP($G$2:$G$50000,'Location Type (FICM Codes)'!$A$7:$B$188,2,FALSE)","v":{"$error":"#N/A"}},null,null,null,null,null,{"$f":"VLOOKUP(G9612:G19610,'Location Type (FICM Codes)'!$A$7:$C$188,3,FALSE)","v":{"$error":"#N/A"}}]
[null,null,null,null,null,null,null,{"$f":"VLOOKUP($G$2:$G$50000,'Location Type (FICM Codes)'!$A$7:$B$188,2,FALSE)","v":{"$error":"#N/A"}},null,null,null,null,null,{"$f":"VLOOKUP(G9613:G19611,'Location Type (FICM Codes)'!$A$7:$C$188,3,FALSE)","v":{"$error":"#N/A"}}]
[null,null,null,null,null,null,null,{"$f":"VLOOKUP($G$2:$G$50000,'Location Type (FICM Codes)'!$A$7:$B$188,2,FALSE)","v":{"$error":"#N/A"}},null,null,null,null,null,{"$f":"VLOOKUP(G9614:G19612,'Location Type (FICM Codes)'!$A$7:$C$188,3,FALSE)","v":{"$error":"#N/A"}}]
[null,null,null,null,null,null,null,{"$f":"VLOOKUP($G$2:$G$50000,'Location Type (FICM Codes)'!$A$7:$B$188,2,FALSE)","v":{"$error":"#N/A"}},null,null,null,null,null,{"$f":"VLOOKUP(G9615:G19613,'Location Type (FICM Codes)'!$A$7:$C$188,3,FALSE)","v":{"$error":"#N/A"}}]
[null,null,null,null,null,null,null,{"$f":"VLOOKUP($G$2:$G$50000,'Location Type (FICM Codes)'!$A$7:$B$188,2,FALSE)","v":{"$error":"#N/A"}},null,null,null,null,null,{"$f":"VLOOKUP(G9616:G19614,'Location Type (FICM Codes)'!$A$7:$C$188,3,FALSE)","v":{"$error":"#N/A"}}]
[null,null,null,null,null,null,null,{"$f":"VLOOKUP($G$2:$G$50000,'Location Type (FICM Codes)'!$A$7:$B$188,2,FALSE)","v":{"$error":"#N/A"}},null,null,null,null,null,{"$f":"VLOOKUP(G9617:G19615,'Location Type (FICM Codes)'!$A$7:$C$188,3,FALSE)","v":{"$error":"#N/A"}}]
[null,null,null,null,null,null,null,{"$f":"VLOOKUP($G$2:$G$50000,'Location Type (FICM Codes)'!$A$7:$B$188,2,FALSE)","v":{"$error":"#N/A"}},null,null,null,null,null,{"$f":"VLOOKUP(G9618:G19616,'Location Type (FICM Codes)'!$A$7:$C$188,3,FALSE)","v":{"$error":"#N/A"}}]
[null,null,null,null,null,null,null,{"$f":"VLOOKUP($G$2:$G$50000,'Location Type (FICM Codes)'!$A$7:$B$188,2,FALSE)","v":{"$error":"#N/A"}},null,null,null,null,null,{"$f":"VLOOKUP(G9619:G19617,'Location Type (FICM Codes)'!$A$7:$C$188,3,FALSE)","v":{"$error":"#N/A"}}]
[null,null,null,null,null,null,null,{"$f":"VLOOKUP($G$2:$G$50000,'Location Type (FICM Codes)'!$A$7:$B$188,2,FALSE)","v":{"$error":"#N/A"}},null,null,null,null,null,{"$f":"VLOOKUP(G9620:G19618,'Location Type (FICM Codes)'!$A$7:$C$188,3,FALSE)","v":{"$error":"#N/A"}}]
[null,null,null,null,null,null,null,{"$f":"VLOOKUP($G$2:$G$50000,'Location Type (FICM Codes)'!$A$7:$B$188,2,FALSE)","v":{"$error":"#N/A"}},null,null,null,null,null,{"$f":"VLOOKUP(G9621:G19619,'Location Type (FICM Codes)'!$A$7:$C$188,3,FALSE)","v":{"$error":"#N/A"}}]
[null,null,null,null,null,null,null,{"$f":"VLOOKUP($G$2:$G$50000,'Location Type (FICM Codes)'!$A$7:$B$188,2,FALSE)","v":{"$error":"#N/A"}},null,null,null,null,null,{"$f":"VLOOKUP(G9622:G19620,'Location Type (FICM Codes)'!$A$7:$C$188,3,FALSE)","v":{"$error":"#N/A"}}]
[null,null,null,null,null,null,null,{"$f":"VLOOKUP($G$2:$G$50000,'Location Type (FICM Codes)'!$A$7:$B$188,2,FALSE)","v":{"$error":"#N/A"}},null,null,null,null,null,{"$f":"VLOOKUP(G9623:G19621,'Location Type (FICM Codes)'!$A$7:$C$188,3,FALSE)","v":{"$error":"#N/A"}}]
[null,null,null,null,null,null,null,{"$f":"VLOOKUP($G$2:$G$50000,'Location Type (FICM Codes)'!$A$7:$B$188,2,FALSE)","v":{"$error":"#N/A"}},null,null,null,null,null,{"$f":"VLOOKUP(G9624:G19622,'Location Type (FICM Codes)'!$A$7:$C$188,3,FALSE)","v":{"$error":"#N/A"}}]
[null,null,null,null,null,null,null,{"$f":"VLOOKUP($G$2:$G$50000,'Location Type (FICM Codes)'!$A$7:$B$188,2,FALSE)","v":{"$error":"#N/A"}},null,null,null,null,null,{"$f":"VLOOKUP(G9625:G19623,'Location Type (FICM Codes)'!$A$7:$C$188,3,FALSE)","v":{"$error":"#N/A"}}]
[null,null,null,null,null,null,null,{"$f":"VLOOKUP($G$2:$G$50000,'Location Type (FICM Codes)'!$A$7:$B$188,2,FALSE)","v":{"$error":"#N/A"}},null,null,null,null,null,{"$f":"VLOOKUP(G9626:G19624,'Location Type (FICM Codes)'!$A$7:$C$188,3,FALSE)","v":{"$error":"#N/A"}}]
[null,null,null,null,null,null,null,{"$f":"VLOOKUP($G$2:$G$50000,'Location Type (FICM Codes)'!$A$7:$B$188,2,FALSE)","v":{"$error":"#N/A"}},null,null,null,null,null,{"$f":"VLOOKUP(G9627:G19625,'Location Type (FICM Codes)'!$A$7:$C$188,3,FALSE)","v":{"$error":"#N/A"}}]
[null,null,null,null,null,null,null,{"$f":"VLOOKUP($G$2:$G$50000,'Location Type (FICM Codes)'!$A$7:$B$188,2,FALSE)","v":{"$error":"#N/A"}},null,null,null,null,null,{"$f":"VLOOKUP(G9628:G19626,'Location Type (FICM Codes)'!$A$7:$C$188,3,FALSE)","v":{"$error":"#N/A"}}]
[null,null,null,null,null,null,null,{"$f":"VLOOKUP($G$2:$G$50000,'Location Type (FICM Codes)'!$A$7:$B$188,2,FALSE)","v":{"$error":"#N/A"}},null,null,null,null,null,{"$f":"VLOOKUP(G9629:G19627,'Location Type (FICM Codes)'!$A$7:$C$188,3,FALSE)","v":{"$error":"#N/A"}}]
[null,null,null,null,null,null,null,{"$f":"VLOOKUP($G$2:$G$50000,'Location Type (FICM Codes)'!$A$7:$B$188,2,FALSE)","v":{"$error":"#N/A"}},null,null,null,null,null,{"$f":"VLOOKUP(G9630:G19628,'Location Type (FICM Codes)'!$A$7:$C$188,3,FALSE)","v":{"$error":"#N/A"}}]
[null,null,null,null,null,null,null,{"$f":"VLOOKUP($G$2:$G$50000,'Location Type (FICM Codes)'!$A$7:$B$188,2,FALSE)","v":{"$error":"#N/A"}},null,null,null,null,null,{"$f":"VLOOKUP(G9631:G19629,'Location Type (FICM Codes)'!$A$7:$C$188,3,FALSE)","v":{"$error":"#N/A"}}]
[null,null,null,null,null,null,null,{"$f":"VLOOKUP($G$2:$G$50000,'Location Type (FICM Codes)'!$A$7:$B$188,2,FALSE)","v":{"$error":"#N/A"}},null,null,null,null,null,{"$f":"VLOOKUP(G9632:G19630,'Location Type (FICM Codes)'!$A$7:$C$188,3,FALSE)","v":{"$error":"#N/A"}}]
[null,null,null,null,null,null,null,{"$f":"VLOOKUP($G$2:$G$50000,'Location Type (FICM Codes)'!$A$7:$B$188,2,FALSE)","v":{"$error":"#N/A"}},null,null,null,null,null,{"$f":"VLOOKUP(G9633:G19631,'Location Type (FICM Codes)'!$A$7:$C$188,3,FALSE)","v":{"$error":"#N/A"}}]
[null,null,null,null,null,null,null,{"$f":"VLOOKUP($G$2:$G$50000,'Location Type (FICM Codes)'!$A$7:$B$188,2,FALSE)","v":{"$error":"#N/A"}},null,null,null,null,null,{"$f":"VLOOKUP(G9634:G19632,'Location Type (FICM Codes)'!$A$7:$C$188,3,FALSE)","v":{"$error":"#N/A"}}]
[null,null,null,null,null,null,null,{"$f":"VLOOKUP($G$2:$G$50000,'Location Type (FICM Codes)'!$A$7:$B$188,2,FALSE)","v":{"$error":"#N/A"}},null,null,null,null,null,{"$f":"VLOOKUP(G9635:G19633,'Location Type (FICM Codes)'!$A$7:$C$188,3,FALSE)","v":{"$error":"#N/A"}}]
[null,null,null,null,null,null,null,{"$f":"VLOOKUP($G$2:$G$50000,'Location Type (FICM Codes)'!$A$7:$B$188,2,FALSE)","v":{"$error":"#N/A"}},null,null,null,null,null,{"$f":"VLOOKUP(G9636:G19634,'Location Type (FICM Codes)'!$A$7:$C$188,3,FALSE)","v":{"$error":"#N/A"}}]
[null,null,null,null,null,null,null,{"$f":"VLOOKUP($G$2:$G$50000,'Location Type (FICM Codes)'!$A$7:$B$188,2,FALSE)","v":{"$error":"#N/A"}},null,null,null,null,null,{"$f":"VLOOKUP(G9637:G19635,'Location Type (FICM Codes)'!$A$7:$C$188,3,FALSE)","v":{"$error":"#N/A"}}]
[null,null,null,null,null,null,null,{"$f":"VLOOKUP($G$2:$G$50000,'Location Type (FICM Codes)'!$A$7:$B$188,2,FALSE)","v":{"$error":"#N/A"}},null,null,null,null,null,{"$f":"VLOOKUP(G9638:G19636,'Location Type (FICM Codes)'!$A$7:$C$188,3,FALSE)","v":{"$error":"#N/A"}}]
[null,null,null,null,null,null,null,{"$f":"VLOOKUP($G$2:$G$50000,'Location Type (FICM Codes)'!$A$7:$B$188,2,FALSE)","v":{"$error":"#N/A"}},null,null,null,null,null,{"$f":"VLOOKUP(G9639:G19637,'Location Type (FICM Codes)'!$A$7:$C$188,3,FALSE)","v":{"$error":"#N/A"}}]
[null,null,null,null,null,null,null,{"$f":"VLOOKUP($G$2:$G$50000,'Location Type (FICM Codes)'!$A$7:$B$188,2,FALSE)","v":{"$error":"#N/A"}},null,null,null,null,null,{"$f":"VLOOKUP(G9640:G19638,'Location Type (FICM Codes)'!$A$7:$C$188,3,FALSE)","v":{"$error":"#N/A"}}]
[null,null,null,null,null,null,null,{"$f":"VLOOKUP($G$2:$G$50000,'Location Type (FICM Codes)'!$A$7:$B$188,2,FALSE)","v":{"$error":"#N/A"}},null,null,null,null,null,{"$f":"VLOOKUP(G9641:G19639,'Location Type (FICM Codes)'!$A$7:$C$188,3,FALSE)","v":{"$error":"#N/A"}}]
[null,null,null,null,null,null,null,{"$f":"VLOOKUP($G$2:$G$50000,'Location Type (FICM Codes)'!$A$7:$B$188,2,FALSE)","v":{"$error":"#N/A"}},null,null,null,null,null,{"$f":"VLOOKUP(G9642:G19640,'Location Type (FICM Codes)'!$A$7:$C$188,3,FALSE)","v":{"$error":"#N/A"}}]
[null,null,null,null,null,null,null,{"$f":"VLOOKUP($G$2:$G$50000,'Location Type (FICM Codes)'!$A$7:$B$188,2,FALSE)","v":{"$error":"#N/A"}},null,null,null,null,null,{"$f":"VLOOKUP(G9643:G19641,'Location Type (FICM Codes)'!$A$7:$C$188,3,FALSE)","v":{"$error":"#N/A"}}]
[null,null,null,null,null,null,null,{"$f":"VLOOKUP($G$2:$G$50000,'Location Type (FICM Codes)'!$A$7:$B$188,2,FALSE)","v":{"$error":"#N/A"}},null,null,null,null,null,{"$f":"VLOOKUP(G9644:G19642,'Location Type (FICM Codes)'!$A$7:$C$188,3,FALSE)","v":{"$error":"#N/A"}}]
[null,null,null,null,null,null,null,{"$f":"VLOOKUP($G$2:$G$50000,'Location Type (FICM Codes)'!$A$7:$B$188,2,FALSE)","v":{"$error":"#N/A"}},null,null,null,null,null,{"$f":"VLOOKUP(G9645:G19643,'Location Type (FICM Codes)'!$A$7:$C$188,3,FALSE)","v":{"$error":"#N/A"}}]
[null,null,null,null,null,null,null,{"$f":"VLOOKUP($G$2:$G$50000,'Location Type (FICM Codes)'!$A$7:$B$188,2,FALSE)","v":{"$error":"#N/A"}},null,null,null,null,null,{"$f":"VLOOKUP(G9646:G19644,'Location Type (FICM Codes)'!$A$7:$C$188,3,FALSE)","v":{"$error":"#N/A"}}]
[null,null,null,null,null,null,null,{"$f":"VLOOKUP($G$2:$G$50000,'Location Type (FICM Codes)'!$A$7:$B$188,2,FALSE)","v":{"$error":"#N/A"}},null,null,null,null,null,{"$f":"VLOOKUP(G9647:G19645,'Location Type (FICM Codes)'!$A$7:$C$188,3,FALSE)","v":{"$error":"#N/A"}}]
[null,null,null,null,null,null,null,{"$f":"VLOOKUP($G$2:$G$50000,'Location Type (FICM Codes)'!$A$7:$B$188,2,FALSE)","v":{"$error":"#N/A"}},null,null,null,null,null,{"$f":"VLOOKUP(G9648:G19646,'Location Type (FICM Codes)'!$A$7:$C$188,3,FALSE)","v":{"$error":"#N/A"}}]
[null,null,null,null,null,null,null,{"$f":"VLOOKUP($G$2:$G$50000,'Location Type (FICM Codes)'!$A$7:$B$188,2,FALSE)","v":{"$error":"#N/A"}},null,null,null,null,null,{"$f":"VLOOKUP(G9649:G19647,'Location Type (FICM Codes)'!$A$7:$C$188,3,FALSE)","v":{"$error":"#N/A"}}]
[null,null,null,null,null,null,null,{"$f":"VLOOKUP($G$2:$G$50000,'Location Type (FICM Codes)'!$A$7:$B$188,2,FALSE)","v":{"$error":"#N/A"}},null,null,null,null,null,{"$f":"VLOOKUP(G9650:G19648,'Location Type (FICM Codes)'!$A$7:$C$188,3,FALSE)","v":{"$error":"#N/A"}}]
[null,null,null,null,null,null,null,{"$f":"VLOOKUP($G$2:$G$50000,'Location Type (FICM Codes)'!$A$7:$B$188,2,FALSE)","v":{"$error":"#N/A"}},null,null,null,null,null,{"$f":"VLOOKUP(G9651:G19649,'Location Type (FICM Codes)'!$A$7:$C$188,3,FALSE)","v":{"$error":"#N/A"}}]
[null,null,null,null,null,null,null,{"$f":"VLOOKUP($G$2:$G$50000,'Location Type (FICM Codes)'!$A$7:$B$188,2,FALSE)","v":{"$error":"#N/A"}},null,null,null,null,null,{"$f":"VLOOKUP(G9652:G19650,'Location Type (FICM Codes)'!$A$7:$C$188,3,FALSE)","v":{"$error":"#N/A"}}]
[null,null,null,null,null,null,null,{"$f":"VLOOKUP($G$2:$G$50000,'Location Type (FICM Codes)'!$A$7:$B$188,2,FALSE)","v":{"$error":"#N/A"}},null,null,null,null,null,{"$f":"VLOOKUP(G9653:G19651,'Location Type (FICM Codes)'!$A$7:$C$188,3,FALSE)","v":{"$error":"#N/A"}}]
[null,null,null,null,null,null,null,{"$f":"VLOOKUP($G$2:$G$50000,'Location Type (FICM Codes)'!$A$7:$B$188,2,FALSE)","v":{"$error":"#N/A"}},null,null,null,null,null,{"$f":"VLOOKUP(G9654:G19652,'Location Type (FICM Codes)'!$A$7:$C$188,3,FALSE)","v":{"$error":"#N/A"}}]
[null,null,null,null,null,null,null,{"$f":"VLOOKUP($G$2:$G$50000,'Location Type (FICM Codes)'!$A$7:$B$188,2,FALSE)","v":{"$error":"#N/A"}},null,null,null,null,null,{"$f":"VLOOKUP(G9655:G19653,'Location Type (FICM Codes)'!$A$7:$C$188,3,FALSE)","v":{"$error":"#N/A"}}]
[null,null,null,null,null,null,null,{"$f":"VLOOKUP($G$2:$G$50000,'Location Type (FICM Codes)'!$A$7:$B$188,2,FALSE)","v":{"$error":"#N/A"}},null,null,null,null,null,{"$f":"VLOOKUP(G9656:G19654,'Location Type (FICM Codes)'!$A$7:$C$188,3,FALSE)","v":{"$error":"#N/A"}}]
[null,null,null,null,null,null,null,{"$f":"VLOOKUP($G$2:$G$50000,'Location Type (FICM Codes)'!$A$7:$B$188,2,FALSE)","v":{"$error":"#N/A"}},null,null,null,null,null,{"$f":"VLOOKUP(G9657:G19655,'Location Type (FICM Codes)'!$A$7:$C$188,3,FALSE)","v":{"$error":"#N/A"}}]
[null,null,null,null,null,null,null,{"$f":"VLOOKUP($G$2:$G$50000,'Location Type (FICM Codes)'!$A$7:$B$188,2,FALSE)","v":{"$error":"#N/A"}},null,null,null,null,null,{"$f":"VLOOKUP(G9658:G19656,'Location Type (FICM Codes)'!$A$7:$C$188,3,FALSE)","v":{"$error":"#N/A"}}]
[null,null,null,null,null,null,null,{"$f":"VLOOKUP($G$2:$G$50000,'Location Type (FICM Codes)'!$A$7:$B$188,2,FALSE)","v":{"$error":"#N/A"}},null,null,null,null,null,{"$f":"VLOOKUP(G9659:G19657,'Location Type (FICM Codes)'!$A$7:$C$188,3,FALSE)","v":{"$error":"#N/A"}}]
[null,null,null,null,null,null,null,{"$f":"VLOOKUP($G$2:$G$50000,'Location Type (FICM Codes)'!$A$7:$B$188,2,FALSE)","v":{"$error":"#N/A"}},null,null,null,null,null,{"$f":"VLOOKUP(G9660:G19658,'Location Type (FICM Codes)'!$A$7:$C$188,3,FALSE)","v":{"$error":"#N/A"}}]
[null,null,null,null,null,null,null,{"$f":"VLOOKUP($G$2:$G$50000,'Location Type (FICM Codes)'!$A$7:$B$188,2,FALSE)","v":{"$error":"#N/A"}},null,null,null,null,null,{"$f":"VLOOKUP(G9661:G19659,'Location Type (FICM Codes)'!$A$7:$C$188,3,FALSE)","v":{"$error":"#N/A"}}]
[null,null,null,null,null,null,null,{"$f":"VLOOKUP($G$2:$G$50000,'Location Type (FICM Codes)'!$A$7:$B$188,2,FALSE)","v":{"$error":"#N/A"}},null,null,null,null,null,{"$f":"VLOOKUP(G9662:G19660,'Location Type (FICM Codes)'!$A$7:$C$188,3,FALSE)","v":{"$error":"#N/A"}}]
[null,null,null,null,null,null,null,{"$f":"VLOOKUP($G$2:$G$50000,'Location Type (FICM Codes)'!$A$7:$B$188,2,FALSE)","v":{"$error":"#N/A"}},null,null,null,null,null,{"$f":"VLOOKUP(G9663:G19661,'Location Type (FICM Codes)'!$A$7:$C$188,3,FALSE)","v":{"$error":"#N/A"}}]
[null,null,null,null,null,null,null,{"$f":"VLOOKUP($G$2:$G$50000,'Location Type (FICM Codes)'!$A$7:$B$188,2,FALSE)","v":{"$error":"#N/A"}},null,null,null,null,null,{"$f":"VLOOKUP(G9664:G19662,'Location Type (FICM Codes)'!$A$7:$C$188,3,FALSE)","v":{"$error":"#N/A"}}]
[null,null,null,null,null,null,null,{"$f":"VLOOKUP($G$2:$G$50000,'Location Type (FICM Codes)'!$A$7:$B$188,2,FALSE)","v":{"$error":"#N/A"}},null,null,null,null,null,{"$f":"VLOOKUP(G9665:G19663,'Location Type (FICM Codes)'!$A$7:$C$188,3,FALSE)","v":{"$error":"#N/A"}}]
[null,null,null,null,null,null,null,{"$f":"VLOOKUP($G$2:$G$50000,'Location Type (FICM Codes)'!$A$7:$B$188,2,FALSE)","v":{"$error":"#N/A"}},null,null,null,null,null,{"$f":"VLOOKUP(G9666:G19664,'Location Type (FICM Codes)'!$A$7:$C$188,3,FALSE)","v":{"$error":"#N/A"}}]
[null,null,null,null,null,null,null,{"$f":"VLOOKUP($G$2:$G$50000,'Location Type (FICM Codes)'!$A$7:$B$188,2,FALSE)","v":{"$error":"#N/A"}},null,null,null,null,null,{"$f":"VLOOKUP(G9667:G19665,'Location Type (FICM Codes)'!$A$7:$C$188,3,FALSE)","v":{"$error":"#N/A"}}]
[null,null,null,null,null,null,null,{"$f":"VLOOKUP($G$2:$G$50000,'Location Type (FICM Codes)'!$A$7:$B$188,2,FALSE)","v":{"$error":"#N/A"}},null,null,null,null,null,{"$f":"VLOOKUP(G9668:G19666,'Location Type (FICM Codes)'!$A$7:$C$188,3,FALSE)","v":{"$error":"#N/A"}}]
[null,null,null,null,null,null,null,{"$f":"VLOOKUP($G$2:$G$50000,'Location Type (FICM Codes)'!$A$7:$B$188,2,FALSE)","v":{"$error":"#N/A"}},null,null,null,null,null,{"$f":"VLOOKUP(G9669:G19667,'Location Type (FICM Codes)'!$A$7:$C$188,3,FALSE)","v":{"$error":"#N/A"}}]
[null,null,null,null,null,null,null,{"$f":"VLOOKUP($G$2:$G$50000,'Location Type (FICM Codes)'!$A$7:$B$188,2,FALSE)","v":{"$error":"#N/A"}},null,null,null,null,null,{"$f":"VLOOKUP(G9670:G19668,'Location Type (FICM Codes)'!$A$7:$C$188,3,FALSE)","v":{"$error":"#N/A"}}]
[null,null,null,null,null,null,null,{"$f":"VLOOKUP($G$2:$G$50000,'Location Type (FICM Codes)'!$A$7:$B$188,2,FALSE)","v":{"$error":"#N/A"}},null,null,null,null,null,{"$f":"VLOOKUP(G9671:G19669,'Location Type (FICM Codes)'!$A$7:$C$188,3,FALSE)","v":{"$error":"#N/A"}}]
[null,null,null,null,null,null,null,{"$f":"VLOOKUP($G$2:$G$50000,'Location Type (FICM Codes)'!$A$7:$B$188,2,FALSE)","v":{"$error":"#N/A"}},null,null,null,null,null,{"$f":"VLOOKUP(G9672:G19670,'Location Type (FICM Codes)'!$A$7:$C$188,3,FALSE)","v":{"$error":"#N/A"}}]
[null,null,null,null,null,null,null,{"$f":"VLOOKUP($G$2:$G$50000,'Location Type (FICM Codes)'!$A$7:$B$188,2,FALSE)","v":{"$error":"#N/A"}},null,null,null,null,null,{"$f":"VLOOKUP(G9673:G19671,'Location Type (FICM Codes)'!$A$7:$C$188,3,FALSE)","v":{"$error":"#N/A"}}]
[null,null,null,null,null,null,null,{"$f":"VLOOKUP($G$2:$G$50000,'Location Type (FICM Codes)'!$A$7:$B$188,2,FALSE)","v":{"$error":"#N/A"}},null,null,null,null,null,{"$f":"VLOOKUP(G9674:G19672,'Location Type (FICM Codes)'!$A$7:$C$188,3,FALSE)","v":{"$error":"#N/A"}}]
[null,null,null,null,null,null,null,{"$f":"VLOOKUP($G$2:$G$50000,'Location Type (FICM Codes)'!$A$7:$B$188,2,FALSE)","v":{"$error":"#N/A"}},null,null,null,null,null,{"$f":"VLOOKUP(G9675:G19673,'Location Type (FICM Codes)'!$A$7:$C$188,3,FALSE)","v":{"$error":"#N/A"}}]
[null,null,null,null,null,null,null,{"$f":"VLOOKUP($G$2:$G$50000,'Location Type (FICM Codes)'!$A$7:$B$188,2,FALSE)","v":{"$error":"#N/A"}},null,null,null,null,null,{"$f":"VLOOKUP(G9676:G19674,'Location Type (FICM Codes)'!$A$7:$C$188,3,FALSE)","v":{"$error":"#N/A"}}]
[null,null,null,null,null,null,null,{"$f":"VLOOKUP($G$2:$G$50000,'Location Type (FICM Codes)'!$A$7:$B$188,2,FALSE)","v":{"$error":"#N/A"}},null,null,null,null,null,{"$f":"VLOOKUP(G9677:G19675,'Location Type (FICM Codes)'!$A$7:$C$188,3,FALSE)","v":{"$error":"#N/A"}}]
[null,null,null,null,null,null,null,{"$f":"VLOOKUP($G$2:$G$50000,'Location Type (FICM Codes)'!$A$7:$B$188,2,FALSE)","v":{"$error":"#N/A"}},null,null,null,null,null,{"$f":"VLOOKUP(G9678:G19676,'Location Type (FICM Codes)'!$A$7:$C$188,3,FALSE)","v":{"$error":"#N/A"}}]
[null,null,null,null,null,null,null,{"$f":"VLOOKUP($G$2:$G$50000,'Location Type (FICM Codes)'!$A$7:$B$188,2,FALSE)","v":{"$error":"#N/A"}},null,null,null,null,null,{"$f":"VLOOKUP(G9679:G19677,'Location Type (FICM Codes)'!$A$7:$C$188,3,FALSE)","v":{"$error":"#N/A"}}]
[null,null,null,null,null,null,null,{"$f":"VLOOKUP($G$2:$G$50000,'Location Type (FICM Codes)'!$A$7:$B$188,2,FALSE)","v":{"$error":"#N/A"}},null,null,null,null,null,{"$f":"VLOOKUP(G9680:G19678,'Location Type (FICM Codes)'!$A$7:$C$188,3,FALSE)","v":{"$error":"#N/A"}}]
[null,null,null,null,null,null,null,{"$f":"VLOOKUP($G$2:$G$50000,'Location Type (FICM Codes)'!$A$7:$B$188,2,FALSE)","v":{"$error":"#N/A"}},null,null,null,null,null,{"$f":"VLOOKUP(G9681:G19679,'Location Type (FICM Codes)'!$A$7:$C$188,3,FALSE)","v":{"$error":"#N/A"}}]
[null,null,null,null,null,null,null,{"$f":"VLOOKUP($G$2:$G$50000,'Location Type (FICM Codes)'!$A$7:$B$188,2,FALSE)","v":{"$error":"#N/A"}},null,null,null,null,null,{"$f":"VLOOKUP(G9682:G19680,'Location Type (FICM Codes)'!$A$7:$C$188,3,FALSE)","v":{"$error":"#N/A"}}]
[null,null,null,null,null,null,null,{"$f":"VLOOKUP($G$2:$G$50000,'Location Type (FICM Codes)'!$A$7:$B$188,2,FALSE)","v":{"$error":"#N/A"}},null,null,null,null,null,{"$f":"VLOOKUP(G9683:G19681,'Location Type (FICM Codes)'!$A$7:$C$188,3,FALSE)","v":{"$error":"#N/A"}}]
[null,null,null,null,null,null,null,{"$f":"VLOOKUP($G$2:$G$50000,'Location Type (FICM Codes)'!$A$7:$B$188,2,FALSE)","v":{"$error":"#N/A"}},null,null,null,null,null,{"$f":"VLOOKUP(G9684:G19682,'Location Type (FICM Codes)'!$A$7:$C$188,3,FALSE)","v":{"$error":"#N/A"}}]
[null,null,null,null,null,null,null,{"$f":"VLOOKUP($G$2:$G$50000,'Location Type (FICM Codes)'!$A$7:$B$188,2,FALSE)","v":{"$error":"#N/A"}},null,null,null,null,null,{"$f":"VLOOKUP(G9685:G19683,'Location Type (FICM Codes)'!$A$7:$C$188,3,FALSE)","v":{"$error":"#N/A"}}]
[null,null,null,null,null,null,null,{"$f":"VLOOKUP($G$2:$G$50000,'Location Type (FICM Codes)'!$A$7:$B$188,2,FALSE)","v":{"$error":"#N/A"}},null,null,null,null,null,{"$f":"VLOOKUP(G9686:G19684,'Location Type (FICM Codes)'!$A$7:$C$188,3,FALSE)","v":{"$error":"#N/A"}}]
[null,null,null,null,null,null,null,{"$f":"VLOOKUP($G$2:$G$50000,'Location Type (FICM Codes)'!$A$7:$B$188,2,FALSE)","v":{"$error":"#N/A"}},null,null,null,null,null,{"$f":"VLOOKUP(G9687:G19685,'Location Type (FICM Codes)'!$A$7:$C$188,3,FALSE)","v":{"$error":"#N/A"}}]
[null,null,null,null,null,null,null,{"$f":"VLOOKUP($G$2:$G$50000,'Location Type (FICM Codes)'!$A$7:$B$188,2,FALSE)","v":{"$error":"#N/A"}},null,null,null,null,null,{"$f":"VLOOKUP(G9688:G19686,'Location Type (FICM Codes)'!$A$7:$C$188,3,FALSE)","v":{"$error":"#N/A"}}]
[null,null,null,null,null,null,null,{"$f":"VLOOKUP($G$2:$G$50000,'Location Type (FICM Codes)'!$A$7:$B$188,2,FALSE)","v":{"$error":"#N/A"}},null,null,null,null,null,{"$f":"VLOOKUP(G9689:G19687,'Location Type (FICM Codes)'!$A$7:$C$188,3,FALSE)","v":{"$error":"#N/A"}}]
[null,null,null,null,null,null,null,{"$f":"VLOOKUP($G$2:$G$50000,'Location Type (FICM Codes)'!$A$7:$B$188,2,FALSE)","v":{"$error":"#N/A"}},null,null,null,null,null,{"$f":"VLOOKUP(G9690:G19688,'Location Type (FICM Codes)'!$A$7:$C$188,3,FALSE)","v":{"$error":"#N/A"}}]
[null,null,null,null,null,null,null,{"$f":"VLOOKUP($G$2:$G$50000,'Location Type (FICM Codes)'!$A$7:$B$188,2,FALSE)","v":{"$error":"#N/A"}},null,null,null,null,null,{"$f":"VLOOKUP(G9691:G19689,'Location Type (FICM Codes)'!$A$7:$C$188,3,FALSE)","v":{"$error":"#N/A"}}]
[null,null,null,null,null,null,null,{"$f":"VLOOKUP($G$2:$G$50000,'Location Type (FICM Codes)'!$A$7:$B$188,2,FALSE)","v":{"$error":"#N/A"}},null,null,null,null,null,{"$f":"VLOOKUP(G9692:G19690,'Location Type (FICM Codes)'!$A$7:$C$188,3,FALSE)","v":{"$error":"#N/A"}}]
[null,null,null,null,null,null,null,{"$f":"VLOOKUP($G$2:$G$50000,'Location Type (FICM Codes)'!$A$7:$B$188,2,FALSE)","v":{"$error":"#N/A"}},null,null,null,null,null,{"$f":"VLOOKUP(G9693:G19691,'Location Type (FICM Codes)'!$A$7:$C$188,3,FALSE)","v":{"$error":"#N/A"}}]
[null,null,null,null,null,null,null,{"$f":"VLOOKUP($G$2:$G$50000,'Location Type (FICM Codes)'!$A$7:$B$188,2,FALSE)","v":{"$error":"#N/A"}},null,null,null,null,null,{"$f":"VLOOKUP(G9694:G19692,'Location Type (FICM Codes)'!$A$7:$C$188,3,FALSE)","v":{"$error":"#N/A"}}]
[null,null,null,null,null,null,null,{"$f":"VLOOKUP($G$2:$G$50000,'Location Type (FICM Codes)'!$A$7:$B$188,2,FALSE)","v":{"$error":"#N/A"}},null,null,null,null,null,{"$f":"VLOOKUP(G9695:G19693,'Location Type (FICM Codes)'!$A$7:$C$188,3,FALSE)","v":{"$error":"#N/A"}}]
[null,null,null,null,null,null,null,{"$f":"VLOOKUP($G$2:$G$50000,'Location Type (FICM Codes)'!$A$7:$B$188,2,FALSE)","v":{"$error":"#N/A"}},null,null,null,null,null,{"$f":"VLOOKUP(G9696:G19694,'Location Type (FICM Codes)'!$A$7:$C$188,3,FALSE)","v":{"$error":"#N/A"}}]
[null,null,null,null,null,null,null,{"$f":"VLOOKUP($G$2:$G$50000,'Location Type (FICM Codes)'!$A$7:$B$188,2,FALSE)","v":{"$error":"#N/A"}},null,null,null,null,null,{"$f":"VLOOKUP(G9697:G19695,'Location Type (FICM Codes)'!$A$7:$C$188,3,FALSE)","v":{"$error":"#N/A"}}]
[null,null,null,null,null,null,null,{"$f":"VLOOKUP($G$2:$G$50000,'Location Type (FICM Codes)'!$A$7:$B$188,2,FALSE)","v":{"$error":"#N/A"}},null,null,null,null,null,{"$f":"VLOOKUP(G9698:G19696,'Location Type (FICM Codes)'!$A$7:$C$188,3,FALSE)","v":{"$error":"#N/A"}}]
[null,null,null,null,null,null,null,{"$f":"VLOOKUP($G$2:$G$50000,'Location Type (FICM Codes)'!$A$7:$B$188,2,FALSE)","v":{"$error":"#N/A"}},null,null,null,null,null,{"$f":"VLOOKUP(G9699:G19697,'Location Type (FICM Codes)'!$A$7:$C$188,3,FALSE)","v":{"$error":"#N/A"}}]
[null,null,null,null,null,null,null,{"$f":"VLOOKUP($G$2:$G$50000,'Location Type (FICM Codes)'!$A$7:$B$188,2,FALSE)","v":{"$error":"#N/A"}},null,null,null,null,null,{"$f":"VLOOKUP(G9700:G19698,'Location Type (FICM Codes)'!$A$7:$C$188,3,FALSE)","v":{"$error":"#N/A"}}]
[null,null,null,null,null,null,null,{"$f":"VLOOKUP($G$2:$G$50000,'Location Type (FICM Codes)'!$A$7:$B$188,2,FALSE)","v":{"$error":"#N/A"}},null,null,null,null,null,{"$f":"VLOOKUP(G9701:G19699,'Location Type (FICM Codes)'!$A$7:$C$188,3,FALSE)","v":{"$error":"#N/A"}}]
[null,null,null,null,null,null,null,{"$f":"VLOOKUP($G$2:$G$50000,'Location Type (FICM Codes)'!$A$7:$B$188,2,FALSE)","v":{"$error":"#N/A"}},null,null,null,null,null,{"$f":"VLOOKUP(G9702:G19700,'Location Type (FICM Codes)'!$A$7:$C$188,3,FALSE)","v":{"$error":"#N/A"}}]
[null,null,null,null,null,null,null,{"$f":"VLOOKUP($G$2:$G$50000,'Location Type (FICM Codes)'!$A$7:$B$188,2,FALSE)","v":{"$error":"#N/A"}},null,null,null,null,null,{"$f":"VLOOKUP(G9703:G19701,'Location Type (FICM Codes)'!$A$7:$C$188,3,FALSE)","v":{"$error":"#N/A"}}]
[null,null,null,null,null,null,null,{"$f":"VLOOKUP($G$2:$G$50000,'Location Type (FICM Codes)'!$A$7:$B$188,2,FALSE)","v":{"$error":"#N/A"}},null,null,null,null,null,{"$f":"VLOOKUP(G9704:G19702,'Location Type (FICM Codes)'!$A$7:$C$188,3,FALSE)","v":{"$error":"#N/A"}}]
[null,null,null,null,null,null,null,{"$f":"VLOOKUP($G$2:$G$50000,'Location Type (FICM Codes)'!$A$7:$B$188,2,FALSE)","v":{"$error":"#N/A"}},null,null,null,null,null,{"$f":"VLOOKUP(G9705:G19703,'Location Type (FICM Codes)'!$A$7:$C$188,3,FALSE)","v":{"$error":"#N/A"}}]
[null,null,null,null,null,null,null,{"$f":"VLOOKUP($G$2:$G$50000,'Location Type (FICM Codes)'!$A$7:$B$188,2,FALSE)","v":{"$error":"#N/A"}},null,null,null,null,null,{"$f":"VLOOKUP(G9706:G19704,'Location Type (FICM Codes)'!$A$7:$C$188,3,FALSE)","v":{"$error":"#N/A"}}]
[null,null,null,null,null,null,null,{"$f":"VLOOKUP($G$2:$G$50000,'Location Type (FICM Codes)'!$A$7:$B$188,2,FALSE)","v":{"$error":"#N/A"}},null,null,null,null,null,{"$f":"VLOOKUP(G9707:G19705,'Location Type (FICM Codes)'!$A$7:$C$188,3,FALSE)","v":{"$error":"#N/A"}}]
[null,null,null,null,null,null,null,{"$f":"VLOOKUP($G$2:$G$50000,'Location Type (FICM Codes)'!$A$7:$B$188,2,FALSE)","v":{"$error":"#N/A"}},null,null,null,null,null,{"$f":"VLOOKUP(G9708:G19706,'Location Type (FICM Codes)'!$A$7:$C$188,3,FALSE)","v":{"$error":"#N/A"}}]
[null,null,null,null,null,null,null,{"$f":"VLOOKUP($G$2:$G$50000,'Location Type (FICM Codes)'!$A$7:$B$188,2,FALSE)","v":{"$error":"#N/A"}},null,null,null,null,null,{"$f":"VLOOKUP(G9709:G19707,'Location Type (FICM Codes)'!$A$7:$C$188,3,FALSE)","v":{"$error":"#N/A"}}]
[null,null,null,null,null,null,null,{"$f":"VLOOKUP($G$2:$G$50000,'Location Type (FICM Codes)'!$A$7:$B$188,2,FALSE)","v":{"$error":"#N/A"}},null,null,null,null,null,{"$f":"VLOOKUP(G9710:G19708,'Location Type (FICM Codes)'!$A$7:$C$188,3,FALSE)","v":{"$error":"#N/A"}}]
[null,null,null,null,null,null,null,{"$f":"VLOOKUP($G$2:$G$50000,'Location Type (FICM Codes)'!$A$7:$B$188,2,FALSE)","v":{"$error":"#N/A"}},null,null,null,null,null,{"$f":"VLOOKUP(G9711:G19709,'Location Type (FICM Codes)'!$A$7:$C$188,3,FALSE)","v":{"$error":"#N/A"}}]
[null,null,null,null,null,null,null,{"$f":"VLOOKUP($G$2:$G$50000,'Location Type (FICM Codes)'!$A$7:$B$188,2,FALSE)","v":{"$error":"#N/A"}},null,null,null,null,null,{"$f":"VLOOKUP(G9712:G19710,'Location Type (FICM Codes)'!$A$7:$C$188,3,FALSE)","v":{"$error":"#N/A"}}]
[null,null,null,null,null,null,null,{"$f":"VLOOKUP($G$2:$G$50000,'Location Type (FICM Codes)'!$A$7:$B$188,2,FALSE)","v":{"$error":"#N/A"}},null,null,null,null,null,{"$f":"VLOOKUP(G9713:G19711,'Location Type (FICM Codes)'!$A$7:$C$188,3,FALSE)","v":{"$error":"#N/A"}}]
[null,null,null,null,null,null,null,{"$f":"VLOOKUP($G$2:$G$50000,'Location Type (FICM Codes)'!$A$7:$B$188,2,FALSE)","v":{"$error":"#N/A"}},null,null,null,null,null,{"$f":"VLOOKUP(G9714:G19712,'Location Type (FICM Codes)'!$A$7:$C$188,3,FALSE)","v":{"$error":"#N/A"}}]
[null,null,null,null,null,null,null,{"$f":"VLOOKUP($G$2:$G$50000,'Location Type (FICM Codes)'!$A$7:$B$188,2,FALSE)","v":{"$error":"#N/A"}},null,null,null,null,null,{"$f":"VLOOKUP(G9715:G19713,'Location Type (FICM Codes)'!$A$7:$C$188,3,FALSE)","v":{"$error":"#N/A"}}]
[null,null,null,null,null,null,null,{"$f":"VLOOKUP($G$2:$G$50000,'Location Type (FICM Codes)'!$A$7:$B$188,2,FALSE)","v":{"$error":"#N/A"}},null,null,null,null,null,{"$f":"VLOOKUP(G9716:G19714,'Location Type (FICM Codes)'!$A$7:$C$188,3,FALSE)","v":{"$error":"#N/A"}}]
[null,null,null,null,null,null,null,{"$f":"VLOOKUP($G$2:$G$50000,'Location Type (FICM Codes)'!$A$7:$B$188,2,FALSE)","v":{"$error":"#N/A"}},null,null,null,null,null,{"$f":"VLOOKUP(G9717:G19715,'Location Type (FICM Codes)'!$A$7:$C$188,3,FALSE)","v":{"$error":"#N/A"}}]
[null,null,null,null,null,null,null,{"$f":"VLOOKUP($G$2:$G$50000,'Location Type (FICM Codes)'!$A$7:$B$188,2,FALSE)","v":{"$error":"#N/A"}},null,null,null,null,null,{"$f":"VLOOKUP(G9718:G19716,'Location Type (FICM Codes)'!$A$7:$C$188,3,FALSE)","v":{"$error":"#N/A"}}]
[null,null,null,null,null,null,null,{"$f":"VLOOKUP($G$2:$G$50000,'Location Type (FICM Codes)'!$A$7:$B$188,2,FALSE)","v":{"$error":"#N/A"}},null,null,null,null,null,{"$f":"VLOOKUP(G9719:G19717,'Location Type (FICM Codes)'!$A$7:$C$188,3,FALSE)","v":{"$error":"#N/A"}}]
[null,null,null,null,null,null,null,{"$f":"VLOOKUP($G$2:$G$50000,'Location Type (FICM Codes)'!$A$7:$B$188,2,FALSE)","v":{"$error":"#N/A"}},null,null,null,null,null,{"$f":"VLOOKUP(G9720:G19718,'Location Type (FICM Codes)'!$A$7:$C$188,3,FALSE)","v":{"$error":"#N/A"}}]
[null,null,null,null,null,null,null,{"$f":"VLOOKUP($G$2:$G$50000,'Location Type (FICM Codes)'!$A$7:$B$188,2,FALSE)","v":{"$error":"#N/A"}},null,null,null,null,null,{"$f":"VLOOKUP(G9721:G19719,'Location Type (FICM Codes)'!$A$7:$C$188,3,FALSE)","v":{"$error":"#N/A"}}]
[null,null,null,null,null,null,null,{"$f":"VLOOKUP($G$2:$G$50000,'Location Type (FICM Codes)'!$A$7:$B$188,2,FALSE)","v":{"$error":"#N/A"}},null,null,null,null,null,{"$f":"VLOOKUP(G9722:G19720,'Location Type (FICM Codes)'!$A$7:$C$188,3,FALSE)","v":{"$error":"#N/A"}}]
[null,null,null,null,null,null,null,{"$f":"VLOOKUP($G$2:$G$50000,'Location Type (FICM Codes)'!$A$7:$B$188,2,FALSE)","v":{"$error":"#N/A"}},null,null,null,null,null,{"$f":"VLOOKUP(G9723:G19721,'Location Type (FICM Codes)'!$A$7:$C$188,3,FALSE)","v":{"$error":"#N/A"}}]
[null,null,null,null,null,null,null,{"$f":"VLOOKUP($G$2:$G$50000,'Location Type (FICM Codes)'!$A$7:$B$188,2,FALSE)","v":{"$error":"#N/A"}},null,null,null,null,null,{"$f":"VLOOKUP(G9724:G19722,'Location Type (FICM Codes)'!$A$7:$C$188,3,FALSE)","v":{"$error":"#N/A"}}]
[null,null,null,null,null,null,null,{"$f":"VLOOKUP($G$2:$G$50000,'Location Type (FICM Codes)'!$A$7:$B$188,2,FALSE)","v":{"$error":"#N/A"}},null,null,null,null,null,{"$f":"VLOOKUP(G9725:G19723,'Location Type (FICM Codes)'!$A$7:$C$188,3,FALSE)","v":{"$error":"#N/A"}}]
[null,null,null,null,null,null,null,{"$f":"VLOOKUP($G$2:$G$50000,'Location Type (FICM Codes)'!$A$7:$B$188,2,FALSE)","v":{"$error":"#N/A"}},null,null,null,null,null,{"$f":"VLOOKUP(G9726:G19724,'Location Type (FICM Codes)'!$A$7:$C$188,3,FALSE)","v":{"$error":"#N/A"}}]
[null,null,null,null,null,null,null,{"$f":"VLOOKUP($G$2:$G$50000,'Location Type (FICM Codes)'!$A$7:$B$188,2,FALSE)","v":{"$error":"#N/A"}},null,null,null,null,null,{"$f":"VLOOKUP(G9727:G19725,'Location Type (FICM Codes)'!$A$7:$C$188,3,FALSE)","v":{"$error":"#N/A"}}]
[null,null,null,null,null,null,null,{"$f":"VLOOKUP($G$2:$G$50000,'Location Type (FICM Codes)'!$A$7:$B$188,2,FALSE)","v":{"$error":"#N/A"}},null,null,null,null,null,{"$f":"VLOOKUP(G9728:G19726,'Location Type (FICM Codes)'!$A$7:$C$188,3,FALSE)","v":{"$error":"#N/A"}}]
[null,null,null,null,null,null,null,{"$f":"VLOOKUP($G$2:$G$50000,'Location Type (FICM Codes)'!$A$7:$B$188,2,FALSE)","v":{"$error":"#N/A"}},null,null,null,null,null,{"$f":"VLOOKUP(G9729:G19727,'Location Type (FICM Codes)'!$A$7:$C$188,3,FALSE)","v":{"$error":"#N/A"}}]
[null,null,null,null,null,null,null,{"$f":"VLOOKUP($G$2:$G$50000,'Location Type (FICM Codes)'!$A$7:$B$188,2,FALSE)","v":{"$error":"#N/A"}},null,null,null,null,null,{"$f":"VLOOKUP(G9730:G19728,'Location Type (FICM Codes)'!$A$7:$C$188,3,FALSE)","v":{"$error":"#N/A"}}]
[null,null,null,null,null,null,null,{"$f":"VLOOKUP($G$2:$G$50000,'Location Type (FICM Codes)'!$A$7:$B$188,2,FALSE)","v":{"$error":"#N/A"}},null,null,null,null,null,{"$f":"VLOOKUP(G9731:G19729,'Location Type (FICM Codes)'!$A$7:$C$188,3,FALSE)","v":{"$error":"#N/A"}}]
[null,null,null,null,null,null,null,{"$f":"VLOOKUP($G$2:$G$50000,'Location Type (FICM Codes)'!$A$7:$B$188,2,FALSE)","v":{"$error":"#N/A"}},null,null,null,null,null,{"$f":"VLOOKUP(G9732:G19730,'Location Type (FICM Codes)'!$A$7:$C$188,3,FALSE)","v":{"$error":"#N/A"}}]
[null,null,null,null,null,null,null,{"$f":"VLOOKUP($G$2:$G$50000,'Location Type (FICM Codes)'!$A$7:$B$188,2,FALSE)","v":{"$error":"#N/A"}},null,null,null,null,null,{"$f":"VLOOKUP(G9733:G19731,'Location Type (FICM Codes)'!$A$7:$C$188,3,FALSE)","v":{"$error":"#N/A"}}]
[null,null,null,null,null,null,null,{"$f":"VLOOKUP($G$2:$G$50000,'Location Type (FICM Codes)'!$A$7:$B$188,2,FALSE)","v":{"$error":"#N/A"}},null,null,null,null,null,{"$f":"VLOOKUP(G9734:G19732,'Location Type (FICM Codes)'!$A$7:$C$188,3,FALSE)","v":{"$error":"#N/A"}}]
[null,null,null,null,null,null,null,{"$f":"VLOOKUP($G$2:$G$50000,'Location Type (FICM Codes)'!$A$7:$B$188,2,FALSE)","v":{"$error":"#N/A"}},null,null,null,null,null,{"$f":"VLOOKUP(G9735:G19733,'Location Type (FICM Codes)'!$A$7:$C$188,3,FALSE)","v":{"$error":"#N/A"}}]
[null,null,null,null,null,null,null,{"$f":"VLOOKUP($G$2:$G$50000,'Location Type (FICM Codes)'!$A$7:$B$188,2,FALSE)","v":{"$error":"#N/A"}},null,null,null,null,null,{"$f":"VLOOKUP(G9736:G19734,'Location Type (FICM Codes)'!$A$7:$C$188,3,FALSE)","v":{"$error":"#N/A"}}]
[null,null,null,null,null,null,null,{"$f":"VLOOKUP($G$2:$G$50000,'Location Type (FICM Codes)'!$A$7:$B$188,2,FALSE)","v":{"$error":"#N/A"}},null,null,null,null,null,{"$f":"VLOOKUP(G9737:G19735,'Location Type (FICM Codes)'!$A$7:$C$188,3,FALSE)","v":{"$error":"#N/A"}}]
[null,null,null,null,null,null,null,{"$f":"VLOOKUP($G$2:$G$50000,'Location Type (FICM Codes)'!$A$7:$B$188,2,FALSE)","v":{"$error":"#N/A"}},null,null,null,null,null,{"$f":"VLOOKUP(G9738:G19736,'Location Type (FICM Codes)'!$A$7:$C$188,3,FALSE)","v":{"$error":"#N/A"}}]
[null,null,null,null,null,null,null,{"$f":"VLOOKUP($G$2:$G$50000,'Location Type (FICM Codes)'!$A$7:$B$188,2,FALSE)","v":{"$error":"#N/A"}},null,null,null,null,null,{"$f":"VLOOKUP(G9739:G19737,'Location Type (FICM Codes)'!$A$7:$C$188,3,FALSE)","v":{"$error":"#N/A"}}]
[null,null,null,null,null,null,null,{"$f":"VLOOKUP($G$2:$G$50000,'Location Type (FICM Codes)'!$A$7:$B$188,2,FALSE)","v":{"$error":"#N/A"}},null,null,null,null,null,{"$f":"VLOOKUP(G9740:G19738,'Location Type (FICM Codes)'!$A$7:$C$188,3,FALSE)","v":{"$error":"#N/A"}}]
[null,null,null,null,null,null,null,{"$f":"VLOOKUP($G$2:$G$50000,'Location Type (FICM Codes)'!$A$7:$B$188,2,FALSE)","v":{"$error":"#N/A"}},null,null,null,null,null,{"$f":"VLOOKUP(G9741:G19739,'Location Type (FICM Codes)'!$A$7:$C$188,3,FALSE)","v":{"$error":"#N/A"}}]
[null,null,null,null,null,null,null,{"$f":"VLOOKUP($G$2:$G$50000,'Location Type (FICM Codes)'!$A$7:$B$188,2,FALSE)","v":{"$error":"#N/A"}},null,null,null,null,null,{"$f":"VLOOKUP(G9742:G19740,'Location Type (FICM Codes)'!$A$7:$C$188,3,FALSE)","v":{"$error":"#N/A"}}]
[null,null,null,null,null,null,null,{"$f":"VLOOKUP($G$2:$G$50000,'Location Type (FICM Codes)'!$A$7:$B$188,2,FALSE)","v":{"$error":"#N/A"}},null,null,null,null,null,{"$f":"VLOOKUP(G9743:G19741,'Location Type (FICM Codes)'!$A$7:$C$188,3,FALSE)","v":{"$error":"#N/A"}}]
[null,null,null,null,null,null,null,{"$f":"VLOOKUP($G$2:$G$50000,'Location Type (FICM Codes)'!$A$7:$B$188,2,FALSE)","v":{"$error":"#N/A"}},null,null,null,null,null,{"$f":"VLOOKUP(G9744:G19742,'Location Type (FICM Codes)'!$A$7:$C$188,3,FALSE)","v":{"$error":"#N/A"}}]
[null,null,null,null,null,null,null,{"$f":"VLOOKUP($G$2:$G$50000,'Location Type (FICM Codes)'!$A$7:$B$188,2,FALSE)","v":{"$error":"#N/A"}},null,null,null,null,null,{"$f":"VLOOKUP(G9745:G19743,'Location Type (FICM Codes)'!$A$7:$C$188,3,FALSE)","v":{"$error":"#N/A"}}]
[null,null,null,null,null,null,null,{"$f":"VLOOKUP($G$2:$G$50000,'Location Type (FICM Codes)'!$A$7:$B$188,2,FALSE)","v":{"$error":"#N/A"}},null,null,null,null,null,{"$f":"VLOOKUP(G9746:G19744,'Location Type (FICM Codes)'!$A$7:$C$188,3,FALSE)","v":{"$error":"#N/A"}}]
[null,null,null,null,null,null,null,{"$f":"VLOOKUP($G$2:$G$50000,'Location Type (FICM Codes)'!$A$7:$B$188,2,FALSE)","v":{"$error":"#N/A"}},null,null,null,null,null,{"$f":"VLOOKUP(G9747:G19745,'Location Type (FICM Codes)'!$A$7:$C$188,3,FALSE)","v":{"$error":"#N/A"}}]
[null,null,null,null,null,null,null,{"$f":"VLOOKUP($G$2:$G$50000,'Location Type (FICM Codes)'!$A$7:$B$188,2,FALSE)","v":{"$error":"#N/A"}},null,null,null,null,null,{"$f":"VLOOKUP(G9748:G19746,'Location Type (FICM Codes)'!$A$7:$C$188,3,FALSE)","v":{"$error":"#N/A"}}]
[null,null,null,null,null,null,null,{"$f":"VLOOKUP($G$2:$G$50000,'Location Type (FICM Codes)'!$A$7:$B$188,2,FALSE)","v":{"$error":"#N/A"}},null,null,null,null,null,{"$f":"VLOOKUP(G9749:G19747,'Location Type (FICM Codes)'!$A$7:$C$188,3,FALSE)","v":{"$error":"#N/A"}}]
[null,null,null,null,null,null,null,{"$f":"VLOOKUP($G$2:$G$50000,'Location Type (FICM Codes)'!$A$7:$B$188,2,FALSE)","v":{"$error":"#N/A"}},null,null,null,null,null,{"$f":"VLOOKUP(G9750:G19748,'Location Type (FICM Codes)'!$A$7:$C$188,3,FALSE)","v":{"$error":"#N/A"}}]
[null,null,null,null,null,null,null,{"$f":"VLOOKUP($G$2:$G$50000,'Location Type (FICM Codes)'!$A$7:$B$188,2,FALSE)","v":{"$error":"#N/A"}},null,null,null,null,null,{"$f":"VLOOKUP(G9751:G19749,'Location Type (FICM Codes)'!$A$7:$C$188,3,FALSE)","v":{"$error":"#N/A"}}]
[null,null,null,null,null,null,null,{"$f":"VLOOKUP($G$2:$G$50000,'Location Type (FICM Codes)'!$A$7:$B$188,2,FALSE)","v":{"$error":"#N/A"}},null,null,null,null,null,{"$f":"VLOOKUP(G9752:G19750,'Location Type (FICM Codes)'!$A$7:$C$188,3,FALSE)","v":{"$error":"#N/A"}}]
[null,null,null,null,null,null,null,{"$f":"VLOOKUP($G$2:$G$50000,'Location Type (FICM Codes)'!$A$7:$B$188,2,FALSE)","v":{"$error":"#N/A"}},null,null,null,null,null,{"$f":"VLOOKUP(G9753:G19751,'Location Type (FICM Codes)'!$A$7:$C$188,3,FALSE)","v":{"$error":"#N/A"}}]
[null,null,null,null,null,null,null,{"$f":"VLOOKUP($G$2:$G$50000,'Location Type (FICM Codes)'!$A$7:$B$188,2,FALSE)","v":{"$error":"#N/A"}},null,null,null,null,null,{"$f":"VLOOKUP(G9754:G19752,'Location Type (FICM Codes)'!$A$7:$C$188,3,FALSE)","v":{"$error":"#N/A"}}]
[null,null,null,null,null,null,null,{"$f":"VLOOKUP($G$2:$G$50000,'Location Type (FICM Codes)'!$A$7:$B$188,2,FALSE)","v":{"$error":"#N/A"}},null,null,null,null,null,{"$f":"VLOOKUP(G9755:G19753,'Location Type (FICM Codes)'!$A$7:$C$188,3,FALSE)","v":{"$error":"#N/A"}}]
[null,null,null,null,null,null,null,{"$f":"VLOOKUP($G$2:$G$50000,'Location Type (FICM Codes)'!$A$7:$B$188,2,FALSE)","v":{"$error":"#N/A"}},null,null,null,null,null,{"$f":"VLOOKUP(G9756:G19754,'Location Type (FICM Codes)'!$A$7:$C$188,3,FALSE)","v":{"$error":"#N/A"}}]
[null,null,null,null,null,null,null,{"$f":"VLOOKUP($G$2:$G$50000,'Location Type (FICM Codes)'!$A$7:$B$188,2,FALSE)","v":{"$error":"#N/A"}},null,null,null,null,null,{"$f":"VLOOKUP(G9757:G19755,'Location Type (FICM Codes)'!$A$7:$C$188,3,FALSE)","v":{"$error":"#N/A"}}]
[null,null,null,null,null,null,null,{"$f":"VLOOKUP($G$2:$G$50000,'Location Type (FICM Codes)'!$A$7:$B$188,2,FALSE)","v":{"$error":"#N/A"}},null,null,null,null,null,{"$f":"VLOOKUP(G9758:G19756,'Location Type (FICM Codes)'!$A$7:$C$188,3,FALSE)","v":{"$error":"#N/A"}}]
[null,null,null,null,null,null,null,{"$f":"VLOOKUP($G$2:$G$50000,'Location Type (FICM Codes)'!$A$7:$B$188,2,FALSE)","v":{"$error":"#N/A"}},null,null,null,null,null,{"$f":"VLOOKUP(G9759:G19757,'Location Type (FICM Codes)'!$A$7:$C$188,3,FALSE)","v":{"$error":"#N/A"}}]
[null,null,null,null,null,null,null,{"$f":"VLOOKUP($G$2:$G$50000,'Location Type (FICM Codes)'!$A$7:$B$188,2,FALSE)","v":{"$error":"#N/A"}},null,null,null,null,null,{"$f":"VLOOKUP(G9760:G19758,'Location Type (FICM Codes)'!$A$7:$C$188,3,FALSE)","v":{"$error":"#N/A"}}]
[null,null,null,null,null,null,null,{"$f":"VLOOKUP($G$2:$G$50000,'Location Type (FICM Codes)'!$A$7:$B$188,2,FALSE)","v":{"$error":"#N/A"}},null,null,null,null,null,{"$f":"VLOOKUP(G9761:G19759,'Location Type (FICM Codes)'!$A$7:$C$188,3,FALSE)","v":{"$error":"#N/A"}}]
[null,null,null,null,null,null,null,{"$f":"VLOOKUP($G$2:$G$50000,'Location Type (FICM Codes)'!$A$7:$B$188,2,FALSE)","v":{"$error":"#N/A"}},null,null,null,null,null,{"$f":"VLOOKUP(G9762:G19760,'Location Type (FICM Codes)'!$A$7:$C$188,3,FALSE)","v":{"$error":"#N/A"}}]
[null,null,null,null,null,null,null,{"$f":"VLOOKUP($G$2:$G$50000,'Location Type (FICM Codes)'!$A$7:$B$188,2,FALSE)","v":{"$error":"#N/A"}},null,null,null,null,null,{"$f":"VLOOKUP(G9763:G19761,'Location Type (FICM Codes)'!$A$7:$C$188,3,FALSE)","v":{"$error":"#N/A"}}]
[null,null,null,null,null,null,null,{"$f":"VLOOKUP($G$2:$G$50000,'Location Type (FICM Codes)'!$A$7:$B$188,2,FALSE)","v":{"$error":"#N/A"}},null,null,null,null,null,{"$f":"VLOOKUP(G9764:G19762,'Location Type (FICM Codes)'!$A$7:$C$188,3,FALSE)","v":{"$error":"#N/A"}}]
[null,null,null,null,null,null,null,{"$f":"VLOOKUP($G$2:$G$50000,'Location Type (FICM Codes)'!$A$7:$B$188,2,FALSE)","v":{"$error":"#N/A"}},null,null,null,null,null,{"$f":"VLOOKUP(G9765:G19763,'Location Type (FICM Codes)'!$A$7:$C$188,3,FALSE)","v":{"$error":"#N/A"}}]
[null,null,null,null,null,null,null,{"$f":"VLOOKUP($G$2:$G$50000,'Location Type (FICM Codes)'!$A$7:$B$188,2,FALSE)","v":{"$error":"#N/A"}},null,null,null,null,null,{"$f":"VLOOKUP(G9766:G19764,'Location Type (FICM Codes)'!$A$7:$C$188,3,FALSE)","v":{"$error":"#N/A"}}]
[null,null,null,null,null,null,null,{"$f":"VLOOKUP($G$2:$G$50000,'Location Type (FICM Codes)'!$A$7:$B$188,2,FALSE)","v":{"$error":"#N/A"}},null,null,null,null,null,{"$f":"VLOOKUP(G9767:G19765,'Location Type (FICM Codes)'!$A$7:$C$188,3,FALSE)","v":{"$error":"#N/A"}}]
[null,null,null,null,null,null,null,{"$f":"VLOOKUP($G$2:$G$50000,'Location Type (FICM Codes)'!$A$7:$B$188,2,FALSE)","v":{"$error":"#N/A"}},null,null,null,null,null,{"$f":"VLOOKUP(G9768:G19766,'Location Type (FICM Codes)'!$A$7:$C$188,3,FALSE)","v":{"$error":"#N/A"}}]
[null,null,null,null,null,null,null,{"$f":"VLOOKUP($G$2:$G$50000,'Location Type (FICM Codes)'!$A$7:$B$188,2,FALSE)","v":{"$error":"#N/A"}},null,null,null,null,null,{"$f":"VLOOKUP(G9769:G19767,'Location Type (FICM Codes)'!$A$7:$C$188,3,FALSE)","v":{"$error":"#N/A"}}]
[null,null,null,null,null,null,null,{"$f":"VLOOKUP($G$2:$G$50000,'Location Type (FICM Codes)'!$A$7:$B$188,2,FALSE)","v":{"$error":"#N/A"}},null,null,null,null,null,{"$f":"VLOOKUP(G9770:G19768,'Location Type (FICM Codes)'!$A$7:$C$188,3,FALSE)","v":{"$error":"#N/A"}}]
[null,null,null,null,null,null,null,{"$f":"VLOOKUP($G$2:$G$50000,'Location Type (FICM Codes)'!$A$7:$B$188,2,FALSE)","v":{"$error":"#N/A"}},null,null,null,null,null,{"$f":"VLOOKUP(G9771:G19769,'Location Type (FICM Codes)'!$A$7:$C$188,3,FALSE)","v":{"$error":"#N/A"}}]
[null,null,null,null,null,null,null,{"$f":"VLOOKUP($G$2:$G$50000,'Location Type (FICM Codes)'!$A$7:$B$188,2,FALSE)","v":{"$error":"#N/A"}},null,null,null,null,null,{"$f":"VLOOKUP(G9772:G19770,'Location Type (FICM Codes)'!$A$7:$C$188,3,FALSE)","v":{"$error":"#N/A"}}]
[null,null,null,null,null,null,null,{"$f":"VLOOKUP($G$2:$G$50000,'Location Type (FICM Codes)'!$A$7:$B$188,2,FALSE)","v":{"$error":"#N/A"}},null,null,null,null,null,{"$f":"VLOOKUP(G9773:G19771,'Location Type (FICM Codes)'!$A$7:$C$188,3,FALSE)","v":{"$error":"#N/A"}}]
[null,null,null,null,null,null,null,{"$f":"VLOOKUP($G$2:$G$50000,'Location Type (FICM Codes)'!$A$7:$B$188,2,FALSE)","v":{"$error":"#N/A"}},null,null,null,null,null,{"$f":"VLOOKUP(G9774:G19772,'Location Type (FICM Codes)'!$A$7:$C$188,3,FALSE)","v":{"$error":"#N/A"}}]
[null,null,null,null,null,null,null,{"$f":"VLOOKUP($G$2:$G$50000,'Location Type (FICM Codes)'!$A$7:$B$188,2,FALSE)","v":{"$error":"#N/A"}},null,null,null,null,null,{"$f":"VLOOKUP(G9775:G19773,'Location Type (FICM Codes)'!$A$7:$C$188,3,FALSE)","v":{"$error":"#N/A"}}]
[null,null,null,null,null,null,null,{"$f":"VLOOKUP($G$2:$G$50000,'Location Type (FICM Codes)'!$A$7:$B$188,2,FALSE)","v":{"$error":"#N/A"}},null,null,null,null,null,{"$f":"VLOOKUP(G9776:G19774,'Location Type (FICM Codes)'!$A$7:$C$188,3,FALSE)","v":{"$error":"#N/A"}}]
[null,null,null,null,null,null,null,{"$f":"VLOOKUP($G$2:$G$50000,'Location Type (FICM Codes)'!$A$7:$B$188,2,FALSE)","v":{"$error":"#N/A"}},null,null,null,null,null,{"$f":"VLOOKUP(G9777:G19775,'Location Type (FICM Codes)'!$A$7:$C$188,3,FALSE)","v":{"$error":"#N/A"}}]
[null,null,null,null,null,null,null,{"$f":"VLOOKUP($G$2:$G$50000,'Location Type (FICM Codes)'!$A$7:$B$188,2,FALSE)","v":{"$error":"#N/A"}},null,null,null,null,null,{"$f":"VLOOKUP(G9778:G19776,'Location Type (FICM Codes)'!$A$7:$C$188,3,FALSE)","v":{"$error":"#N/A"}}]
[null,null,null,null,null,null,null,{"$f":"VLOOKUP($G$2:$G$50000,'Location Type (FICM Codes)'!$A$7:$B$188,2,FALSE)","v":{"$error":"#N/A"}},null,null,null,null,null,{"$f":"VLOOKUP(G9779:G19777,'Location Type (FICM Codes)'!$A$7:$C$188,3,FALSE)","v":{"$error":"#N/A"}}]
[null,null,null,null,null,null,null,{"$f":"VLOOKUP($G$2:$G$50000,'Location Type (FICM Codes)'!$A$7:$B$188,2,FALSE)","v":{"$error":"#N/A"}},null,null,null,null,null,{"$f":"VLOOKUP(G9780:G19778,'Location Type (FICM Codes)'!$A$7:$C$188,3,FALSE)","v":{"$error":"#N/A"}}]
[null,null,null,null,null,null,null,{"$f":"VLOOKUP($G$2:$G$50000,'Location Type (FICM Codes)'!$A$7:$B$188,2,FALSE)","v":{"$error":"#N/A"}},null,null,null,null,null,{"$f":"VLOOKUP(G9781:G19779,'Location Type (FICM Codes)'!$A$7:$C$188,3,FALSE)","v":{"$error":"#N/A"}}]
[null,null,null,null,null,null,null,{"$f":"VLOOKUP($G$2:$G$50000,'Location Type (FICM Codes)'!$A$7:$B$188,2,FALSE)","v":{"$error":"#N/A"}},null,null,null,null,null,{"$f":"VLOOKUP(G9782:G19780,'Location Type (FICM Codes)'!$A$7:$C$188,3,FALSE)","v":{"$error":"#N/A"}}]
[null,null,null,null,null,null,null,{"$f":"VLOOKUP($G$2:$G$50000,'Location Type (FICM Codes)'!$A$7:$B$188,2,FALSE)","v":{"$error":"#N/A"}},null,null,null,null,null,{"$f":"VLOOKUP(G9783:G19781,'Location Type (FICM Codes)'!$A$7:$C$188,3,FALSE)","v":{"$error":"#N/A"}}]
[null,null,null,null,null,null,null,{"$f":"VLOOKUP($G$2:$G$50000,'Location Type (FICM Codes)'!$A$7:$B$188,2,FALSE)","v":{"$error":"#N/A"}},null,null,null,null,null,{"$f":"VLOOKUP(G9784:G19782,'Location Type (FICM Codes)'!$A$7:$C$188,3,FALSE)","v":{"$error":"#N/A"}}]
[null,null,null,null,null,null,null,{"$f":"VLOOKUP($G$2:$G$50000,'Location Type (FICM Codes)'!$A$7:$B$188,2,FALSE)","v":{"$error":"#N/A"}},null,null,null,null,null,{"$f":"VLOOKUP(G9785:G19783,'Location Type (FICM Codes)'!$A$7:$C$188,3,FALSE)","v":{"$error":"#N/A"}}]
[null,null,null,null,null,null,null,{"$f":"VLOOKUP($G$2:$G$50000,'Location Type (FICM Codes)'!$A$7:$B$188,2,FALSE)","v":{"$error":"#N/A"}},null,null,null,null,null,{"$f":"VLOOKUP(G9786:G19784,'Location Type (FICM Codes)'!$A$7:$C$188,3,FALSE)","v":{"$error":"#N/A"}}]
[null,null,null,null,null,null,null,{"$f":"VLOOKUP($G$2:$G$50000,'Location Type (FICM Codes)'!$A$7:$B$188,2,FALSE)","v":{"$error":"#N/A"}},null,null,null,null,null,{"$f":"VLOOKUP(G9787:G19785,'Location Type (FICM Codes)'!$A$7:$C$188,3,FALSE)","v":{"$error":"#N/A"}}]
[null,null,null,null,null,null,null,{"$f":"VLOOKUP($G$2:$G$50000,'Location Type (FICM Codes)'!$A$7:$B$188,2,FALSE)","v":{"$error":"#N/A"}},null,null,null,null,null,{"$f":"VLOOKUP(G9788:G19786,'Location Type (FICM Codes)'!$A$7:$C$188,3,FALSE)","v":{"$error":"#N/A"}}]
[null,null,null,null,null,null,null,{"$f":"VLOOKUP($G$2:$G$50000,'Location Type (FICM Codes)'!$A$7:$B$188,2,FALSE)","v":{"$error":"#N/A"}},null,null,null,null,null,{"$f":"VLOOKUP(G9789:G19787,'Location Type (FICM Codes)'!$A$7:$C$188,3,FALSE)","v":{"$error":"#N/A"}}]
[null,null,null,null,null,null,null,{"$f":"VLOOKUP($G$2:$G$50000,'Location Type (FICM Codes)'!$A$7:$B$188,2,FALSE)","v":{"$error":"#N/A"}},null,null,null,null,null,{"$f":"VLOOKUP(G9790:G19788,'Location Type (FICM Codes)'!$A$7:$C$188,3,FALSE)","v":{"$error":"#N/A"}}]
[null,null,null,null,null,null,null,{"$f":"VLOOKUP($G$2:$G$50000,'Location Type (FICM Codes)'!$A$7:$B$188,2,FALSE)","v":{"$error":"#N/A"}},null,null,null,null,null,{"$f":"VLOOKUP(G9791:G19789,'Location Type (FICM Codes)'!$A$7:$C$188,3,FALSE)","v":{"$error":"#N/A"}}]
[null,null,null,null,null,null,null,{"$f":"VLOOKUP($G$2:$G$50000,'Location Type (FICM Codes)'!$A$7:$B$188,2,FALSE)","v":{"$error":"#N/A"}},null,null,null,null,null,{"$f":"VLOOKUP(G9792:G19790,'Location Type (FICM Codes)'!$A$7:$C$188,3,FALSE)","v":{"$error":"#N/A"}}]
[null,null,null,null,null,null,null,{"$f":"VLOOKUP($G$2:$G$50000,'Location Type (FICM Codes)'!$A$7:$B$188,2,FALSE)","v":{"$error":"#N/A"}},null,null,null,null,null,{"$f":"VLOOKUP(G9793:G19791,'Location Type (FICM Codes)'!$A$7:$C$188,3,FALSE)","v":{"$error":"#N/A"}}]
[null,null,null,null,null,null,null,{"$f":"VLOOKUP($G$2:$G$50000,'Location Type (FICM Codes)'!$A$7:$B$188,2,FALSE)","v":{"$error":"#N/A"}},null,null,null,null,null,{"$f":"VLOOKUP(G9794:G19792,'Location Type (FICM Codes)'!$A$7:$C$188,3,FALSE)","v":{"$error":"#N/A"}}]
[null,null,null,null,null,null,null,{"$f":"VLOOKUP($G$2:$G$50000,'Location Type (FICM Codes)'!$A$7:$B$188,2,FALSE)","v":{"$error":"#N/A"}},null,null,null,null,null,{"$f":"VLOOKUP(G9795:G19793,'Location Type (FICM Codes)'!$A$7:$C$188,3,FALSE)","v":{"$error":"#N/A"}}]
[null,null,null,null,null,null,null,{"$f":"VLOOKUP($G$2:$G$50000,'Location Type (FICM Codes)'!$A$7:$B$188,2,FALSE)","v":{"$error":"#N/A"}},null,null,null,null,null,{"$f":"VLOOKUP(G9796:G19794,'Location Type (FICM Codes)'!$A$7:$C$188,3,FALSE)","v":{"$error":"#N/A"}}]
[null,null,null,null,null,null,null,{"$f":"VLOOKUP($G$2:$G$50000,'Location Type (FICM Codes)'!$A$7:$B$188,2,FALSE)","v":{"$error":"#N/A"}},null,null,null,null,null,{"$f":"VLOOKUP(G9797:G19795,'Location Type (FICM Codes)'!$A$7:$C$188,3,FALSE)","v":{"$error":"#N/A"}}]
[null,null,null,null,null,null,null,{"$f":"VLOOKUP($G$2:$G$50000,'Location Type (FICM Codes)'!$A$7:$B$188,2,FALSE)","v":{"$error":"#N/A"}},null,null,null,null,null,{"$f":"VLOOKUP(G9798:G19796,'Location Type (FICM Codes)'!$A$7:$C$188,3,FALSE)","v":{"$error":"#N/A"}}]
[null,null,null,null,null,null,null,{"$f":"VLOOKUP($G$2:$G$50000,'Location Type (FICM Codes)'!$A$7:$B$188,2,FALSE)","v":{"$error":"#N/A"}},null,null,null,null,null,{"$f":"VLOOKUP(G9799:G19797,'Location Type (FICM Codes)'!$A$7:$C$188,3,FALSE)","v":{"$error":"#N/A"}}]
[null,null,null,null,null,null,null,{"$f":"VLOOKUP($G$2:$G$50000,'Location Type (FICM Codes)'!$A$7:$B$188,2,FALSE)","v":{"$error":"#N/A"}},null,null,null,null,null,{"$f":"VLOOKUP(G9800:G19798,'Location Type (FICM Codes)'!$A$7:$C$188,3,FALSE)","v":{"$error":"#N/A"}}]
[null,null,null,null,null,null,null,{"$f":"VLOOKUP($G$2:$G$50000,'Location Type (FICM Codes)'!$A$7:$B$188,2,FALSE)","v":{"$error":"#N/A"}},null,null,null,null,null,{"$f":"VLOOKUP(G9801:G19799,'Location Type (FICM Codes)'!$A$7:$C$188,3,FALSE)","v":{"$error":"#N/A"}}]
[null,null,null,null,null,null,null,{"$f":"VLOOKUP($G$2:$G$50000,'Location Type (FICM Codes)'!$A$7:$B$188,2,FALSE)","v":{"$error":"#N/A"}},null,null,null,null,null,{"$f":"VLOOKUP(G9802:G19800,'Location Type (FICM Codes)'!$A$7:$C$188,3,FALSE)","v":{"$error":"#N/A"}}]
[null,null,null,null,null,null,null,{"$f":"VLOOKUP($G$2:$G$50000,'Location Type (FICM Codes)'!$A$7:$B$188,2,FALSE)","v":{"$error":"#N/A"}},null,null,null,null,null,{"$f":"VLOOKUP(G9803:G19801,'Location Type (FICM Codes)'!$A$7:$C$188,3,FALSE)","v":{"$error":"#N/A"}}]
[null,null,null,null,null,null,null,{"$f":"VLOOKUP($G$2:$G$50000,'Location Type (FICM Codes)'!$A$7:$B$188,2,FALSE)","v":{"$error":"#N/A"}},null,null,null,null,null,{"$f":"VLOOKUP(G9804:G19802,'Location Type (FICM Codes)'!$A$7:$C$188,3,FALSE)","v":{"$error":"#N/A"}}]
[null,null,null,null,null,null,null,{"$f":"VLOOKUP($G$2:$G$50000,'Location Type (FICM Codes)'!$A$7:$B$188,2,FALSE)","v":{"$error":"#N/A"}},null,null,null,null,null,{"$f":"VLOOKUP(G9805:G19803,'Location Type (FICM Codes)'!$A$7:$C$188,3,FALSE)","v":{"$error":"#N/A"}}]
[null,null,null,null,null,null,null,{"$f":"VLOOKUP($G$2:$G$50000,'Location Type (FICM Codes)'!$A$7:$B$188,2,FALSE)","v":{"$error":"#N/A"}},null,null,null,null,null,{"$f":"VLOOKUP(G9806:G19804,'Location Type (FICM Codes)'!$A$7:$C$188,3,FALSE)","v":{"$error":"#N/A"}}]
[null,null,null,null,null,null,null,{"$f":"VLOOKUP($G$2:$G$50000,'Location Type (FICM Codes)'!$A$7:$B$188,2,FALSE)","v":{"$error":"#N/A"}},null,null,null,null,null,{"$f":"VLOOKUP(G9807:G19805,'Location Type (FICM Codes)'!$A$7:$C$188,3,FALSE)","v":{"$error":"#N/A"}}]
[null,null,null,null,null,null,null,{"$f":"VLOOKUP($G$2:$G$50000,'Location Type (FICM Codes)'!$A$7:$B$188,2,FALSE)","v":{"$error":"#N/A"}},null,null,null,null,null,{"$f":"VLOOKUP(G9808:G19806,'Location Type (FICM Codes)'!$A$7:$C$188,3,FALSE)","v":{"$error":"#N/A"}}]
[null,null,null,null,null,null,null,{"$f":"VLOOKUP($G$2:$G$50000,'Location Type (FICM Codes)'!$A$7:$B$188,2,FALSE)","v":{"$error":"#N/A"}},null,null,null,null,null,{"$f":"VLOOKUP(G9809:G19807,'Location Type (FICM Codes)'!$A$7:$C$188,3,FALSE)","v":{"$error":"#N/A"}}]
[null,null,null,null,null,null,null,{"$f":"VLOOKUP($G$2:$G$50000,'Location Type (FICM Codes)'!$A$7:$B$188,2,FALSE)","v":{"$error":"#N/A"}},null,null,null,null,null,{"$f":"VLOOKUP(G9810:G19808,'Location Type (FICM Codes)'!$A$7:$C$188,3,FALSE)","v":{"$error":"#N/A"}}]
[null,null,null,null,null,null,null,{"$f":"VLOOKUP($G$2:$G$50000,'Location Type (FICM Codes)'!$A$7:$B$188,2,FALSE)","v":{"$error":"#N/A"}},null,null,null,null,null,{"$f":"VLOOKUP(G9811:G19809,'Location Type (FICM Codes)'!$A$7:$C$188,3,FALSE)","v":{"$error":"#N/A"}}]
[null,null,null,null,null,null,null,{"$f":"VLOOKUP($G$2:$G$50000,'Location Type (FICM Codes)'!$A$7:$B$188,2,FALSE)","v":{"$error":"#N/A"}},null,null,null,null,null,{"$f":"VLOOKUP(G9812:G19810,'Location Type (FICM Codes)'!$A$7:$C$188,3,FALSE)","v":{"$error":"#N/A"}}]
[null,null,null,null,null,null,null,{"$f":"VLOOKUP($G$2:$G$50000,'Location Type (FICM Codes)'!$A$7:$B$188,2,FALSE)","v":{"$error":"#N/A"}},null,null,null,null,null,{"$f":"VLOOKUP(G9813:G19811,'Location Type (FICM Codes)'!$A$7:$C$188,3,FALSE)","v":{"$error":"#N/A"}}]
[null,null,null,null,null,null,null,{"$f":"VLOOKUP($G$2:$G$50000,'Location Type (FICM Codes)'!$A$7:$B$188,2,FALSE)","v":{"$error":"#N/A"}},null,null,null,null,null,{"$f":"VLOOKUP(G9814:G19812,'Location Type (FICM Codes)'!$A$7:$C$188,3,FALSE)","v":{"$error":"#N/A"}}]
[null,null,null,null,null,null,null,{"$f":"VLOOKUP($G$2:$G$50000,'Location Type (FICM Codes)'!$A$7:$B$188,2,FALSE)","v":{"$error":"#N/A"}},null,null,null,null,null,{"$f":"VLOOKUP(G9815:G19813,'Location Type (FICM Codes)'!$A$7:$C$188,3,FALSE)","v":{"$error":"#N/A"}}]
[null,null,null,null,null,null,null,{"$f":"VLOOKUP($G$2:$G$50000,'Location Type (FICM Codes)'!$A$7:$B$188,2,FALSE)","v":{"$error":"#N/A"}},null,null,null,null,null,{"$f":"VLOOKUP(G9816:G19814,'Location Type (FICM Codes)'!$A$7:$C$188,3,FALSE)","v":{"$error":"#N/A"}}]
[null,null,null,null,null,null,null,{"$f":"VLOOKUP($G$2:$G$50000,'Location Type (FICM Codes)'!$A$7:$B$188,2,FALSE)","v":{"$error":"#N/A"}},null,null,null,null,null,{"$f":"VLOOKUP(G9817:G19815,'Location Type (FICM Codes)'!$A$7:$C$188,3,FALSE)","v":{"$error":"#N/A"}}]
[null,null,null,null,null,null,null,{"$f":"VLOOKUP($G$2:$G$50000,'Location Type (FICM Codes)'!$A$7:$B$188,2,FALSE)","v":{"$error":"#N/A"}},null,null,null,null,null,{"$f":"VLOOKUP(G9818:G19816,'Location Type (FICM Codes)'!$A$7:$C$188,3,FALSE)","v":{"$error":"#N/A"}}]
[null,null,null,null,null,null,null,{"$f":"VLOOKUP($G$2:$G$50000,'Location Type (FICM Codes)'!$A$7:$B$188,2,FALSE)","v":{"$error":"#N/A"}},null,null,null,null,null,{"$f":"VLOOKUP(G9819:G19817,'Location Type (FICM Codes)'!$A$7:$C$188,3,FALSE)","v":{"$error":"#N/A"}}]
[null,null,null,null,null,null,null,{"$f":"VLOOKUP($G$2:$G$50000,'Location Type (FICM Codes)'!$A$7:$B$188,2,FALSE)","v":{"$error":"#N/A"}},null,null,null,null,null,{"$f":"VLOOKUP(G9820:G19818,'Location Type (FICM Codes)'!$A$7:$C$188,3,FALSE)","v":{"$error":"#N/A"}}]
[null,null,null,null,null,null,null,{"$f":"VLOOKUP($G$2:$G$50000,'Location Type (FICM Codes)'!$A$7:$B$188,2,FALSE)","v":{"$error":"#N/A"}},null,null,null,null,null,{"$f":"VLOOKUP(G9821:G19819,'Location Type (FICM Codes)'!$A$7:$C$188,3,FALSE)","v":{"$error":"#N/A"}}]
[null,null,null,null,null,null,null,{"$f":"VLOOKUP($G$2:$G$50000,'Location Type (FICM Codes)'!$A$7:$B$188,2,FALSE)","v":{"$error":"#N/A"}},null,null,null,null,null,{"$f":"VLOOKUP(G9822:G19820,'Location Type (FICM Codes)'!$A$7:$C$188,3,FALSE)","v":{"$error":"#N/A"}}]
[null,null,null,null,null,null,null,{"$f":"VLOOKUP($G$2:$G$50000,'Location Type (FICM Codes)'!$A$7:$B$188,2,FALSE)","v":{"$error":"#N/A"}},null,null,null,null,null,{"$f":"VLOOKUP(G9823:G19821,'Location Type (FICM Codes)'!$A$7:$C$188,3,FALSE)","v":{"$error":"#N/A"}}]
[null,null,null,null,null,null,null,{"$f":"VLOOKUP($G$2:$G$50000,'Location Type (FICM Codes)'!$A$7:$B$188,2,FALSE)","v":{"$error":"#N/A"}},null,null,null,null,null,{"$f":"VLOOKUP(G9824:G19822,'Location Type (FICM Codes)'!$A$7:$C$188,3,FALSE)","v":{"$error":"#N/A"}}]
[null,null,null,null,null,null,null,{"$f":"VLOOKUP($G$2:$G$50000,'Location Type (FICM Codes)'!$A$7:$B$188,2,FALSE)","v":{"$error":"#N/A"}},null,null,null,null,null,{"$f":"VLOOKUP(G9825:G19823,'Location Type (FICM Codes)'!$A$7:$C$188,3,FALSE)","v":{"$error":"#N/A"}}]
[null,null,null,null,null,null,null,{"$f":"VLOOKUP($G$2:$G$50000,'Location Type (FICM Codes)'!$A$7:$B$188,2,FALSE)","v":{"$error":"#N/A"}},null,null,null,null,null,{"$f":"VLOOKUP(G9826:G19824,'Location Type (FICM Codes)'!$A$7:$C$188,3,FALSE)","v":{"$error":"#N/A"}}]
[null,null,null,null,null,null,null,{"$f":"VLOOKUP($G$2:$G$50000,'Location Type (FICM Codes)'!$A$7:$B$188,2,FALSE)","v":{"$error":"#N/A"}},null,null,null,null,null,{"$f":"VLOOKUP(G9827:G19825,'Location Type (FICM Codes)'!$A$7:$C$188,3,FALSE)","v":{"$error":"#N/A"}}]
[null,null,null,null,null,null,null,{"$f":"VLOOKUP($G$2:$G$50000,'Location Type (FICM Codes)'!$A$7:$B$188,2,FALSE)","v":{"$error":"#N/A"}},null,null,null,null,null,{"$f":"VLOOKUP(G9828:G19826,'Location Type (FICM Codes)'!$A$7:$C$188,3,FALSE)","v":{"$error":"#N/A"}}]
[null,null,null,null,null,null,null,{"$f":"VLOOKUP($G$2:$G$50000,'Location Type (FICM Codes)'!$A$7:$B$188,2,FALSE)","v":{"$error":"#N/A"}},null,null,null,null,null,{"$f":"VLOOKUP(G9829:G19827,'Location Type (FICM Codes)'!$A$7:$C$188,3,FALSE)","v":{"$error":"#N/A"}}]
[null,null,null,null,null,null,null,{"$f":"VLOOKUP($G$2:$G$50000,'Location Type (FICM Codes)'!$A$7:$B$188,2,FALSE)","v":{"$error":"#N/A"}},null,null,null,null,null,{"$f":"VLOOKUP(G9830:G19828,'Location Type (FICM Codes)'!$A$7:$C$188,3,FALSE)","v":{"$error":"#N/A"}}]
[null,null,null,null,null,null,null,{"$f":"VLOOKUP($G$2:$G$50000,'Location Type (FICM Codes)'!$A$7:$B$188,2,FALSE)","v":{"$error":"#N/A"}},null,null,null,null,null,{"$f":"VLOOKUP(G9831:G19829,'Location Type (FICM Codes)'!$A$7:$C$188,3,FALSE)","v":{"$error":"#N/A"}}]
[null,null,null,null,null,null,null,{"$f":"VLOOKUP($G$2:$G$50000,'Location Type (FICM Codes)'!$A$7:$B$188,2,FALSE)","v":{"$error":"#N/A"}},null,null,null,null,null,{"$f":"VLOOKUP(G9832:G19830,'Location Type (FICM Codes)'!$A$7:$C$188,3,FALSE)","v":{"$error":"#N/A"}}]
[null,null,null,null,null,null,null,{"$f":"VLOOKUP($G$2:$G$50000,'Location Type (FICM Codes)'!$A$7:$B$188,2,FALSE)","v":{"$error":"#N/A"}},null,null,null,null,null,{"$f":"VLOOKUP(G9833:G19831,'Location Type (FICM Codes)'!$A$7:$C$188,3,FALSE)","v":{"$error":"#N/A"}}]
[null,null,null,null,null,null,null,{"$f":"VLOOKUP($G$2:$G$50000,'Location Type (FICM Codes)'!$A$7:$B$188,2,FALSE)","v":{"$error":"#N/A"}},null,null,null,null,null,{"$f":"VLOOKUP(G9834:G19832,'Location Type (FICM Codes)'!$A$7:$C$188,3,FALSE)","v":{"$error":"#N/A"}}]
[null,null,null,null,null,null,null,{"$f":"VLOOKUP($G$2:$G$50000,'Location Type (FICM Codes)'!$A$7:$B$188,2,FALSE)","v":{"$error":"#N/A"}},null,null,null,null,null,{"$f":"VLOOKUP(G9835:G19833,'Location Type (FICM Codes)'!$A$7:$C$188,3,FALSE)","v":{"$error":"#N/A"}}]
[null,null,null,null,null,null,null,{"$f":"VLOOKUP($G$2:$G$50000,'Location Type (FICM Codes)'!$A$7:$B$188,2,FALSE)","v":{"$error":"#N/A"}},null,null,null,null,null,{"$f":"VLOOKUP(G9836:G19834,'Location Type (FICM Codes)'!$A$7:$C$188,3,FALSE)","v":{"$error":"#N/A"}}]
[null,null,null,null,null,null,null,{"$f":"VLOOKUP($G$2:$G$50000,'Location Type (FICM Codes)'!$A$7:$B$188,2,FALSE)","v":{"$error":"#N/A"}},null,null,null,null,null,{"$f":"VLOOKUP(G9837:G19835,'Location Type (FICM Codes)'!$A$7:$C$188,3,FALSE)","v":{"$error":"#N/A"}}]
[null,null,null,null,null,null,null,{"$f":"VLOOKUP($G$2:$G$50000,'Location Type (FICM Codes)'!$A$7:$B$188,2,FALSE)","v":{"$error":"#N/A"}},null,null,null,null,null,{"$f":"VLOOKUP(G9838:G19836,'Location Type (FICM Codes)'!$A$7:$C$188,3,FALSE)","v":{"$error":"#N/A"}}]
[null,null,null,null,null,null,null,{"$f":"VLOOKUP($G$2:$G$50000,'Location Type (FICM Codes)'!$A$7:$B$188,2,FALSE)","v":{"$error":"#N/A"}},null,null,null,null,null,{"$f":"VLOOKUP(G9839:G19837,'Location Type (FICM Codes)'!$A$7:$C$188,3,FALSE)","v":{"$error":"#N/A"}}]
[null,null,null,null,null,null,null,{"$f":"VLOOKUP($G$2:$G$50000,'Location Type (FICM Codes)'!$A$7:$B$188,2,FALSE)","v":{"$error":"#N/A"}},null,null,null,null,null,{"$f":"VLOOKUP(G9840:G19838,'Location Type (FICM Codes)'!$A$7:$C$188,3,FALSE)","v":{"$error":"#N/A"}}]
[null,null,null,null,null,null,null,{"$f":"VLOOKUP($G$2:$G$50000,'Location Type (FICM Codes)'!$A$7:$B$188,2,FALSE)","v":{"$error":"#N/A"}},null,null,null,null,null,{"$f":"VLOOKUP(G9841:G19839,'Location Type (FICM Codes)'!$A$7:$C$188,3,FALSE)","v":{"$error":"#N/A"}}]
[null,null,null,null,null,null,null,{"$f":"VLOOKUP($G$2:$G$50000,'Location Type (FICM Codes)'!$A$7:$B$188,2,FALSE)","v":{"$error":"#N/A"}},null,null,null,null,null,{"$f":"VLOOKUP(G9842:G19840,'Location Type (FICM Codes)'!$A$7:$C$188,3,FALSE)","v":{"$error":"#N/A"}}]
[null,null,null,null,null,null,null,{"$f":"VLOOKUP($G$2:$G$50000,'Location Type (FICM Codes)'!$A$7:$B$188,2,FALSE)","v":{"$error":"#N/A"}},null,null,null,null,null,{"$f":"VLOOKUP(G9843:G19841,'Location Type (FICM Codes)'!$A$7:$C$188,3,FALSE)","v":{"$error":"#N/A"}}]
[null,null,null,null,null,null,null,{"$f":"VLOOKUP($G$2:$G$50000,'Location Type (FICM Codes)'!$A$7:$B$188,2,FALSE)","v":{"$error":"#N/A"}},null,null,null,null,null,{"$f":"VLOOKUP(G9844:G19842,'Location Type (FICM Codes)'!$A$7:$C$188,3,FALSE)","v":{"$error":"#N/A"}}]
[null,null,null,null,null,null,null,{"$f":"VLOOKUP($G$2:$G$50000,'Location Type (FICM Codes)'!$A$7:$B$188,2,FALSE)","v":{"$error":"#N/A"}},null,null,null,null,null,{"$f":"VLOOKUP(G9845:G19843,'Location Type (FICM Codes)'!$A$7:$C$188,3,FALSE)","v":{"$error":"#N/A"}}]
[null,null,null,null,null,null,null,{"$f":"VLOOKUP($G$2:$G$50000,'Location Type (FICM Codes)'!$A$7:$B$188,2,FALSE)","v":{"$error":"#N/A"}},null,null,null,null,null,{"$f":"VLOOKUP(G9846:G19844,'Location Type (FICM Codes)'!$A$7:$C$188,3,FALSE)","v":{"$error":"#N/A"}}]
[null,null,null,null,null,null,null,{"$f":"VLOOKUP($G$2:$G$50000,'Location Type (FICM Codes)'!$A$7:$B$188,2,FALSE)","v":{"$error":"#N/A"}},null,null,null,null,null,{"$f":"VLOOKUP(G9847:G19845,'Location Type (FICM Codes)'!$A$7:$C$188,3,FALSE)","v":{"$error":"#N/A"}}]
[null,null,null,null,null,null,null,{"$f":"VLOOKUP($G$2:$G$50000,'Location Type (FICM Codes)'!$A$7:$B$188,2,FALSE)","v":{"$error":"#N/A"}},null,null,null,null,null,{"$f":"VLOOKUP(G9848:G19846,'Location Type (FICM Codes)'!$A$7:$C$188,3,FALSE)","v":{"$error":"#N/A"}}]
[null,null,null,null,null,null,null,{"$f":"VLOOKUP($G$2:$G$50000,'Location Type (FICM Codes)'!$A$7:$B$188,2,FALSE)","v":{"$error":"#N/A"}},null,null,null,null,null,{"$f":"VLOOKUP(G9849:G19847,'Location Type (FICM Codes)'!$A$7:$C$188,3,FALSE)","v":{"$error":"#N/A"}}]
[null,null,null,null,null,null,null,{"$f":"VLOOKUP($G$2:$G$50000,'Location Type (FICM Codes)'!$A$7:$B$188,2,FALSE)","v":{"$error":"#N/A"}},null,null,null,null,null,{"$f":"VLOOKUP(G9850:G19848,'Location Type (FICM Codes)'!$A$7:$C$188,3,FALSE)","v":{"$error":"#N/A"}}]
[null,null,null,null,null,null,null,{"$f":"VLOOKUP($G$2:$G$50000,'Location Type (FICM Codes)'!$A$7:$B$188,2,FALSE)","v":{"$error":"#N/A"}},null,null,null,null,null,{"$f":"VLOOKUP(G9851:G19849,'Location Type (FICM Codes)'!$A$7:$C$188,3,FALSE)","v":{"$error":"#N/A"}}]
[null,null,null,null,null,null,null,{"$f":"VLOOKUP($G$2:$G$50000,'Location Type (FICM Codes)'!$A$7:$B$188,2,FALSE)","v":{"$error":"#N/A"}},null,null,null,null,null,{"$f":"VLOOKUP(G9852:G19850,'Location Type (FICM Codes)'!$A$7:$C$188,3,FALSE)","v":{"$error":"#N/A"}}]
[null,null,null,null,null,null,null,{"$f":"VLOOKUP($G$2:$G$50000,'Location Type (FICM Codes)'!$A$7:$B$188,2,FALSE)","v":{"$error":"#N/A"}},null,null,null,null,null,{"$f":"VLOOKUP(G9853:G19851,'Location Type (FICM Codes)'!$A$7:$C$188,3,FALSE)","v":{"$error":"#N/A"}}]
[null,null,null,null,null,null,null,{"$f":"VLOOKUP($G$2:$G$50000,'Location Type (FICM Codes)'!$A$7:$B$188,2,FALSE)","v":{"$error":"#N/A"}},null,null,null,null,null,{"$f":"VLOOKUP(G9854:G19852,'Location Type (FICM Codes)'!$A$7:$C$188,3,FALSE)","v":{"$error":"#N/A"}}]
[null,null,null,null,null,null,null,{"$f":"VLOOKUP($G$2:$G$50000,'Location Type (FICM Codes)'!$A$7:$B$188,2,FALSE)","v":{"$error":"#N/A"}},null,null,null,null,null,{"$f":"VLOOKUP(G9855:G19853,'Location Type (FICM Codes)'!$A$7:$C$188,3,FALSE)","v":{"$error":"#N/A"}}]
[null,null,null,null,null,null,null,{"$f":"VLOOKUP($G$2:$G$50000,'Location Type (FICM Codes)'!$A$7:$B$188,2,FALSE)","v":{"$error":"#N/A"}},null,null,null,null,null,{"$f":"VLOOKUP(G9856:G19854,'Location Type (FICM Codes)'!$A$7:$C$188,3,FALSE)","v":{"$error":"#N/A"}}]
[null,null,null,null,null,null,null,{"$f":"VLOOKUP($G$2:$G$50000,'Location Type (FICM Codes)'!$A$7:$B$188,2,FALSE)","v":{"$error":"#N/A"}},null,null,null,null,null,{"$f":"VLOOKUP(G9857:G19855,'Location Type (FICM Codes)'!$A$7:$C$188,3,FALSE)","v":{"$error":"#N/A"}}]
[null,null,null,null,null,null,null,{"$f":"VLOOKUP($G$2:$G$50000,'Location Type (FICM Codes)'!$A$7:$B$188,2,FALSE)","v":{"$error":"#N/A"}},null,null,null,null,null,{"$f":"VLOOKUP(G9858:G19856,'Location Type (FICM Codes)'!$A$7:$C$188,3,FALSE)","v":{"$error":"#N/A"}}]
[null,null,null,null,null,null,null,{"$f":"VLOOKUP($G$2:$G$50000,'Location Type (FICM Codes)'!$A$7:$B$188,2,FALSE)","v":{"$error":"#N/A"}},null,null,null,null,null,{"$f":"VLOOKUP(G9859:G19857,'Location Type (FICM Codes)'!$A$7:$C$188,3,FALSE)","v":{"$error":"#N/A"}}]
[null,null,null,null,null,null,null,{"$f":"VLOOKUP($G$2:$G$50000,'Location Type (FICM Codes)'!$A$7:$B$188,2,FALSE)","v":{"$error":"#N/A"}},null,null,null,null,null,{"$f":"VLOOKUP(G9860:G19858,'Location Type (FICM Codes)'!$A$7:$C$188,3,FALSE)","v":{"$error":"#N/A"}}]
[null,null,null,null,null,null,null,{"$f":"VLOOKUP($G$2:$G$50000,'Location Type (FICM Codes)'!$A$7:$B$188,2,FALSE)","v":{"$error":"#N/A"}},null,null,null,null,null,{"$f":"VLOOKUP(G9861:G19859,'Location Type (FICM Codes)'!$A$7:$C$188,3,FALSE)","v":{"$error":"#N/A"}}]
[null,null,null,null,null,null,null,{"$f":"VLOOKUP($G$2:$G$50000,'Location Type (FICM Codes)'!$A$7:$B$188,2,FALSE)","v":{"$error":"#N/A"}},null,null,null,null,null,{"$f":"VLOOKUP(G9862:G19860,'Location Type (FICM Codes)'!$A$7:$C$188,3,FALSE)","v":{"$error":"#N/A"}}]
[null,null,null,null,null,null,null,{"$f":"VLOOKUP($G$2:$G$50000,'Location Type (FICM Codes)'!$A$7:$B$188,2,FALSE)","v":{"$error":"#N/A"}},null,null,null,null,null,{"$f":"VLOOKUP(G9863:G19861,'Location Type (FICM Codes)'!$A$7:$C$188,3,FALSE)","v":{"$error":"#N/A"}}]
[null,null,null,null,null,null,null,{"$f":"VLOOKUP($G$2:$G$50000,'Location Type (FICM Codes)'!$A$7:$B$188,2,FALSE)","v":{"$error":"#N/A"}},null,null,null,null,null,{"$f":"VLOOKUP(G9864:G19862,'Location Type (FICM Codes)'!$A$7:$C$188,3,FALSE)","v":{"$error":"#N/A"}}]
[null,null,null,null,null,null,null,{"$f":"VLOOKUP($G$2:$G$50000,'Location Type (FICM Codes)'!$A$7:$B$188,2,FALSE)","v":{"$error":"#N/A"}},null,null,null,null,null,{"$f":"VLOOKUP(G9865:G19863,'Location Type (FICM Codes)'!$A$7:$C$188,3,FALSE)","v":{"$error":"#N/A"}}]
[null,null,null,null,null,null,null,{"$f":"VLOOKUP($G$2:$G$50000,'Location Type (FICM Codes)'!$A$7:$B$188,2,FALSE)","v":{"$error":"#N/A"}},null,null,null,null,null,{"$f":"VLOOKUP(G9866:G19864,'Location Type (FICM Codes)'!$A$7:$C$188,3,FALSE)","v":{"$error":"#N/A"}}]
[null,null,null,null,null,null,null,{"$f":"VLOOKUP($G$2:$G$50000,'Location Type (FICM Codes)'!$A$7:$B$188,2,FALSE)","v":{"$error":"#N/A"}},null,null,null,null,null,{"$f":"VLOOKUP(G9867:G19865,'Location Type (FICM Codes)'!$A$7:$C$188,3,FALSE)","v":{"$error":"#N/A"}}]
[null,null,null,null,null,null,null,{"$f":"VLOOKUP($G$2:$G$50000,'Location Type (FICM Codes)'!$A$7:$B$188,2,FALSE)","v":{"$error":"#N/A"}},null,null,null,null,null,{"$f":"VLOOKUP(G9868:G19866,'Location Type (FICM Codes)'!$A$7:$C$188,3,FALSE)","v":{"$error":"#N/A"}}]
[null,null,null,null,null,null,null,{"$f":"VLOOKUP($G$2:$G$50000,'Location Type (FICM Codes)'!$A$7:$B$188,2,FALSE)","v":{"$error":"#N/A"}},null,null,null,null,null,{"$f":"VLOOKUP(G9869:G19867,'Location Type (FICM Codes)'!$A$7:$C$188,3,FALSE)","v":{"$error":"#N/A"}}]
[null,null,null,null,null,null,null,{"$f":"VLOOKUP($G$2:$G$50000,'Location Type (FICM Codes)'!$A$7:$B$188,2,FALSE)","v":{"$error":"#N/A"}},null,null,null,null,null,{"$f":"VLOOKUP(G9870:G19868,'Location Type (FICM Codes)'!$A$7:$C$188,3,FALSE)","v":{"$error":"#N/A"}}]
[null,null,null,null,null,null,null,{"$f":"VLOOKUP($G$2:$G$50000,'Location Type (FICM Codes)'!$A$7:$B$188,2,FALSE)","v":{"$error":"#N/A"}},null,null,null,null,null,{"$f":"VLOOKUP(G9871:G19869,'Location Type (FICM Codes)'!$A$7:$C$188,3,FALSE)","v":{"$error":"#N/A"}}]
[null,null,null,null,null,null,null,{"$f":"VLOOKUP($G$2:$G$50000,'Location Type (FICM Codes)'!$A$7:$B$188,2,FALSE)","v":{"$error":"#N/A"}},null,null,null,null,null,{"$f":"VLOOKUP(G9872:G19870,'Location Type (FICM Codes)'!$A$7:$C$188,3,FALSE)","v":{"$error":"#N/A"}}]
[null,null,null,null,null,null,null,{"$f":"VLOOKUP($G$2:$G$50000,'Location Type (FICM Codes)'!$A$7:$B$188,2,FALSE)","v":{"$error":"#N/A"}},null,null,null,null,null,{"$f":"VLOOKUP(G9873:G19871,'Location Type (FICM Codes)'!$A$7:$C$188,3,FALSE)","v":{"$error":"#N/A"}}]
[null,null,null,null,null,null,null,{"$f":"VLOOKUP($G$2:$G$50000,'Location Type (FICM Codes)'!$A$7:$B$188,2,FALSE)","v":{"$error":"#N/A"}},null,null,null,null,null,{"$f":"VLOOKUP(G9874:G19872,'Location Type (FICM Codes)'!$A$7:$C$188,3,FALSE)","v":{"$error":"#N/A"}}]
[null,null,null,null,null,null,null,{"$f":"VLOOKUP($G$2:$G$50000,'Location Type (FICM Codes)'!$A$7:$B$188,2,FALSE)","v":{"$error":"#N/A"}},null,null,null,null,null,{"$f":"VLOOKUP(G9875:G19873,'Location Type (FICM Codes)'!$A$7:$C$188,3,FALSE)","v":{"$error":"#N/A"}}]
[null,null,null,null,null,null,null,{"$f":"VLOOKUP($G$2:$G$50000,'Location Type (FICM Codes)'!$A$7:$B$188,2,FALSE)","v":{"$error":"#N/A"}},null,null,null,null,null,{"$f":"VLOOKUP(G9876:G19874,'Location Type (FICM Codes)'!$A$7:$C$188,3,FALSE)","v":{"$error":"#N/A"}}]
[null,null,null,null,null,null,null,{"$f":"VLOOKUP($G$2:$G$50000,'Location Type (FICM Codes)'!$A$7:$B$188,2,FALSE)","v":{"$error":"#N/A"}},null,null,null,null,null,{"$f":"VLOOKUP(G9877:G19875,'Location Type (FICM Codes)'!$A$7:$C$188,3,FALSE)","v":{"$error":"#N/A"}}]
[null,null,null,null,null,null,null,{"$f":"VLOOKUP($G$2:$G$50000,'Location Type (FICM Codes)'!$A$7:$B$188,2,FALSE)","v":{"$error":"#N/A"}},null,null,null,null,null,{"$f":"VLOOKUP(G9878:G19876,'Location Type (FICM Codes)'!$A$7:$C$188,3,FALSE)","v":{"$error":"#N/A"}}]
[null,null,null,null,null,null,null,{"$f":"VLOOKUP($G$2:$G$50000,'Location Type (FICM Codes)'!$A$7:$B$188,2,FALSE)","v":{"$error":"#N/A"}},null,null,null,null,null,{"$f":"VLOOKUP(G9879:G19877,'Location Type (FICM Codes)'!$A$7:$C$188,3,FALSE)","v":{"$error":"#N/A"}}]
[null,null,null,null,null,null,null,{"$f":"VLOOKUP($G$2:$G$50000,'Location Type (FICM Codes)'!$A$7:$B$188,2,FALSE)","v":{"$error":"#N/A"}},null,null,null,null,null,{"$f":"VLOOKUP(G9880:G19878,'Location Type (FICM Codes)'!$A$7:$C$188,3,FALSE)","v":{"$error":"#N/A"}}]
[null,null,null,null,null,null,null,{"$f":"VLOOKUP($G$2:$G$50000,'Location Type (FICM Codes)'!$A$7:$B$188,2,FALSE)","v":{"$error":"#N/A"}},null,null,null,null,null,{"$f":"VLOOKUP(G9881:G19879,'Location Type (FICM Codes)'!$A$7:$C$188,3,FALSE)","v":{"$error":"#N/A"}}]
[null,null,null,null,null,null,null,{"$f":"VLOOKUP($G$2:$G$50000,'Location Type (FICM Codes)'!$A$7:$B$188,2,FALSE)","v":{"$error":"#N/A"}},null,null,null,null,null,{"$f":"VLOOKUP(G9882:G19880,'Location Type (FICM Codes)'!$A$7:$C$188,3,FALSE)","v":{"$error":"#N/A"}}]
[null,null,null,null,null,null,null,{"$f":"VLOOKUP($G$2:$G$50000,'Location Type (FICM Codes)'!$A$7:$B$188,2,FALSE)","v":{"$error":"#N/A"}},null,null,null,null,null,{"$f":"VLOOKUP(G9883:G19881,'Location Type (FICM Codes)'!$A$7:$C$188,3,FALSE)","v":{"$error":"#N/A"}}]
[null,null,null,null,null,null,null,{"$f":"VLOOKUP($G$2:$G$50000,'Location Type (FICM Codes)'!$A$7:$B$188,2,FALSE)","v":{"$error":"#N/A"}},null,null,null,null,null,{"$f":"VLOOKUP(G9884:G19882,'Location Type (FICM Codes)'!$A$7:$C$188,3,FALSE)","v":{"$error":"#N/A"}}]
[null,null,null,null,null,null,null,{"$f":"VLOOKUP($G$2:$G$50000,'Location Type (FICM Codes)'!$A$7:$B$188,2,FALSE)","v":{"$error":"#N/A"}},null,null,null,null,null,{"$f":"VLOOKUP(G9885:G19883,'Location Type (FICM Codes)'!$A$7:$C$188,3,FALSE)","v":{"$error":"#N/A"}}]
[null,null,null,null,null,null,null,{"$f":"VLOOKUP($G$2:$G$50000,'Location Type (FICM Codes)'!$A$7:$B$188,2,FALSE)","v":{"$error":"#N/A"}},null,null,null,null,null,{"$f":"VLOOKUP(G9886:G19884,'Location Type (FICM Codes)'!$A$7:$C$188,3,FALSE)","v":{"$error":"#N/A"}}]
[null,null,null,null,null,null,null,{"$f":"VLOOKUP($G$2:$G$50000,'Location Type (FICM Codes)'!$A$7:$B$188,2,FALSE)","v":{"$error":"#N/A"}},null,null,null,null,null,{"$f":"VLOOKUP(G9887:G19885,'Location Type (FICM Codes)'!$A$7:$C$188,3,FALSE)","v":{"$error":"#N/A"}}]
[null,null,null,null,null,null,null,{"$f":"VLOOKUP($G$2:$G$50000,'Location Type (FICM Codes)'!$A$7:$B$188,2,FALSE)","v":{"$error":"#N/A"}},null,null,null,null,null,{"$f":"VLOOKUP(G9888:G19886,'Location Type (FICM Codes)'!$A$7:$C$188,3,FALSE)","v":{"$error":"#N/A"}}]
[null,null,null,null,null,null,null,{"$f":"VLOOKUP($G$2:$G$50000,'Location Type (FICM Codes)'!$A$7:$B$188,2,FALSE)","v":{"$error":"#N/A"}},null,null,null,null,null,{"$f":"VLOOKUP(G9889:G19887,'Location Type (FICM Codes)'!$A$7:$C$188,3,FALSE)","v":{"$error":"#N/A"}}]
[null,null,null,null,null,null,null,{"$f":"VLOOKUP($G$2:$G$50000,'Location Type (FICM Codes)'!$A$7:$B$188,2,FALSE)","v":{"$error":"#N/A"}},null,null,null,null,null,{"$f":"VLOOKUP(G9890:G19888,'Location Type (FICM Codes)'!$A$7:$C$188,3,FALSE)","v":{"$error":"#N/A"}}]
[null,null,null,null,null,null,null,{"$f":"VLOOKUP($G$2:$G$50000,'Location Type (FICM Codes)'!$A$7:$B$188,2,FALSE)","v":{"$error":"#N/A"}},null,null,null,null,null,{"$f":"VLOOKUP(G9891:G19889,'Location Type (FICM Codes)'!$A$7:$C$188,3,FALSE)","v":{"$error":"#N/A"}}]
[null,null,null,null,null,null,null,{"$f":"VLOOKUP($G$2:$G$50000,'Location Type (FICM Codes)'!$A$7:$B$188,2,FALSE)","v":{"$error":"#N/A"}},null,null,null,null,null,{"$f":"VLOOKUP(G9892:G19890,'Location Type (FICM Codes)'!$A$7:$C$188,3,FALSE)","v":{"$error":"#N/A"}}]
[null,null,null,null,null,null,null,{"$f":"VLOOKUP($G$2:$G$50000,'Location Type (FICM Codes)'!$A$7:$B$188,2,FALSE)","v":{"$error":"#N/A"}},null,null,null,null,null,{"$f":"VLOOKUP(G9893:G19891,'Location Type (FICM Codes)'!$A$7:$C$188,3,FALSE)","v":{"$error":"#N/A"}}]
[null,null,null,null,null,null,null,{"$f":"VLOOKUP($G$2:$G$50000,'Location Type (FICM Codes)'!$A$7:$B$188,2,FALSE)","v":{"$error":"#N/A"}},null,null,null,null,null,{"$f":"VLOOKUP(G9894:G19892,'Location Type (FICM Codes)'!$A$7:$C$188,3,FALSE)","v":{"$error":"#N/A"}}]
[null,null,null,null,null,null,null,{"$f":"VLOOKUP($G$2:$G$50000,'Location Type (FICM Codes)'!$A$7:$B$188,2,FALSE)","v":{"$error":"#N/A"}},null,null,null,null,null,{"$f":"VLOOKUP(G9895:G19893,'Location Type (FICM Codes)'!$A$7:$C$188,3,FALSE)","v":{"$error":"#N/A"}}]
[null,null,null,null,null,null,null,{"$f":"VLOOKUP($G$2:$G$50000,'Location Type (FICM Codes)'!$A$7:$B$188,2,FALSE)","v":{"$error":"#N/A"}},null,null,null,null,null,{"$f":"VLOOKUP(G9896:G19894,'Location Type (FICM Codes)'!$A$7:$C$188,3,FALSE)","v":{"$error":"#N/A"}}]
[null,null,null,null,null,null,null,{"$f":"VLOOKUP($G$2:$G$50000,'Location Type (FICM Codes)'!$A$7:$B$188,2,FALSE)","v":{"$error":"#N/A"}},null,null,null,null,null,{"$f":"VLOOKUP(G9897:G19895,'Location Type (FICM Codes)'!$A$7:$C$188,3,FALSE)","v":{"$error":"#N/A"}}]
[null,null,null,null,null,null,null,{"$f":"VLOOKUP($G$2:$G$50000,'Location Type (FICM Codes)'!$A$7:$B$188,2,FALSE)","v":{"$error":"#N/A"}},null,null,null,null,null,{"$f":"VLOOKUP(G9898:G19896,'Location Type (FICM Codes)'!$A$7:$C$188,3,FALSE)","v":{"$error":"#N/A"}}]
[null,null,null,null,null,null,null,{"$f":"VLOOKUP($G$2:$G$50000,'Location Type (FICM Codes)'!$A$7:$B$188,2,FALSE)","v":{"$error":"#N/A"}},null,null,null,null,null,{"$f":"VLOOKUP(G9899:G19897,'Location Type (FICM Codes)'!$A$7:$C$188,3,FALSE)","v":{"$error":"#N/A"}}]
[null,null,null,null,null,null,null,{"$f":"VLOOKUP($G$2:$G$50000,'Location Type (FICM Codes)'!$A$7:$B$188,2,FALSE)","v":{"$error":"#N/A"}},null,null,null,null,null,{"$f":"VLOOKUP(G9900:G19898,'Location Type (FICM Codes)'!$A$7:$C$188,3,FALSE)","v":{"$error":"#N/A"}}]
[null,null,null,null,null,null,null,{"$f":"VLOOKUP($G$2:$G$50000,'Location Type (FICM Codes)'!$A$7:$B$188,2,FALSE)","v":{"$error":"#N/A"}},null,null,null,null,null,{"$f":"VLOOKUP(G9901:G19899,'Location Type (FICM Codes)'!$A$7:$C$188,3,FALSE)","v":{"$error":"#N/A"}}]
[null,null,null,null,null,null,null,{"$f":"VLOOKUP($G$2:$G$50000,'Location Type (FICM Codes)'!$A$7:$B$188,2,FALSE)","v":{"$error":"#N/A"}},null,null,null,null,null,{"$f":"VLOOKUP(G9902:G19900,'Location Type (FICM Codes)'!$A$7:$C$188,3,FALSE)","v":{"$error":"#N/A"}}]
[null,null,null,null,null,null,null,{"$f":"VLOOKUP($G$2:$G$50000,'Location Type (FICM Codes)'!$A$7:$B$188,2,FALSE)","v":{"$error":"#N/A"}},null,null,null,null,null,{"$f":"VLOOKUP(G9903:G19901,'Location Type (FICM Codes)'!$A$7:$C$188,3,FALSE)","v":{"$error":"#N/A"}}]
[null,null,null,null,null,null,null,{"$f":"VLOOKUP($G$2:$G$50000,'Location Type (FICM Codes)'!$A$7:$B$188,2,FALSE)","v":{"$error":"#N/A"}},null,null,null,null,null,{"$f":"VLOOKUP(G9904:G19902,'Location Type (FICM Codes)'!$A$7:$C$188,3,FALSE)","v":{"$error":"#N/A"}}]
[null,null,null,null,null,null,null,{"$f":"VLOOKUP($G$2:$G$50000,'Location Type (FICM Codes)'!$A$7:$B$188,2,FALSE)","v":{"$error":"#N/A"}},null,null,null,null,null,{"$f":"VLOOKUP(G9905:G19903,'Location Type (FICM Codes)'!$A$7:$C$188,3,FALSE)","v":{"$error":"#N/A"}}]
[null,null,null,null,null,null,null,{"$f":"VLOOKUP($G$2:$G$50000,'Location Type (FICM Codes)'!$A$7:$B$188,2,FALSE)","v":{"$error":"#N/A"}},null,null,null,null,null,{"$f":"VLOOKUP(G9906:G19904,'Location Type (FICM Codes)'!$A$7:$C$188,3,FALSE)","v":{"$error":"#N/A"}}]
[null,null,null,null,null,null,null,{"$f":"VLOOKUP($G$2:$G$50000,'Location Type (FICM Codes)'!$A$7:$B$188,2,FALSE)","v":{"$error":"#N/A"}},null,null,null,null,null,{"$f":"VLOOKUP(G9907:G19905,'Location Type (FICM Codes)'!$A$7:$C$188,3,FALSE)","v":{"$error":"#N/A"}}]
[null,null,null,null,null,null,null,{"$f":"VLOOKUP($G$2:$G$50000,'Location Type (FICM Codes)'!$A$7:$B$188,2,FALSE)","v":{"$error":"#N/A"}},null,null,null,null,null,{"$f":"VLOOKUP(G9908:G19906,'Location Type (FICM Codes)'!$A$7:$C$188,3,FALSE)","v":{"$error":"#N/A"}}]
[null,null,null,null,null,null,null,{"$f":"VLOOKUP($G$2:$G$50000,'Location Type (FICM Codes)'!$A$7:$B$188,2,FALSE)","v":{"$error":"#N/A"}},null,null,null,null,null,{"$f":"VLOOKUP(G9909:G19907,'Location Type (FICM Codes)'!$A$7:$C$188,3,FALSE)","v":{"$error":"#N/A"}}]
[null,null,null,null,null,null,null,{"$f":"VLOOKUP($G$2:$G$50000,'Location Type (FICM Codes)'!$A$7:$B$188,2,FALSE)","v":{"$error":"#N/A"}},null,null,null,null,null,{"$f":"VLOOKUP(G9910:G19908,'Location Type (FICM Codes)'!$A$7:$C$188,3,FALSE)","v":{"$error":"#N/A"}}]
[null,null,null,null,null,null,null,{"$f":"VLOOKUP($G$2:$G$50000,'Location Type (FICM Codes)'!$A$7:$B$188,2,FALSE)","v":{"$error":"#N/A"}},null,null,null,null,null,{"$f":"VLOOKUP(G9911:G19909,'Location Type (FICM Codes)'!$A$7:$C$188,3,FALSE)","v":{"$error":"#N/A"}}]
[null,null,null,null,null,null,null,{"$f":"VLOOKUP($G$2:$G$50000,'Location Type (FICM Codes)'!$A$7:$B$188,2,FALSE)","v":{"$error":"#N/A"}},null,null,null,null,null,{"$f":"VLOOKUP(G9912:G19910,'Location Type (FICM Codes)'!$A$7:$C$188,3,FALSE)","v":{"$error":"#N/A"}}]
[null,null,null,null,null,null,null,{"$f":"VLOOKUP($G$2:$G$50000,'Location Type (FICM Codes)'!$A$7:$B$188,2,FALSE)","v":{"$error":"#N/A"}},null,null,null,null,null,{"$f":"VLOOKUP(G9913:G19911,'Location Type (FICM Codes)'!$A$7:$C$188,3,FALSE)","v":{"$error":"#N/A"}}]
[null,null,null,null,null,null,null,{"$f":"VLOOKUP($G$2:$G$50000,'Location Type (FICM Codes)'!$A$7:$B$188,2,FALSE)","v":{"$error":"#N/A"}},null,null,null,null,null,{"$f":"VLOOKUP(G9914:G19912,'Location Type (FICM Codes)'!$A$7:$C$188,3,FALSE)","v":{"$error":"#N/A"}}]
[null,null,null,null,null,null,null,{"$f":"VLOOKUP($G$2:$G$50000,'Location Type (FICM Codes)'!$A$7:$B$188,2,FALSE)","v":{"$error":"#N/A"}},null,null,null,null,null,{"$f":"VLOOKUP(G9915:G19913,'Location Type (FICM Codes)'!$A$7:$C$188,3,FALSE)","v":{"$error":"#N/A"}}]
[null,null,null,null,null,null,null,{"$f":"VLOOKUP($G$2:$G$50000,'Location Type (FICM Codes)'!$A$7:$B$188,2,FALSE)","v":{"$error":"#N/A"}},null,null,null,null,null,{"$f":"VLOOKUP(G9916:G19914,'Location Type (FICM Codes)'!$A$7:$C$188,3,FALSE)","v":{"$error":"#N/A"}}]
[null,null,null,null,null,null,null,{"$f":"VLOOKUP($G$2:$G$50000,'Location Type (FICM Codes)'!$A$7:$B$188,2,FALSE)","v":{"$error":"#N/A"}},null,null,null,null,null,{"$f":"VLOOKUP(G9917:G19915,'Location Type (FICM Codes)'!$A$7:$C$188,3,FALSE)","v":{"$error":"#N/A"}}]
[null,null,null,null,null,null,null,{"$f":"VLOOKUP($G$2:$G$50000,'Location Type (FICM Codes)'!$A$7:$B$188,2,FALSE)","v":{"$error":"#N/A"}},null,null,null,null,null,{"$f":"VLOOKUP(G9918:G19916,'Location Type (FICM Codes)'!$A$7:$C$188,3,FALSE)","v":{"$error":"#N/A"}}]
[null,null,null,null,null,null,null,{"$f":"VLOOKUP($G$2:$G$50000,'Location Type (FICM Codes)'!$A$7:$B$188,2,FALSE)","v":{"$error":"#N/A"}},null,null,null,null,null,{"$f":"VLOOKUP(G9919:G19917,'Location Type (FICM Codes)'!$A$7:$C$188,3,FALSE)","v":{"$error":"#N/A"}}]
[null,null,null,null,null,null,null,{"$f":"VLOOKUP($G$2:$G$50000,'Location Type (FICM Codes)'!$A$7:$B$188,2,FALSE)","v":{"$error":"#N/A"}},null,null,null,null,null,{"$f":"VLOOKUP(G9920:G19918,'Location Type (FICM Codes)'!$A$7:$C$188,3,FALSE)","v":{"$error":"#N/A"}}]
[null,null,null,null,null,null,null,{"$f":"VLOOKUP($G$2:$G$50000,'Location Type (FICM Codes)'!$A$7:$B$188,2,FALSE)","v":{"$error":"#N/A"}},null,null,null,null,null,{"$f":"VLOOKUP(G9921:G19919,'Location Type (FICM Codes)'!$A$7:$C$188,3,FALSE)","v":{"$error":"#N/A"}}]
[null,null,null,null,null,null,null,{"$f":"VLOOKUP($G$2:$G$50000,'Location Type (FICM Codes)'!$A$7:$B$188,2,FALSE)","v":{"$error":"#N/A"}},null,null,null,null,null,{"$f":"VLOOKUP(G9922:G19920,'Location Type (FICM Codes)'!$A$7:$C$188,3,FALSE)","v":{"$error":"#N/A"}}]
[null,null,null,null,null,null,null,{"$f":"VLOOKUP($G$2:$G$50000,'Location Type (FICM Codes)'!$A$7:$B$188,2,FALSE)","v":{"$error":"#N/A"}},null,null,null,null,null,{"$f":"VLOOKUP(G9923:G19921,'Location Type (FICM Codes)'!$A$7:$C$188,3,FALSE)","v":{"$error":"#N/A"}}]
[null,null,null,null,null,null,null,{"$f":"VLOOKUP($G$2:$G$50000,'Location Type (FICM Codes)'!$A$7:$B$188,2,FALSE)","v":{"$error":"#N/A"}},null,null,null,null,null,{"$f":"VLOOKUP(G9924:G19922,'Location Type (FICM Codes)'!$A$7:$C$188,3,FALSE)","v":{"$error":"#N/A"}}]
[null,null,null,null,null,null,null,{"$f":"VLOOKUP($G$2:$G$50000,'Location Type (FICM Codes)'!$A$7:$B$188,2,FALSE)","v":{"$error":"#N/A"}},null,null,null,null,null,{"$f":"VLOOKUP(G9925:G19923,'Location Type (FICM Codes)'!$A$7:$C$188,3,FALSE)","v":{"$error":"#N/A"}}]
[null,null,null,null,null,null,null,{"$f":"VLOOKUP($G$2:$G$50000,'Location Type (FICM Codes)'!$A$7:$B$188,2,FALSE)","v":{"$error":"#N/A"}},null,null,null,null,null,{"$f":"VLOOKUP(G9926:G19924,'Location Type (FICM Codes)'!$A$7:$C$188,3,FALSE)","v":{"$error":"#N/A"}}]
[null,null,null,null,null,null,null,{"$f":"VLOOKUP($G$2:$G$50000,'Location Type (FICM Codes)'!$A$7:$B$188,2,FALSE)","v":{"$error":"#N/A"}},null,null,null,null,null,{"$f":"VLOOKUP(G9927:G19925,'Location Type (FICM Codes)'!$A$7:$C$188,3,FALSE)","v":{"$error":"#N/A"}}]
[null,null,null,null,null,null,null,{"$f":"VLOOKUP($G$2:$G$50000,'Location Type (FICM Codes)'!$A$7:$B$188,2,FALSE)","v":{"$error":"#N/A"}},null,null,null,null,null,{"$f":"VLOOKUP(G9928:G19926,'Location Type (FICM Codes)'!$A$7:$C$188,3,FALSE)","v":{"$error":"#N/A"}}]
[null,null,null,null,null,null,null,{"$f":"VLOOKUP($G$2:$G$50000,'Location Type (FICM Codes)'!$A$7:$B$188,2,FALSE)","v":{"$error":"#N/A"}},null,null,null,null,null,{"$f":"VLOOKUP(G9929:G19927,'Location Type (FICM Codes)'!$A$7:$C$188,3,FALSE)","v":{"$error":"#N/A"}}]
[null,null,null,null,null,null,null,{"$f":"VLOOKUP($G$2:$G$50000,'Location Type (FICM Codes)'!$A$7:$B$188,2,FALSE)","v":{"$error":"#N/A"}},null,null,null,null,null,{"$f":"VLOOKUP(G9930:G19928,'Location Type (FICM Codes)'!$A$7:$C$188,3,FALSE)","v":{"$error":"#N/A"}}]
[null,null,null,null,null,null,null,{"$f":"VLOOKUP($G$2:$G$50000,'Location Type (FICM Codes)'!$A$7:$B$188,2,FALSE)","v":{"$error":"#N/A"}},null,null,null,null,null,{"$f":"VLOOKUP(G9931:G19929,'Location Type (FICM Codes)'!$A$7:$C$188,3,FALSE)","v":{"$error":"#N/A"}}]
[null,null,null,null,null,null,null,{"$f":"VLOOKUP($G$2:$G$50000,'Location Type (FICM Codes)'!$A$7:$B$188,2,FALSE)","v":{"$error":"#N/A"}},null,null,null,null,null,{"$f":"VLOOKUP(G9932:G19930,'Location Type (FICM Codes)'!$A$7:$C$188,3,FALSE)","v":{"$error":"#N/A"}}]
[null,null,null,null,null,null,null,{"$f":"VLOOKUP($G$2:$G$50000,'Location Type (FICM Codes)'!$A$7:$B$188,2,FALSE)","v":{"$error":"#N/A"}},null,null,null,null,null,{"$f":"VLOOKUP(G9933:G19931,'Location Type (FICM Codes)'!$A$7:$C$188,3,FALSE)","v":{"$error":"#N/A"}}]
[null,null,null,null,null,null,null,{"$f":"VLOOKUP($G$2:$G$50000,'Location Type (FICM Codes)'!$A$7:$B$188,2,FALSE)","v":{"$error":"#N/A"}},null,null,null,null,null,{"$f":"VLOOKUP(G9934:G19932,'Location Type (FICM Codes)'!$A$7:$C$188,3,FALSE)","v":{"$error":"#N/A"}}]
[null,null,null,null,null,null,null,{"$f":"VLOOKUP($G$2:$G$50000,'Location Type (FICM Codes)'!$A$7:$B$188,2,FALSE)","v":{"$error":"#N/A"}},null,null,null,null,null,{"$f":"VLOOKUP(G9935:G19933,'Location Type (FICM Codes)'!$A$7:$C$188,3,FALSE)","v":{"$error":"#N/A"}}]
[null,null,null,null,null,null,null,{"$f":"VLOOKUP($G$2:$G$50000,'Location Type (FICM Codes)'!$A$7:$B$188,2,FALSE)","v":{"$error":"#N/A"}},null,null,null,null,null,{"$f":"VLOOKUP(G9936:G19934,'Location Type (FICM Codes)'!$A$7:$C$188,3,FALSE)","v":{"$error":"#N/A"}}]
[null,null,null,null,null,null,null,{"$f":"VLOOKUP($G$2:$G$50000,'Location Type (FICM Codes)'!$A$7:$B$188,2,FALSE)","v":{"$error":"#N/A"}},null,null,null,null,null,{"$f":"VLOOKUP(G9937:G19935,'Location Type (FICM Codes)'!$A$7:$C$188,3,FALSE)","v":{"$error":"#N/A"}}]
[null,null,null,null,null,null,null,{"$f":"VLOOKUP($G$2:$G$50000,'Location Type (FICM Codes)'!$A$7:$B$188,2,FALSE)","v":{"$error":"#N/A"}},null,null,null,null,null,{"$f":"VLOOKUP(G9938:G19936,'Location Type (FICM Codes)'!$A$7:$C$188,3,FALSE)","v":{"$error":"#N/A"}}]
[null,null,null,null,null,null,null,{"$f":"VLOOKUP($G$2:$G$50000,'Location Type (FICM Codes)'!$A$7:$B$188,2,FALSE)","v":{"$error":"#N/A"}},null,null,null,null,null,{"$f":"VLOOKUP(G9939:G19937,'Location Type (FICM Codes)'!$A$7:$C$188,3,FALSE)","v":{"$error":"#N/A"}}]
[null,null,null,null,null,null,null,{"$f":"VLOOKUP($G$2:$G$50000,'Location Type (FICM Codes)'!$A$7:$B$188,2,FALSE)","v":{"$error":"#N/A"}},null,null,null,null,null,{"$f":"VLOOKUP(G9940:G19938,'Location Type (FICM Codes)'!$A$7:$C$188,3,FALSE)","v":{"$error":"#N/A"}}]
[null,null,null,null,null,null,null,{"$f":"VLOOKUP($G$2:$G$50000,'Location Type (FICM Codes)'!$A$7:$B$188,2,FALSE)","v":{"$error":"#N/A"}},null,null,null,null,null,{"$f":"VLOOKUP(G9941:G19939,'Location Type (FICM Codes)'!$A$7:$C$188,3,FALSE)","v":{"$error":"#N/A"}}]
[null,null,null,null,null,null,null,{"$f":"VLOOKUP($G$2:$G$50000,'Location Type (FICM Codes)'!$A$7:$B$188,2,FALSE)","v":{"$error":"#N/A"}},null,null,null,null,null,{"$f":"VLOOKUP(G9942:G19940,'Location Type (FICM Codes)'!$A$7:$C$188,3,FALSE)","v":{"$error":"#N/A"}}]
[null,null,null,null,null,null,null,{"$f":"VLOOKUP($G$2:$G$50000,'Location Type (FICM Codes)'!$A$7:$B$188,2,FALSE)","v":{"$error":"#N/A"}},null,null,null,null,null,{"$f":"VLOOKUP(G9943:G19941,'Location Type (FICM Codes)'!$A$7:$C$188,3,FALSE)","v":{"$error":"#N/A"}}]
[null,null,null,null,null,null,null,{"$f":"VLOOKUP($G$2:$G$50000,'Location Type (FICM Codes)'!$A$7:$B$188,2,FALSE)","v":{"$error":"#N/A"}},null,null,null,null,null,{"$f":"VLOOKUP(G9944:G19942,'Location Type (FICM Codes)'!$A$7:$C$188,3,FALSE)","v":{"$error":"#N/A"}}]
[null,null,null,null,null,null,null,{"$f":"VLOOKUP($G$2:$G$50000,'Location Type (FICM Codes)'!$A$7:$B$188,2,FALSE)","v":{"$error":"#N/A"}},null,null,null,null,null,{"$f":"VLOOKUP(G9945:G19943,'Location Type (FICM Codes)'!$A$7:$C$188,3,FALSE)","v":{"$error":"#N/A"}}]
[null,null,null,null,null,null,null,{"$f":"VLOOKUP($G$2:$G$50000,'Location Type (FICM Codes)'!$A$7:$B$188,2,FALSE)","v":{"$error":"#N/A"}},null,null,null,null,null,{"$f":"VLOOKUP(G9946:G19944,'Location Type (FICM Codes)'!$A$7:$C$188,3,FALSE)","v":{"$error":"#N/A"}}]
[null,null,null,null,null,null,null,{"$f":"VLOOKUP($G$2:$G$50000,'Location Type (FICM Codes)'!$A$7:$B$188,2,FALSE)","v":{"$error":"#N/A"}},null,null,null,null,null,{"$f":"VLOOKUP(G9947:G19945,'Location Type (FICM Codes)'!$A$7:$C$188,3,FALSE)","v":{"$error":"#N/A"}}]
[null,null,null,null,null,null,null,{"$f":"VLOOKUP($G$2:$G$50000,'Location Type (FICM Codes)'!$A$7:$B$188,2,FALSE)","v":{"$error":"#N/A"}},null,null,null,null,null,{"$f":"VLOOKUP(G9948:G19946,'Location Type (FICM Codes)'!$A$7:$C$188,3,FALSE)","v":{"$error":"#N/A"}}]
[null,null,null,null,null,null,null,{"$f":"VLOOKUP($G$2:$G$50000,'Location Type (FICM Codes)'!$A$7:$B$188,2,FALSE)","v":{"$error":"#N/A"}},null,null,null,null,null,{"$f":"VLOOKUP(G9949:G19947,'Location Type (FICM Codes)'!$A$7:$C$188,3,FALSE)","v":{"$error":"#N/A"}}]
[null,null,null,null,null,null,null,{"$f":"VLOOKUP($G$2:$G$50000,'Location Type (FICM Codes)'!$A$7:$B$188,2,FALSE)","v":{"$error":"#N/A"}},null,null,null,null,null,{"$f":"VLOOKUP(G9950:G19948,'Location Type (FICM Codes)'!$A$7:$C$188,3,FALSE)","v":{"$error":"#N/A"}}]
[null,null,null,null,null,null,null,{"$f":"VLOOKUP($G$2:$G$50000,'Location Type (FICM Codes)'!$A$7:$B$188,2,FALSE)","v":{"$error":"#N/A"}},null,null,null,null,null,{"$f":"VLOOKUP(G9951:G19949,'Location Type (FICM Codes)'!$A$7:$C$188,3,FALSE)","v":{"$error":"#N/A"}}]
[null,null,null,null,null,null,null,{"$f":"VLOOKUP($G$2:$G$50000,'Location Type (FICM Codes)'!$A$7:$B$188,2,FALSE)","v":{"$error":"#N/A"}},null,null,null,null,null,{"$f":"VLOOKUP(G9952:G19950,'Location Type (FICM Codes)'!$A$7:$C$188,3,FALSE)","v":{"$error":"#N/A"}}]
[null,null,null,null,null,null,null,{"$f":"VLOOKUP($G$2:$G$50000,'Location Type (FICM Codes)'!$A$7:$B$188,2,FALSE)","v":{"$error":"#N/A"}},null,null,null,null,null,{"$f":"VLOOKUP(G9953:G19951,'Location Type (FICM Codes)'!$A$7:$C$188,3,FALSE)","v":{"$error":"#N/A"}}]
[null,null,null,null,null,null,null,{"$f":"VLOOKUP($G$2:$G$50000,'Location Type (FICM Codes)'!$A$7:$B$188,2,FALSE)","v":{"$error":"#N/A"}},null,null,null,null,null,{"$f":"VLOOKUP(G9954:G19952,'Location Type (FICM Codes)'!$A$7:$C$188,3,FALSE)","v":{"$error":"#N/A"}}]
[null,null,null,null,null,null,null,{"$f":"VLOOKUP($G$2:$G$50000,'Location Type (FICM Codes)'!$A$7:$B$188,2,FALSE)","v":{"$error":"#N/A"}},null,null,null,null,null,{"$f":"VLOOKUP(G9955:G19953,'Location Type (FICM Codes)'!$A$7:$C$188,3,FALSE)","v":{"$error":"#N/A"}}]
[null,null,null,null,null,null,null,{"$f":"VLOOKUP($G$2:$G$50000,'Location Type (FICM Codes)'!$A$7:$B$188,2,FALSE)","v":{"$error":"#N/A"}},null,null,null,null,null,{"$f":"VLOOKUP(G9956:G19954,'Location Type (FICM Codes)'!$A$7:$C$188,3,FALSE)","v":{"$error":"#N/A"}}]
[null,null,null,null,null,null,null,{"$f":"VLOOKUP($G$2:$G$50000,'Location Type (FICM Codes)'!$A$7:$B$188,2,FALSE)","v":{"$error":"#N/A"}},null,null,null,null,null,{"$f":"VLOOKUP(G9957:G19955,'Location Type (FICM Codes)'!$A$7:$C$188,3,FALSE)","v":{"$error":"#N/A"}}]
[null,null,null,null,null,null,null,{"$f":"VLOOKUP($G$2:$G$50000,'Location Type (FICM Codes)'!$A$7:$B$188,2,FALSE)","v":{"$error":"#N/A"}},null,null,null,null,null,{"$f":"VLOOKUP(G9958:G19956,'Location Type (FICM Codes)'!$A$7:$C$188,3,FALSE)","v":{"$error":"#N/A"}}]
[null,null,null,null,null,null,null,{"$f":"VLOOKUP($G$2:$G$50000,'Location Type (FICM Codes)'!$A$7:$B$188,2,FALSE)","v":{"$error":"#N/A"}},null,null,null,null,null,{"$f":"VLOOKUP(G9959:G19957,'Location Type (FICM Codes)'!$A$7:$C$188,3,FALSE)","v":{"$error":"#N/A"}}]
[null,null,null,null,null,null,null,{"$f":"VLOOKUP($G$2:$G$50000,'Location Type (FICM Codes)'!$A$7:$B$188,2,FALSE)","v":{"$error":"#N/A"}},null,null,null,null,null,{"$f":"VLOOKUP(G9960:G19958,'Location Type (FICM Codes)'!$A$7:$C$188,3,FALSE)","v":{"$error":"#N/A"}}]
[null,null,null,null,null,null,null,{"$f":"VLOOKUP($G$2:$G$50000,'Location Type (FICM Codes)'!$A$7:$B$188,2,FALSE)","v":{"$error":"#N/A"}},null,null,null,null,null,{"$f":"VLOOKUP(G9961:G19959,'Location Type (FICM Codes)'!$A$7:$C$188,3,FALSE)","v":{"$error":"#N/A"}}]
[null,null,null,null,null,null,null,{"$f":"VLOOKUP($G$2:$G$50000,'Location Type (FICM Codes)'!$A$7:$B$188,2,FALSE)","v":{"$error":"#N/A"}},null,null,null,null,null,{"$f":"VLOOKUP(G9962:G19960,'Location Type (FICM Codes)'!$A$7:$C$188,3,FALSE)","v":{"$error":"#N/A"}}]
[null,null,null,null,null,null,null,{"$f":"VLOOKUP($G$2:$G$50000,'Location Type (FICM Codes)'!$A$7:$B$188,2,FALSE)","v":{"$error":"#N/A"}},null,null,null,null,null,{"$f":"VLOOKUP(G9963:G19961,'Location Type (FICM Codes)'!$A$7:$C$188,3,FALSE)","v":{"$error":"#N/A"}}]
[null,null,null,null,null,null,null,{"$f":"VLOOKUP($G$2:$G$50000,'Location Type (FICM Codes)'!$A$7:$B$188,2,FALSE)","v":{"$error":"#N/A"}},null,null,null,null,null,{"$f":"VLOOKUP(G9964:G19962,'Location Type (FICM Codes)'!$A$7:$C$188,3,FALSE)","v":{"$error":"#N/A"}}]
[null,null,null,null,null,null,null,{"$f":"VLOOKUP($G$2:$G$50000,'Location Type (FICM Codes)'!$A$7:$B$188,2,FALSE)","v":{"$error":"#N/A"}},null,null,null,null,null,{"$f":"VLOOKUP(G9965:G19963,'Location Type (FICM Codes)'!$A$7:$C$188,3,FALSE)","v":{"$error":"#N/A"}}]
[null,null,null,null,null,null,null,{"$f":"VLOOKUP($G$2:$G$50000,'Location Type (FICM Codes)'!$A$7:$B$188,2,FALSE)","v":{"$error":"#N/A"}},null,null,null,null,null,{"$f":"VLOOKUP(G9966:G19964,'Location Type (FICM Codes)'!$A$7:$C$188,3,FALSE)","v":{"$error":"#N/A"}}]
[null,null,null,null,null,null,null,{"$f":"VLOOKUP($G$2:$G$50000,'Location Type (FICM Codes)'!$A$7:$B$188,2,FALSE)","v":{"$error":"#N/A"}},null,null,null,null,null,{"$f":"VLOOKUP(G9967:G19965,'Location Type (FICM Codes)'!$A$7:$C$188,3,FALSE)","v":{"$error":"#N/A"}}]
[null,null,null,null,null,null,null,{"$f":"VLOOKUP($G$2:$G$50000,'Location Type (FICM Codes)'!$A$7:$B$188,2,FALSE)","v":{"$error":"#N/A"}},null,null,null,null,null,{"$f":"VLOOKUP(G9968:G19966,'Location Type (FICM Codes)'!$A$7:$C$188,3,FALSE)","v":{"$error":"#N/A"}}]
[null,null,null,null,null,null,null,{"$f":"VLOOKUP($G$2:$G$50000,'Location Type (FICM Codes)'!$A$7:$B$188,2,FALSE)","v":{"$error":"#N/A"}},null,null,null,null,null,{"$f":"VLOOKUP(G9969:G19967,'Location Type (FICM Codes)'!$A$7:$C$188,3,FALSE)","v":{"$error":"#N/A"}}]
[null,null,null,null,null,null,null,{"$f":"VLOOKUP($G$2:$G$50000,'Location Type (FICM Codes)'!$A$7:$B$188,2,FALSE)","v":{"$error":"#N/A"}},null,null,null,null,null,{"$f":"VLOOKUP(G9970:G19968,'Location Type (FICM Codes)'!$A$7:$C$188,3,FALSE)","v":{"$error":"#N/A"}}]
[null,null,null,null,null,null,null,{"$f":"VLOOKUP($G$2:$G$50000,'Location Type (FICM Codes)'!$A$7:$B$188,2,FALSE)","v":{"$error":"#N/A"}},null,null,null,null,null,{"$f":"VLOOKUP(G9971:G19969,'Location Type (FICM Codes)'!$A$7:$C$188,3,FALSE)","v":{"$error":"#N/A"}}]
[null,null,null,null,null,null,null,{"$f":"VLOOKUP($G$2:$G$50000,'Location Type (FICM Codes)'!$A$7:$B$188,2,FALSE)","v":{"$error":"#N/A"}},null,null,null,null,null,{"$f":"VLOOKUP(G9972:G19970,'Location Type (FICM Codes)'!$A$7:$C$188,3,FALSE)","v":{"$error":"#N/A"}}]
[null,null,null,null,null,null,null,{"$f":"VLOOKUP($G$2:$G$50000,'Location Type (FICM Codes)'!$A$7:$B$188,2,FALSE)","v":{"$error":"#N/A"}},null,null,null,null,null,{"$f":"VLOOKUP(G9973:G19971,'Location Type (FICM Codes)'!$A$7:$C$188,3,FALSE)","v":{"$error":"#N/A"}}]
[null,null,null,null,null,null,null,{"$f":"VLOOKUP($G$2:$G$50000,'Location Type (FICM Codes)'!$A$7:$B$188,2,FALSE)","v":{"$error":"#N/A"}},null,null,null,null,null,{"$f":"VLOOKUP(G9974:G19972,'Location Type (FICM Codes)'!$A$7:$C$188,3,FALSE)","v":{"$error":"#N/A"}}]
[null,null,null,null,null,null,null,{"$f":"VLOOKUP($G$2:$G$50000,'Location Type (FICM Codes)'!$A$7:$B$188,2,FALSE)","v":{"$error":"#N/A"}},null,null,null,null,null,{"$f":"VLOOKUP(G9975:G19973,'Location Type (FICM Codes)'!$A$7:$C$188,3,FALSE)","v":{"$error":"#N/A"}}]
[null,null,null,null,null,null,null,{"$f":"VLOOKUP($G$2:$G$50000,'Location Type (FICM Codes)'!$A$7:$B$188,2,FALSE)","v":{"$error":"#N/A"}},null,null,null,null,null,{"$f":"VLOOKUP(G9976:G19974,'Location Type (FICM Codes)'!$A$7:$C$188,3,FALSE)","v":{"$error":"#N/A"}}]
[null,null,null,null,null,null,null,{"$f":"VLOOKUP($G$2:$G$50000,'Location Type (FICM Codes)'!$A$7:$B$188,2,FALSE)","v":{"$error":"#N/A"}},null,null,null,null,null,{"$f":"VLOOKUP(G9977:G19975,'Location Type (FICM Codes)'!$A$7:$C$188,3,FALSE)","v":{"$error":"#N/A"}}]
[null,null,null,null,null,null,null,{"$f":"VLOOKUP($G$2:$G$50000,'Location Type (FICM Codes)'!$A$7:$B$188,2,FALSE)","v":{"$error":"#N/A"}},null,null,null,null,null,{"$f":"VLOOKUP(G9978:G19976,'Location Type (FICM Codes)'!$A$7:$C$188,3,FALSE)","v":{"$error":"#N/A"}}]
[null,null,null,null,null,null,null,{"$f":"VLOOKUP($G$2:$G$50000,'Location Type (FICM Codes)'!$A$7:$B$188,2,FALSE)","v":{"$error":"#N/A"}},null,null,null,null,null,{"$f":"VLOOKUP(G9979:G19977,'Location Type (FICM Codes)'!$A$7:$C$188,3,FALSE)","v":{"$error":"#N/A"}}]
[null,null,null,null,null,null,null,{"$f":"VLOOKUP($G$2:$G$50000,'Location Type (FICM Codes)'!$A$7:$B$188,2,FALSE)","v":{"$error":"#N/A"}},null,null,null,null,null,{"$f":"VLOOKUP(G9980:G19978,'Location Type (FICM Codes)'!$A$7:$C$188,3,FALSE)","v":{"$error":"#N/A"}}]
[null,null,null,null,null,null,null,{"$f":"VLOOKUP($G$2:$G$50000,'Location Type (FICM Codes)'!$A$7:$B$188,2,FALSE)","v":{"$error":"#N/A"}},null,null,null,null,null,{"$f":"VLOOKUP(G9981:G19979,'Location Type (FICM Codes)'!$A$7:$C$188,3,FALSE)","v":{"$error":"#N/A"}}]
[null,null,null,null,null,null,null,{"$f":"VLOOKUP($G$2:$G$50000,'Location Type (FICM Codes)'!$A$7:$B$188,2,FALSE)","v":{"$error":"#N/A"}},null,null,null,null,null,{"$f":"VLOOKUP(G9982:G19980,'Location Type (FICM Codes)'!$A$7:$C$188,3,FALSE)","v":{"$error":"#N/A"}}]
[null,null,null,null,null,null,null,{"$f":"VLOOKUP($G$2:$G$50000,'Location Type (FICM Codes)'!$A$7:$B$188,2,FALSE)","v":{"$error":"#N/A"}},null,null,null,null,null,{"$f":"VLOOKUP(G9983:G19981,'Location Type (FICM Codes)'!$A$7:$C$188,3,FALSE)","v":{"$error":"#N/A"}}]
[null,null,null,null,null,null,null,{"$f":"VLOOKUP($G$2:$G$50000,'Location Type (FICM Codes)'!$A$7:$B$188,2,FALSE)","v":{"$error":"#N/A"}},null,null,null,null,null,{"$f":"VLOOKUP(G9984:G19982,'Location Type (FICM Codes)'!$A$7:$C$188,3,FALSE)","v":{"$error":"#N/A"}}]
[null,null,null,null,null,null,null,{"$f":"VLOOKUP($G$2:$G$50000,'Location Type (FICM Codes)'!$A$7:$B$188,2,FALSE)","v":{"$error":"#N/A"}},null,null,null,null,null,{"$f":"VLOOKUP(G9985:G19983,'Location Type (FICM Codes)'!$A$7:$C$188,3,FALSE)","v":{"$error":"#N/A"}}]
[null,null,null,null,null,null,null,{"$f":"VLOOKUP($G$2:$G$50000,'Location Type (FICM Codes)'!$A$7:$B$188,2,FALSE)","v":{"$error":"#N/A"}},null,null,null,null,null,{"$f":"VLOOKUP(G9986:G19984,'Location Type (FICM Codes)'!$A$7:$C$188,3,FALSE)","v":{"$error":"#N/A"}}]
[null,null,null,null,null,null,null,{"$f":"VLOOKUP($G$2:$G$50000,'Location Type (FICM Codes)'!$A$7:$B$188,2,FALSE)","v":{"$error":"#N/A"}},null,null,null,null,null,{"$f":"VLOOKUP(G9987:G19985,'Location Type (FICM Codes)'!$A$7:$C$188,3,FALSE)","v":{"$error":"#N/A"}}]
[null,null,null,null,null,null,null,{"$f":"VLOOKUP($G$2:$G$50000,'Location Type (FICM Codes)'!$A$7:$B$188,2,FALSE)","v":{"$error":"#N/A"}},null,null,null,null,null,{"$f":"VLOOKUP(G9988:G19986,'Location Type (FICM Codes)'!$A$7:$C$188,3,FALSE)","v":{"$error":"#N/A"}}]
[null,null,null,null,null,null,null,{"$f":"VLOOKUP($G$2:$G$50000,'Location Type (FICM Codes)'!$A$7:$B$188,2,FALSE)","v":{"$error":"#N/A"}},null,null,null,null,null,{"$f":"VLOOKUP(G9989:G19987,'Location Type (FICM Codes)'!$A$7:$C$188,3,FALSE)","v":{"$error":"#N/A"}}]
[null,null,null,null,null,null,null,{"$f":"VLOOKUP($G$2:$G$50000,'Location Type (FICM Codes)'!$A$7:$B$188,2,FALSE)","v":{"$error":"#N/A"}},null,null,null,null,null,{"$f":"VLOOKUP(G9990:G19988,'Location Type (FICM Codes)'!$A$7:$C$188,3,FALSE)","v":{"$error":"#N/A"}}]
[null,null,null,null,null,null,null,{"$f":"VLOOKUP($G$2:$G$50000,'Location Type (FICM Codes)'!$A$7:$B$188,2,FALSE)","v":{"$error":"#N/A"}},null,null,null,null,null,{"$f":"VLOOKUP(G9991:G19989,'Location Type (FICM Codes)'!$A$7:$C$188,3,FALSE)","v":{"$error":"#N/A"}}]
[null,null,null,null,null,null,null,{"$f":"VLOOKUP($G$2:$G$50000,'Location Type (FICM Codes)'!$A$7:$B$188,2,FALSE)","v":{"$error":"#N/A"}},null,null,null,null,null,{"$f":"VLOOKUP(G9992:G19990,'Location Type (FICM Codes)'!$A$7:$C$188,3,FALSE)","v":{"$error":"#N/A"}}]
[null,null,null,null,null,null,null,{"$f":"VLOOKUP($G$2:$G$50000,'Location Type (FICM Codes)'!$A$7:$B$188,2,FALSE)","v":{"$error":"#N/A"}},null,null,null,null,null,{"$f":"VLOOKUP(G9993:G19991,'Location Type (FICM Codes)'!$A$7:$C$188,3,FALSE)","v":{"$error":"#N/A"}}]
[null,null,null,null,null,null,null,{"$f":"VLOOKUP($G$2:$G$50000,'Location Type (FICM Codes)'!$A$7:$B$188,2,FALSE)","v":{"$error":"#N/A"}},null,null,null,null,null,{"$f":"VLOOKUP(G9994:G19992,'Location Type (FICM Codes)'!$A$7:$C$188,3,FALSE)","v":{"$error":"#N/A"}}]
[null,null,null,null,null,null,null,{"$f":"VLOOKUP($G$2:$G$50000,'Location Type (FICM Codes)'!$A$7:$B$188,2,FALSE)","v":{"$error":"#N/A"}},null,null,null,null,null,{"$f":"VLOOKUP(G9995:G19993,'Location Type (FICM Codes)'!$A$7:$C$188,3,FALSE)","v":{"$error":"#N/A"}}]
[null,null,null,null,null,null,null,{"$f":"VLOOKUP($G$2:$G$50000,'Location Type (FICM Codes)'!$A$7:$B$188,2,FALSE)","v":{"$error":"#N/A"}},null,null,null,null,null,{"$f":"VLOOKUP(G9996:G19994,'Location Type (FICM Codes)'!$A$7:$C$188,3,FALSE)","v":{"$error":"#N/A"}}]
[null,null,null,null,null,null,null,{"$f":"VLOOKUP($G$2:$G$50000,'Location Type (FICM Codes)'!$A$7:$B$188,2,FALSE)","v":{"$error":"#N/A"}},null,null,null,null,null,{"$f":"VLOOKUP(G9997:G19995,'Location Type (FICM Codes)'!$A$7:$C$188,3,FALSE)","v":{"$error":"#N/A"}}]
[null,null,null,null,null,null,null,{"$f":"VLOOKUP($G$2:$G$50000,'Location Type (FICM Codes)'!$A$7:$B$188,2,FALSE)","v":{"$error":"#N/A"}},null,null,null,null,null,{"$f":"VLOOKUP(G9998:G19996,'Location Type (FICM Codes)'!$A$7:$C$188,3,FALSE)","v":{"$error":"#N/A"}}]
[null,null,null,null,null,null,null,{"$f":"VLOOKUP($G$2:$G$50000,'Location Type (FICM Codes)'!$A$7:$B$188,2,FALSE)","v":{"$error":"#N/A"}},null,null,null,null,null,{"$f":"VLOOKUP(G9999:G19997,'Location Type (FICM Codes)'!$A$7:$C$188,3,FALSE)","v":{"$error":"#N/A"}}]
[null,null,null,null,null,null,null,{"$f":"VLOOKUP($G$2:$G$50000,'Location Type (FICM Codes)'!$A$7:$B$188,2,FALSE)","v":{"$error":"#N/A"}},null,null,null,null,null,{"$f":"VLOOKUP(G10000:G19998,'Location Type (FICM Codes)'!$A$7:$C$188,3,FALSE)","v":{"$error":"#N/A"}}]

{"sheet":"Floors","index":2,"n_rows":1,"n_cols":6,"rows_kept":1,"cut":false,"hidden":false,"merged":[]}
["Region","Facility","Property","Floor","Floor Name","Basement \n(YES or NO)"]

{"sheet":"Org Occupancy","index":3,"n_rows":5,"n_cols":16,"rows_kept":5,"cut":false,"hidden":false,"merged":[[1,6,1,14],[2,6,2,14]]}
[]
[null,null,null,null,null,null,"To split a location with more than one Department, Organization or Usage insert a new row underneath the existing row and copy all data in columns A through E."]
[null,null,null,null,null,null,"Percent Occupancy must total 100% for the location.  Usage Percentage must total 100% within each Organizational Occupancy."]
[]
["Region","Facility","Property","Location","Location\nDescription","Floor","Department","Organization","Organization Name","Occupancy Start Date","Occupancy End Date","Percent Occupancy","Usage Code","Usage Start Date","Usage End Date","Usage Percentage"]

{"sheet":"Location Type (FICM Codes)","index":4,"n_rows":188,"n_cols":8,"rows_kept":188,"cut":false,"hidden":false,"merged":[[0,0,0,1]]}
["Please use the following URL to access the most up-to-date list of FICM space type codes"]
["http://system.suny.edu/capital-facilities/aim-resources/"]
["Then clink on the link to the Location Type crosswalk"]
[]
[]
["Location Type (FICM Code)","Location Type Description","ASSIGNABLE/NONASSIGNABLE","SUNY Code (Legacy Code for reference only)","SUNY Description (Legacy description for reference only)",null,"FICM Space Type Code","ASSIGNABLE/NONASSIGNABLE"]
["000",null,null,null,null,null,"050","Assignable"]
["050","Inactive Area","Assignable","7800","Inactive",null,"060","Assignable"]
["060","Alteration or Conversion Area","Assignable","7900","Alteration-Conversion",null,"070","Assignable"]
["070","Unfinished Area","Assignable","7850","Unusable",null,"080.01","Assignable"]
["080",null,null,null,null,null,"080.05","Assignable"]
["080.01","Parking Garage","Assignable","7100","Parking Facility Parking",null,"080.10","Assignable"]
["080.05","Parking Service","Assignable","7120","Parking Facility Service",null,"080.20","Assignable"]
["080.10","Parking (Surface-Perm)","Assignable","7110","Surface Parking-Perm",null,"080.30","Assignable"]
["080.20","Parking (Surface-Temp)","Assignable","7115","Surface Parking-Temp",null,"080.50","Assignable"]
["080.30","Parking (Leased)","Assignable","7125","Leased Parking",null,"110","Assignable"]
["080.50","Parking Booth (Surface/Garage)","Assignable",null,null,null,"110.10","Assignable"]
[100,null,null,null,null,null,"115","Assignable"]
["110","Classroom","Assignable","1001","Classroom",null,"115.15","Assignable"]
["110.10","Lecture Hall","Assignable","1100","Lecture Hall",null,"210","Assignable"]
["115","Classroom Service","Assignable","1050","Classroom Service",null,"210","Assignable"]
["115.15","Lecture Hall Service","Assignable","1250","Lecture Hall Service",null,"210","Assignable"]
[200,null,null,null,null,null,"215","Assignable"]
["210","Class Laboratory","Assignable","1300","L Class Lab",null,"215","Assignable"]
["210","Class Laboratory","Assignable",1301,"L Class Special Lab",null,"215","Assignable"]
["210","Class Laboratory","Assignable",1305,"L Remote Instruction Lab",null,"215","Assignable"]
["215","Class Laboratory Service","Assignable","1315","L Remote Instruction Lab Service",null,220,"Assignable"]
["215","Class Laboratory Service","Assignable",1350,"L Class Lab Service",null,"220.10","Assignable"]
["215","Class Laboratory Service","Assignable",1351,"L Class Special Class Lab Service",null,"220.10","Assignable"]
["215","Class Laboratory Service","Assignable",1353,"L Department Special Services",null,"220.10","Assignable"]
["220","Open Laboratory","Assignable",null,null,null,"220.20","Assignable"]
["220.10","Open Laboratory (Dry)-Instruction","Assignable","1302","L Study Lab (Prac)",null,225,"Assignable"]
["220.10","Open Laboratory (Dry)-Instruction","Assignable",1304,"L Auto-Tutorial Lab (Dry)",null,"225.15","Assignable"]
["220.10","Open Laboratory (Dry)-Instruction","Assignable",1306,"L Project/Studio Lab",null,"225.15","Assignable"]
["220.20","Open Laboratory (Wet)-Instruction","Assignable","1303","L Auto-Tutorial Lab (Wet)",null,"225.15","Assignable"]
["225","Open Laboratory Service","Assignable",null,null,null,"225.25","Assignable"]
["225.15","Open Laboratory Service (Dry)-Instruction","Assignable","1312","L Auto-Tutorial Lab (Dry) Service",null,"250","Assignable"]
["225.15","Open Laboratory Service (Dry)-Instruction","Assignable",1316,"L Project/Studio Lab Service",null,"250.10","Assignable"]
["225.15","Open Laboratory Service (Dry)-Instruction","Assignable",1354,"L Study Lab (Prac) Service",null,"250.20","Assignable"]
["225.25","Open Laboratory Service (Wet)-Instruction","Assignable","1314","L Auto-Tutorial Lab (Wet) Service",null,"255","Assignable"]
["250","Research-Nonclass Laboratory","Assignable","2001","Research Facility",null,"310","Assignable"]
["250.10","Research - Nonclass Laboratory (Dry)","Assignable",null,null,null,"310.30","Assignable"]
["250.20","Research - Nonclass Laboratory (Wet)","Assignable",null,null,null,"310.31","Assignable"]
["255","Research-Nonclass Laboratory Service","Assignable","2150","Research Facility Service",null,"310.32","Assignable"]
[300,null,null,null,null,null,"310.33","Assignable"]
["310","Office","Assignable",null,null,null,"310.35","Assignable"]
["310.30","Office-Faculty","Assignable","3001","Office-Faculty",null,"310.36","Assignable"]
["310.31","Office-Faculty Studio","Assignable","3100","Office-Faculty-Studio",null,"310.38","Assignable"]
["310.32","Office-Faculty Lab","Assignable","3200","Office-Faculty-Lab",null,"310.50","Assignable"]
["310.33","Office-Faculty Staff","Assignable","3300","Office-Faculty-Staff",null,"310.60","Assignable"]
["310.35","Office-Faculty Student","Assignable","3500","Office-Teaching Assistant",null,"310.70","Assignable"]
["310.36","Office-Faculty Technician","Assignable","3600","Office-Technician",null,"315","Assignable"]
["310.38","Office-Faculty Adjunct","Assignable",null,null,null,"315.50","Assignable"]
["310.50","Office-Administrative","Assignable","5000","Office-Administrative",null,"315.51","Assignable"]
["310.60","Office-Student Organization","Assignable",null,null,null,"315.60","Assignable"]
["310.70","Office-Research","Assignable","3700","Office-Research",null,"315.70","Assignable"]
["315","Office Service","Assignable",null,null,null,"350","Assignable"]
["315.50","Office-Faculty Service","Assignable","3450","Office-Faculty-Service",null,"350.52","Assignable"]
["315.51","Office-Administrative Service","Assignable","5051","Office-Administrative-Service",null,"350.60","Assignable"]
["315.60","Office-Student Organization Servic","Assignable",null,null,null,"355","Assignable"]
["315.70","Office-Research Service","Assignable",null,null,null,"355.55","Assignable"]
["350","Conference Room","Assignable",null,null,null,"355.65","Assignable"]
["350.52","Conference Room Administrative","Assignable","5052","Conference Room Administrative",null,"410","Assignable"]
["350.60","Conference Room Faculty","Assignable","3460","Conference Room Faculty",null,"420","Assignable"]
["355","Conference Room Service","Assignable",null,null,null,"430","Assignable"]
["355.55","Conference Room Service Administrative","Assignable","5152","Conference Room Administrative Service",null,"440","Assignable"]
["355.65","Conference Room Service Faculty","Assignable","3465","Conference Room Faculty Service",null,"455","Assignable"]
[400,null,null,null,null,null,"455","Assignable"]
["410","Study Space","Assignable",null,null,null,"510","Assignable"]
["420","Stack","Assignable","4000","Library Collection",null,"515","Assignable"]
["430","Open-Stack Study Room","Assignable","4001","Library Seating",null,"520","Assignable"]
["440","Processing Room","Assignable","4003","Library Readers Service",null,"523","Assignable"]
["455","Study Service","Assignable","4054","Library Service",null,"525","Assignable"]
["455","Study Service","Assignable","4055","Library Storage",null,"525","Assignable"]
[500,null,null,null,null,null,"525","Assignable"]
["510","Armory","Assignable","1620","Armory",null,"525.15","Assignable"]
["515","Armory Service","Assignable","1625","Armory Service",null,"530","Assignable"]
["520","Athletic or Physical Education","Assignable","1600","Physical Edu Class Act",null,"535","Assignable"]
["523","Athletic Facilities Spectator Seating","Assignable","1652","Physical Edu Spectator Seating",null,"540","Assignable"]
["525","Athletic or Physical Education Service","Assignable","1650","Physical Edu Class Act Service",null,"545","Assignable"]
["525","Athletic or Physical Education Service","Assignable","1653","Physical Edu Special Service",null,"550","Assignable"]
["525","Athletic or Physical Education Service","Assignable","1654","Physical Edu Bath",null,"555","Assignable"]
["525.15","Athletic or Physical Education Bathroom","Assignable",null,null,null,"560","Assignable"]
["530","Media Production","Assignable","1700","AV Production Facility",null,"570","Assignable"]
["535","Media Production Service","Assignable","1750","AV Production Facil Service",null,"575","Assignable"]
["540","Clinic","Assignable","1501","Non-Medical Clinical Facility",null,"580","Assignable"]
["545","Clinic Service","Assignable","1551","Non-Medical Clinical Service",null,"585","Assignable"]
["550","Demonstration","Assignable",null,null,null,"590","Assignable"]
["555","Demonstration Service","Assignable",null,null,null,"610","Assignable"]
["560","Field Building","Assignable","1500","Engineering Field Service",null,"615","Assignable"]
["570","Animal Facilities","Assignable","1570","Animal Quarters",null,"620","Assignable"]
["575","Animal Facilities Service","Assignable","1575","Animal Quarters Service",null,"625","Assignable"]
["580","Greenhouse","Assignable","1510","Greenhouse",null,"630","Assignable"]
["585","Greenhouse Service","Assignable","1515","Greenhouse Service",null,"630","Assignable"]
["590","Other (All Purpose)","Assignable",null,null,null,"630","Assignable"]
[600,null,null,null,null,null,"635","Assignable"]
["610","Assembly","Assignable","6500","Assembly Seating Facility",null,"635","Assignable"]
["615","Assembly Service","Assignable","6502","Assembly Facility Service",null,"640","Assignable"]
["620","Exhibition","Assignable","6600","Exhibition Facility",null,"645","Assignable"]
["625","Exhibition Service","Assignable","6602","Exhibition Facility Service",null,"650","Assignable"]
["630","Food Facility","Assignable","6007","Auxiliary Food Facility",null,"650.10","Assignable"]
["630","Food Facility","Assignable","9004","Dining Hall Lounge",null,"650.30","Assignable"]
["630","Food Facility","Assignable","9010","Dining Hall Seating",null,"655","Assignable"]
["635","Food Facility Service","Assignable","6052","Auxiliary Food Facility Service",null,"655.10","Assignable"]
["635","Food Facility Service","Assignable",9053,"Dining Hall Food Service",null,"655.30","Assignable"]
["640","Day Care","Assignable",null,null,null,"660","Assignable"]
["645","Day Care Service","Assignable",null,null,null,"665","Assignable"]
["650","Lounge ","Assignable",null,null,null,"670","Assignable"]
["650.10","Lounge Student  ","Assignable","6002","Student Lounge",null,"675","Assignable"]
["650.30","Lounge Faculty/Staff","Assignable",6006,"Faculty-Staff Lounge",null,"680","Assignable"]
["655","Lounge Service","Assignable",null,null,null,"685","Assignable"]
["655.10","Lounge Student Service","Assignable",null,null,null,"710","Assignable"]
["655.30","Lounge Faculty/Staff Service","Assignable",null,null,null,"715","Assignable"]
["660","Merchandising","Assignable","6004","Merchandising Facility",null,"720","Assignable"]
["665","Merchandising Service","Assignable",null,null,null,"725","Assignable"]
["670","Recreation","Assignable","6001","Student Activities Recreation Facility",null,"730","Assignable"]
["675","Recreation Service","Assignable","6050","Student/Faculty Activities Service",null,"735","Assignable"]
["680","Meeting Room","Assignable","6003","Student Organization Facility",null,"740","Assignable"]
["685","Meeting Room Service","Assignable",null,null,null,"745","Assignable"]
[700,null,null,null,null,null,"750","Assignable"]
["710","Central Computer or Telecommunications","Assignable","5002","Data Processing Comp Work Space",null,"750","Assignable"]
["715","Central Computer or Telecommunications Service","Assignable","5053","Data Processing Comp Service",null,"755","Assignable"]
["720","Shop","Assignable","7004","Central Shop Facility",null,"760","Assignable"]
["725","Shop Service","Assignable","7057","Central Services Service Facility",null,"770","Assignable"]
["730","Central Storage","Assignable","7005","Central Storage Facility",null,"775","Assignable"]
["735","Central Storage Service","Assignable",null,null,null,"780","Assignable"]
["740","Vehicle Storage","Assignable","7006","Central Vehicle Storage-Repair",null,"810","Assignable"]
["745","Vehicle Storage Service","Assignable",null,null,null,"810","Assignable"]
["750","Central Service","Assignable","7001","Central Commissary Facility",null,"815","Assignable"]
["750","Central Service","Assignable",7007,"Central Laundry Facility",null,"820","Assignable"]
["755","Central Service Support","Assignable","7052","Central Commissary Service",null,"830","Assignable"]
["760","Hazardous Materials Storage","Assignable",null,null,null,"835","Assignable"]
["770","Hazardous Waste Storage","Assignable",null,null,null,"840","Assignable"]
["775","Hazardous Waste Service","Assignable",null,null,null,"845","Assignable"]
["780","Unit Storage","Assignable","1352","L General Storage",null,"850","Assignable"]
[800,null,null,null,null,null,"850","Assignable"]
["810","Health Care Patient Bedroom","Assignable","8100","Patient Bedroom",null,"855","Assignable"]
["810","Health Care Patient Bedroom","Assignable",8101,"Patient Bedroom, Intensive Care",null,"860","Assignable"]
["815","Health Care Patient Bedroom Service","Assignable",null,null,null,"865","Assignable"]
["820","Health Care Patient Bath","Assignable","8200","Patient Bath",null,"870","Assignable"]
["830","Health Care Nurse Station","Assignable","8300","Nurse Station",null,"870","Assignable"]
["835","Health Care Nurse Station Service","Assignable",null,null,null,"870.50","Assignable"]
["840","Health Care Surgery","Assignable","8400","Surgery",null,"880","Assignable"]
["845","Health Care Surgery Service","Assignable",null,null,null,"890","Assignable"]
["850","Health Care Treatment-Examination Clinic","Assignable","8500","Treatment",null,"895","Assignable"]
["850","Health Care Treatment-Examination Clinic","Assignable",9006,"Infirmary Examination & Treatment Facility",null,"910","Assignable"]
["855","Health Care Treatment-Examination Clinic Service","Assignable","9056","Infirmary Examination & Treatment Facility Ser",null,"910.10","Assignable"]
["860","Health Care Diagnostic Service Laboratory","Assignable","8600","Service Lab",null,"919","Assignable"]
["865","Health Care Diagnostic Service Laboratory Supp","Assignable",null,null,null,"920","Assignable"]
["870","Health Care Central Supplies","Assignable","8700","Supplies",null,"935","Assignable"]
["870","Health Care Central Supplies","Assignable",8950,"Health Care Service",null,"950","Assignable"]
["870.50","Health Care Service","Assignable",null,null,null,"950","Assignable"]
["880","Health Care Public Waiting","Assignable","8800","Public Waiting",null,"955","Assignable"]
["890","Health Care Staff On-Call Facility","Assignable",null,null,null,"955","Assignable"]
["895","Health Care Staff On-Call Facility Service","Assignable",null,null,null,"970","Assignable"]
[900,null,null,null,null,null,"X02","Assignable"]
["910","Residential Sleep/Study without Bath","Assignable","9001","Dormitory Room",null,"W01","Nonassignable"]
["910.10","Residential Lounge","Assignable","9002","Dormitory Lounge",null,"W02","Nonassignable"]
["919","Residential Bath","Assignable","9051","Non-Public Resdnt Toilet",null,"W03","Nonassignable"]
["920","Residential Sleep/Study With Bath","Assignable",null,null,null,"W04","Nonassignable"]
["935","Residential Sleep/Study Service","Assignable","9050","Dorm Service",null,"W05","Nonassignable"]
["950","Residential Apartment","Assignable","9003","Apartment Non-Student",null,"W06","Nonassignable"]
["950","Residential Apartment","Assignable",9013,"Apartment Student",null,"W07","Nonassignable"]
["955","Residential Apartment Service","Assignable","9023","Apartment Service",null,"X01","Nonassignable"]
["955","Residential Apartment Service","Assignable",9024,"Apartment Student - Toilet",null,"X03","Nonassignable"]
["970","Residential House","Assignable","9033","House",null,"X03.M","Nonassignable"]
["XYZ",null,null,null,null,null,"X03.W","Nonassignable"]
["W01","Bridge-Tunnel","Nonassignable",null,null,null,"X03.A","Nonassignable"]
["W02","Elevator","Nonassignable","7602","Elevator",null,"X04","Nonassignable"]
["W03","Escalator","Nonassignable",null,null,null,"X05","Nonassignable"]
["W04","Loading Dock","Nonassignable",null,null,null,"X07","Nonassignable"]
["W05","Lobby","Nonassignable",null,null,null,"Y01","Nonassignable"]
["W06","Public Corridor","Nonassignable","7600","Circulation",null,"Y02","Nonassignable"]
["W07","Stairway","Nonassignable","7601","Stairs",null,"Y03","Nonassignable"]
["X01","Custodial Supply Closet","Nonassignable",null,null,null,"Y04","Nonassignable"]
["X02","Janitor Room","Assignable",null,null,null,"Z00","Nonassignable"]
["X03","Public Rest Room","Nonassignable","7701","Bathroom"]
["X03.M","Public Rest Room Men's","Nonassignable"]
["X03.W","Public Rest Room Women's","Nonassignable"]
["X03.A","Public Rest Room All Gender","Nonassignable"]
["X04","Trash Room","Nonassignable"]
["X05","Building Service Area","Nonassignable","7500","General Building Service"]
["X07","Lactation Room","Assignable"]
["Y01","Central Utility Plant","Nonassignable"]
["Y02","Fuel Room","Nonassignable"]
["Y03","Shaft","Nonassignable"]
["Y04","Utility-Mechanical Space","Nonassignable","7700","Mechanical"]
["Z00","Fallout Shelter","Nonassignable","7501","Fallout Shelter"]

{"sheet":"Department IDs (CIP)","index":5,"n_rows":523,"n_cols":4,"rows_kept":523,"cut":false,"hidden":false,"merged":[[0,3,0,11],[1,3,1,9],[2,3,2,7],[0,0,0,1]]}
["Department Codes in AiM are derived from NCES CIP code standards.  These standards can be referenced at the link below.  Department codes 80.00 and greater were developed by SUNY and cannot be referenced at the CIP website.  These are known as \"CIP Plus\" codes.",null,null,"Please use the following URL to access the most up-to-date list of Department (CIP) codes"]
["CIP Website","https://nces.ed.gov/ipeds/cipcode/browse.aspx?y=55 ",null,"http://system.suny.edu/capital-facilities/aim-resources/"]
["This is a listing of the families of CIP, along with the associated 4 digit CIP codes\n",null,null,"Then click on the link to Department codes."]
["Department Code","Department Title","Notes"]
["01.00","Agriculture, General"]
["01.01","Agricultural Business and Management"]
["01.02","Agricultural Mechanization"]
["01.03","Agricultural Production Operations"]
["01.04","Agricultural and Food Products Processing"]
["01.05","Agricultural and Domestic Animal Services"]
["01.06","Applied Horticulture and Horticultural Business Services"]
["01.07","International Agriculture"]
["01.08","Agricultural Public Services"]
["01.09","Animal Sciences"]
["01.10","Food Science and Technology"]
["01.11","Plant Sciences"]
["01.12","Soil Sciences"]
["01.99","Agriculture, Agriculture Operations, and Related Sciences, Other"]
["03.01","Natural Resources Conservation and Research"]
["03.02","Natural Resources Management and Policy"]
["03.03","Fishing and Fisheries Sciences and Management"]
["03.05","Forestry"]
["03.06","Wildlife and Wildlands Science and Management"]
["03.99","Natural Resources and Conservation, Other"]
["04.02","Architecture"]
["04.03","City/Urban, Community and Regional Planning"]
["04.04","Environmental Design"]
["04.05","Interior Architecture"]
["04.06","Landscape Architecture"]
["04.08","Architectural History and Criticism"]
["04.09","Architectural Sciences and Technology"]
["04.10","Real Estate Development"]
["04.99","Architecture and Related Services, Other"]
["05.01","Area Studies"]
["05.02","Ethnic, Cultural Minority, Gender, and Group Studies"]
["09.01","Communication and Media Studies"]
["09.04","Journalism"]
["09.07","Radio, Television, and Digital Communication"]
["09.09","Public Relations, Advertising, and Applied Communication"]
["09.10","Publishing"]
["09.99","Communication, Journalism, and Related Programs, Other"]
["10.01","Communications Technology/Technician"]
["10.02","Audiovisual Communications Technologies/Technicians"]
["10.03","Graphic Communications"]
["10.99","Communications Technologies/Technicians and Support Services, Other"]
["11.01","Computer and Information Sciences, General"]
["11.02","Computer Programming"]
["11.03","Data Processing"]
["11.04","Information Science/Studies"]
["11.05","Computer Systems Analysis"]
["11.06","Data Entry/Microcomputer Applications"]
["11.07","Computer Science"]
["11.08","Computer Software and Media Applications"]
["11.09","Computer Systems Networking and Telecommunications"]
["11.10","Computer/Information Technology Administration and Management"]
["11.99","Computer and Information Sciences and Support Services, Other"]
["12.03","Funeral Service and Mortuary Science"]
["12.04","Cosmetology and Related Personal Grooming Services"]
["12.05","Culinary Arts and Related Services"]
["12.99","Personal and Culinary Services, Other"]
["13.01","Education, General"]
["13.02","Bilingual, Multilingual, and Multicultural Education"]
["13.03","Curriculum and Instruction"]
["13.04","Educational Administration and Supervision"]
["13.05","Educational/Instructional Media Design"]
["13.06","Educational Assessment, Evaluation, and Research"]
["13.07","International and Comparative Education"]
["13.09","Social and Philosophical Foundations of Education"]
["13.10","Special Education and Teaching"]
["13.11","Student Counseling and Personnel Services"]
["13.12","Teacher Education and Professional Development, Specific Levels and Methods"]
["13.13","Teacher Education and Professional Development, Specific Subject Areas"]
["13.14","Teaching English or French as a Second or Foreign Language"]
["13.15","Teaching Assistants/Aides"]
["13.99","Education, Other"]
["14.01","Engineering, General"]
["14.02","Aerospace, Aeronautical and Astronautical Engineering"]
["14.03","Agricultural Engineering"]
["14.04","Architectural Engineering"]
["14.05","Biomedical/Medical Engineering"]
["14.06","Ceramic Sciences and Engineering"]
["14.07","Chemical Engineering"]
["14.08","Civil Engineering"]
["14.09","Computer Engineering"]
["14.10","Electrical, Electronics and Communications Engineering"]
["14.11","Engineering Mechanics"]
["14.12","Engineering Physics"]
["14.13","Engineering Science"]
["14.14","Environmental/Environmental Health Engineering"]
["14.18","Materials Engineering"]
["14.19","Mechanical Engineering"]
["14.20","Metallurgical Engineering"]
["14.21","Mining and Mineral Engineering"]
["14.22","Naval Architecture and Marine Engineering"]
["14.23","Nuclear Engineering"]
["14.24","Ocean Engineering"]
["14.25","Petroleum Engineering"]
["14.27","Systems Engineering"]
["14.28","Textile Sciences and Engineering"]
["14.32","Polymer/Plastics Engineering"]
["14.33","Construction Engineering"]
["14.34","Forest Engineering"]
["14.35","Industrial Engineering"]
["14.36","Manufacturing Engineering"]
["14.37","Operations Research"]
["14.38","Surveying Engineering"]
["14.39","Geological/Geophysical Engineering"]
["14.40","Paper Science and Engineering"]
["14.41","Electromechanical Engineering"]
["14.42","Mechatronics, Robotics, and Automation Engineering"]
["14.43","Biochemical Engineering"]
["14.44","Engineering Chemistry"]
["14.45","Biological/Biosystems Engineering"]
["14.99","Engineering, Other"]
["15.00","Engineering Technology, General"]
["15.01","Architectural Engineering Technologies/Technicians"]
["15.02","Civil Engineering Technologies/Technicians"]
["15.03","Electrical Engineering Technologies/Technicians"]
["15.04","Electromechanical Instrumentation and Maintenance Technologies/Technicians"]
["15.05","Environmental Control Technologies/Technicians"]
["15.06","Industrial Production Technologies/Technicians"]
["15.07","Quality Control and Safety Technologies/Technicians"]
["15.08","Mechanical Engineering Related Technologies/Technicians"]
["15.09","Mining and Petroleum Technologies/Technicians"]
["15.10","Construction Engineering Technologies"]
["15.11","Engineering-Related Technologies"]
["15.12","Computer Engineering Technologies/Technicians"]
["15.13","Drafting/Design Engineering Technologies/Technicians"]
["15.14","Nuclear Engineering Technologies/Technicians"]
["15.15","Engineering-Related Fields"]
["15.16","Nanotechnology"]
["15.99","Engineering Technologies/Technicians, Other"]
["16.01","Linguistic, Comparative, and Related Language Studies and Services"]
["16.02","African Languages, Literatures, and Linguistics"]
["16.03","East Asian Languages, Literatures, and Linguistics"]
["16.04","Slavic, Baltic and Albanian Languages, Literatures, and Linguistics"]
["16.05","Germanic Languages, Literatures, and Linguistics"]
["16.06","Modern Greek Language and Literature"]
["16.07","South Asian Languages, Literatures, and Linguistics"]
["16.08","Iranian/Persian Languages, Literatures, and Linguistics"]
["16.09","Romance Languages, Literatures, and Linguistics"]
["16.10","American Indian/Native American Languages, Literatures, and Linguistics"]
["16.11","Middle/Near Eastern and Semitic Languages, Literatures, and Linguistics"]
["16.12","Classics and Classical Languages, Literatures, and Linguistics"]
["16.13","Celtic Languages, Literatures, and Linguistics"]
["16.14","Southeast Asian and Australasian/Pacific Languages, Literatures, and Linguistics"]
["16.15","Turkic, Uralic-Altaic, Caucasian, and Central Asian Languages, Literatures, and Linguistics"]
["16.16","American Sign Language"]
["16.99","Foreign Languages, Literatures, and Linguistics, Other"]
["19.00","Work and Family Studies"]
["19.01","Family and Consumer Sciences/Human Sciences, General"]
["19.02","Family and Consumer Sciences/Human Sciences Business Services"]
["19.04","Family and Consumer Economics and Related Studies"]
["19.05","Foods, Nutrition, and Related Services"]
["19.06","Housing and Human Environments"]
["19.07","Human Development, Family Studies, and Related Services"]
["19.09","Apparel and Textiles"]
["19.99","Family and Consumer Sciences/Human Sciences, Other"]
["22.00","Non-Professional General Legal Studies (Undergraduate)"]
["22.01","Law"]
["22.02","Legal Research and Advanced Professional Studies"]
["22.03","Legal Support Services"]
["22.99","Legal Professions and Studies, Other"]
["23.01","English Language and Literature, General"]
["23.13","Rhetoric and Composition/Writing Studies"]
["23.14","Literature"]
["23.99","English Language and Literature/Letters, Other"]
["24.01","Liberal Arts and Sciences, General Studies and Humanities"]
["25.01","Library Science and Administration"]
["25.03","Library and Archives Assisting"]
["25.99","Library Science, Other"]
["26.01","Biology, General"]
["26.02","Biochemistry, Biophysics and Molecular Biology"]
["26.03","Botany/Plant Biology"]
["26.04","Cell/Cellular Biology and Anatomical Sciences"]
["26.05","Microbiological Sciences and Immunology"]
["26.07","Zoology/Animal Biology"]
["26.08","Genetics"]
["26.09","Physiology, Pathology and Related Sciences"]
["26.10","Pharmacology and Toxicology"]
["26.11","Biomathematics, Bioinformatics, and Computational Biology"]
["26.12","Biotechnology"]
["26.13","Ecology, Evolution, Systematics, and Population Biology"]
["26.14","Molecular Medicine"]
["26.15","Neurobiology and Neurosciences"]
["26.99","Biological and Biomedical Sciences, Other"]
["27.01","Mathematics"]
["27.03","Applied Mathematics"]
["27.05","Statistics"]
["27.99","Mathematics and Statistics, Other"]
["28.01","Air Force ROTC, Air Science and Operations"]
["28.03","Army ROTC, Military Science and Operations"]
["28.04","Navy/Marine ROTC, Naval Science and Operations"]
["28.05","Military Science and Operational Studies"]
["28.06","Security Policy and Strategy"]
["28.07","Military Economics and Management"]
["28.99","Military Science, Leadership and Operational Art, Other"]
["29.02","Intelligence, Command Control and Information Operations"]
["29.03","Military Applied Sciences"]
["29.04","Military Systems and Maintenance Technology"]
["29.99","Military Technologies and Applied Sciences, Other"]
["30.00","Multi-/Interdisciplinary Studies, General"]
["30.01","Biological and Physical Sciences"]
["30.05","Peace Studies and Conflict Resolution"]
["30.06","Systems Science and Theory"]
["30.08","Mathematics and Computer Science"]
["30.10","Biopsychology"]
["30.11","Gerontology"]
["30.12","Historic Preservation and Conservation"]
["30.13","Medieval and Renaissance Studies"]
["30.14","Museology/Museum Studies"]
["30.15","Science, Technology and Society"]
["30.16","Accounting and Computer Science"]
["30.17","Behavioral Sciences"]
["30.18","Natural Sciences"]
["30.19","Nutrition Sciences"]
["30.20","International/Global Studies"]
["30.21","Holocaust and Related Studies"]
["30.22","Classical and Ancient Studies"]
["30.23","Intercultural/Multicultural and Diversity Studies"]
["30.25","Cognitive Science"]
["30.26","Cultural Studies/Critical Theory and Analysis"]
["30.27","Human Biology"]
["30.28","Dispute Resolution"]
["30.29","Maritime Studies"]
["30.30","Computational Science"]
["30.31","Human Computer Interaction"]
["30.32","Marine Sciences"]
["30.33","Sustainability Studies"]
["30.99","Multi/Interdisciplinary Studies, Other"]
["31.01","Parks, Recreation and Leisure Studies"]
["31.03","Parks, Recreation and Leisure Facilities Management"]
["31.05","Health and Physical Education/Fitness"]
["31.06","Outdoor Education"]
["31.99","Parks, Recreation, Leisure, and Fitness Studies, Other"]
["32.01","Basic Skills and Developmental/Remedial Education"]
["33.01","Citizenship Activities"]
["34.01","Health-Related Knowledge and Skills"]
["35.01","Interpersonal and Social Skills"]
["36.01","Leisure and Recreational Activities"]
["37.01","Personal Awareness and Self-Improvement"]
["38.00","Philosophy and Religious Studies, General"]
["38.01","Philosophy"]
["38.02","Religion/Religious Studies"]
["38.99","Philosophy and Religious Studies, Other"]
["39.02","Bible/Biblical Studies"]
["39.03","Missions/Missionary Studies and Missiology"]
["39.04","Religious Education"]
["39.05","Religious/Sacred Music"]
["39.06","Theological and Ministerial Studies"]
["39.07","Pastoral Counseling and Specialized Ministries"]
["39.99","Theology and Religious Vocations, Other"]
["40.01","Physical Sciences"]
["40.02","Astronomy and Astrophysics"]
["40.04","Atmospheric Sciences and Meteorology"]
["40.05","Chemistry"]
["40.06","Geological and Earth Sciences/Geosciences"]
["40.08","Physics"]
["40.10","Materials Sciences"]
["40.99","Physical Sciences, Other"]
["41.00","Science Technologies/Technicians, General"]
["41.01","Biology Technician/Biotechnology Laboratory Technician"]
["41.02","Nuclear and Industrial Radiologic Technologies/Technicians"]
["41.03","Physical Science Technologies/Technicians"]
["41.99","Science Technologies/Technicians, Other"]
["42.01","Psychology, General"]
["42.27","Research and Experimental Psychology"]
["42.28","Clinical, Counseling and Applied Psychology"]
["42.99","Psychology, Other"]
["43.01","Criminal Justice and Corrections"]
["43.02","Fire Protection"]
["43.03","Homeland Security"]
["43.99","Homeland Security, Law Enforcement, Firefighting and Related Protective Services, Other"]
["44.00","Human Services, General"]
["44.02","Community Organization and Advocacy"]
["44.04","Public Administration"]
["44.05","Public Policy Analysis"]
["44.07","Social Work"]
["44.99","Public Administration and Social Service Professions, Other"]
["45.01","Social Sciences, General"]
["45.02","Anthropology"]
["45.03","Archeology"]
["45.04","Criminology"]
["45.05","Demography and Population Studies"]
["45.06","Economics"]
["45.07","Geography and Cartography"]
["45.09","International Relations and National Security Studies"]
["45.10","Political Science and Government"]
["45.11","Sociology"]
["45.12","Urban Studies/Affairs"]
["45.13","Sociology and Anthropology"]
["45.14","Rural Sociology"]
["45.99","Social Sciences, Other"]
["46.00","Construction Trades, General"]
["46.01","Mason/Masonry"]
["46.02","Carpenters"]
["46.03","Electrical and Power Transmission Installers"]
["46.04","Building/Construction Finishing, Management, and Inspection"]
["46.05","Plumbing and Related Water Supply Services"]
["46.99","Construction Trades, Other"]
["47.00","Mechanics and Repairers, General"]
["47.01","Electrical/Electronics Maintenance and Repair Technology"]
["47.02","Heating, Air Conditioning, Ventilation and Refrigeration Maintenance Technology/Technician (HAC, HACR, HVAC, HVACR)"]
["47.03","Heavy/Industrial Equipment Maintenance Technologies"]
["47.04","Precision Systems Maintenance and Repair Technologies"]
["47.06","Vehicle Maintenance and Repair Technologies"]
["47.99","Mechanic and Repair Technologies/Technicians, Other"]
["48.00","Precision Production Trades, General"]
["48.03","Leatherworking and Upholstery"]
["48.05","Precision Metal Working"]
["48.07","Woodworking"]
["48.08","Boilermaking/Boilermaker"]
["48.99","Precision Production, Other"]
["49.01","Air Transportation"]
["49.02","Ground Transportation"]
["49.03","Marine Transportation"]
["49.99","Transportation and Materials Moving, Other"]
["50.01","Visual and Performing Arts, General"]
["50.02","Crafts/Craft Design, Folk Art and Artisanry"]
["50.03","Dance"]
["50.04","Design and Applied Arts"]
["50.05","Drama/Theatre Arts and Stagecraft"]
["50.06","Film/Video and Photographic Arts"]
["50.07","Fine and Studio Arts"]
["50.09","Music"]
["50.10","Arts, Entertainment, and Media Management"]
["50.99","Visual and Performing Arts, Other"]
["51.00","Health Services/Allied Health/Health Sciences, General"]
["51.01","Chiropractic"]
["51.02","Communication Disorders Sciences and Services"]
["51.04","Dentistry"]
["51.05","Advanced/Graduate Dentistry and Oral Sciences"]
["51.06","Dental Support Services and Allied Professions"]
["51.07","Health and Medical Administrative Services"]
["51.08","Allied Health and Medical Assisting Services"]
["51.09","Allied Health Diagnostic, Intervention, and Treatment Professions"]
["51.10","Clinical/Medical Laboratory Science/Research and Allied Professions"]
["51.11","Health/Medical Preparatory Programs"]
["51.12","Medicine"]
["51.14","Medical Clinical Sciences/Graduate Medical Studies"]
["51.15","Mental and Social Health Services and Allied Professions"]
["51.17","Optometry"]
["51.18","Ophthalmic and Optometric Support Services and Allied Professions"]
["51.19","Osteopathic Medicine/Osteopathy"]
["51.20","Pharmacy, Pharmaceutical Sciences, and Administration"]
["51.21","Podiatric Medicine/Podiatry"]
["51.22","Public Health"]
["51.23","Rehabilitation and Therapeutic Professions"]
["51.24","Veterinary Medicine"]
["51.25","Veterinary Biomedical and Clinical Sciences"]
["51.26","Health Aides/Attendants/Orderlies"]
["51.27","Medical Illustration and Informatics"]
["51.31","Dietetics and Clinical Nutrition Services"]
["51.32","Bioethics/Medical Ethics"]
["51.33","Alternative and Complementary Medicine and Medical Systems"]
["51.34","Alternative and Complementary Medical Support Services"]
["51.35","Somatic Bodywork and Related Therapeutic Services"]
["51.36","Movement and Mind-Body Therapies and Education"]
["51.37","Energy and Biologically Based Therapies"]
["51.38","Registered Nursing, Nursing Administration, Nursing Research and Clinical Nursing"]
["51.39","Practical Nursing, Vocational Nursing and Nursing Assistants"]
["51.99","Health Professions and Related Clinical Sciences, Other"]
["52.01","Business/Commerce, General"]
["52.02","Business Administration, Management and Operations"]
["52.03","Accounting and Related Services"]
["52.04","Business Operations Support and Assistant Services"]
["52.05","Business/Corporate Communications"]
["52.06","Business/Managerial Economics"]
["52.07","Entrepreneurial and Small Business Operations"]
["52.08","Finance and Financial Management Services"]
["52.09","Hospitality Administration/Management"]
["52.10","Human Resources Management and Services"]
["52.11","International Business"]
["52.12","Management Information Systems and Services"]
["52.13","Management Sciences and Quantitative Methods"]
["52.14","Marketing"]
["52.15","Real Estate"]
["52.16","Taxation"]
["52.17","Insurance"]
["52.18","General Sales, Merchandising and Related Marketing Operations"]
["52.19","Specialized Sales, Merchandising and  Marketing Operations"]
["52.20","Construction Management"]
["52.21","Telecommunications Management"]
["52.99","Business, Management, Marketing, and Related Support Services, Other"]
["53.01","High School/Secondary Diploma Programs"]
["53.02","High School/Secondary Certificate Programs"]
["54.01","History"]
["60.01","Dental Residency Programs"]
["60.03","Veterinary Residency Programs"]
["60.04","Medical Residency Programs - General Certificates"]
["60.05","Medical Residency Programs - Subspecialty Certificates"]
["60.06","Podiatric Medicine Residency Programs"]
["80.10","Registrar Controlled Classrooms"]
["00.00","Research is to be assigned to the related academic department"]
["81.10","Academic Administration"]
["81.15","Continuing Education and Contract Course Administration (Actual programs to be reported by academic department)"]
["81.20","Overseas Academic Program Administration (Actual programs to be reported by academic department)"]
["81.25","Academic Personnel Development"]
["81.30","Course and Curriculum Development"]
["81.35","Academic Computing/Information Technology Support"]
["81.40","Ancillary Support to Academic Programs"]
["81.45","Educational Media Services (audio-visual & other services)"]
["81.50","Museums and Galleries"]
["81.55","Performing Arts Centers"]
["81.60","Faculty Governance"]
["82.10","Research Administration/Grant Administration"]
["83.10","Community Service"]
["83.20","Cooperative Extension Service"]
["83.30","Public Broadcasting Services"]
["84.10","Library General"]
["84.11","Library Acquisitions"]
["84.12","Library Conservation Program"]
["84.13","Library Services"]
["84.14","Library Technology Fee"]
["85.10","Student Services Administration"]
["85.15","Student Health and Medical Services"]
["85.20","Student Counseling Services"]
["85.25","Career Guidance and Placement"]
["85.30","Social and Cultural Development includes Student Government"]
["85.35","Student Recruitment and Admissions"]
["85.40","Financial Aid Administration"]
["85.45","Student Records/Registrar Office"]
["85.50","EOP and EOC Administration"]
["85.53","Office for Diversity, Equity, & Inclusion","Added on 2.13.18"]
["85.55","Disability Support Services"]
["85.60","Student Advising"]
["85.65","Intramurals and Recreation"]
["85.70","Child and Day Care Services"]
["86.01","Physical Plant Administration "]
["86.02","Facilities Planning, Design and Construction Management"]
["86.03","Custodial Services"]
["86.04","Building Circulation"]
["86.08","Refuse Collection"]
["86.15","Building Structural Maintenance (painting, carpentry, signs, keys, masonry, roofing etc)"]
["86.20","Building Systems Maintenance (Electrical, Mechanical, etc)"]
["86.25","Landscape and Grounds Maintenance"]
["86.30","Motorized Equipment Maintenance Services"]
["86.39","Utility Plant"]
["86.40","Major Repairs and Renovations"]
["86.45","Minor Repairs and Renovations"]
["86.50","Rental of facilities"]
["86.55","Construction Fund"]
["86.60","Utilities and Intervenors"]
["86.65","Sustainability"]
["86.70","Environmental Health and Safety"]
["86.75","Hazardous Waste Management"]
["86.80","Radiation Protection Service"]
["86.90","Police and Security"]
["87.10","Executive Management"]
["87.20","General Administration"]
["87.25","Institutional Research"]
["87.30","Fiscal Operations"]
["87.35","Internal Audit/Internal Control/Risk Management"]
["87.40","Public Relations/Development/External Affairs"]
["87.50","Affirmative Action"]
["87.60","Governmental Relations"]
["87.70","Alumni Relations"]
["87.80","Communications"]
["87.90","Human Resources, Office of"]
["87.95","Non-Academic Personnel Development"]
["88.10","Central Stores"]
["88.15","Shipping and Receiving"]
["88.20","Central Duplicating and Printing"]
["88.25","Mail and Messenger"]
["88.30","Telephone"]
["88.35","Administrative Computing/Information Technology Support"]
["88.40","Property Control"]
["88.45","Logistical Services "]
["88.50","Sale of Administrative Computing Support (ITEC SICAS)"]
["89.01","Residence Hall Facility Administration"]
["89.02","Residence Hall Facility Planning, Design and Construction"]
["89.03","Residence Hall Custodial Services"]
["89.04","Residence Hall Building Circulation"]
["89.15","Residence Hall Building Structural Maintenance (painting, carpentry, signs, keys, masonry, roofing etc)"]
["89.20","Residence Hall Building Systems Maintenance (Electrical, Mechanical, etc)"]
["89.25","Residence Hall Landscape and Grounds Maintenance"]
["89.30","Residence Hall Motorized Equipment Maintenance Services"]
["89.37","Residence Hall Residence Hall - Housing Administration "]
["89.39","Residence Hall Utility Plant"]
["89.40","Residence Hall Major Repairs and Renovations"]
["89.41","Residence Hall Minor Repairs and Renovations"]
["89.46","Residence Hall Rental of facilities"]
["89.47","Residence Hall Utilities and Intervenors"]
["89.50","Residence Hall Student Rooms"]
["89.55","Residence Hall Non-Student Rooms"]
["89.60","Residence Hall Recreation "]
["90.10","Food Service"]
["90.20","Food Vending"]
["91.10","Auxiliary Services - Independent Operations (not incl Dining, Res Hall, or Athletics)"]
["91.30","Parking and Parking Services"]
["92.10","Intercollegiate Athletics"]
["92.20","Intercollegiate Athletics Maintenance and Operations"]
["93.01","Hospital Facility Administration"]
["93.02","Hospital Facility Planning, Design and Construction"]
["93.03","Hospital Housekeeping Services"]
["93.04","Hospital Building Circulation"]
["93.15","Hospital Building Structural Maintenance (painting, carpentry, signs, keys, masonry, roofing etc)"]
["93.20","Hospital Building Systems Maintenance (Electrical, Mechanical, etc)"]
["93.25","Hospital Landscape and Grounds Maintenance"]
["93.30","Hospital Motorized Equipment Maintenance Services"]
["93.39","Hospital Utility Plant"]
["93.40","Hospital Major Repairs and Renovations"]
["93.41","Hospital Minor Repairs and Renovations"]
["93.46","Hospital Rental of Facilities"]
["93.47","Hospital Utilities and Intervenors"]
["93.60","Hospital Administration"]
["93.70","Hospital Direct Patient Care"]
["93.75","Hospital Patient Care Support Services"]
["95.10","Scholarships/Grants"]
["95.20","Fellowships"]
["95.30","Loans"]
["95.40","Foundations"]
["96.10","Non-SUNY Entity - Non-Governmental (Private Use)"]
["96.20","Non-SUNY Entity - Governmental Use"]
["99.10","Non-Assignable Space"]
["99.15","Inactive Space"]
["99.20","Tuition Reimbursement"]
["99.25","Budget Control – Provisional Accounts"]
["99.30","Procurement Card Control"]
["99.35","University Lump Sum Control Accounts"]
["99.40","Uniform Allowance Accounts"]
["99.45","(000Y00) Accounting / Payroll Control – Expenditure - Unidentified Account "]
["99.99","Non-expenditure accounts, master accounts, IFR reserve, unallocated undistributed, revenue control accounts, petty cash"]

{"sheet":"Usage Codes","index":6,"n_rows":32,"n_cols":2,"rows_kept":32,"cut":false,"hidden":false,"merged":[]}
["Usage","Code Number & Description"]
["ADMINISTRATION","07 FACILITIES FOR CENTRAL EXECUTIVE-LEVEL MANAGEMENT AND LONG-RANGE PLANNING FOR THE ENTIRE INSTITUTION. THIS INCLUDES THE PRESIDENT, CHIEF ACADEMIC OFFICER, CHIEF BUSINESS OFFICER, AND CHIEF STUDENT AFFAIRS OFFICER AND CHIEF DEVELOPMENT OFFICER."]
["ATHLETICS","12 FACILITIES SUPPORTING AN INTERCOLLEGIATE SPORTS PROGRAM WHEN THE PROGRAM IS OPERATED IN ACCORDANCE WITH THE DEFINITION OF AN AUXILIARY ENTERPRISE (THAT IS, IT IS ESSENTIALLY SELF-SUPPORTING)."]
["DATA CENTERS","17 FACILITIES HOUSING DATA CENTER EQUIPMENT AND STAFF"]
["DINING","10 FACILITIES PROVIDING DINING FOR STUDENTS, FACULTY, STAFF AND VISITORS"]
["EDUC OP PROG","22 FACILITIES SPECIFICALLY FOR EDUCATIONAL OPPORTUNITY PROGRAMS"]
["GEN INST SUPPRT","08 FACILITIES FOR ADMINISTRATIVE DATA PROCESSING, PURCHASE AND MAINTENANCE OF MATERIALS AND SUPPLIES, COMMUNICATION SERVICES, GENERAL STORES, PRINT SHOPS, ALUMNI RELATIONS, INSTITUTION-WIDE DEVELOPMENT AND FUND RAISING."]
["HEALTH SERVICES","18 FACILITIES FOR THE PURPOSE OF STUDENT HEALTH SERVICES"]
["HOSPITAL OPS","14 FACILITIES FOR MANAGEMENT OF DAY-TO-DAY FUNCTIONING AND THE LONG-RANGE VIABILITY OF THE HOSPITAL, INCLUDING PHYSICAL PLANT OPERATIONS."]
["HOSPITALS","13 FACILITIES FOR DIRECT PATIENT CARE SUCH AS PREVENTION, DIAGNOSIS, TREATMENT, AND REHABILITATION. DOES NOT INCLUDE STUDENT HEALTH SERVICES."]
["INACTIVE","27 INACTIVE SPACE CURRENTLY UNUSABLE DUE TO RENOVATIONS, CONDITION OR SIMPLY VACANT."]
["INDEPENDENT OPS","11 FACILITIES FOR FEE-FOR-SERVICE OFFERINGS TO CAMPUS MEMBERS OR TO THE ENTIRE UNIVERSITY SUCH AS TELECOMMUNICATIONS, CHILD CARE, BOOKSTORE, EXCLUDING DEPARTMENTAL STORES LIMITED TO THOSE DEPARTMENTS. DINING, ATHETICS AND RES HALLS ARE LISTED SEPARATELY."]
["INSTRUCTION","00 INSTRUCTION AND DEPARTMENTAL RESEARCH INCLUDING CLASSROOMS, LABS, & FACULTY OFFICES FOR THE PROPER PORTION RELATED TO TEACHING. SPACES MAY ALSO BE APPORTIONED TO OTHER CODES FOR USES OTHER THAN INSTRUCTION"]
["LIBRARY","04 FACILITIES FOR THE OPERATION OF A CATALOGUED OR OTHERWISE CLASSIFIED COLLECTION AND RELATED SERVICES"]
["MAINTENANCE","06 FACILITIES FOR THE ADMINISTRATION, SUPERVISION, OPERATION, MAINTENANCE, PRESERVATION, AND PROTECTION OF THE INSTITUTION’S PHYSICAL PLANT. INCLUDES COMMON SPACE SUCH AS CORRIDORS AND RESTROOMS."]
["NON CAMPUS USE","23 FACILITIES USED PRIMARILY BY NON-SUNY ENTITIES SUCH AS START UP NY AND THAT DOES NOT FIT OTHER CATEGORIES."]
["ORGANIZED ACTV","01 SPACE THAT DIRECTLY ASSISTS THE ACADEMIC FUNCTIONS OF THE INSTITUTION INCLUDING ACADEMIC DEPARTMENT ADMINSTRATION, AUDIO-VISUAL SERVICES, AND COMPUTING SUPPORT."]
["ORGANIZED RSRCH","02 FACILITIES FOR RESEARCH, WHETHER COMMISSIONED BY AN AGENCY EXTERNAL TO THE INSTITUTION OR SEPARATELY BUDGETED WITHIN THE INSTITUTION."]
["OTHER SPNSD ACT","19 RESEARCH FND OTHER SPONSORED ACTIVITIES: FACILITIES THAT PROVIDE NON-INSTRUCTIONAL SERVICES BENEFICIAL TO INDIVIDUALS AND GROUPS EXTERNAL TO THE INSTITUTION. EXAMPLES ARE HEALTH SERVICE PROJECTS AND COMMUNITY SERVICE PROGRAMS. "]
["PARKING STRUCT","25 STRUCTURES FOR PARKING OF STUDENTS, FACULTY, STAFF AND VISITORS"]
["PARKING SURFACE","26 SURFACE PARKING FOR FACULTY STUDENTS STAFF AND VISITORS"]
["PHYSICAL ED","16 FACILITIES SPECIFICALLY FOR PHYSICAL EDUCATION"]
["PUBLIC SERVICE","03 FACILITIES FOR NON-INSTRUCTIONAL SERVICES BENEFICIAL TO INDIVIDUALS AND GROUPS EXTERNAL TO THE INSTITUTION, INCLUDING COMMUNITY SERVICE, INSTITUTES, REFERENCE BUREAUS, CONSULTATION, TESTING SERVICES AND COOPERATIVE EXTENSION."]
["RECREATION","15 FACILITIES SPECIFICALLY FOR STUDENT RECREATION AND WELL BEING"]
["RESIDENCE HALLS","09 FACILITIES FOR HOUSING OF STUDENTS AND RELATED SERVICES"]
["RESIDENCE MAINT","09B RESIDENCE HALL MAINTENANCE FACILITIES"]
["RESIDENCE OTHER","09A RESIDENTIAL FACILITIES FOR OTHER THAN STUDENTS"]
["RF ORG RESEARCH","21 RF ORGANIZED RESEARCH FACILITIES FOR RESEARCH SPONSORED BY FEDERAL AND NON-FEDERAL AGENCIES AND ORGANIZATIONS FLOWING THROUGH THE RF, ORGANIZED TO PRODUCE RESEARCH AND ACHIEVE SPECIFIC RESEARCH GOALS. MAY INCLUDE RESEARCH USING UNRESTRICTED FUNDS"]
["SPNSD FNDS ADMN","20 RF FACILITIES PRIMARILY FOR ADMINISTRATION OF SPONSORED PROJECTS THAT ARE THROUGH RF, SUCH AS GRANT AND CONTRACT ADMINISTRATION, ADMINISTERING SPONSORED PROJECT PAYROLL AND PERSONNEL, PURCHASING, BILLING , PROPERTY ADMINISTRATION, AND PRE-AWARD OFFICES"]
["STUDENT SERVICE","05 FACILITIES FOR STUDENT ADMISSIONS, REGISTRAR, FINANCIAL AID, CULTURAL, PERSONAL AND SOCIAL DEVELOPMENT, ACTIVITIES, SERVICES FOR MINORITY, VETERAN, AND HANDICAPPED STUDENTS, CAREER COUNSELING, CULTURAL EVENTS, STUDENT NEWSPAPER, AND OTHER ORGANIZATIONS"]
["UTILITIES","24 FACILITIES PROVIDING POWER, HEAT, NATURAL GAS WATER STEAM OR OTHER UTILITY TO OTHER CAMPUS FACILITIES"]
["RF-OTH INST ACT","23A Space used by unpaid, visiting faculty or scientist, Emeritus, students, or volunteers; includes space for individuals funded from Clinical Practice or space used for services provided by paid employees to outside organization or company"]